{"text_format":"1","workbook":"xlsx","n_sheets":9,"sheets":["Prompt","C100","C200","C300","C400","C500","Enviar","Carreras","Ubigeo"],"not_rendered":{"charts":0,"images":6,"macros":1,"external_links":0,"defined_names":9,"comments":2,"pivot_tables":0},"unopened":[],"bounds":{"document_bytes":16777216,"sheet_cells":100000,"rows_first":2000,"rows_last":500,"rows_between":2000,"halvings":0,"cell_chars":16384,"cell_head_chars":4096},"cells_cut":0,"cells_raw":0,"read":"whole","date_system":"1900"}

{"sheet":"Prompt","index":0,"n_rows":79,"n_cols":4,"rows_kept":79,"cut":false,"hidden":true,"merged":[[1,3,2,6],[4,1,6,8],[43,1,44,8],[78,1,79,8],[9,1,10,8]]}
[]
[null,null,null,"¡ATENCIÓN!"]
[]
[]
[null,"Para hacer uso de las funcionalidades de esta Cédula Electrónica debe habilitar macros"]
[]
[]
[]
[]
[null,"Si utiliza Excel 2013 siga el siguiente procedimiento:"]
[]
[]
[]
[]
[]
[]
[]
[]
[]
[]
[]
[]
[]
[]
[]
[]
[]
[]
[]
[]
[]
[]
[]
[]
[]
[]
[]
[]
[]
[]
[]
[]
[]
[null,"Si utiliza Excel 2007 siga el siguiente procedimiento:"]
[]
[]
[]
[]
[]
[]
[]
[]
[]
[]
[]
[]
[]
[]
[]
[]
[]
[]
[]
[]
[]
[]
[]
[]
[]
[]
[]
[]
[]
[]
[]
[]
[]
[]
[null,"Si utiliza Excel 2000, 2002, 2003 siga el siguiente procedimiento:"]

{"sheet":"C100","index":1,"n_rows":344,"n_cols":32,"rows_kept":344,"cut":false,"hidden":false,"merged":[[84,15,84,18],[84,25,84,29],[65,28,65,30],[66,28,66,30],[52,10,52,15],[56,10,56,15],[53,10,53,15],[54,10,54,15],[55,10,55,15],[61,26,62,26],[61,28,62,30],[63,28,63,30],[64,28,64,30],[192,22,192,25],[192,26,192,28],[113,26,113,28],[114,26,114,28],[115,26,115,28],[121,26,121,28],[121,22,121,25],[127,26,127,28],[128,22,128,25],[128,26,128,28],[129,22,129,25],[129,26,129,28],[130,22,130,25],[130,26,130,28],[131,22,131,25],[123,26,123,28],[123,22,123,25],[136,22,136,25],[136,26,136,28],[137,22,137,25],[137,26,137,28],[138,22,138,25],[138,26,138,28],[139,22,139,25],[195,22,195,25],[196,22,196,25],[199,22,199,25],[203,22,203,25],[132,22,132,25],[132,26,132,28],[193,22,193,25],[194,22,194,25],[207,22,207,25],[201,22,201,25],[202,22,202,25],[205,22,205,25],[206,22,206,25],[200,22,200,25],[204,22,204,25],[191,22,191,25],[203,26,203,28],[204,26,204,28],[196,26,196,28],[197,26,197,28],[198,26,198,28],[199,26,199,28],[195,26,195,28],[202,26,202,28],[205,26,205,28],[207,26,207,28],[133,22,133,25],[134,22,134,25],[124,26,124,28],[190,26,190,28],[191,26,191,28],[193,26,193,28],[194,26,194,28],[206,26,206,28],[201,26,201,28],[200,26,200,28],[131,26,131,28],[133,26,133,28],[134,26,134,28],[124,22,124,25],[190,22,190,25],[197,22,197,25],[198,22,198,25],[125,22,125,25],[125,26,125,28],[126,22,126,25],[126,26,126,28],[127,22,127,25],[108,22,108,25],[101,26,101,28],[102,26,102,28],[103,26,103,28],[108,26,108,28],[117,26,117,28],[119,22,119,25],[120,22,120,25],[120,26,120,28],[118,26,118,28],[119,26,119,28],[110,22,110,25],[111,22,111,25],[112,22,112,25],[111,26,111,28],[112,26,112,28],[110,26,110,28],[113,22,113,25],[114,22,114,25],[115,22,115,25],[116,22,116,25],[117,22,117,25],[118,22,118,25],[116,26,116,28],[99,26,99,28],[105,26,105,28],[106,26,106,28],[107,26,107,28],[99,22,99,25],[100,26,100,28],[104,26,104,28],[96,26,96,28],[97,26,97,28],[101,22,101,25],[102,22,102,25],[103,22,103,25],[104,22,104,25],[105,22,105,25],[106,22,106,25],[107,22,107,25],[1,9,1,26],[2,9,2,27],[3,9,3,26],[30,25,30,26],[29,17,29,18],[29,19,29,20],[29,21,29,22],[29,23,29,24],[30,19,30,20],[30,14,32,14],[13,6,13,31],[21,10,21,30],[19,10,19,12],[19,28,19,30],[1,28,1,30],[2,28,4,30],[25,28,25,30],[23,10,23,19],[23,23,23,30],[90,22,91,25],[32,25,32,26],[72,6,72,31],[30,21,30,22],[30,23,30,24],[31,21,31,22],[32,21,32,22],[90,26,91,28],[90,6,91,6],[90,7,91,7],[32,23,32,24],[32,17,32,18],[90,8,91,17],[77,10,77,12],[79,10,79,12],[30,17,30,18],[32,19,32,20],[35,20,35,23],[36,11,36,13],[36,15,36,18],[36,20,36,23],[38,11,38,13],[38,15,38,18],[38,20,38,23],[215,8,215,11],[214,8,214,11],[211,8,213,11],[214,25,214,31],[215,25,215,31],[94,22,94,25],[94,26,94,28],[77,16,77,30],[92,26,92,28],[93,26,93,28],[92,22,92,25],[79,16,79,30],[90,29,90,31],[95,26,95,28],[93,22,93,25],[109,26,109,28],[95,22,95,25],[96,22,96,25],[97,22,97,25],[98,22,98,25],[100,22,100,25],[135,26,135,28],[139,26,139,28],[140,22,140,25],[212,6,213,6],[211,7,213,7],[212,13,212,14],[28,17,28,29],[32,27,32,28],[29,25,29,26],[29,27,29,28],[31,25,31,26],[31,27,31,28],[30,27,30,28],[31,19,31,20],[31,23,31,24],[31,17,31,18],[122,22,122,25],[122,26,122,28],[211,12,211,14],[211,15,212,24],[211,25,213,31],[213,16,213,17],[213,18,213,20],[213,21,213,24],[109,22,109,25],[98,26,98,28],[135,22,135,25],[216,25,216,31],[217,25,217,31],[220,25,220,31],[221,25,221,31],[218,25,218,31],[219,25,219,31],[222,25,222,31],[223,25,223,31],[224,25,224,31],[230,25,230,31],[225,25,225,31],[226,25,226,31],[227,25,227,31],[228,25,228,31],[229,25,229,31],[233,25,233,31],[231,8,231,11],[232,8,232,11],[233,8,233,11],[230,8,230,11],[228,8,228,11],[231,25,231,31],[232,25,232,31],[222,8,222,11],[223,8,223,11],[226,8,226,11],[224,8,224,11],[225,8,225,11],[229,8,229,11],[227,8,227,11],[221,8,221,11],[216,8,216,11],[217,8,217,11],[219,8,219,11],[220,8,220,11],[218,8,218,11],[140,26,140,28],[141,22,141,25],[141,26,141,28],[142,22,142,25],[142,26,142,28],[143,22,143,25],[143,26,143,28],[144,22,144,25],[144,26,144,28],[145,22,145,25],[145,26,145,28],[146,22,146,25],[146,26,146,28],[147,22,147,25],[147,26,147,28],[148,22,148,25],[148,26,148,28],[149,22,149,25],[149,26,149,28],[150,22,150,25],[150,26,150,28],[151,22,151,25],[151,26,151,28],[152,22,152,25],[152,26,152,28],[153,22,153,25],[153,26,153,28],[154,22,154,25],[154,26,154,28],[155,22,155,25],[155,26,155,28],[156,22,156,25],[156,26,156,28],[157,22,157,25],[157,26,157,28],[158,22,158,25],[158,26,158,28],[159,22,159,25],[159,26,159,28],[160,22,160,25],[160,26,160,28],[161,22,161,25],[161,26,161,28],[162,22,162,25],[162,26,162,28],[163,22,163,25],[163,26,163,28],[164,22,164,25],[164,26,164,28],[165,22,165,25],[165,26,165,28],[166,22,166,25],[166,26,166,28],[167,22,167,25],[167,26,167,28],[168,22,168,25],[168,26,168,28],[169,22,169,25],[169,26,169,28],[170,22,170,25],[170,26,170,28],[171,22,171,25],[171,26,171,28],[172,22,172,25],[172,26,172,28],[173,22,173,25],[173,26,173,28],[174,22,174,25],[174,26,174,28],[175,22,175,25],[175,26,175,28],[176,22,176,25],[176,26,176,28],[177,22,177,25],[177,26,177,28],[178,22,178,25],[178,26,178,28],[179,22,179,25],[179,26,179,28],[180,22,180,25],[180,26,180,28],[181,22,181,25],[181,26,181,28],[182,22,182,25],[182,26,182,28],[188,22,188,25],[188,26,188,28],[189,22,189,25],[189,26,189,28],[183,22,183,25],[183,26,183,28],[184,22,184,25],[184,26,184,28],[185,22,185,25],[185,26,185,28],[186,22,186,25],[186,26,186,28],[187,22,187,25],[187,26,187,28]]}
[]
[null,null,null,null,null,null,null,null,null,"CENSO EDUCATIVO 2024",null,null,null,null,null,null,null,null,null,null,null,null,null,null,null,null,null,null,"CÉDULA"]
[null,null,null,null,null,null,null,null,null,"EDUCACIÓN SUPERIOR",null,null,null,null,null,null,null,null,null,null,null,null,null,null,null,null,null,null,"6A"]
[null,null,null,null,null,null,null,null,null,"TECNOLÓGICA"]
[null,null,null,null,null,null,"Versión:","GA-1"]
[null,null,null,null,null,null,"INSTRUCCIONES DEL FORMATO ELECTRÓNICO "]
[]
[]
[]
[]
[]
[]
[]
[null,null,null,null,null,null,"IDENTIFICACIÓN DEL SERVICIO EDUCATIVO"]
[]
[]
[null,null,null,null,null,null,null,"TIPO DE INSTITUCIÓN EDUCATIVA : ",null,null,null,null,null,"Instituto de Educación Superior Tecnólogica",null,null,null,null,null,null,null,null,"Escuela de Educaciuón Superior Tecnólogica"]
[]
[]
[null,null,null,null,null,null,null,"1. CÓDIGO MODULAR :",null,null,null,null,null,null,null,null,null,null,null,null,null,null,null,null,null,null,"2. CÓDIGO DE LOCAL ESCOLAR :"]
[]
[null,null,null,null,null,null,null,"3. NOMBRE DEL SERVICIO :"]
[]
[null,null,null,null,null,null,null,"4. DISTRITO :",null,null,null,null,null,null,null,null,null,null,null,null,null,null,"LOCALIDAD : "]
[]
[null,null,null,null,null,null,null,"5.- ¿EN CUÁNTOS ESTABLECIMIENTOS SE BRINDA ESTE SERVICIO EDUCATIVO ?",null,null,null,null,null,null,null,null,null,null,null,"(Incluir los registrados y no registrados)"]
[null,null,null,null,null,null,null,"Establecimiento es una unidad de provisión de servicio educativos autorizados a una IE pública o privada."]
[]
[null,null,null,null,null,null,null,"6.- ¿INDIQUE LOS DÍAS DE LA SEMANA SEGÚN TURNO, QUE BRINDA EL",null,null,null,null,null,null,null,null,null," Días de la Semana"]
[null,null,null,null,null,null,null,"SERVICIO DE ENSEÑANZA A LOS ESTUDIANTES ?",null,null,null,null,null,null,null,null,null,"Lu",null,"Ma",null,"Mi",null,"Ju",null,"Vi",null,"Sa",null,"Do"]
[null,null,null,null,null,null,null,null,null,null,null,null,null,null,"Turno","1: Mañana",null,null,null,null,null,null,null,null,null,null,null,null,null,null,{"$f":"COUNTIF(R31:AD31,\"X\")","v":0}]
[null,null,null,null,null,null,null,"Marque con un aspa “X” uno ó más casilleros",null,null,null,null,null,null,null,"2: Tarde",null,null,null,null,null,null,null,null,null,null,null,null,null,null,{"$f":"COUNTIF(R32:AD32,\"X\")","v":0}]
[null,null,null,null,null,null,null,null,null,null,null,null,null,null,null,"3: Noche",null,null,null,null,null,null,null,null,null,null,null,null,null,null,{"$f":"COUNTIF(R33:AD33,\"X\")","v":0}]
[]
[null,null,null,null,null,null,null,"7. TIPO Y NÚMERO DE DOCUMENTO DE AUTORIZACIÓN, CREACIÓN Y/O REVALIDACIÓN DE FUNCIONAMIENTO",null,null,null,null,null,null,null,null,null,null,null,null,null,null,null,null,null,null,"01: RD"]
[null,null,null,null,null,null,null,null,null,null,null,"Tipo Documento",null,null,null,"Número de Documento",null,null,null,null,"Fecha",null,null,null,null,null,"02: RM"]
[null,null,null,null,null,null,null,"Autorización, Creación Institucional",null,null,null,null,null,null,null,null,null,null,null,null,null,null,null,null,null,null,"03: DS"]
[null,null,null,null,null,null,null,null,null,null,null,null,null,null,null,null,null,null,null,null,null,null,null,null,null,null,"04: OFICIO"]
[null,null,null,null,null,null,null,"Revalidación",null,null,null,null,null,null,null,null,null,null,null,null,null,null,null,null,null,null,"05: RDR"]
[null,null,null,null,null,null,null,null,null,null,null,null,null,null,null,null,null,null,null,null,null,null,null,null,null,null,"06: OTRO"]
[null,null,null,null,null,null,null,"8. EN EL PRESENTE AÑO, ¿BAJO QUÉ MODALIDAD SE REALIZAN LAS CLASES EN ESTE INSTITUTO O ESCUELA?"]
[]
[null,null,null,{"$f":"CONCATENATE(TRIM(UPPER(M43)),TRIM(UPPER(R43)),TRIM(UPPER(X43)))","v":""},null,null,null,null,"Marque con una “X”, solo una opción",null,null,null,null,"Presencial",null,null,null,null,"Semi presencial",null,null,null,null,null,"Virtual / A distancia"]
[]
[null,null,null,null,null,null,null,"9. ¿EL INSTITUTO COMPARTE LOCAL EDUCATIVO CON ALGUNA UNIVERSIDAD?",null,null,null,null,null,null,null,null,null,null,"11. ¿QUÉ FACTORES LE AYUDARÍAN A MEJORAR SU INNOVACIÓN O PRÁCTICA"]
[null,null,null,null,null,null,null,null,null,null,null,null,null,null,null,null,null,null,null,"PEDAGÓGICA?"]
[null,null,null,null,null,null,null,"Sí  ","",null,null,"No",null,null,null,null,null,null,null,"Marque con una “X”, una o más opciones"]
[]
[null,null,null,null,null,null,null,null,null,null,null,null,null,null,null,null,null,null,null,null,"Acceso a tecnología/internet"]
[null,null,null,null,null,null,null,null,null,"¿Qué universidades?",null,null,null,null,null,null,null,null,null,null,"Acceso a material pedagógico"]
[null,null,null,null,null,null,null,null,"Seleccione una o más universidades según corresponda",null,null,null,null,null,null,null,null,null,null,null,"Tiempo para reflexionar y sistematizar la práctica"]
[null,null,null,null,null,null,null,{"$f":"SUM(H53:H57)","v":0},null,null,null,null,null,null,null,null,null,null,null,null,"Asistencia técnica o asesoría personalizada"]
[null,null,null,null,null,null,null,{"$f":"IF(K53<>\"\",1,0)","v":0},"Universidad 1",null,null,null,null,null,null,null,null,null,null,null,"Talleres de intercambio de experiencia"]
[null,null,null,null,null,null,null,{"$f":"IF(K54<>\"\",1,0)","v":0},"Universidad 2",null,null,null,null,null,null,null,null,null,null,null,"Becas de estudio"]
[null,null,null,null,null,null,null,{"$f":"IF(K55<>\"\",1,0)","v":0},"Universidad 3",null,null,null,null,null,null,null,null,null,null,null,"Pasantias"]
[null,null,null,null,null,null,null,{"$f":"IF(K56<>\"\",1,0)","v":0},"Universidad 4"]
[null,null,null,null,null,null,null,{"$f":"IF(K57<>\"\",1,0)","v":0},"Universidad 5",null,null,null,null,null,null,null,null,null,"12. ¿CUENTA CON ESTUDIANTES BENEFICIADOS CON BECAS DE ESTUDIOS, AL AMPARO"]
[null,null,null,null,null,null,null,null,null,null,null,null,null,null,null,null,null,null,null,"DE LA LEY Nº 23585, “ESTUDIANTES DE PLANTELES Y UNIVERSIDADES"]
[null,null,null,null,null,null,null,null,null,null,null,null,null,null,null,null,null,null,null,"PARTICULARES QUE PIERDAN A SUS PADRES O TUTORES TIENEN"]
[null,null,null,null,null,null,null,null,null,null,null,null,null,null,null,null,null,null,null,"DERECHO A BECA”?"]
[null,null,null,null,null,null,null,"10. DURANTE EL ÚLTIMO MES, EN PROMEDIO, ¿CUÁNTAS HORAS SEMANALES,",null,null,null,null,null,null,null,null,null,null,null,null,null,null,null,null,null,"Cantidad de beneficiarios por año"]
[null,null,null,null,null,null,null,"ADICIONALES A SU JORNADA LABORAL, USTED CONSIDERA QUE HA DESTINADO",null,null,null,null,null,null,null,null,null,null,null,null,"Sí  ",null,null,null,null,null,"Año",null,"Cantidad de beneficiarios"]
[null,null,null,null,null,null,null,"PARA REALIZAR ACTIVIDADES RELACIONADAS A SU TRABAJO COMO DIRECTOR?"]
[null,null,null,null,null,null,null,null,null,null,null,null,null,null,null,null,null,null,null,null,null,null,null,null,null,null,2020]
[null,null,null,null,null,null,null,null,null,null,null,null,null,null,null,null,null,null,null,null,"No  ",null,null,null,null,null,2021]
[null,null,null,null,null,null,null,null,"Horas Semanales adicionales",null,null,null,null,null,null,null,null,null,null,null,null,null,null,null,null,null,2022]
[null,null,null,null,null,null,null,null,null,null,null,null,null,null,null,null,null,null,null,null,null,null,null,null,null,null,2023]
[null,null,null,null,null,null,null,null,null,null,null,null,null,null,null,null,null,null,null,null,null,null,null,null,null,null,null,null,null,{"$f":"SUM(AC64:AE67)","v":0}]
[]
[null,null,"Gestión",{"$f":"CONCATENATE(TRIM(UPPER(M70)),TRIM(UPPER(R70)),TRIM(UPPER(Z70)))","v":""},null,null,null,"Gestión de la Institución Educativa : ",null,null,null,null,null," 1 - Pública de gestión directa",null,null,null,null," 2 - Pública de gestión privada",null,null,null,null,null,null,null," 3 - Privada"]
[]
[]
[null,null,null,null,null,null,"100. DATOS SOBRE LA PROMOTORÍA E IDENTIFICACIÓN DE LAS CARRERAS AUTORIZADAS Y SEDES EDUCATIVAS"]
[]
[null,null,null,null,null,null,null,"101. DATOS SOBRE PROMOTORÍA (Sólo para IST Privados)"]
[null,null,null,null,null,null,null,"101.1 TIPO DE PERSONA :",null,null,"Marque con un aspa “X” y registre la información solicitada según corresponda"]
[]
[null,null,null,null,null,null,null,"Natural",null,"DNI","",null,null,"Nombre",null,":"]
[]
[null,null,null,null,null,null,null,"Jurídica",null,"RUC","",null,null,"Razon social",null,":"]
[]
[null,null,null,null,null,null,null,"101.2 FORMA DE CONSTITUCIÓN (SOLO PARA PERSONA JURÍDICA):",null,null,null,null,null,null,null,"Marque con un aspa “X” y registre la información solicitada según corresponda"]
[]
[null,null,null,null,null,null,null,"Sociedad"]
[null,null,null,null,null,null,null,null,{"$f":"CONCATENATE(I84,I86)","v":""},null,null,"Nº de Partida registral",null,null,null,null,null,null,null,null,"Nº de Asiento registral"]
[null,null,null,null,null,null,null,"Asociación"]
[]
[]
[null,null,null,null,null,null,103,"CARRERAS Y/O PROGRAMAS DE ESTUDIOS AUTORIZADOS QUE OFRECE EL IST"]
[]
[null,null,null,"TOTAL",{"$f":"SUM(E93:E208)","v":0},null,"Nº","CÓDIGO","DENOMINACIÓN",null,null,null,null,null,null,null,null,null,null,null,null,null,"Nº DE RESOLUCIÓN",null,null,null,"FECHA DE RESOLUCIÓN",null,null,"Duración de la carrera"]
[null,null,null,null,null,null,null,null,null,null,null,null,null,null,null,null,null,null,null,null,null,null,null,null,null,null,null,null,null,"2 años","3 años","4 años"]
[{"$f":"IF(ISERROR(VLOOKUP(H93,CARRPROF,2,FALSE)),\"\",VLOOKUP(H93,CARRPROF,2,FALSE))","v":""},{"$f":"IF(ISERROR(VLOOKUP(H93,CARRPROT,2,FALSE)),\"\",VLOOKUP(H93,CARRPROT,2,FALSE))","v":""},{"$f":"IF(ISERROR(VLOOKUP(H93,CARRTEC,2,FALSE)),\"\",VLOOKUP(H93,CARRTEC,2,FALSE))","v":""},{"$f":"COUNTIF($H$93:$H$208,H93)","v":0},{"$f":"IF(H93<>\"\",1,0)","v":0},null,"01",null,{"$f":"CONCATENATE(A93,B93,C93)","v":""}]
[{"$f":"IF(ISERROR(VLOOKUP(H94,CARRPROF,2,FALSE)),\"\",VLOOKUP(H94,CARRPROF,2,FALSE))","v":""},{"$f":"IF(ISERROR(VLOOKUP(H94,CARRPROT,2,FALSE)),\"\",VLOOKUP(H94,CARRPROT,2,FALSE))","v":""},{"$f":"IF(ISERROR(VLOOKUP(H94,CARRTEC,2,FALSE)),\"\",VLOOKUP(H94,CARRTEC,2,FALSE))","v":""},{"$f":"COUNTIF($H$93:$H$208,H94)","v":0},{"$f":"IF(H94<>\"\",1,0)","v":0},null,"02",null,{"$f":"CONCATENATE(A94,B94,C94)","v":""}]
[{"$f":"IF(ISERROR(VLOOKUP(H95,CARRPROF,2,FALSE)),\"\",VLOOKUP(H95,CARRPROF,2,FALSE))","v":""},{"$f":"IF(ISERROR(VLOOKUP(H95,CARRPROT,2,FALSE)),\"\",VLOOKUP(H95,CARRPROT,2,FALSE))","v":""},{"$f":"IF(ISERROR(VLOOKUP(H95,CARRTEC,2,FALSE)),\"\",VLOOKUP(H95,CARRTEC,2,FALSE))","v":""},0,{"$f":"IF(H95<>\"\",1,0)","v":0},null,"03",null,{"$f":"CONCATENATE(A95,B95,C95)","v":""}]
["","","",0,0,null,"04",null,""]
["","","",0,0,null,"05",null,""]
["","","",0,0,null,"06",null,""]
["","","",0,0,null,"07",null,""]
["","","",0,0,null,"08",null,""]
["","","",0,0,null,"09",null,""]
["","","",0,0,null,"10",null,""]
["","","",0,0,null,"11",null,""]
["","","",0,0,null,"12",null,""]
["","","",0,0,null,"13",null,""]
["","","",0,0,null,"14",null,""]
["","","",0,0,null,"15",null,""]
["","","",0,0,null,"16",null,""]
["","","",0,0,null,"17",null,""]
["","","",0,0,null,"18",null,""]
["","","",0,0,null,"19",null,""]
["","","",0,0,null,"20",null,""]
["","","",0,0,null,"21",null,""]
["","","",0,0,null,"22",null,""]
["","","",0,0,null,"23",null,""]
["","","",0,0,null,"24",null,""]
["","","",0,0,null,"25",null,""]
["","","",0,0,null,"26",null,""]
["","","",0,0,null,"27",null,""]
["","","",0,0,null,"28",null,""]
["","","",0,0,null,"29",null,""]
["","","",0,0,null,"30",null,""]
["","","",0,0,null,"31",null,""]
["","","",0,0,null,"32",null,""]
["","","",0,0,null,"33",null,""]
["","","",0,0,null,"34",null,""]
["","","",0,0,null,"35",null,""]
["","","",0,0,null,"36",null,""]
["","","",0,0,null,"37",null,""]
["","","",0,0,null,"38",null,""]
["","","",0,0,null,"39",null,""]
["","","",0,0,null,"40",null,""]
["","","",0,0,null,"41",null,""]
["","","",0,0,null,"42",null,""]
["","","",0,0,null,"43",null,""]
["","","",0,0,null,"44",null,""]
["","","",0,0,null,"45",null,""]
["","","",0,0,null,"46",null,""]
["","","",0,0,null,"47",null,""]
["","","",0,0,null,"48",null,""]
["","","",0,0,null,"49",null,""]
["","","",0,0,null,"50",null,""]
["","","",0,0,null,"51",null,""]
["","","",0,0,null,"52",null,""]
["","","",0,0,null,"53",null,""]
["","","",0,0,null,"54",null,""]
["","","",0,0,null,"55",null,""]
["","","",0,0,null,"56",null,""]
["","","",0,0,null,"57",null,""]
["","","",0,0,null,"58",null,""]
["","","",0,0,null,"59",null,""]
["","","",0,0,null,"60",null,""]
["","","",0,0,null,"61",null,""]
["","","",0,0,null,"62",null,""]
["","","",0,0,null,"63",null,""]
["","","",0,0,null,"64",null,""]
["","","",0,0,null,"65",null,""]
["","","",{"$f":"COUNTIF($H$93:$H$208,H158)","v":0},0,null,"66",null,""]
[{"$f":"IF(ISERROR(VLOOKUP(H159,CARRPROF,2,FALSE)),\"\",VLOOKUP(H159,CARRPROF,2,FALSE))","v":""},{"$f":"IF(ISERROR(VLOOKUP(H159,CARRPROT,2,FALSE)),\"\",VLOOKUP(H159,CARRPROT,2,FALSE))","v":""},{"$f":"IF(ISERROR(VLOOKUP(H159,CARRTEC,2,FALSE)),\"\",VLOOKUP(H159,CARRTEC,2,FALSE))","v":""},0,{"$f":"IF(H159<>\"\",1,0)","v":0},null,"67",null,{"$f":"CONCATENATE(A159,B159,C159)","v":""}]
["","","",0,0,null,"68",null,""]
["","","",0,0,null,"69",null,""]
["","","",0,0,null,"70",null,""]
["","","",0,0,null,"71",null,""]
["","","",0,0,null,"72",null,""]
["","","",0,0,null,"73",null,""]
["","","",0,0,null,"74",null,""]
["","","",0,0,null,"75",null,""]
["","","",0,0,null,"76",null,""]
["","","",0,0,null,"77",null,""]
["","","",0,0,null,"78",null,""]
["","","",0,0,null,"79",null,""]
["","","",0,0,null,"80",null,""]
["","","",0,0,null,"81",null,""]
["","","",0,0,null,"82",null,""]
["","","",0,0,null,"83",null,""]
["","","",0,0,null,"84",null,""]
["","","",0,0,null,"85",null,""]
["","","",0,0,null,"86",null,""]
["","","",0,0,null,"87",null,""]
["","","",0,0,null,"88",null,""]
["","","",0,0,null,"89",null,""]
["","","",0,0,null,"90",null,""]
["","","",0,0,null,"91",null,""]
["","","",0,0,null,"92",null,""]
["","","",0,0,null,"93",null,""]
[{"$f":"IF(ISERROR(VLOOKUP(H186,CARRPROF,2,FALSE)),\"\",VLOOKUP(H186,CARRPROF,2,FALSE))","v":""},{"$f":"IF(ISERROR(VLOOKUP(H186,CARRPROT,2,FALSE)),\"\",VLOOKUP(H186,CARRPROT,2,FALSE))","v":""},{"$f":"IF(ISERROR(VLOOKUP(H186,CARRTEC,2,FALSE)),\"\",VLOOKUP(H186,CARRTEC,2,FALSE))","v":""},0,0,null,"94",null,""]
["","","",0,0,null,"95",null,""]
["","","",0,0,null,"96",null,""]
["","","",0,0,null,"97",null,""]
["","","",0,0,null,"98",null,""]
["","","",0,0,null,"99",null,""]
["","","",0,0,null,"100",null,""]
["","","",0,0,null,"101",null,""]
["","","",0,0,1,"102",null,""]
["","","",0,0,2,"103",null,""]
["","","",0,0,3,"104",null,""]
["","","",0,0,4,"105",null,""]
["","","",0,0,5,"106",null,""]
["","","",0,0,6,"107",null,""]
["","","",0,0,7,"108",null,""]
["","","",0,0,8,"109",null,""]
["","","",0,0,9,"110",null,""]
["","","",0,0,"A","111",null,""]
["","","",0,0,"B","112",null,""]
["","","",0,0,"C","113",null,""]
["","","",0,0,"D","114",null,""]
["","","",0,0,"E","115",null,""]
["","","",0,0,"F","116",null,""]
[]
[null,null,null,null,null,null,104,"IDENTIFICACIÓN DE LOS LOCALES EDUCATIVOS DONDE SE IMPARTE LAS CARRERAS Y/O PROGRAMAS DE ESTUDIOS AUTORIZADA:"]
[]
[null,null,null,null,null,null,null,"CÓDIGO DE LOCAL EDUCATIVO","NOMBRE DE LA SEDE",null,null,null,"¿Se encuentra licenciada?",null,null,"UBICACIÓN GEOGRÁFICA",null,null,null,null,null,null,null,null,null,"DIRECCIÓN"]
[null,null,null,"TOTAL",{"$f":"SUM(E215:E234)","v":0},null,"SEDE",null,null,null,null,null,null,"NO"]
[null,null,null,null,null,null,null,null,null,null,null,null,"SI","En proceso","Sin empezar","CÓDIGO","DEPARTA MENTO",null,"PROVINCIA",null,null,"DISTRITO"]
[null,null,null,{"$f":"IF(OR(M215<>\"\",N215<>\"\",O215<>\"\"),1,0)","v":0},{"$f":"IF(I215<>\"\",1,0)","v":0},null,"01",null,null,null,null,null,null,null,null,null,{"$f":"IF(ISERROR(VLOOKUP(P215,Ubigeo,2,FALSE)),\"\",VLOOKUP(P215,Ubigeo,2,FALSE))","v":""},null,{"$f":"IF(ISERROR(VLOOKUP(P215,Ubigeo,3,FALSE)),\"\",VLOOKUP(P215,Ubigeo,3,FALSE))","v":""},null,null,{"$f":"IF(ISERROR(VLOOKUP(P215,Ubigeo,4,FALSE)),\"\",VLOOKUP(P215,Ubigeo,4,FALSE))","v":""}]
[null,null,null,0,0,null,"02",null,null,null,null,null,null,null,null,null,{"$f":"IF(ISERROR(VLOOKUP(P216,Ubigeo,2,FALSE)),\"\",VLOOKUP(P216,Ubigeo,2,FALSE))","v":""},null,{"$f":"IF(ISERROR(VLOOKUP(P216,Ubigeo,3,FALSE)),\"\",VLOOKUP(P216,Ubigeo,3,FALSE))","v":""},null,null,{"$f":"IF(ISERROR(VLOOKUP(P216,Ubigeo,4,FALSE)),\"\",VLOOKUP(P216,Ubigeo,4,FALSE))","v":""}]
[null,null,null,0,0,null,"03",null,null,null,null,null,null,null,null,null,{"$f":"IF(ISERROR(VLOOKUP(P217,Ubigeo,2,FALSE)),\"\",VLOOKUP(P217,Ubigeo,2,FALSE))","v":""},null,{"$f":"IF(ISERROR(VLOOKUP(P217,Ubigeo,3,FALSE)),\"\",VLOOKUP(P217,Ubigeo,3,FALSE))","v":""},null,null,{"$f":"IF(ISERROR(VLOOKUP(P217,Ubigeo,4,FALSE)),\"\",VLOOKUP(P217,Ubigeo,4,FALSE))","v":""}]
[null,null,null,0,0,null,"04",null,null,null,null,null,null,null,null,null,"",null,"",null,null,""]
[null,null,null,0,0,null,"05",null,null,null,null,null,null,null,null,null,"",null,"",null,null,""]
[null,null,null,0,0,null,"06",null,null,null,null,null,null,null,null,null,"",null,"",null,null,""]
[null,null,null,0,0,null,"07",null,null,null,null,null,null,null,null,null,"",null,"",null,null,""]
[null,null,null,0,0,null,"08",null,null,null,null,null,null,null,null,null,"",null,"",null,null,""]
[null,null,null,0,0,null,"09",null,null,null,null,null,null,null,null,null,"",null,"",null,null,""]
[null,null,null,0,0,null,"10",null,null,null,null,null,null,null,null,null,"",null,"",null,null,""]
[null,null,null,0,0,null,"11",null,null,null,null,null,null,null,null,null,"",null,"",null,null,""]
[null,null,null,0,0,null,"12",null,null,null,null,null,null,null,null,null,"",null,"",null,null,""]
[null,null,null,0,0,null,"13",null,null,null,null,null,null,null,null,null,"",null,"",null,null,""]
[null,null,null,0,0,null,"14",null,null,null,null,null,null,null,null,null,"",null,"",null,null,""]
[null,null,null,0,0,null,"15",null,null,null,null,null,null,null,null,null,"",null,"",null,null,""]
[null,null,null,0,0,null,"16",null,null,null,null,null,null,null,null,null,"",null,"",null,null,""]
[null,null,null,0,0,null,"17",null,null,null,null,null,null,null,null,null,"",null,"",null,null,""]
[null,null,null,0,0,null,"18",null,null,null,null,null,null,null,null,null,"",null,"",null,null,""]
[null,null,null,0,0,null,"19",null,null,null,null,null,null,null,null,null,"",null,"",null,null,""]
[null,null,null,0,0,null,"20",null,null,null,null,null,null,null,null,null,{"$f":"IF(ISERROR(VLOOKUP(P234,Ubigeo,2,FALSE)),\"\",VLOOKUP(P234,Ubigeo,2,FALSE))","v":""},null,"",null,null,""]
[]
[]
[]
[]
[]
[]
[]
[]
[]
[]
[]
[]
[]
[]
[]
["01: UNIVERSIDAD MAYOR DE SAN MARCOS"]
["02: UNIVERSIDAD SAN CRISTÓBAL DE HUAMANGA"]
["03: UNIVERSIDAD SAN ANTONIO ABAD DEL CUSCO"]
["04: UNIVERSIDAD DE TRUJILLO"]
["05: UNIVERSIDAD SAN AGUSTÍN"]
["06: UNIVERSIDAD CIRO ALEGRÍA"]
["07: UNIVERSIDAD DE INGENIERÍA"]
["08: UNIVERSIDAD AGRARIA LA MOLINA"]
["09: UNIVERSIDAD SAN LUIS GONZAGA DE ICA"]
["10: UNIVERSIDAD DEL CENTRO DEL PERÚ"]
["11: UNIVERSIDAD DE LA AMAZONÍA PERUANA"]
["12: UNIVERSIDAD DEL ALTIPLANO"]
["13: UNIVERSIDAD DE PIURA"]
["14: UNIVERSIDAD DE CAJAMARCA"]
["15: UNIVERSIDAD FEDERICO VILLARREAL"]
["16: UNIVERSIDAD AGRARIA DE LA SELVA"]
["17: UNIVERSIDAD HERMILIO VALDIZAN"]
["18: UNIVERSIDAD DE EDUCACIÓN ENRIQUE GUZMÁN Y VALLE"]
["19: UNIVERSIDAD DANIEL ALCIDES CARRIÓN"]
["20: UNIVERSIDAD DEL CALLAO"]
["21: UNIVERSIDAD JOSÉ FAUSTINO SÁNCHEZ CARRIÓN"]
["22: UNIVERSIDAD PEDRO RUÍZ GALLO"]
["23: UNIVERSIDAD JORGE BASADRE GROHMANN"]
["24: UNIVERSIDAD SANTIAGO ANTÚNEZ DE MAYOLO"]
["25: UNIVERSIDAD DE SAN MARTÍN"]
["26: UNIVERSIDAD DE UCAYALI"]
["27: UNIVERSIDAD DE TUMBES"]
["28: UNIVERSIDAD DEL SANTA"]
["29: UNIVERSIDAD DE HUANCAVELICA"]
["30: UNIVERSIDAD AMAZÓNICA DE MADRE DE DIOS"]
["31: UNIVERSIDAD TORIBIO RODRÍGUEZ DE MENDOZA DE AMAZONAS"]
["32: UNIVERSIDAD MICAELA BASTIDAS DE APURIMAC"]
["33: UNIVERSIDAD INTERCULTURAL DE LA AMAZONIA"]
["34: UNIVERSIDAD TECNOLÓGICA DE LIMA SUR"]
["35: UNIVERSIDAD JOSE MARIA ARGUEDAS"]
["36: UNIVERSIDAD DE MOQUEGUA"]
["37: UNIVERSIDAD DE JULIACA"]
["38: UNIVERSIDAD DE JAÉN"]
["39: UNIVERSIDAD DE CAÑETE"]
["40: UNIVERSIDAD AUTÓNOMA DE CHOTA"]
["41: UNIVERSIDAD DE BARRANCA"]
["42: UNIVERSIDAD DE FRONTERA"]
["43: UNIVERSIDAD INTERCULTURAL FABIOLA SALAZAR LEGUÍA DE BAGUA"]
["44: UNIVERSIDAD INTERCULTURAL DE LA SELVA CENTRAL JUAN SANTOS ATAHUALPA"]
["45: UNIVERSIDAD INTERCULTURAL DE QUILLABAMBA"]
["46: UNIVERSIDAD AUTÓNOMA DE ALTO AMAZONAS"]
["47: UNIVERSIDAD AUTÓNOMA ALTOANDINA DE TARMA"]
["48: UNIVERSIDAD AUTÓNOMA DE HUANTA"]
["49: UNIVERSIDAD AUTÓNOMA DE TAYACAJA DANIEL HERNÁNDEZ MORILLO"]
["50: PONTIFICIA UNIVERSIDAD CATÓLICA DEL PERÚ"]
["51: UNIVERSIDAD PERUANA CAYETANO HEREDIA"]
["52: UNIVERSIDAD CATÓLICA DE SANTA MARÍA"]
["53: UNIVERSIDAD DEL PACÍFICO"]
["54: UNIVERSIDAD DE LIMA"]
["55: UNIVERSIDAD DE SAN MARTÍN DE PORRES"]
["56: UNIVERSIDAD FEMENINA DEL SAGRADO CORAZÓN"]
["57: UNIVERSIDAD DE PIURA"]
["58: UNIVERSIDAD RICARDO PALMA"]
["59: UNIVERSIDAD PERUANA LOS ANDES"]
["60: UNIVERSIDAD PERUANA UNIÓN"]
["61: UNIVERSIDAD ANDINA DEL CUSCO"]
["62: UNIVERSIDAD TECNOLOGICA DE LOS ANDES"]
["63: UNIVERSIDAD PRIVADA DE TACNA"]
["64: UNIVERSIDAD PRIVADA ANTENOR ORREGO"]
["65: UNIVERSIDAD DE HUANUCO"]
["66: UNIVERSIDAD MARCELINO CHAMPAGNAT"]
["67: UNIVERSIDAD CÉSAR VALLEJO"]
["68: UNIVERSIDAD PERUANA DE CIENCIAS APLICADAS"]
["69: UNIVERSIDAD PRIVADA DEL NORTE"]
["70: UNIVERSIDAD SAN IGNACIO DE LOYOLA"]
["71: UNIVERSIDAD NORBERT WIENER"]
["72: UNIVERSIDAD CATÓLICA SAN PABLO"]
["73: UNIVERSIDAD PRIVADA SAN JUAN BAUTISTA"]
["74: UNIVERSIDAD TECNOLÓGICA DEL PERÚ"]
["75: UNIVERSIDAD CONTINENTAL"]
["76: UNIVERSIDAD CIENTÍFICA DEL SUR"]
["77: UNIVERSIDAD CATÓLICA SANTO TORIBIO DE MOGROVEJO"]
["78: UNIVERSIDAD CATÓLICA SEDES SAPIENTIAE"]
["79: UNIVERSIDAD SEÑOR DE SIPÁN"]
["80: UNIVERSIDAD CATÓLICA DE TRUJILLO BENEDICTO XVI"]
["81: UNIVERSIDAD ESAN"]
["82: UNIVERSIDAD ANTONIO RUIZ DE MONTOYA"]
["83: UNIVERSIDAD PARA EL DESARROLLO ANDINO"]
["84: UNIVERSIDAD AUTÓNOMA DE ICA"]
["85: UNIVERSIDAD AUTÓNOMA DEL PERU"]
["86: UNIVERSIDAD DE CIENCIAS Y HUMANIDADES"]
["87: UNIVERSIDAD JAIME BAUSATE Y MEZA"]
["88: UNIVERSIDAD LE CORDON BLEU"]
["89: UNIVERSIDAD PRIVADA DE HUANCAYO FRANKLIN ROOSEVELT"]
["90: UNIVERSIDAD DE CIENCIAS Y ARTES DE AMÉRICA LATINA"]
["91: UNIVERSIDAD DE INGENIERÍA Y TECNOLOGÍA"]
["92: UNIVERSIDAD LA SALLE"]
["93: UNIVERSIDAD MARÍA AUXILIADORA"]
["94: UNIVERSIDAD PRIVADA PERUANO ALEMANA"]
["95: FACULTAD DE TEOLOGÍA PONTIFICIA Y CIVIL DE LIMA"]

{"sheet":"C200","index":2,"n_rows":1235,"n_cols":59,"rows_kept":1235,"cut":false,"hidden":false,"merged":[[607,19,607,20],[595,19,595,20],[596,19,596,20],[598,19,598,20],[599,19,599,20],[590,19,590,20],[584,17,584,18],[586,15,586,16],[585,13,585,14],[585,15,585,16],[585,17,585,18],[591,17,591,18],[606,17,606,18],[578,17,578,18],[578,15,578,16],[586,17,586,18],[578,19,578,20],[575,19,575,20],[576,13,576,14],[576,15,576,16],[576,17,576,18],[603,19,603,20],[604,19,604,20],[606,19,606,20],[605,19,605,20],[597,17,597,18],[600,13,600,14],[593,15,593,16],[626,13,626,14],[606,13,606,14],[606,15,606,16],[607,15,607,16],[618,15,618,16],[599,13,599,14],[585,19,585,20],[586,13,586,14],[592,15,592,16],[11,28,11,29],[72,35,72,36],[72,33,72,34],[71,17,71,36],[167,5,167,8],[169,5,169,8],[555,5,556,12],[557,6,557,12],[592,13,592,14],[589,13,589,14],[589,15,589,16],[589,17,589,18],[589,19,589,20],[591,19,591,20],[11,6,11,7],[72,13,72,14],[187,8,188,9],[188,6,188,7],[188,10,188,11],[588,17,588,18],[588,19,588,20],[587,19,587,20],[588,13,588,14],[588,15,588,16],[922,10,922,13],[149,27,149,28],[175,10,175,19],[689,5,691,5],[689,6,691,8],[721,5,721,8],[690,17,690,18],[689,9,690,10],[690,15,690,16],[690,19,690,20],[690,21,690,22],[171,5,171,8],[737,5,737,8],[695,5,695,8],[720,5,720,8],[722,5,722,8],[188,12,188,13],[188,14,188,15],[188,16,188,17],[188,18,188,19],[188,20,188,21],[741,5,742,7],[725,5,725,8],[916,5,916,8],[917,5,917,8],[899,5,899,8],[900,5,900,8],[918,5,918,8],[913,5,913,8],[914,5,914,8],[868,7,869,7],[868,8,868,25],[876,11,876,12],[915,5,915,8],[896,13,896,14],[895,9,896,10],[884,5,886,8],[754,6,754,7],[754,10,754,11],[754,12,754,13],[754,14,754,15],[754,16,754,17],[751,6,751,18],[753,8,754,9],[862,17,862,18],[863,17,863,18],[609,19,609,20],[860,19,860,20],[861,19,861,20],[863,19,863,20],[859,19,859,20],[607,17,607,18],[854,19,854,20],[855,19,855,20],[608,17,608,18],[608,19,608,20],[609,17,609,18],[859,17,859,18],[857,17,857,18],[855,17,855,18],[610,19,610,20],[648,17,648,18],[648,19,648,20],[620,19,620,20],[621,19,621,20],[678,9,678,28],[617,15,617,16],[618,13,618,14],[577,13,577,14],[679,21,679,22],[603,17,603,18],[582,17,582,18],[584,13,584,14],[581,17,581,18],[581,19,581,20],[580,15,580,16],[580,19,580,20],[584,19,584,20],[594,19,594,20],[590,15,590,16],[590,17,590,18],[594,13,594,14],[594,15,594,16],[594,17,594,18],[596,13,596,14],[596,15,596,16],[596,17,596,18],[593,17,593,18],[599,15,599,16],[599,17,599,18],[592,17,592,18],[600,15,600,16],[584,15,584,16],[582,13,582,14],[583,17,583,18],[579,15,579,16],[579,17,579,18],[582,15,582,16],[604,17,604,18],[605,13,605,14],[605,15,605,16],[605,17,605,18],[602,17,602,18],[583,13,583,14],[583,15,583,16],[580,13,580,14],[600,17,600,18],[598,13,598,14],[598,15,598,16],[587,13,587,14],[587,15,587,16],[587,17,587,18],[598,17,598,18],[595,13,595,14],[595,15,595,16],[595,17,595,18],[607,13,607,14],[854,17,854,18],[620,13,620,14],[620,15,620,16],[620,17,620,18],[621,13,621,14],[621,15,621,16],[621,17,621,18],[619,13,619,14],[622,13,622,14],[853,15,853,16],[610,17,610,18],[608,13,608,14],[611,13,611,14],[611,15,611,16],[612,13,612,14],[610,13,610,14],[610,15,610,16],[814,17,814,24],[814,15,815,16],[632,17,632,18],[632,19,632,20],[633,13,633,14],[622,15,622,16],[557,17,557,18],[568,15,568,16],[568,17,568,18],[566,17,566,18],[558,15,558,16],[566,19,566,20],[563,15,563,16],[563,17,563,18],[563,19,563,20],[567,15,567,16],[565,17,565,18],[564,19,564,20],[560,15,560,16],[560,17,560,18],[560,19,560,20],[576,19,576,20],[575,13,575,14],[570,15,570,16],[570,17,570,18],[570,19,570,20],[569,15,569,16],[571,13,571,14],[569,19,569,20],[568,19,568,20],[570,13,570,14],[569,13,569,14],[569,17,569,18],[573,13,573,14],[573,15,573,16],[572,13,572,14],[572,15,572,16],[572,17,572,18],[571,17,571,18],[566,13,566,14],[565,13,565,14],[572,19,572,20],[574,15,574,16],[574,17,574,18],[573,17,573,18],[574,13,574,14],[71,5,73,5],[73,8,73,12],[71,7,72,12],[71,6,73,6],[107,13,107,14],[248,6,250,6],[248,7,249,12],[106,13,106,16],[106,17,106,20],[105,13,105,20],[107,15,107,16],[113,13,113,14],[113,19,113,20],[113,15,113,16],[117,17,117,18],[559,19,559,20],[560,13,560,14],[577,19,577,20],[567,13,567,14],[575,15,575,16],[579,13,579,14],[573,19,573,20],[568,13,568,14],[72,17,72,18],[72,21,72,22],[72,19,72,20],[121,8,121,25],[116,13,116,14],[555,13,555,20],[116,19,116,20],[564,13,564,14],[564,15,564,16],[564,17,564,18],[115,13,115,14],[557,13,557,14],[557,15,557,16],[115,19,115,20],[558,13,558,14],[559,13,559,14],[559,15,559,16],[559,17,559,18],[72,31,72,32],[111,19,111,20],[111,15,111,16],[110,15,110,16],[108,17,108,18],[108,19,108,20],[109,15,109,16],[109,17,109,18],[108,15,108,16],[110,17,110,18],[110,19,110,20],[111,17,111,18],[71,15,72,16],[72,23,72,24],[249,27,249,28],[72,29,72,30],[72,27,72,28],[72,25,72,26],[107,17,107,18],[107,19,107,20],[557,19,557,20],[920,6,920,12],[893,6,893,18],[116,15,116,16],[116,17,116,18],[558,17,558,18],[117,19,117,20],[558,19,558,20],[117,15,117,16],[556,17,556,20],[565,15,565,16],[577,15,577,16],[577,17,577,18],[575,17,575,18],[566,15,566,16],[567,19,567,20],[565,19,565,20],[571,19,571,20],[154,5,154,8],[876,17,876,18],[679,27,679,28],[679,9,679,10],[876,23,876,24],[876,19,876,20],[670,13,670,14],[679,15,679,16],[679,23,679,24],[876,13,876,14],[876,15,876,16],[876,21,876,22],[876,25,876,26],[866,6,866,20],[815,19,815,20],[815,17,815,18],[815,21,815,22],[857,13,857,14],[857,15,857,16],[815,23,815,24],[862,19,862,20],[733,5,733,8],[856,13,856,14],[814,5,816,5],[602,15,602,16],[129,23,129,24],[129,19,129,20],[185,6,185,22],[187,10,187,21],[114,19,114,20],[112,19,112,20],[112,17,112,18],[112,13,112,14],[112,15,112,16],[115,17,115,18],[114,13,114,14],[114,15,114,16],[114,17,114,18],[113,17,113,18],[117,13,117,14],[138,23,138,24],[138,17,138,18],[137,5,139,8],[138,13,138,14],[138,21,138,22],[121,5,122,6],[129,11,129,12],[115,15,115,16],[11,16,11,17],[11,20,11,21],[121,7,122,7],[138,9,138,10],[249,21,249,22],[814,6,816,6],[248,15,249,16],[249,17,249,18],[249,19,249,20],[561,13,561,14],[561,15,561,16],[561,17,561,18],[561,19,561,20],[562,13,562,14],[669,5,671,8],[616,15,616,16],[617,13,617,14],[734,5,734,8],[735,5,735,8],[567,17,567,18],[571,15,571,16],[583,19,583,20],[579,19,579,20],[580,17,580,18],[631,17,631,18],[631,19,631,20],[632,13,632,14],[632,15,632,16],[138,25,138,26],[149,11,149,12],[619,17,619,18],[619,19,619,20],[1,5,1,24],[2,5,2,24],[11,22,11,23],[11,10,11,11],[11,12,11,13],[11,14,11,15],[11,24,11,25],[10,10,10,29],[6,5,6,24],[11,18,11,19],[10,8,11,9],[11,26,11,27],[108,13,108,14],[109,13,109,14],[109,19,109,20],[105,5,106,12],[612,15,612,16],[613,13,613,14],[613,15,613,16],[614,13,614,14],[614,15,614,16],[615,13,615,14],[615,15,615,16],[678,5,680,8],[631,13,631,14],[631,15,631,16],[623,13,623,14],[623,15,623,16],[624,13,624,14],[624,15,624,16],[625,13,625,14],[625,15,625,16],[129,21,129,22],[129,17,129,18],[128,9,129,10],[931,5,932,12],[864,17,864,18],[932,15,932,16],[128,11,128,26],[129,25,129,26],[129,15,129,16],[128,5,130,8],[868,5,869,6],[749,5,749,24],[812,6,812,20],[849,6,849,20],[609,13,609,14],[862,13,862,14],[862,15,862,16],[860,13,860,14],[885,13,885,14],[129,13,129,14],[864,15,864,16],[853,19,853,20],[852,17,852,20],[611,17,611,18],[149,29,149,30],[149,25,149,26],[149,21,149,22],[149,23,149,24],[626,15,626,16],[932,27,932,28],[932,25,932,26],[931,31,932,32],[931,25,931,28],[864,19,864,20],[611,19,611,20],[612,17,612,18],[612,19,612,20],[613,17,613,18],[613,19,613,20],[614,17,614,18],[614,19,614,20],[615,17,615,18],[615,19,615,20],[616,17,616,18],[616,19,616,20],[617,17,617,18],[617,19,617,20],[618,17,618,18],[138,15,138,16],[608,15,608,16],[609,15,609,16],[574,19,574,20],[592,19,592,20],[593,13,593,14],[600,19,600,20],[601,13,601,14],[601,15,601,16],[601,17,601,18],[601,19,601,20],[602,13,602,14],[586,19,586,20],[248,17,248,28],[602,19,602,20],[593,19,593,20],[597,19,597,20],[562,15,562,16],[562,17,562,18],[562,19,562,20],[563,13,563,14],[582,19,582,20],[581,13,581,14],[581,15,581,16],[110,13,110,14],[111,13,111,14],[629,13,629,14],[629,15,629,16],[629,17,629,18],[629,19,629,20],[630,13,630,14],[630,15,630,16],[630,17,630,18],[630,19,630,20],[578,13,578,14],[556,13,556,16],[604,13,604,14],[604,15,604,16],[590,13,590,14],[591,13,591,14],[591,15,591,16],[603,13,603,14],[603,15,603,16],[597,13,597,14],[597,15,597,16],[249,13,249,14],[148,11,148,30],[138,19,138,20],[616,13,616,14],[626,17,626,18],[626,19,626,20],[627,13,627,14],[627,15,627,16],[627,17,627,18],[627,19,627,20],[628,13,628,14],[628,15,628,16],[628,17,628,18],[628,19,628,20],[619,15,619,16],[618,19,618,20],[622,17,622,18],[623,17,623,18],[624,17,624,18],[622,19,622,20],[623,19,623,20],[624,19,624,20],[625,17,625,18],[625,19,625,20],[148,6,150,8],[149,19,149,20],[149,13,149,14],[149,15,149,16],[152,5,152,8],[153,5,153,8],[148,5,150,5],[148,9,149,10],[149,17,149,18],[931,29,932,30],[863,13,863,14],[896,15,896,16],[896,17,896,18],[895,11,895,18],[896,11,896,12],[929,6,929,26],[875,5,877,8],[885,21,885,22],[885,23,885,24],[884,9,884,28],[885,9,885,10],[885,11,885,12],[885,27,885,28],[885,25,885,26],[885,15,885,16],[885,17,885,18],[885,19,885,20],[922,9,923,9],[922,5,923,7],[931,58,932,59],[932,23,932,24],[932,21,932,22],[931,56,932,57],[931,21,931,24],[931,39,932,40],[895,5,897,5],[701,5,701,8],[702,5,702,8],[703,5,703,8],[704,5,704,8],[705,5,705,8],[706,5,706,8],[707,5,707,8],[708,5,708,8],[709,5,709,8],[710,5,710,8],[932,19,932,20],[931,15,931,20],[931,33,932,34],[931,35,932,36],[931,37,932,38],[861,17,861,18],[861,13,861,14],[1028,35,1029,36],[1028,37,1029,38],[1028,39,1029,40],[1029,15,1029,16],[1029,21,1029,22],[1125,5,1126,6],[1125,7,1126,7],[1028,33,1029,34],[1029,17,1029,18],[1029,19,1029,20],[1029,27,1029,28],[1029,23,1029,24],[1028,31,1029,32],[1029,25,1029,26],[1028,15,1028,20],[1028,21,1028,24],[1028,25,1028,28],[1028,29,1029,30],[1028,13,1029,14],[1030,6,1030,12],[1028,5,1029,12],[633,15,633,16],[633,17,633,18],[633,19,633,20],[634,13,634,14],[634,15,634,16],[634,17,634,18],[634,19,634,20],[635,13,635,14],[635,15,635,16],[635,17,635,18],[635,19,635,20],[636,19,636,20],[637,13,637,14],[637,15,637,16],[637,17,637,18],[637,19,637,20],[638,13,638,14],[638,15,638,16],[638,17,638,18],[638,19,638,20],[642,13,642,14],[642,15,642,16],[642,17,642,18],[642,19,642,20],[646,13,646,14],[646,15,646,16],[646,17,646,18],[646,19,646,20],[137,9,137,28],[138,27,138,28],[639,13,639,14],[639,15,639,16],[639,17,639,18],[639,19,639,20],[640,15,640,16],[640,17,640,18],[640,19,640,20],[641,13,641,14],[641,15,641,16],[641,17,641,18],[641,19,641,20],[636,13,636,14],[636,15,636,16],[636,17,636,18],[650,13,650,14],[650,15,650,16],[650,17,650,18],[650,19,650,20],[644,13,644,14],[644,15,644,16],[138,11,138,12],[643,13,643,14],[643,15,643,16],[643,17,643,18],[643,19,643,20],[644,17,644,18],[644,19,644,20],[645,13,645,14],[645,15,645,16],[645,17,645,18],[645,19,645,20],[640,13,640,14],[647,13,647,14],[647,15,647,16],[647,17,647,18],[647,19,647,20],[648,13,648,14],[648,15,648,16],[649,13,649,14],[649,15,649,16],[649,17,649,18],[649,19,649,20],[670,23,670,24],[669,11,669,26],[670,11,670,12],[854,15,854,16],[855,15,855,16],[651,13,651,14],[651,15,651,16],[651,17,651,18],[651,19,651,20],[851,5,852,12],[852,13,852,16],[853,17,853,18],[853,13,853,14],[851,13,851,20],[670,17,670,18],[654,19,654,20],[652,13,652,14],[652,15,652,16],[652,17,652,18],[652,19,652,20],[656,19,656,20],[657,13,657,14],[739,6,739,14],[679,19,679,20],[875,11,875,26],[670,25,670,26],[669,9,670,10],[679,17,679,18],[864,13,864,14],[858,13,858,14],[858,15,858,16],[858,17,858,18],[858,19,858,20],[699,5,699,8],[700,5,700,8],[723,5,723,8],[724,5,724,8],[690,11,690,12],[690,13,690,14],[861,15,861,16],[863,15,863,16],[726,5,726,8],[670,15,670,16],[816,8,816,12],[8,6,8,28],[69,6,69,28],[103,6,103,20],[119,6,119,25],[126,6,126,25],[146,6,146,25],[173,6,173,18],[183,5,183,24],[658,19,658,20],[657,15,657,16],[158,5,158,8],[160,5,160,8],[162,5,162,8],[164,5,164,8],[166,5,166,8],[168,5,168,8],[156,5,156,8],[655,13,655,14],[655,15,655,16],[655,17,655,18],[655,19,655,20],[656,13,656,14],[656,15,656,16],[656,17,656,18],[658,13,658,14],[658,15,658,16],[860,15,860,16],[860,17,860,18],[859,13,859,14],[859,15,859,16],[731,5,731,8],[728,5,728,8],[670,21,670,22],[679,11,679,12],[679,13,679,14],[670,19,670,20],[727,5,727,8],[732,5,732,8],[814,7,815,12],[854,13,854,14],[856,19,856,20],[857,19,857,20],[856,15,856,16],[855,13,855,14],[856,17,856,18],[815,13,815,14],[741,9,742,9],[741,10,741,15],[697,5,697,8],[698,5,698,8],[693,5,693,8],[694,5,694,8],[662,5,663,6],[662,7,663,7],[662,8,662,25],[660,6,660,20],[667,6,667,26],[687,6,687,22],[679,25,679,26],[155,5,155,8],[157,5,157,8],[159,5,159,8],[161,5,161,8],[163,5,163,8],[165,5,165,8],[170,5,170,8],[246,6,246,26],[553,6,553,20],[249,25,249,26],[250,8,250,12],[249,23,249,24],[248,5,250,5],[175,9,176,9],[175,5,176,7],[1026,6,1026,26],[1123,6,1123,16],[909,5,909,8],[910,5,910,8],[911,5,911,8],[912,5,912,8],[873,6,873,26],[901,5,901,8],[902,5,902,8],[903,5,903,8],[904,5,904,8],[905,5,905,8],[906,5,906,8],[907,5,907,8],[908,5,908,8],[875,9,876,10],[895,6,897,8],[931,13,932,14],[932,17,932,18],[933,6,933,12],[729,5,729,8],[730,5,730,8],[713,5,713,8],[714,5,714,8],[653,13,653,14],[653,15,653,16],[653,17,653,18],[653,19,653,20],[736,5,736,8],[711,5,711,8],[712,5,712,8],[718,5,718,8],[719,5,719,8],[715,5,715,8],[716,5,716,8],[717,5,717,8],[658,17,658,18],[654,13,654,14],[654,15,654,16],[654,17,654,18],[689,11,689,22],[657,17,657,18],[657,19,657,20],[696,5,696,8]]}
[]
[null,null,null,null,null,"CENSO EDUCATIVO 2024"]
[null,null,null,null,null,"MATRÍCULA, DOCENTES Y RECURSOS"]
[]
[]
[]
[null,null,null,null,null,"200. MATRÍCULA Y SECCIONES PARA CUATRO AÑOS A MÁS (Para Institutos o Escuelas Públicas y Privadas)"]
[]
[null,null,null,null,null,201,"MATRÍCULA EN CARRERAS Y/O PROGRAMAS DE ESTUDIOS DE CUATRO AÑOS A MÁS , POR CICLOS Y SEXO, SEGÚN EDAD Y MODALIDAD DE SERVICIO\n(Sumar todos los turnos). Registrar la información del semestre académico 2024-I"]
[null,null,null,null,null,null,null,null,null,null,null,null,null,null,null,null,"I","II","III","IV","V","VI","VII","VIII","IX","X"]
[null,null,null,null,null,null,null,null,"TOTAL",null,"CICLO"]
[null,null,null,null,null,"EDADES","MODALIDADES",null,null,null,"I",null,"II",null,"III",null,"IV",null,"V",null,"VI",null,"VII",null,"VIII",null,"IX",null,"X"]
[null,null,null,null,null,null,null,null,"H","M","H","M","H","M","H","M","H","M","H","M","H","M","H","M","H","M","H","M","H","M"]
["0000",null,null,null,null,"TOTAL",null,null,{"$f":"K14+M14+O14+Q14+S14+U14+W14+Y14+AA14+AC14","v":0},0,{"$f":"SUM(K15:K68)","v":0},0,0,0,0,0,0,0,0,0,0,0,0,0,0,0,0,0,0,0]
["15-1",{"$f":"SUM(I15:I17)","v":0},{"$f":"SUM(J15:J17)","v":0},{"$f":"F15","v":15},null,15,"Presencial",null,0,0]
["15-2",{"$f":"SUM(I18:I20)","v":0},{"$f":"SUM(J18:J20)","v":0},{"$f":"F18","v":16},null,null,"Semipresencial",null,0,0]
["15-3",{"$f":"SUM(I21:I23)","v":0},{"$f":"SUM(J21:J23)","v":0},{"$f":"F21","v":17},null,null,"A distancia",null,0,0]
["16-1",{"$f":"SUM(I24:I26)","v":0},{"$f":"SUM(J24:J26)","v":0},{"$f":"F24","v":18},null,16,"Presencial",null,{"$f":"K18+M18+O18+Q18+S18+U18+W18+Y18+AA18+AC18","v":0},{"$f":"L18+N18+P18+R18+T18+V18+X18+Z18+AB18+AD18","v":0}]
["16-2",{"$f":"SUM(I27:I29)","v":0},{"$f":"SUM(J27:J29)","v":0},{"$f":"F27","v":19},null,null,"Semipresencial",null,{"$f":"K19+M19+O19+Q19+S19+U19+W19+Y19+AA19+AC19","v":0},{"$f":"L19+N19+P19+R19+T19+V19+X19+Z19+AB19+AD19","v":0}]
["16-3",{"$f":"SUM(I30:I32)","v":0},{"$f":"SUM(J30:J32)","v":0},{"$f":"F30","v":20},null,null,"A distancia",null,{"$f":"K20+M20+O20+Q20+S20+U20+W20+Y20+AA20+AC20","v":0},{"$f":"L20+N20+P20+R20+T20+V20+X20+Z20+AB20+AD20","v":0}]
["17-1",{"$f":"SUM(I33:I35)","v":0},{"$f":"SUM(J33:J35)","v":0},{"$f":"F33","v":21},null,17,"Presencial",null,0,0]
["17-2",{"$f":"SUM(I36:I38)","v":0},{"$f":"SUM(J36:J38)","v":0},{"$f":"F36","v":22},null,null,"Semipresencial",null,{"$f":"K22+M22+O22+Q22+S22+U22+W22+Y22+AA22+AC22","v":0},{"$f":"L22+N22+P22+R22+T22+V22+X22+Z22+AB22+AD22","v":0}]
["17-3",null,null,null,null,null,"A distancia",null,{"$f":"K23+M23+O23+Q23+S23+U23+W23+Y23+AA23+AC23","v":0},{"$f":"L23+N23+P23+R23+T23+V23+X23+Z23+AB23+AD23","v":0}]
["18-1",null,null,null,null,18,"Presencial",null,0,0]
["18-2",null,null,null,null,null,"Semipresencial",null,{"$f":"K25+M25+O25+Q25+S25+U25+W25+Y25+AA25+AC25","v":0},{"$f":"L25+N25+P25+R25+T25+V25+X25+Z25+AB25+AD25","v":0}]
["18-3",null,null,null,null,null,"A distancia",null,{"$f":"K26+M26+O26+Q26+S26+U26+W26+Y26+AA26+AC26","v":0},{"$f":"L26+N26+P26+R26+T26+V26+X26+Z26+AB26+AD26","v":0}]
["19-1",null,null,null,null,19,"Presencial",null,0,0]
["19-2",null,null,null,null,null,"Semipresencial",null,{"$f":"K28+M28+O28+Q28+S28+U28+W28+Y28+AA28+AC28","v":0},{"$f":"L28+N28+P28+R28+T28+V28+X28+Z28+AB28+AD28","v":0}]
["19-3",null,null,null,null,null,"A distancia",null,{"$f":"K29+M29+O29+Q29+S29+U29+W29+Y29+AA29+AC29","v":0},{"$f":"L29+N29+P29+R29+T29+V29+X29+Z29+AB29+AD29","v":0}]
["20-1",null,null,null,null,20,"Presencial",null,0,0]
["20-2",null,null,null,null,null,"Semipresencial",null,{"$f":"K31+M31+O31+Q31+S31+U31+W31+Y31+AA31+AC31","v":0},{"$f":"L31+N31+P31+R31+T31+V31+X31+Z31+AB31+AD31","v":0}]
["20-3",null,null,null,null,null,"A distancia",null,{"$f":"K32+M32+O32+Q32+S32+U32+W32+Y32+AA32+AC32","v":0},{"$f":"L32+N32+P32+R32+T32+V32+X32+Z32+AB32+AD32","v":0}]
["21-1",null,null,null,null,21,"Presencial",null,0,0]
["21-2",null,null,null,null,null,"Semipresencial",null,{"$f":"K34+M34+O34+Q34+S34+U34+W34+Y34+AA34+AC34","v":0},{"$f":"L34+N34+P34+R34+T34+V34+X34+Z34+AB34+AD34","v":0}]
["21-3",null,null,null,null,null,"A distancia",null,{"$f":"K35+M35+O35+Q35+S35+U35+W35+Y35+AA35+AC35","v":0},{"$f":"L35+N35+P35+R35+T35+V35+X35+Z35+AB35+AD35","v":0}]
["22-1",null,null,null,null,22,"Presencial",null,0,0]
["22-2",null,null,null,null,null,"Semipresencial",null,{"$f":"K37+M37+O37+Q37+S37+U37+W37+Y37+AA37+AC37","v":0},{"$f":"L37+N37+P37+R37+T37+V37+X37+Z37+AB37+AD37","v":0}]
["22-3",null,null,null,null,null,"A distancia",null,{"$f":"K38+M38+O38+Q38+S38+U38+W38+Y38+AA38+AC38","v":0},{"$f":"L38+N38+P38+R38+T38+V38+X38+Z38+AB38+AD38","v":0}]
["23-1",{"$f":"SUM(I39:I41)","v":0},{"$f":"SUM(J39:J41)","v":0},{"$f":"F39","v":23},null,23,"Presencial",null,0,0]
["23-2",{"$f":"SUM(I42:I44)","v":0},{"$f":"SUM(J42:J44)","v":0},{"$f":"F42","v":24},null,null,"Semipresencial",null,{"$f":"K40+M40+O40+Q40+S40+U40+W40+Y40+AA40+AC40","v":0},{"$f":"L40+N40+P40+R40+T40+V40+X40+Z40+AB40+AD40","v":0}]
["23-3",{"$f":"SUM(I45:I47)","v":0},{"$f":"SUM(J45:J47)","v":0},{"$f":"F45","v":"25 - 29"},null,null,"A distancia",null,{"$f":"K41+M41+O41+Q41+S41+U41+W41+Y41+AA41+AC41","v":0},{"$f":"L41+N41+P41+R41+T41+V41+X41+Z41+AB41+AD41","v":0}]
["24-1",{"$f":"SUM(I48:I50)","v":0},{"$f":"SUM(J48:J50)","v":0},{"$f":"F48","v":"30 - 34"},null,24,"Presencial",null,0,0]
["24-2",{"$f":"SUM(I51:I53)","v":0},{"$f":"SUM(J51:J53)","v":0},{"$f":"F51","v":"35 - 39"},null,null,"Semipresencial",null,{"$f":"K43+M43+O43+Q43+S43+U43+W43+Y43+AA43+AC43","v":0},{"$f":"L43+N43+P43+R43+T43+V43+X43+Z43+AB43+AD43","v":0}]
["24-3",{"$f":"SUM(I54:I56)","v":0},{"$f":"SUM(J54:J56)","v":0},{"$f":"F54","v":"40 - 44"},null,null,"A distancia",null,{"$f":"K44+M44+O44+Q44+S44+U44+W44+Y44+AA44+AC44","v":0},{"$f":"L44+N44+P44+R44+T44+V44+X44+Z44+AB44+AD44","v":0}]
["25-1",{"$f":"SUM(I57:I59)","v":0},{"$f":"SUM(J57:J59)","v":0},{"$f":"F57","v":"45 - 49"},null,"25 - 29","Presencial",null,0,0]
["25-2",{"$f":"SUM(I60:I62)","v":0},{"$f":"SUM(J60:J62)","v":0},{"$f":"F60","v":"50 - 54"},null,null,"Semipresencial",null,{"$f":"K46+M46+O46+Q46+S46+U46+W46+Y46+AA46+AC46","v":0},{"$f":"L46+N46+P46+R46+T46+V46+X46+Z46+AB46+AD46","v":0}]
["25-3",{"$f":"SUM(I63:I65)","v":0},{"$f":"SUM(J63:J65)","v":0},{"$f":"F63","v":"55 - 59"},null,null,"A distancia",null,{"$f":"K47+M47+O47+Q47+S47+U47+W47+Y47+AA47+AC47","v":0},{"$f":"L47+N47+P47+R47+T47+V47+X47+Z47+AB47+AD47","v":0}]
["30-1",{"$f":"SUM(I66:I68)","v":0},{"$f":"SUM(J66:J68)","v":0},{"$f":"F66","v":"60 y más"},null,"30 - 34","Presencial",null,0,0]
["30-2",null,null,null,null,null,"Semipresencial",null,{"$f":"K49+M49+O49+Q49+S49+U49+W49+Y49+AA49+AC49","v":0},{"$f":"L49+N49+P49+R49+T49+V49+X49+Z49+AB49+AD49","v":0}]
["30-3",null,null,null,null,null,"A distancia",null,{"$f":"K50+M50+O50+Q50+S50+U50+W50+Y50+AA50+AC50","v":0},{"$f":"L50+N50+P50+R50+T50+V50+X50+Z50+AB50+AD50","v":0}]
["35-1",null,null,null,null,"35 - 39","Presencial",null,0,0]
["35-2",null,null,null,null,null,"Semipresencial",null,{"$f":"K52+M52+O52+Q52+S52+U52+W52+Y52+AA52+AC52","v":0},{"$f":"L52+N52+P52+R52+T52+V52+X52+Z52+AB52+AD52","v":0}]
["35-3",null,null,null,null,null,"A distancia",null,{"$f":"K53+M53+O53+Q53+S53+U53+W53+Y53+AA53+AC53","v":0},{"$f":"L53+N53+P53+R53+T53+V53+X53+Z53+AB53+AD53","v":0}]
["40-1",null,null,null,null,"40 - 44","Presencial",null,0,0]
["40-2",null,null,null,null,null,"Semipresencial",null,{"$f":"K55+M55+O55+Q55+S55+U55+W55+Y55+AA55+AC55","v":0},{"$f":"L55+N55+P55+R55+T55+V55+X55+Z55+AB55+AD55","v":0}]
["40-3",null,null,null,null,null,"A distancia",null,{"$f":"K56+M56+O56+Q56+S56+U56+W56+Y56+AA56+AC56","v":0},{"$f":"L56+N56+P56+R56+T56+V56+X56+Z56+AB56+AD56","v":0}]
["45-1",null,null,null,null,"45 - 49","Presencial",null,0,0]
["45-2",null,null,null,null,null,"Semipresencial",null,{"$f":"K58+M58+O58+Q58+S58+U58+W58+Y58+AA58+AC58","v":0},{"$f":"L58+N58+P58+R58+T58+V58+X58+Z58+AB58+AD58","v":0}]
["45-3",null,null,null,null,null,"A distancia",null,{"$f":"K59+M59+O59+Q59+S59+U59+W59+Y59+AA59+AC59","v":0},{"$f":"L59+N59+P59+R59+T59+V59+X59+Z59+AB59+AD59","v":0}]
["50-1",null,null,null,null,"50 - 54","Presencial",null,0,0]
["50-2",null,null,null,null,null,"Semipresencial",null,{"$f":"K61+M61+O61+Q61+S61+U61+W61+Y61+AA61+AC61","v":0},{"$f":"L61+N61+P61+R61+T61+V61+X61+Z61+AB61+AD61","v":0}]
["50-3",null,null,null,null,null,"A distancia",null,{"$f":"K62+M62+O62+Q62+S62+U62+W62+Y62+AA62+AC62","v":0},{"$f":"L62+N62+P62+R62+T62+V62+X62+Z62+AB62+AD62","v":0}]
["55-1",null,null,null,null,"55 - 59","Presencial",null,0,0]
["55-2",null,null,null,null,null,"Semipresencial",null,{"$f":"K64+M64+O64+Q64+S64+U64+W64+Y64+AA64+AC64","v":0},{"$f":"L64+N64+P64+R64+T64+V64+X64+Z64+AB64+AD64","v":0}]
["55-3",null,null,null,null,null,"A distancia",null,{"$f":"K65+M65+O65+Q65+S65+U65+W65+Y65+AA65+AC65","v":0},{"$f":"L65+N65+P65+R65+T65+V65+X65+Z65+AB65+AD65","v":0}]
["60-1",null,null,null,null,"60 y más","Presencial",null,{"$f":"K66+M66+O66+Q66+S66+U66+W66+Y66+AA66+AC66","v":0},{"$f":"L66+N66+P66+R66+T66+V66+X66+Z66+AB66+AD66","v":0}]
["60-2",null,null,null,null,null,"Semipresencial",null,{"$f":"K67+M67+O67+Q67+S67+U67+W67+Y67+AA67+AC67","v":0},{"$f":"L67+N67+P67+R67+T67+V67+X67+Z67+AB67+AD67","v":0}]
["60-3",null,null,null,null,null,"A distancia",null,{"$f":"K68+M68+O68+Q68+S68+U68+W68+Y68+AA68+AC68","v":0},{"$f":"L68+N68+P68+R68+T68+V68+X68+Z68+AB68+AD68","v":0}]
[null,null,null,null,null,"Nota: Incluya a los estudiantes con algún tipo de discapacidad u otra condición"]
[null,null,null,null,null,202," MATRÍCULA EN CARRERAS Y/O PROGRAMAS DE ESTUDIOS DE CUATRO AÑOS A MÁS, POR CICLOS Y SEXO, SEGÚN SEDE POR DENOMINACIÓN DE LA CARRERA Y MODALIDAD DEL SERVICIO\n(Sumar todos los turnos). Semestre académico 2024-I"]
[]
[null,null,null,null,null,"CÓDIGO DE SEDE","CÓDIGO DE LOCAL","CARRERAS Y/O PROGRAMAS CICLO DE ESTUDIOS",null,null,null,null,null,null,null,"TOTAL",null,"CICLO"]
[null,null,null,null,null,null,null,null,null,null,null,null,null,"MODALIDADES",null,null,null,"I",null,"II",null,"III",null,"IV",null,"V",null,"VI",null,"VII",null,"VIII",null,"IX",null,"X"]
[null,null,null,null,null,null,null,"CÓDIGO","DENOMINACIÓN",null,null,null,null,null,null,"H","M","H","M","H","M","H","M","H","M","H","M","H","M","H","M","H","M","H","M","H","M"]
[{"$f":"H75","v":"0000000000"},null,null,null,null,"**","******","0000000000","TOTAL",null,null,null,null,null,null,{"$f":"R75+T75+V75+X75+Z75+AB75+AD75+AF75","v":0},{"$f":"S75+U75+W75+Y75+AA75+AC75+AE75+AG75","v":0},{"$f":"SUM(R76:R102)","v":0},0,0,0,0,0,0,0,0,0,0,0,0,0,0,0,0,0,0,0]
[{"$f":"IF(H76<>\"\",CONCATENATE(\"1\",MID(H76,2,9)),\"\")","v":""},{"$f":"CONCATENATE(F76,H76,LEFT(I76,5))","v":""},{"$f":"IF(AND(B76<>\"\",SUM(R76:AK78)=0),1,0)","v":0},{"$f":"IF(B76<>\"\",IF(OR(F76=\"\",H76=\"\",I76=\"\"),1,0),\"\")","v":""},null,null,{"$f":"IF(ISERROR(VLOOKUP(F76,Locales,2,FALSE)),\"\",VLOOKUP(F76,Locales,2,FALSE))","v":""},null,{"$f":"IF(ISERROR(VLOOKUP($H76,CARRPROF,2,FALSE)),\"\",VLOOKUP($H76,CARRPROF,2,FALSE))","v":""},null,null,null,null,"Presencial",null,{"$f":"R76+T76+V76+X76+Z76+AB76+AD76+AF76+AH76+AJ76","v":0},0]
[{"$f":"IF(H77<>\"\",CONCATENATE(\"2\",MID(H77,2,9)),\"\")","v":""},null,null,null,null,{"$f":"IF(F76<>\"\",F76,\"\")","v":""},{"$f":"IF(G76<>\"\",G76,\"\")","v":""},{"$f":"IF(H76<>\"\",H76,\"\")","v":""},null,null,null,null,null,"Semipresencial",null,0,0]
[{"$f":"IF(H78<>\"\",CONCATENATE(\"3\",MID(H78,2,9)),\"\")","v":""},null,null,null,null,{"$f":"IF(F76<>\"\",F76,\"\")","v":""},{"$f":"IF(G76<>\"\",G76,\"\")","v":""},{"$f":"IF(H76<>\"\",H76,\"\")","v":""},null,null,null,null,null,"A distancia",null,0,0]
[{"$f":"IF(H79<>\"\",CONCATENATE(\"1\",MID(H79,2,9)),\"\")","v":""},{"$f":"CONCATENATE(F79,H79,LEFT(I79,5))","v":""},{"$f":"IF(AND(B79<>\"\",SUM(R79:AK81)=0),1,0)","v":0},{"$f":"IF(B79<>\"\",IF(OR(F79=\"\",H79=\"\",I79=\"\"),1,0),\"\")","v":""},null,null,{"$f":"IF(ISERROR(VLOOKUP(F79,Locales,2,FALSE)),\"\",VLOOKUP(F79,Locales,2,FALSE))","v":""},null,{"$f":"IF(ISERROR(VLOOKUP($H79,CARRPROF,2,FALSE)),\"\",VLOOKUP($H79,CARRPROF,2,FALSE))","v":""},null,null,null,null,"Presencial",null,0,0]
[{"$f":"IF(H80<>\"\",CONCATENATE(\"2\",MID(H80,2,9)),\"\")","v":""},null,null,null,null,{"$f":"IF(F79<>\"\",F79,\"\")","v":""},{"$f":"IF(G79<>\"\",G79,\"\")","v":""},{"$f":"IF(H79<>\"\",H79,\"\")","v":""},null,null,null,null,null,"Semipresencial",null,0,0]
[{"$f":"IF(H81<>\"\",CONCATENATE(\"3\",MID(H81,2,9)),\"\")","v":""},null,null,null,null,{"$f":"IF(F79<>\"\",F79,\"\")","v":""},{"$f":"IF(G79<>\"\",G79,\"\")","v":""},{"$f":"IF(H79<>\"\",H79,\"\")","v":""},null,null,null,null,null,"A distancia",null,0,0]
[{"$f":"IF(H82<>\"\",CONCATENATE(\"1\",MID(H82,2,9)),\"\")","v":""},{"$f":"CONCATENATE(F82,H82,LEFT(I82,5))","v":""},{"$f":"IF(AND(B82<>\"\",SUM(R82:AK84)=0),1,0)","v":0},{"$f":"IF(B82<>\"\",IF(OR(F82=\"\",H82=\"\",I82=\"\"),1,0),\"\")","v":""},null,null,{"$f":"IF(ISERROR(VLOOKUP(F82,Locales,2,FALSE)),\"\",VLOOKUP(F82,Locales,2,FALSE))","v":""},null,{"$f":"IF(ISERROR(VLOOKUP($H82,CARRPROF,2,FALSE)),\"\",VLOOKUP($H82,CARRPROF,2,FALSE))","v":""},null,null,null,null,"Presencial",null,{"$f":"R82+T82+V82+X82+Z82+AB82+AD82+AF82+AH82+AJ82","v":0},{"$f":"S82+U82+W82+Y82+AA82+AC82+AE82+AG82+AI82+AK82","v":0}]
[{"$f":"IF(H83<>\"\",CONCATENATE(\"2\",MID(H83,2,9)),\"\")","v":""},null,null,null,null,{"$f":"IF(F82<>\"\",F82,\"\")","v":""},{"$f":"IF(G82<>\"\",G82,\"\")","v":""},{"$f":"IF(H82<>\"\",H82,\"\")","v":""},null,null,null,null,null,"Semipresencial",null,{"$f":"R83+T83+V83+X83+Z83+AB83+AD83+AF83+AH83+AJ83","v":0},{"$f":"S83+U83+W83+Y83+AA83+AC83+AE83+AG83+AI83+AK83","v":0}]
[{"$f":"IF(H84<>\"\",CONCATENATE(\"3\",MID(H84,2,9)),\"\")","v":""},null,null,null,null,{"$f":"IF(F82<>\"\",F82,\"\")","v":""},{"$f":"IF(G82<>\"\",G82,\"\")","v":""},{"$f":"IF(H82<>\"\",H82,\"\")","v":""},null,null,null,null,null,"A distancia",null,{"$f":"R84+T84+V84+X84+Z84+AB84+AD84+AF84+AH84+AJ84","v":0},{"$f":"S84+U84+W84+Y84+AA84+AC84+AE84+AG84+AI84+AK84","v":0}]
[{"$f":"IF(H85<>\"\",CONCATENATE(\"1\",MID(H85,2,9)),\"\")","v":""},{"$f":"CONCATENATE(F85,H85,LEFT(I85,5))","v":""},{"$f":"IF(AND(B85<>\"\",SUM(R85:AK87)=0),1,0)","v":0},{"$f":"IF(B85<>\"\",IF(OR(F85=\"\",H85=\"\",I85=\"\"),1,0),\"\")","v":""},null,null,{"$f":"IF(ISERROR(VLOOKUP(F85,Locales,2,FALSE)),\"\",VLOOKUP(F85,Locales,2,FALSE))","v":""},null,{"$f":"IF(ISERROR(VLOOKUP($H85,CARRPROF,2,FALSE)),\"\",VLOOKUP($H85,CARRPROF,2,FALSE))","v":""},null,null,null,null,"Presencial",null,0,0]
[{"$f":"IF(H86<>\"\",CONCATENATE(\"2\",MID(H86,2,9)),\"\")","v":""},null,null,null,null,{"$f":"IF(F85<>\"\",F85,\"\")","v":""},{"$f":"IF(G85<>\"\",G85,\"\")","v":""},{"$f":"IF(H85<>\"\",H85,\"\")","v":""},null,null,null,null,null,"Semipresencial",null,0,0]
[{"$f":"IF(H87<>\"\",CONCATENATE(\"3\",MID(H87,2,9)),\"\")","v":""},null,null,null,null,{"$f":"IF(F85<>\"\",F85,\"\")","v":""},{"$f":"IF(G85<>\"\",G85,\"\")","v":""},{"$f":"IF(H85<>\"\",H85,\"\")","v":""},null,null,null,null,null,"A distancia",null,0,0]
[{"$f":"IF(H88<>\"\",CONCATENATE(\"1\",MID(H88,2,9)),\"\")","v":""},{"$f":"CONCATENATE(F88,H88,LEFT(I88,5))","v":""},{"$f":"IF(AND(B88<>\"\",SUM(R88:AK90)=0),1,0)","v":0},{"$f":"IF(B88<>\"\",IF(OR(F88=\"\",H88=\"\",I88=\"\"),1,0),\"\")","v":""},null,null,"",null,{"$f":"IF(ISERROR(VLOOKUP($H88,CARRPROF,2,FALSE)),\"\",VLOOKUP($H88,CARRPROF,2,FALSE))","v":""},null,null,null,null,"Presencial",null,0,0]
[{"$f":"IF(H89<>\"\",CONCATENATE(\"2\",MID(H89,2,9)),\"\")","v":""},null,null,null,null,{"$f":"IF(F88<>\"\",F88,\"\")","v":""},{"$f":"IF(G88<>\"\",G88,\"\")","v":""},{"$f":"IF(H88<>\"\",H88,\"\")","v":""},null,null,null,null,null,"Semipresencial",null,0,0]
[{"$f":"IF(H90<>\"\",CONCATENATE(\"3\",MID(H90,2,9)),\"\")","v":""},null,null,null,null,{"$f":"IF(F88<>\"\",F88,\"\")","v":""},{"$f":"IF(G88<>\"\",G88,\"\")","v":""},{"$f":"IF(H88<>\"\",H88,\"\")","v":""},null,null,null,null,null,"A distancia",null,0,0]
[{"$f":"IF(H91<>\"\",CONCATENATE(\"1\",MID(H91,2,9)),\"\")","v":""},{"$f":"CONCATENATE(F91,H91,LEFT(I91,5))","v":""},{"$f":"IF(AND(B91<>\"\",SUM(R91:AK93)=0),1,0)","v":0},{"$f":"IF(B91<>\"\",IF(OR(F91=\"\",H91=\"\",I91=\"\"),1,0),\"\")","v":""},null,null,"",null,{"$f":"IF(ISERROR(VLOOKUP($H91,CARRPROF,2,FALSE)),\"\",VLOOKUP($H91,CARRPROF,2,FALSE))","v":""},null,null,null,null,"Presencial",null,0,0]
[{"$f":"IF(H92<>\"\",CONCATENATE(\"2\",MID(H92,2,9)),\"\")","v":""},null,null,null,null,{"$f":"IF(F91<>\"\",F91,\"\")","v":""},{"$f":"IF(G91<>\"\",G91,\"\")","v":""},{"$f":"IF(H91<>\"\",H91,\"\")","v":""},null,null,null,null,null,"Semipresencial",null,0,0]
[{"$f":"IF(H93<>\"\",CONCATENATE(\"3\",MID(H93,2,9)),\"\")","v":""},null,null,null,null,{"$f":"IF(F91<>\"\",F91,\"\")","v":""},{"$f":"IF(G91<>\"\",G91,\"\")","v":""},{"$f":"IF(H91<>\"\",H91,\"\")","v":""},null,null,null,null,null,"A distancia",null,0,0]
[{"$f":"IF(H94<>\"\",CONCATENATE(\"1\",MID(H94,2,9)),\"\")","v":""},{"$f":"CONCATENATE(F94,H94,LEFT(I94,5))","v":""},{"$f":"IF(AND(B94<>\"\",SUM(R94:AK96)=0),1,0)","v":0},{"$f":"IF(B94<>\"\",IF(OR(F94=\"\",H94=\"\",I94=\"\"),1,0),\"\")","v":""},null,null,"",null,{"$f":"IF(ISERROR(VLOOKUP($H94,CARRPROF,2,FALSE)),\"\",VLOOKUP($H94,CARRPROF,2,FALSE))","v":""},null,null,null,null,"Presencial",null,0,0]
[{"$f":"IF(H95<>\"\",CONCATENATE(\"2\",MID(H95,2,9)),\"\")","v":""},null,null,null,null,{"$f":"IF(F94<>\"\",F94,\"\")","v":""},{"$f":"IF(G94<>\"\",G94,\"\")","v":""},{"$f":"IF(H94<>\"\",H94,\"\")","v":""},null,null,null,null,null,"Semipresencial",null,0,0]
[{"$f":"IF(H96<>\"\",CONCATENATE(\"3\",MID(H96,2,9)),\"\")","v":""},null,null,null,null,{"$f":"IF(F94<>\"\",F94,\"\")","v":""},{"$f":"IF(G94<>\"\",G94,\"\")","v":""},{"$f":"IF(H94<>\"\",H94,\"\")","v":""},null,null,null,null,null,"A distancia",null,0,0]
[{"$f":"IF(H97<>\"\",CONCATENATE(\"1\",MID(H97,2,9)),\"\")","v":""},{"$f":"CONCATENATE(F97,H97,LEFT(I97,5))","v":""},{"$f":"IF(AND(B97<>\"\",SUM(R97:AK99)=0),1,0)","v":0},{"$f":"IF(B97<>\"\",IF(OR(F97=\"\",H97=\"\",I97=\"\"),1,0),\"\")","v":""},null,null,"",null,{"$f":"IF(ISERROR(VLOOKUP($H97,CARRPROF,2,FALSE)),\"\",VLOOKUP($H97,CARRPROF,2,FALSE))","v":""},null,null,null,null,"Presencial",null,0,0]
[{"$f":"IF(H98<>\"\",CONCATENATE(\"2\",MID(H98,2,9)),\"\")","v":""},null,null,null,null,{"$f":"IF(F97<>\"\",F97,\"\")","v":""},{"$f":"IF(G97<>\"\",G97,\"\")","v":""},{"$f":"IF(H97<>\"\",H97,\"\")","v":""},null,null,null,null,null,"Semipresencial",null,0,0]
[{"$f":"IF(H99<>\"\",CONCATENATE(\"3\",MID(H99,2,9)),\"\")","v":""},null,null,null,null,{"$f":"IF(F97<>\"\",F97,\"\")","v":""},{"$f":"IF(G97<>\"\",G97,\"\")","v":""},{"$f":"IF(H97<>\"\",H97,\"\")","v":""},null,null,null,null,null,"A distancia",null,0,0]
[{"$f":"IF(H100<>\"\",CONCATENATE(\"1\",MID(H100,2,9)),\"\")","v":""},{"$f":"CONCATENATE(F100,H100,LEFT(I100,5))","v":""},{"$f":"IF(AND(B100<>\"\",SUM(R100:AK102)=0),1,0)","v":0},{"$f":"IF(B100<>\"\",IF(OR(F100=\"\",H100=\"\",I100=\"\"),1,0),\"\")","v":""},null,null,"",null,{"$f":"IF(ISERROR(VLOOKUP($H100,CARRPROF,2,FALSE)),\"\",VLOOKUP($H100,CARRPROF,2,FALSE))","v":""},null,null,null,null,"Presencial",null,0,0]
[{"$f":"IF(H101<>\"\",CONCATENATE(\"2\",MID(H101,2,9)),\"\")","v":""},null,null,null,null,{"$f":"IF(F100<>\"\",F100,\"\")","v":""},{"$f":"IF(G100<>\"\",G100,\"\")","v":""},{"$f":"IF(H100<>\"\",H100,\"\")","v":""},null,null,null,null,null,"Semipresencial",null,0,0]
[{"$f":"IF(H102<>\"\",CONCATENATE(\"3\",MID(H102,2,9)),\"\")","v":""},null,null,null,null,{"$f":"IF(F100<>\"\",F100,\"\")","v":""},{"$f":"IF(G100<>\"\",G100,\"\")","v":""},{"$f":"IF(H100<>\"\",H100,\"\")","v":""},null,null,null,null,null,"A distancia",null,0,0]
[null,null,null,null,null,"Nota:  Los totales de esta tabla deben ser iguales a los de la tabla 201"]
[null,null,null,null,null,203,"POSTULANTES E INGRESANTES EN CARRERAS Y/O PROGRAMAS DE ESTUDIOS DE CUATRO AÑOS A MÁS, POR SEXO, SEGÚN DENOMINACIÓN DE LA CARRERA"]
[]
[null,null,null,null,null,"CARRERAS Y/O PROGRAMAS CICLO DE ESTUDIOS",null,null,null,null,null,null,null,"SEMESTRE ACADÉMICO 2024-I"]
[null,null,null,null,null,null,null,null,null,null,null,null,null,"POSTULANTES",null,null,null,"INGRESANTES"]
[null,null,null,null,null,"SEDE","LOCAL","CÓDIGO","DENOMINACIÓN",null,null,null,null,"H",null,"M",null,"H",null,"M"]
[null,null,null,null,null,"**","******","000000000",null,null,null,null,null,{"$f":"SUM(N110:O118)","v":0},null,{"$f":"SUM(P110:Q118)","v":0},null,{"$f":"SUM(R110:S118)","v":0},null,{"$f":"SUM(T110:U118)","v":0}]
[null,null,null,null,null,{"$f":"IF(F76<>\"\",F76,\"\")","v":""},{"$f":"IF(G76<>\"\",G76,\"\")","v":""},{"$f":"IF(H76<>\"\",H76,\"\")","v":""},{"$f":"IF(I76<>\"\",I76,\"\")","v":""}]
[null,null,null,null,null,{"$f":"IF(F79<>\"\",F79,\"\")","v":""},"","",""]
[null,null,null,null,null,{"$f":"IF(F82<>\"\",F82,\"\")","v":""},{"$f":"IF(G82<>\"\",G82,\"\")","v":""},{"$f":"IF(H82<>\"\",H82,\"\")","v":""},{"$f":"IF(I82<>\"\",I82,\"\")","v":""}]
[null,null,null,null,null,{"$f":"IF(F85<>\"\",F85,\"\")","v":""},{"$f":"IF(G85<>\"\",G85,\"\")","v":""},{"$f":"IF(H85<>\"\",H85,\"\")","v":""},{"$f":"IF(I85<>\"\",I85,\"\")","v":""}]
[null,null,null,null,null,{"$f":"IF(F88<>\"\",F88,\"\")","v":""},{"$f":"IF(G88<>\"\",G88,\"\")","v":""},{"$f":"IF(H88<>\"\",H88,\"\")","v":""},{"$f":"IF(I88<>\"\",I88,\"\")","v":""}]
[null,null,null,null,null,{"$f":"IF(F91<>\"\",F91,\"\")","v":""},{"$f":"IF(G91<>\"\",G91,\"\")","v":""},{"$f":"IF(H91<>\"\",H91,\"\")","v":""},{"$f":"IF(I91<>\"\",I91,\"\")","v":""}]
[null,null,null,null,null,{"$f":"IF(F94<>\"\",F94,\"\")","v":""},{"$f":"IF(G94<>\"\",G94,\"\")","v":""},{"$f":"IF(H94<>\"\",H94,\"\")","v":""},{"$f":"IF(I94<>\"\",I94,\"\")","v":""}]
[null,null,null,null,null,{"$f":"IF(F97<>\"\",F97,\"\")","v":""},"","",""]
[null,null,null,null,null,{"$f":"IF(F100<>\"\",F100,\"\")","v":""},{"$f":"IF(G100<>\"\",G100,\"\")","v":""},{"$f":"IF(H100<>\"\",H100,\"\")","v":""},{"$f":"IF(I100<>\"\",I100,\"\")","v":""}]
[]
[null,null,null,null,null,204,"INGRESANTES EN CARRERAS Y/O PROGRAMAS DE ESTUDIOS DE CUATRO AÑOS A MÁS, POR EDAD, SEGÚN SEXO"]
[]
[null,null,null,null,null,"SEXO",null,"TOTAL","EDAD AL 31-03-2024 / SEMESTRE 2024-I"]
[null,null,null,null,null,null,null,null,15,16,17,18,19,20,21,22,23,24,"25-29","30-34","35-39","40-44","45-49","50-54","55-59","60\ny más"]
["01",null,null,null,null,"Hombre",null,{"$f":"SUM(I124:Z124)","v":0}]
["02",null,null,null,null,"Mujer",null,{"$f":"SUM(I125:Z125)","v":0}]
[null,null,null,null,null,"Nota: Los totales de esta tabla deben ser iguales a los reportados en la columna “Ingresantes” de la tabla 207."]
[null,null,null,null,null,205," MATRÍCULA EN CARRERAS Y/O PROGRAMAS DE ESTUDIOS DE CUATRO AÑOS A MÁS POR EDAD Y SEXO, SEGÚN TIPO DE PROGRAMA DE REPARACIONES EN EDUCACIÓN (Ley N° 28592)"]
[]
[null,null,null,null,null,"TIPO DE PROGRAMA DE\nREPARACIÓN EN EDUCACIÓN",null,null,null,"TOTAL",null,"EDAD"]
[null,null,null,null,null,null,null,null,null,null,null,15,null,16,null,17,null,18,null,19,null,20,null,21,null,22]
[null,null,null,null,null,null,null,null,null,"H","M","H","M","H","M","H","M","H","M","H","M","H","M","H","M","H","M"]
["00",null,null,null,null,"TOTAL",null,null,null,{"$f":"L132+N132+P132+R132+T132+V132+X132+Z132+AB132","v":0},{"$f":"M132+O132+Q132+S132+U132+W132+Y132+AA132+AC132","v":0},{"$f":"SUM(L133:L136)","v":0},{"$f":"SUM(M133:M136)","v":0},{"$f":"SUM(N133:N136)","v":0},0,0,0,0,0,0,0,0,0,0,0,0,0,{"$f":"J141+L141+N141+P141+R141+T141+V141+X141+Z141+AB141","v":0},0,{"$f":"L132+N132+P132+R132+T132+V132+X132+Z132","v":0},{"$f":"M132+O132+Q132+S132+U132+W132+Y132+AA132","v":0}]
["01",null,null,null,null,"RUV - Víctimas directas",null,null,null,{"$f":"L133+N133+P133+R133+T133+V133+X133+Z133+AB133","v":0},0,null,null,null,null,null,null,null,null,null,null,null,null,null,null,null,null,0,0,{"$f":"L133+N133+P133+R133+T133+V133+X133+Z133","v":0},{"$f":"M133+O133+Q133+S133+U133+W133+Y133+AA133","v":0}]
["02",null,null,null,null,"REBRED-Transferencias de beneficios",null,null,null,0,0,null,null,null,null,null,null,null,null,null,null,null,null,null,null,null,null,0,0,0,0]
["03",null,null,null,null,"Otros Programas del Estado",null,null,null,0,0,null,null,null,null,null,null,null,null,null,null,null,null,null,null,null,null,0,0,0,0]
["04",null,null,null,null,"Estudiante no beneficiado",null,null,null,0,0,null,null,null,null,null,null,null,null,null,null,null,null,null,null,null,null,0,0,0,0]
[null,null,null,null,null,"CONTINUACIÓN CUADRO 205 …."]
[null,null,null,null,null,"TIPO DE PROGRAMA DE\nREPARACIÓN EN EDUCACIÓN",null,null,null,"EDAD"]
[null,null,null,null,null,null,null,null,null,23,null,24,null,"25-29",null,"30-34",null,"35-39",null,"40-44",null,"45-49",null,"50-54",null,"55-59",null,"60 y más"]
[null,null,null,null,null,null,null,null,null,"H","M","H","M","H","M","H","M","H","M","H","M","H","M","H","M","H","M","H","M"]
["00",null,null,null,null,"TOTAL",null,null,null,{"$f":"SUM(J142:J145)","v":0},0,0,0,0,0,0,0,0,0,0,0,0,0,0,0,0,0,0,0]
["01",null,null,null,null,"RUV - Víctimas directas"]
["02",null,null,null,null,"REBRED-Transferencias de beneficios"]
["03",null,null,null,null,"Otros Programas del Estado"]
["04",null,null,null,null,"Estudiante no beneficiado"]
[null,null,null,null,null,"Nota: El total de esta tabla debe ser igual a la tabla 201"]
[null,null,null,null,null,206,"MATRÍCULA EN CARRERAS Y/O PROGRAMAS DE ESTUDIOS DE CUATRO AÑOS A MÁS, POR CICLOS  Y SEXO, SEGÚN LENGUA MATERNA CON LA CUAL APRENDIO HABLAR EN SU NIÑEZ"]
[]
[null,null,null,null,null,"CÓDIGO","LENGUA MATERNA",null,null,"TOTAL",null,"CICLO"]
[null,null,null,null,null,null,null,null,null,null,null,"I",null,"II",null,"III",null,"IV",null,"V",null,"VI",null,"VII",null,"VIII",null,"IX",null,"X"]
[null,null,null,null,null,null,null,null,null,"H","M","H","M","H","M","H","M","H","M","H","M","H","M","H","M","H","M","H","M","H","M"]
[null,null,null,null,null,"0000: TOTAL",null,null,null,{"$f":"L152+N152+P152+R152+T152+V152+X152+Z152","v":0},{"$f":"M152+O152+Q152+S152+U152+W152+Y152+AA152","v":0},{"$f":"SUM(L153:L172)","v":0},0,0,0,0,0,0,0,0,0,0,0,0,0,0,0,0,0,0,0]
["1",null,null,null,null,null,null,null,null,{"$f":"L153+N153+P153+R153+T153+V153+X153+Z153+AB153+AD153","v":0},{"$f":"M153+O153+Q153+S153+U153+W153+Y153+AA153+AC153+AE153","v":0}]
["2",null,null,null,null,null,null,null,null,{"$f":"L154+N154+P154+R154+T154+V154+X154+Z154+AB154+AD154","v":0},{"$f":"M154+O154+Q154+S154+U154+W154+Y154+AA154+AC154+AE154","v":0}]
["3",null,null,null,null,null,null,null,null,{"$f":"L155+N155+P155+R155+T155+V155+X155+Z155+AB155+AD155","v":0},{"$f":"M155+O155+Q155+S155+U155+W155+Y155+AA155+AC155+AE155","v":0}]
["4",null,null,null,null,null,null,null,null,{"$f":"L156+N156+P156+R156+T156+V156+X156+Z156+AB156+AD156","v":0},{"$f":"M156+O156+Q156+S156+U156+W156+Y156+AA156+AC156+AE156","v":0}]
["5",null,null,null,null,null,null,null,null,0,0]
["6",null,null,null,null,null,null,null,null,0,0]
["7",null,null,null,null,null,null,null,null,0,0]
["8",null,null,null,null,null,null,null,null,0,0]
["9",null,null,null,null,null,null,null,null,0,0]
["10",null,null,null,null,null,null,null,null,0,0]
["11",null,null,null,null,null,null,null,null,0,0]
["12",null,null,null,null,null,null,null,null,0,0]
["13",null,null,null,null,null,null,null,null,0,0]
["14",null,null,null,null,null,null,null,null,0,0]
["15",null,null,null,null,null,null,null,null,0,0]
["16",null,null,null,null,null,null,null,null,0,0]
["17",null,null,null,null,null,null,null,null,0,0]
["18",null,null,null,null,null,null,null,null,0,0]
["19",null,null,null,null,null,null,null,null,0,0]
["20",null,null,null,null,null,null,null,null,{"$f":"L172+N172+P172+R172+T172+V172+X172+Z172+AB172+AD172","v":0},{"$f":"M172+O172+Q172+S172+U172+W172+Y172+AA172+AC172+AE172","v":0}]
[null,null,null,null,null,"Nota: El total de esta tabla debe ser igual a la tabla 201"]
[null,null,null,null,null,207,"NÚMERO TOTAL DE SECCIONES EN CARRERAS Y/O PROGRAMAS DE ESTUDIOS DE CUATRO AÑOS A MÁS, POR CICLO, SEGÚN TURNO."]
[]
[null,null,null,null,null,"TURNO",null,null,null,"TOTAL","CICLO"]
[null,null,null,null,null,null,null,null,null,null,"I","II","III","IV","V","VI","VII","VII","IX","X"]
["00",null,null,null,null,"TOTAL",null,null,null,{"$f":"SUM(K178:T178)","v":0},{"$f":"SUM(K179:K181)","v":0},0,0,0,0,0,0,{"$f":"SUM(R179:R181)","v":0},0,0]
["01",null,null,null,null,"Mañana",null,null,null,{"$f":"SUM(K179:T179)","v":0}]
["02",null,null,null,null,"Tarde",null,null,null,{"$f":"SUM(K180:T180)","v":0}]
["03",null,null,null,null,"Noche",null,null,null,{"$f":"SUM(K181:T181)","v":0}]
[null,null,null,null,null,"Solo registre el número de secciones que tiene, por ciclo de estudio según turno"]
[]
[null,null,null,null,null,"200. MATRÍCULA Y SECCIONES PARA TRES AÑOS (Para Institutos o Escuelas Públicas y Privadas)"]
[]
[null,null,null,null,null,208,"MATRÍCULA EN CARRERAS Y/O PROGRAMAS DE ESTUDIOS DE TRES AÑOS, POR CICLOS Y SEXO, SEGÚN EDAD Y MODALIDAD DE SERVICIO\n(Sumar todos los turnos). Registrar la información del semestre académico 2024-I"]
[]
[null,null,null,null,null,null,null,null,"TOTAL",null,"CICLO"]
[null,null,null,null,null,"EDADES","MODALIDADES",null,null,null,"I",null,"II",null,"III",null,"IV",null,"V",null,"VI"]
[null,null,null,null,null,null,null,null,"H","M","H","M","H","M","H","M","H","M","H","M","H","M"]
["0000",null,null,null,null,"TOTAL",null,null,{"$f":"K191+M191+O191+Q191+S191+U191","v":0},{"$f":"L191+N191+P191+R191+T191+V191","v":0},{"$f":"SUM(K192:K245)","v":0},0,0,0,0,0,0,0,0,0,0,0]
["15-1",{"$f":"SUM(I192:I194)","v":0},{"$f":"SUM(J192:J194)","v":0},{"$f":"F192","v":15},null,15,"Presencial",null,0,0]
["15-2",{"$f":"SUM(I195:I197)","v":0},{"$f":"SUM(J195:J197)","v":0},{"$f":"F195","v":16},null,null,"Semipresencial",null,0,0]
["15-3",{"$f":"SUM(I198:I200)","v":0},{"$f":"SUM(J198:J200)","v":0},{"$f":"F198","v":17},null,null,"A distancia",null,0,0]
["16-1",{"$f":"SUM(I201:I203)","v":0},{"$f":"SUM(J201:J203)","v":0},{"$f":"F201","v":18},null,16,"Presencial",null,0,0]
["16-2",{"$f":"SUM(I204:I206)","v":0},{"$f":"SUM(J204:J206)","v":0},{"$f":"F204","v":19},null,null,"Semipresencial",null,0,0]
["16-3",{"$f":"SUM(I207:I209)","v":0},{"$f":"SUM(J207:J209)","v":0},{"$f":"F207","v":20},null,null,"A distancia",null,0,0]
["17-1",{"$f":"SUM(I210:I212)","v":0},{"$f":"SUM(J210:J212)","v":0},{"$f":"F210","v":21},null,17,"Presencial",null,0,0]
["17-2",{"$f":"SUM(I213:I215)","v":0},{"$f":"SUM(J213:J215)","v":0},{"$f":"F213","v":22},null,null,"Semipresencial",null,0,0]
["17-3",null,null,null,null,null,"A distancia",null,0,0]
["18-1",null,null,null,null,18,"Presencial",null,0,0]
["18-2",null,null,null,null,null,"Semipresencial",null,0,0]
["18-3",null,null,null,null,null,"A distancia",null,0,0]
["19-1",null,null,null,null,19,"Presencial",null,0,0]
["19-2",null,null,null,null,null,"Semipresencial",null,0,0]
["19-3",null,null,null,null,null,"A distancia",null,0,0]
["20-1",null,null,null,null,20,"Presencial",null,0,0]
["20-2",null,null,null,null,null,"Semipresencial",null,0,0]
["20-3",null,null,null,null,null,"A distancia",null,0,0]
["21-1",null,null,null,null,21,"Presencial",null,0,0]
["21-2",null,null,null,null,null,"Semipresencial",null,0,0]
["21-3",null,null,null,null,null,"A distancia",null,0,0]
["22-1",null,null,null,null,22,"Presencial",null,0,0]
["22-2",null,null,null,null,null,"Semipresencial",null,0,0]
["22-3",null,null,null,null,null,"A distancia",null,0,0]
["23-1",{"$f":"SUM(I216:I218)","v":0},{"$f":"SUM(J216:J218)","v":0},{"$f":"F216","v":23},null,23,"Presencial",null,0,0]
["23-2",{"$f":"SUM(I219:I221)","v":0},{"$f":"SUM(J219:J221)","v":0},{"$f":"F219","v":24},null,null,"Semipresencial",null,0,0]
["23-3",{"$f":"SUM(I222:I224)","v":0},{"$f":"SUM(J222:J224)","v":0},{"$f":"F222","v":"25 - 29"},null,null,"A distancia",null,0,0]
["24-1",{"$f":"SUM(I225:I227)","v":0},{"$f":"SUM(J225:J227)","v":0},{"$f":"F225","v":"30 - 34"},null,24,"Presencial",null,0,0]
["24-2",{"$f":"SUM(I228:I230)","v":0},{"$f":"SUM(J228:J230)","v":0},{"$f":"F228","v":"35 - 39"},null,null,"Semipresencial",null,0,0]
["24-3",{"$f":"SUM(I231:I233)","v":0},{"$f":"SUM(J231:J233)","v":0},{"$f":"F231","v":"40 - 44"},null,null,"A distancia",null,0,0]
["25-1",{"$f":"SUM(I234:I236)","v":0},{"$f":"SUM(J234:J236)","v":0},{"$f":"F234","v":"45 - 49"},null,"25 - 29","Presencial",null,0,0]
["25-2",{"$f":"SUM(I237:I239)","v":0},{"$f":"SUM(J237:J239)","v":0},{"$f":"F237","v":"50 - 54"},null,null,"Semipresencial",null,{"$f":"K223+M223+O223+Q223+S223+U223","v":0},{"$f":"L223+N223+P223+R223+T223+V223","v":0}]
["25-3",{"$f":"SUM(I240:I242)","v":0},{"$f":"SUM(J240:J242)","v":0},{"$f":"F240","v":"55 - 59"},null,null,"A distancia",null,0,0]
["30-1",{"$f":"SUM(I243:I245)","v":0},{"$f":"SUM(J243:J245)","v":0},{"$f":"F243","v":"60 y más"},null,"30 - 34","Presencial",null,0,0]
["30-2",null,null,null,null,null,"Semipresencial",null,0,0]
["30-3",null,null,null,null,null,"A distancia",null,0,0]
["35-1",null,null,null,null,"35 - 39","Presencial",null,0,0]
["35-2",null,null,null,null,null,"Semipresencial",null,0,0]
["35-3",null,null,null,null,null,"A distancia",null,0,0]
["40-1",null,null,null,null,"40 - 44","Presencial",null,0,0]
["40-2",null,null,null,null,null,"Semipresencial",null,0,0]
["40-3",null,null,null,null,null,"A distancia",null,0,0]
["45-1",null,null,null,null,"45 - 49","Presencial",null,0,0]
["45-2",null,null,null,null,null,"Semipresencial",null,0,0]
["45-3",null,null,null,null,null,"A distancia",null,0,0]
["50-1",null,null,null,null,"50 - 54","Presencial",null,0,0]
["50-2",null,null,null,null,null,"Semipresencial",null,0,0]
["50-3",null,null,null,null,null,"A distancia",null,0,0]
["55-1",null,null,null,null,"55 - 59","Presencial",null,0,0]
["55-2",null,null,null,null,null,"Semipresencial",null,0,0]
["55-3",null,null,null,null,null,"A distancia",null,0,0]
["60-1",null,null,null,null,"60 y más","Presencial",null,0,0]
["60-2",null,null,null,null,null,"Semipresencial",null,0,0]
["60-3",null,null,null,null,null,"A distancia",null,0,0]
[null,null,null,null,null,"Nota: Incluya a los estudiantes con algún tipo de discapacidad u otra condición"]
[null,null,null,null,null,209,"MATRÍCULA EN CARRERAS Y/O PROGRAMAS DE ESTUDIOS DE TRES AÑOS, POR CICLOS Y SEXO, SEGÚN SEDE POR DENOMINACIÓN DE LA CARRERA Y MODALIDAD  DEL SERVICIO\n(Sumar todos los turnos). Semestre académico 2024-I"]
[]
[null,null,null,null,null,"CÓDIGO DE SEDE","CÓDIGO DE LOCAL","CARRERAS Y/O PROGRAMAS CICLO DE ESTUDIOS",null,null,null,null,null,null,null,"TOTAL 1/",null,"CICLO"]
[null,null,null,null,null,null,null,null,null,null,null,null,null,"MODALIDADES",null,null,null,"I",null,"II",null,"III",null,"IV",null,"V",null,"VI"]
[null,null,null,null,null,null,null,"CÓDIGO","DENOMINACIÓN",null,null,null,null,null,null,"H","M","H","M","H","M","H","M","H","M","H","M","H","M"]
[{"$f":"H252","v":"0000000000"},null,null,null,null,"**","******","0000000000","TOTAL",null,null,null,null,null,null,{"$f":"R252+T252+V252+X252+Z252+AB252","v":0},{"$f":"S252+U252+W252+Y252+AA252+AC252","v":0},{"$f":"SUM(R253:R552)","v":0},0,0,0,0,0,0,0,0,0,0,0]
[{"$f":"IF(H253<>\"\",CONCATENATE(\"1\",MID(H253,2,9)),\"\")","v":""},{"$f":"CONCATENATE(F253,H253,LEFT(I253,5))","v":""},{"$f":"IF(AND(B253<>\"\",SUM(R253:AC255)=0),1,0)","v":0},{"$f":"IF(B253<>\"\",IF(OR(F253=\"\",H253=\"\",I253=\"\"),1,0),\"\")","v":""},null,null,{"$f":"IF(ISERROR(VLOOKUP(F253,Locales,2,FALSE)),\"\",VLOOKUP(F253,Locales,2,FALSE))","v":""},null,{"$f":"IF(ISERROR(VLOOKUP($H253,CARRPROT,2,FALSE)),\"\",VLOOKUP($H253,CARRPROT,2,FALSE))","v":""},null,null,null,null,"Presencial",null,{"$f":"R253+T253+V253+X253+Z253+AB253","v":0},{"$f":"S253+U253+W253+Y253+AA253+AC253","v":0}]
[{"$f":"IF(H254<>\"\",CONCATENATE(\"2\",MID(H254,2,9)),\"\")","v":""},null,null,null,null,{"$f":"IF(F253<>\"\",F253,\"\")","v":""},{"$f":"IF(G253<>\"\",G253,\"\")","v":""},{"$f":"IF(H253<>\"\",H253,\"\")","v":""},null,null,null,null,null,"Semipresencial",null,{"$f":"R254+T254+V254+X254+Z254+AB254","v":0},{"$f":"S254+U254+W254+Y254+AA254+AC254","v":0}]
[{"$f":"IF(H255<>\"\",CONCATENATE(\"3\",MID(H255,2,9)),\"\")","v":""},null,null,null,null,{"$f":"IF(F253<>\"\",F253,\"\")","v":""},{"$f":"IF(G253<>\"\",G253,\"\")","v":""},{"$f":"IF(H253<>\"\",H253,\"\")","v":""},null,null,null,null,null,"A distancia",null,0,0]
[{"$f":"IF(H256<>\"\",CONCATENATE(\"1\",MID(H256,2,9)),\"\")","v":""},{"$f":"CONCATENATE(F256,H256,LEFT(I256,5))","v":""},{"$f":"IF(AND(B256<>\"\",SUM(R256:AC258)=0),1,0)","v":0},{"$f":"IF(B256<>\"\",IF(OR(F256=\"\",H256=\"\",I256=\"\"),1,0),\"\")","v":""},null,null,"",null,{"$f":"IF(ISERROR(VLOOKUP($H256,CARRPROT,2,FALSE)),\"\",VLOOKUP($H256,CARRPROT,2,FALSE))","v":""},null,null,null,null,"Presencial",null,0,0]
[{"$f":"IF(H257<>\"\",CONCATENATE(\"2\",MID(H257,2,9)),\"\")","v":""},null,null,null,null,{"$f":"IF(F256<>\"\",F256,\"\")","v":""},{"$f":"IF(G256<>\"\",G256,\"\")","v":""},{"$f":"IF(H256<>\"\",H256,\"\")","v":""},null,null,null,null,null,"Semipresencial",null,0,0]
[{"$f":"IF(H258<>\"\",CONCATENATE(\"3\",MID(H258,2,9)),\"\")","v":""},null,null,null,null,{"$f":"IF(F256<>\"\",F256,\"\")","v":""},{"$f":"IF(G256<>\"\",G256,\"\")","v":""},{"$f":"IF(H256<>\"\",H256,\"\")","v":""},null,null,null,null,null,"A distancia",null,0,0]
[{"$f":"IF(H259<>\"\",CONCATENATE(\"1\",MID(H259,2,9)),\"\")","v":""},{"$f":"CONCATENATE(F259,H259,LEFT(I259,5))","v":""},{"$f":"IF(AND(B259<>\"\",SUM(R259:AC261)=0),1,0)","v":0},{"$f":"IF(B259<>\"\",IF(OR(F259=\"\",H259=\"\",I259=\"\"),1,0),\"\")","v":""},null,null,"",null,{"$f":"IF(ISERROR(VLOOKUP($H259,CARRPROT,2,FALSE)),\"\",VLOOKUP($H259,CARRPROT,2,FALSE))","v":""},null,null,null,null,"Presencial",null,0,0]
[{"$f":"IF(H260<>\"\",CONCATENATE(\"2\",MID(H260,2,9)),\"\")","v":""},null,null,null,null,{"$f":"IF(F259<>\"\",F259,\"\")","v":""},{"$f":"IF(G259<>\"\",G259,\"\")","v":""},{"$f":"IF(H259<>\"\",H259,\"\")","v":""},null,null,null,null,null,"Semipresencial",null,0,0]
[{"$f":"IF(H261<>\"\",CONCATENATE(\"3\",MID(H261,2,9)),\"\")","v":""},null,null,null,null,{"$f":"IF(F259<>\"\",F259,\"\")","v":""},{"$f":"IF(G259<>\"\",G259,\"\")","v":""},{"$f":"IF(H259<>\"\",H259,\"\")","v":""},null,null,null,null,null,"A distancia",null,0,0]
[{"$f":"IF(H262<>\"\",CONCATENATE(\"1\",MID(H262,2,9)),\"\")","v":""},{"$f":"CONCATENATE(F262,H262,LEFT(I262,5))","v":""},{"$f":"IF(AND(B262<>\"\",SUM(R262:AC264)=0),1,0)","v":0},{"$f":"IF(B262<>\"\",IF(OR(F262=\"\",H262=\"\",I262=\"\"),1,0),\"\")","v":""},null,null,"",null,{"$f":"IF(ISERROR(VLOOKUP($H262,CARRPROT,2,FALSE)),\"\",VLOOKUP($H262,CARRPROT,2,FALSE))","v":""},null,null,null,null,"Presencial",null,0,0]
[{"$f":"IF(H263<>\"\",CONCATENATE(\"2\",MID(H263,2,9)),\"\")","v":""},null,null,null,null,{"$f":"IF(F262<>\"\",F262,\"\")","v":""},{"$f":"IF(G262<>\"\",G262,\"\")","v":""},{"$f":"IF(H262<>\"\",H262,\"\")","v":""},null,null,null,null,null,"Semipresencial",null,0,0]
[{"$f":"IF(H264<>\"\",CONCATENATE(\"3\",MID(H264,2,9)),\"\")","v":""},null,null,null,null,{"$f":"IF(F262<>\"\",F262,\"\")","v":""},{"$f":"IF(G262<>\"\",G262,\"\")","v":""},{"$f":"IF(H262<>\"\",H262,\"\")","v":""},null,null,null,null,null,"A distancia",null,0,0]
[{"$f":"IF(H265<>\"\",CONCATENATE(\"1\",MID(H265,2,9)),\"\")","v":""},{"$f":"CONCATENATE(F265,H265,LEFT(I265,5))","v":""},{"$f":"IF(AND(B265<>\"\",SUM(R265:AC267)=0),1,0)","v":0},{"$f":"IF(B265<>\"\",IF(OR(F265=\"\",H265=\"\",I265=\"\"),1,0),\"\")","v":""},null,null,"",null,{"$f":"IF(ISERROR(VLOOKUP($H265,CARRPROT,2,FALSE)),\"\",VLOOKUP($H265,CARRPROT,2,FALSE))","v":""},null,null,null,null,"Presencial",null,{"$f":"R265+T265+V265+X265+Z265+AB265","v":0},{"$f":"S265+U265+W265+Y265+AA265+AC265","v":0}]
[{"$f":"IF(H266<>\"\",CONCATENATE(\"2\",MID(H266,2,9)),\"\")","v":""},null,null,null,null,{"$f":"IF(F265<>\"\",F265,\"\")","v":""},{"$f":"IF(G265<>\"\",G265,\"\")","v":""},{"$f":"IF(H265<>\"\",H265,\"\")","v":""},null,null,null,null,null,"Semipresencial",null,0,0]
[{"$f":"IF(H267<>\"\",CONCATENATE(\"3\",MID(H267,2,9)),\"\")","v":""},null,null,null,null,{"$f":"IF(F265<>\"\",F265,\"\")","v":""},{"$f":"IF(G265<>\"\",G265,\"\")","v":""},{"$f":"IF(H265<>\"\",H265,\"\")","v":""},null,null,null,null,null,"A distancia",null,0,0]
[{"$f":"IF(H268<>\"\",CONCATENATE(\"1\",MID(H268,2,9)),\"\")","v":""},{"$f":"CONCATENATE(F268,H268,LEFT(I268,5))","v":""},{"$f":"IF(AND(B268<>\"\",SUM(R268:AC270)=0),1,0)","v":0},{"$f":"IF(B268<>\"\",IF(OR(F268=\"\",H268=\"\",I268=\"\"),1,0),\"\")","v":""},null,null,"",null,{"$f":"IF(ISERROR(VLOOKUP($H268,CARRPROT,2,FALSE)),\"\",VLOOKUP($H268,CARRPROT,2,FALSE))","v":""},null,null,null,null,"Presencial",null,{"$f":"R268+T268+V268+X268+Z268+AB268","v":0},0]
[{"$f":"IF(H269<>\"\",CONCATENATE(\"2\",MID(H269,2,9)),\"\")","v":""},null,null,null,null,{"$f":"IF(F268<>\"\",F268,\"\")","v":""},{"$f":"IF(G268<>\"\",G268,\"\")","v":""},{"$f":"IF(H268<>\"\",H268,\"\")","v":""},null,null,null,null,null,"Semipresencial",null,0,0]
[{"$f":"IF(H270<>\"\",CONCATENATE(\"3\",MID(H270,2,9)),\"\")","v":""},null,null,null,null,{"$f":"IF(F268<>\"\",F268,\"\")","v":""},{"$f":"IF(G268<>\"\",G268,\"\")","v":""},{"$f":"IF(H268<>\"\",H268,\"\")","v":""},null,null,null,null,null,"A distancia",null,0,0]
[{"$f":"IF(H271<>\"\",CONCATENATE(\"1\",MID(H271,2,9)),\"\")","v":""},{"$f":"CONCATENATE(F271,H271,LEFT(I271,5))","v":""},{"$f":"IF(AND(B271<>\"\",SUM(R271:AC273)=0),1,0)","v":0},{"$f":"IF(B271<>\"\",IF(OR(F271=\"\",H271=\"\",I271=\"\"),1,0),\"\")","v":""},null,null,"",null,{"$f":"IF(ISERROR(VLOOKUP($H271,CARRPROT,2,FALSE)),\"\",VLOOKUP($H271,CARRPROT,2,FALSE))","v":""},null,null,null,null,"Presencial",null,0,0]
[{"$f":"IF(H272<>\"\",CONCATENATE(\"2\",MID(H272,2,9)),\"\")","v":""},null,null,null,null,{"$f":"IF(F271<>\"\",F271,\"\")","v":""},{"$f":"IF(G271<>\"\",G271,\"\")","v":""},{"$f":"IF(H271<>\"\",H271,\"\")","v":""},null,null,null,null,null,"Semipresencial",null,0,0]
[{"$f":"IF(H273<>\"\",CONCATENATE(\"3\",MID(H273,2,9)),\"\")","v":""},null,null,null,null,{"$f":"IF(F271<>\"\",F271,\"\")","v":""},{"$f":"IF(G271<>\"\",G271,\"\")","v":""},{"$f":"IF(H271<>\"\",H271,\"\")","v":""},null,null,null,null,null,"A distancia",null,0,0]
[{"$f":"IF(H274<>\"\",CONCATENATE(\"1\",MID(H274,2,9)),\"\")","v":""},{"$f":"CONCATENATE(F274,H274,LEFT(I274,5))","v":""},{"$f":"IF(AND(B274<>\"\",SUM(R274:AC276)=0),1,0)","v":0},{"$f":"IF(B274<>\"\",IF(OR(F274=\"\",H274=\"\",I274=\"\"),1,0),\"\")","v":""},null,null,"",null,{"$f":"IF(ISERROR(VLOOKUP($H274,CARRPROT,2,FALSE)),\"\",VLOOKUP($H274,CARRPROT,2,FALSE))","v":""},null,null,null,null,"Presencial",null,{"$f":"R274+T274+V274+X274+Z274+AB274","v":0},{"$f":"S274+U274+W274+Y274+AA274+AC274","v":0}]
[{"$f":"IF(H275<>\"\",CONCATENATE(\"2\",MID(H275,2,9)),\"\")","v":""},null,null,null,null,{"$f":"IF(F274<>\"\",F274,\"\")","v":""},{"$f":"IF(G274<>\"\",G274,\"\")","v":""},{"$f":"IF(H274<>\"\",H274,\"\")","v":""},null,null,null,null,null,"Semipresencial",null,0,0]
[{"$f":"IF(H276<>\"\",CONCATENATE(\"3\",MID(H276,2,9)),\"\")","v":""},null,null,null,null,{"$f":"IF(F274<>\"\",F274,\"\")","v":""},{"$f":"IF(G274<>\"\",G274,\"\")","v":""},{"$f":"IF(H274<>\"\",H274,\"\")","v":""},null,null,null,null,null,"A distancia",null,0,0]
[{"$f":"IF(H277<>\"\",CONCATENATE(\"1\",MID(H277,2,9)),\"\")","v":""},{"$f":"CONCATENATE(F277,H277,LEFT(I277,5))","v":""},{"$f":"IF(AND(B277<>\"\",SUM(R277:AC279)=0),1,0)","v":0},{"$f":"IF(B277<>\"\",IF(OR(F277=\"\",H277=\"\",I277=\"\"),1,0),\"\")","v":""},null,null,"",null,{"$f":"IF(ISERROR(VLOOKUP($H277,CARRPROT,2,FALSE)),\"\",VLOOKUP($H277,CARRPROT,2,FALSE))","v":""},null,null,null,null,"Presencial",null,0,0]
[{"$f":"IF(H278<>\"\",CONCATENATE(\"2\",MID(H278,2,9)),\"\")","v":""},null,null,null,null,{"$f":"IF(F277<>\"\",F277,\"\")","v":""},{"$f":"IF(G277<>\"\",G277,\"\")","v":""},{"$f":"IF(H277<>\"\",H277,\"\")","v":""},null,null,null,null,null,"Semipresencial",null,0,0]
[{"$f":"IF(H279<>\"\",CONCATENATE(\"3\",MID(H279,2,9)),\"\")","v":""},null,null,null,null,{"$f":"IF(F277<>\"\",F277,\"\")","v":""},{"$f":"IF(G277<>\"\",G277,\"\")","v":""},{"$f":"IF(H277<>\"\",H277,\"\")","v":""},null,null,null,null,null,"A distancia",null,0,0]
[{"$f":"IF(H280<>\"\",CONCATENATE(\"1\",MID(H280,2,9)),\"\")","v":""},{"$f":"CONCATENATE(F280,H280,LEFT(I280,5))","v":""},{"$f":"IF(AND(B280<>\"\",SUM(R280:AC282)=0),1,0)","v":0},{"$f":"IF(B280<>\"\",IF(OR(F280=\"\",H280=\"\",I280=\"\"),1,0),\"\")","v":""},null,null,"",null,{"$f":"IF(ISERROR(VLOOKUP($H280,CARRPROT,2,FALSE)),\"\",VLOOKUP($H280,CARRPROT,2,FALSE))","v":""},null,null,null,null,"Presencial",null,0,0]
[{"$f":"IF(H281<>\"\",CONCATENATE(\"2\",MID(H281,2,9)),\"\")","v":""},null,null,null,null,{"$f":"IF(F280<>\"\",F280,\"\")","v":""},{"$f":"IF(G280<>\"\",G280,\"\")","v":""},{"$f":"IF(H280<>\"\",H280,\"\")","v":""},null,null,null,null,null,"Semipresencial",null,0,0]
[{"$f":"IF(H282<>\"\",CONCATENATE(\"3\",MID(H282,2,9)),\"\")","v":""},null,null,null,null,{"$f":"IF(F280<>\"\",F280,\"\")","v":""},{"$f":"IF(G280<>\"\",G280,\"\")","v":""},{"$f":"IF(H280<>\"\",H280,\"\")","v":""},null,null,null,null,null,"A distancia",null,0,0]
[{"$f":"IF(H283<>\"\",CONCATENATE(\"1\",MID(H283,2,9)),\"\")","v":""},{"$f":"CONCATENATE(F283,H283,LEFT(I283,5))","v":""},{"$f":"IF(AND(B283<>\"\",SUM(R283:AC285)=0),1,0)","v":0},{"$f":"IF(B283<>\"\",IF(OR(F283=\"\",H283=\"\",I283=\"\"),1,0),\"\")","v":""},null,null,"",null,{"$f":"IF(ISERROR(VLOOKUP($H283,CARRPROT,2,FALSE)),\"\",VLOOKUP($H283,CARRPROT,2,FALSE))","v":""},null,null,null,null,"Presencial",null,0,0]
[{"$f":"IF(H284<>\"\",CONCATENATE(\"2\",MID(H284,2,9)),\"\")","v":""},null,null,null,null,{"$f":"IF(F283<>\"\",F283,\"\")","v":""},{"$f":"IF(G283<>\"\",G283,\"\")","v":""},{"$f":"IF(H283<>\"\",H283,\"\")","v":""},null,null,null,null,null,"Semipresencial",null,0,0]
[{"$f":"IF(H285<>\"\",CONCATENATE(\"3\",MID(H285,2,9)),\"\")","v":""},null,null,null,null,{"$f":"IF(F283<>\"\",F283,\"\")","v":""},{"$f":"IF(G283<>\"\",G283,\"\")","v":""},{"$f":"IF(H283<>\"\",H283,\"\")","v":""},null,null,null,null,null,"A distancia",null,0,0]
[{"$f":"IF(H286<>\"\",CONCATENATE(\"1\",MID(H286,2,9)),\"\")","v":""},{"$f":"CONCATENATE(F286,H286,LEFT(I286,5))","v":""},{"$f":"IF(AND(B286<>\"\",SUM(R286:AC288)=0),1,0)","v":0},{"$f":"IF(B286<>\"\",IF(OR(F286=\"\",H286=\"\",I286=\"\"),1,0),\"\")","v":""},null,null,"",null,{"$f":"IF(ISERROR(VLOOKUP($H286,CARRPROT,2,FALSE)),\"\",VLOOKUP($H286,CARRPROT,2,FALSE))","v":""},null,null,null,null,"Presencial",null,0,0]
[{"$f":"IF(H287<>\"\",CONCATENATE(\"2\",MID(H287,2,9)),\"\")","v":""},null,null,null,null,{"$f":"IF(F286<>\"\",F286,\"\")","v":""},{"$f":"IF(G286<>\"\",G286,\"\")","v":""},{"$f":"IF(H286<>\"\",H286,\"\")","v":""},null,null,null,null,null,"Semipresencial",null,0,0]
[{"$f":"IF(H288<>\"\",CONCATENATE(\"3\",MID(H288,2,9)),\"\")","v":""},null,null,null,null,{"$f":"IF(F286<>\"\",F286,\"\")","v":""},{"$f":"IF(G286<>\"\",G286,\"\")","v":""},{"$f":"IF(H286<>\"\",H286,\"\")","v":""},null,null,null,null,null,"A distancia",null,0,0]
[{"$f":"IF(H289<>\"\",CONCATENATE(\"1\",MID(H289,2,9)),\"\")","v":""},{"$f":"CONCATENATE(F289,H289,LEFT(I289,5))","v":""},{"$f":"IF(AND(B289<>\"\",SUM(R289:AC291)=0),1,0)","v":0},{"$f":"IF(B289<>\"\",IF(OR(F289=\"\",H289=\"\",I289=\"\"),1,0),\"\")","v":""},null,null,"",null,{"$f":"IF(ISERROR(VLOOKUP($H289,CARRPROT,2,FALSE)),\"\",VLOOKUP($H289,CARRPROT,2,FALSE))","v":""},null,null,null,null,"Presencial",null,0,0]
[{"$f":"IF(H290<>\"\",CONCATENATE(\"2\",MID(H290,2,9)),\"\")","v":""},null,null,null,null,{"$f":"IF(F289<>\"\",F289,\"\")","v":""},{"$f":"IF(G289<>\"\",G289,\"\")","v":""},{"$f":"IF(H289<>\"\",H289,\"\")","v":""},null,null,null,null,null,"Semipresencial",null,0,0]
[{"$f":"IF(H291<>\"\",CONCATENATE(\"3\",MID(H291,2,9)),\"\")","v":""},null,null,null,null,{"$f":"IF(F289<>\"\",F289,\"\")","v":""},{"$f":"IF(G289<>\"\",G289,\"\")","v":""},{"$f":"IF(H289<>\"\",H289,\"\")","v":""},null,null,null,null,null,"A distancia",null,0,0]
[{"$f":"IF(H292<>\"\",CONCATENATE(\"1\",MID(H292,2,9)),\"\")","v":""},{"$f":"CONCATENATE(F292,H292,LEFT(I292,5))","v":""},{"$f":"IF(AND(B292<>\"\",SUM(R292:AC294)=0),1,0)","v":0},{"$f":"IF(B292<>\"\",IF(OR(F292=\"\",H292=\"\",I292=\"\"),1,0),\"\")","v":""},null,null,"",null,{"$f":"IF(ISERROR(VLOOKUP($H292,CARRPROT,2,FALSE)),\"\",VLOOKUP($H292,CARRPROT,2,FALSE))","v":""},null,null,null,null,"Presencial",null,0,0]
[{"$f":"IF(H293<>\"\",CONCATENATE(\"2\",MID(H293,2,9)),\"\")","v":""},null,null,null,null,{"$f":"IF(F292<>\"\",F292,\"\")","v":""},{"$f":"IF(G292<>\"\",G292,\"\")","v":""},{"$f":"IF(H292<>\"\",H292,\"\")","v":""},null,null,null,null,null,"Semipresencial",null,0,0]
[{"$f":"IF(H294<>\"\",CONCATENATE(\"3\",MID(H294,2,9)),\"\")","v":""},null,null,null,null,{"$f":"IF(F292<>\"\",F292,\"\")","v":""},{"$f":"IF(G292<>\"\",G292,\"\")","v":""},{"$f":"IF(H292<>\"\",H292,\"\")","v":""},null,null,null,null,null,"A distancia",null,0,0]
[{"$f":"IF(H295<>\"\",CONCATENATE(\"1\",MID(H295,2,9)),\"\")","v":""},{"$f":"CONCATENATE(F295,H295,LEFT(I295,5))","v":""},{"$f":"IF(AND(B295<>\"\",SUM(R295:AC297)=0),1,0)","v":0},{"$f":"IF(B295<>\"\",IF(OR(F295=\"\",H295=\"\",I295=\"\"),1,0),\"\")","v":""},null,null,"",null,{"$f":"IF(ISERROR(VLOOKUP($H295,CARRPROT,2,FALSE)),\"\",VLOOKUP($H295,CARRPROT,2,FALSE))","v":""},null,null,null,null,"Presencial",null,0,0]
[{"$f":"IF(H296<>\"\",CONCATENATE(\"2\",MID(H296,2,9)),\"\")","v":""},null,null,null,null,{"$f":"IF(F295<>\"\",F295,\"\")","v":""},{"$f":"IF(G295<>\"\",G295,\"\")","v":""},{"$f":"IF(H295<>\"\",H295,\"\")","v":""},null,null,null,null,null,"Semipresencial",null,0,0]
[{"$f":"IF(H297<>\"\",CONCATENATE(\"3\",MID(H297,2,9)),\"\")","v":""},null,null,null,null,{"$f":"IF(F295<>\"\",F295,\"\")","v":""},{"$f":"IF(G295<>\"\",G295,\"\")","v":""},{"$f":"IF(H295<>\"\",H295,\"\")","v":""},null,null,null,null,null,"A distancia",null,0,0]
[{"$f":"IF(H298<>\"\",CONCATENATE(\"1\",MID(H298,2,9)),\"\")","v":""},{"$f":"CONCATENATE(F298,H298,LEFT(I298,5))","v":""},{"$f":"IF(AND(B298<>\"\",SUM(R298:AC300)=0),1,0)","v":0},{"$f":"IF(B298<>\"\",IF(OR(F298=\"\",H298=\"\",I298=\"\"),1,0),\"\")","v":""},null,null,"",null,{"$f":"IF(ISERROR(VLOOKUP($H298,CARRPROT,2,FALSE)),\"\",VLOOKUP($H298,CARRPROT,2,FALSE))","v":""},null,null,null,null,"Presencial",null,0,0]
[{"$f":"IF(H299<>\"\",CONCATENATE(\"2\",MID(H299,2,9)),\"\")","v":""},null,null,null,null,{"$f":"IF(F298<>\"\",F298,\"\")","v":""},{"$f":"IF(G298<>\"\",G298,\"\")","v":""},{"$f":"IF(H298<>\"\",H298,\"\")","v":""},null,null,null,null,null,"Semipresencial",null,0,0]
[{"$f":"IF(H300<>\"\",CONCATENATE(\"3\",MID(H300,2,9)),\"\")","v":""},null,null,null,null,{"$f":"IF(F298<>\"\",F298,\"\")","v":""},{"$f":"IF(G298<>\"\",G298,\"\")","v":""},{"$f":"IF(H298<>\"\",H298,\"\")","v":""},null,null,null,null,null,"A distancia",null,0,0]
[{"$f":"IF(H301<>\"\",CONCATENATE(\"1\",MID(H301,2,9)),\"\")","v":""},{"$f":"CONCATENATE(F301,H301,LEFT(I301,5))","v":""},{"$f":"IF(AND(B301<>\"\",SUM(R301:AC303)=0),1,0)","v":0},{"$f":"IF(B301<>\"\",IF(OR(F301=\"\",H301=\"\",I301=\"\"),1,0),\"\")","v":""},null,null,"",null,{"$f":"IF(ISERROR(VLOOKUP($H301,CARRPROT,2,FALSE)),\"\",VLOOKUP($H301,CARRPROT,2,FALSE))","v":""},null,null,null,null,"Presencial",null,0,0]
[{"$f":"IF(H302<>\"\",CONCATENATE(\"2\",MID(H302,2,9)),\"\")","v":""},null,null,null,null,{"$f":"IF(F301<>\"\",F301,\"\")","v":""},{"$f":"IF(G301<>\"\",G301,\"\")","v":""},{"$f":"IF(H301<>\"\",H301,\"\")","v":""},null,null,null,null,null,"Semipresencial",null,0,0]
[{"$f":"IF(H303<>\"\",CONCATENATE(\"3\",MID(H303,2,9)),\"\")","v":""},null,null,null,null,{"$f":"IF(F301<>\"\",F301,\"\")","v":""},{"$f":"IF(G301<>\"\",G301,\"\")","v":""},{"$f":"IF(H301<>\"\",H301,\"\")","v":""},null,null,null,null,null,"A distancia",null,0,0]
[{"$f":"IF(H304<>\"\",CONCATENATE(\"1\",MID(H304,2,9)),\"\")","v":""},{"$f":"CONCATENATE(F304,H304,LEFT(I304,5))","v":""},{"$f":"IF(AND(B304<>\"\",SUM(R304:AC306)=0),1,0)","v":0},{"$f":"IF(B304<>\"\",IF(OR(F304=\"\",H304=\"\",I304=\"\"),1,0),\"\")","v":""},null,null,"",null,{"$f":"IF(ISERROR(VLOOKUP($H304,CARRPROT,2,FALSE)),\"\",VLOOKUP($H304,CARRPROT,2,FALSE))","v":""},null,null,null,null,"Presencial",null,0,0]
[{"$f":"IF(H305<>\"\",CONCATENATE(\"2\",MID(H305,2,9)),\"\")","v":""},null,null,null,null,{"$f":"IF(F304<>\"\",F304,\"\")","v":""},{"$f":"IF(G304<>\"\",G304,\"\")","v":""},{"$f":"IF(H304<>\"\",H304,\"\")","v":""},null,null,null,null,null,"Semipresencial",null,0,0]
[{"$f":"IF(H306<>\"\",CONCATENATE(\"3\",MID(H306,2,9)),\"\")","v":""},null,null,null,null,{"$f":"IF(F304<>\"\",F304,\"\")","v":""},{"$f":"IF(G304<>\"\",G304,\"\")","v":""},{"$f":"IF(H304<>\"\",H304,\"\")","v":""},null,null,null,null,null,"A distancia",null,0,0]
[{"$f":"IF(H307<>\"\",CONCATENATE(\"1\",MID(H307,2,9)),\"\")","v":""},{"$f":"CONCATENATE(F307,H307,LEFT(I307,5))","v":""},{"$f":"IF(AND(B307<>\"\",SUM(R307:AC309)=0),1,0)","v":0},{"$f":"IF(B307<>\"\",IF(OR(F307=\"\",H307=\"\",I307=\"\"),1,0),\"\")","v":""},null,null,"",null,{"$f":"IF(ISERROR(VLOOKUP($H307,CARRPROT,2,FALSE)),\"\",VLOOKUP($H307,CARRPROT,2,FALSE))","v":""},null,null,null,null,"Presencial",null,0,0]
[{"$f":"IF(H308<>\"\",CONCATENATE(\"2\",MID(H308,2,9)),\"\")","v":""},null,null,null,null,{"$f":"IF(F307<>\"\",F307,\"\")","v":""},{"$f":"IF(G307<>\"\",G307,\"\")","v":""},{"$f":"IF(H307<>\"\",H307,\"\")","v":""},null,null,null,null,null,"Semipresencial",null,0,0]
[{"$f":"IF(H309<>\"\",CONCATENATE(\"3\",MID(H309,2,9)),\"\")","v":""},null,null,null,null,{"$f":"IF(F307<>\"\",F307,\"\")","v":""},{"$f":"IF(G307<>\"\",G307,\"\")","v":""},{"$f":"IF(H307<>\"\",H307,\"\")","v":""},null,null,null,null,null,"A distancia",null,0,0]
[{"$f":"IF(H310<>\"\",CONCATENATE(\"1\",MID(H310,2,9)),\"\")","v":""},{"$f":"CONCATENATE(F310,H310,LEFT(I310,5))","v":""},{"$f":"IF(AND(B310<>\"\",SUM(R310:AC312)=0),1,0)","v":0},{"$f":"IF(B310<>\"\",IF(OR(F310=\"\",H310=\"\",I310=\"\"),1,0),\"\")","v":""},null,null,"",null,{"$f":"IF(ISERROR(VLOOKUP($H310,CARRPROT,2,FALSE)),\"\",VLOOKUP($H310,CARRPROT,2,FALSE))","v":""},null,null,null,null,"Presencial",null,0,0]
[{"$f":"IF(H311<>\"\",CONCATENATE(\"2\",MID(H311,2,9)),\"\")","v":""},null,null,null,null,{"$f":"IF(F310<>\"\",F310,\"\")","v":""},{"$f":"IF(G310<>\"\",G310,\"\")","v":""},{"$f":"IF(H310<>\"\",H310,\"\")","v":""},null,null,null,null,null,"Semipresencial",null,0,0]
[{"$f":"IF(H312<>\"\",CONCATENATE(\"3\",MID(H312,2,9)),\"\")","v":""},null,null,null,null,{"$f":"IF(F310<>\"\",F310,\"\")","v":""},{"$f":"IF(G310<>\"\",G310,\"\")","v":""},{"$f":"IF(H310<>\"\",H310,\"\")","v":""},null,null,null,null,null,"A distancia",null,0,0]
[{"$f":"IF(H313<>\"\",CONCATENATE(\"1\",MID(H313,2,9)),\"\")","v":""},{"$f":"CONCATENATE(F313,H313,LEFT(I313,5))","v":""},{"$f":"IF(AND(B313<>\"\",SUM(R313:AC315)=0),1,0)","v":0},{"$f":"IF(B313<>\"\",IF(OR(F313=\"\",H313=\"\",I313=\"\"),1,0),\"\")","v":""},null,null,"",null,{"$f":"IF(ISERROR(VLOOKUP($H313,CARRPROT,2,FALSE)),\"\",VLOOKUP($H313,CARRPROT,2,FALSE))","v":""},null,null,null,null,"Presencial",null,0,0]
[{"$f":"IF(H314<>\"\",CONCATENATE(\"2\",MID(H314,2,9)),\"\")","v":""},null,null,null,null,{"$f":"IF(F313<>\"\",F313,\"\")","v":""},{"$f":"IF(G313<>\"\",G313,\"\")","v":""},{"$f":"IF(H313<>\"\",H313,\"\")","v":""},null,null,null,null,null,"Semipresencial",null,0,0]
[{"$f":"IF(H315<>\"\",CONCATENATE(\"3\",MID(H315,2,9)),\"\")","v":""},null,null,null,null,{"$f":"IF(F313<>\"\",F313,\"\")","v":""},{"$f":"IF(G313<>\"\",G313,\"\")","v":""},{"$f":"IF(H313<>\"\",H313,\"\")","v":""},null,null,null,null,null,"A distancia",null,0,0]
[{"$f":"IF(H316<>\"\",CONCATENATE(\"1\",MID(H316,2,9)),\"\")","v":""},{"$f":"CONCATENATE(F316,H316,LEFT(I316,5))","v":""},{"$f":"IF(AND(B316<>\"\",SUM(R316:AC318)=0),1,0)","v":0},{"$f":"IF(B316<>\"\",IF(OR(F316=\"\",H316=\"\",I316=\"\"),1,0),\"\")","v":""},null,null,"",null,{"$f":"IF(ISERROR(VLOOKUP($H316,CARRPROT,2,FALSE)),\"\",VLOOKUP($H316,CARRPROT,2,FALSE))","v":""},null,null,null,null,"Presencial",null,0,0]
[{"$f":"IF(H317<>\"\",CONCATENATE(\"2\",MID(H317,2,9)),\"\")","v":""},null,null,null,null,{"$f":"IF(F316<>\"\",F316,\"\")","v":""},{"$f":"IF(G316<>\"\",G316,\"\")","v":""},{"$f":"IF(H316<>\"\",H316,\"\")","v":""},null,null,null,null,null,"Semipresencial",null,0,0]
[{"$f":"IF(H318<>\"\",CONCATENATE(\"3\",MID(H318,2,9)),\"\")","v":""},null,null,null,null,{"$f":"IF(F316<>\"\",F316,\"\")","v":""},{"$f":"IF(G316<>\"\",G316,\"\")","v":""},{"$f":"IF(H316<>\"\",H316,\"\")","v":""},null,null,null,null,null,"A distancia",null,0,0]
[{"$f":"IF(H319<>\"\",CONCATENATE(\"1\",MID(H319,2,9)),\"\")","v":""},{"$f":"CONCATENATE(F319,H319,LEFT(I319,5))","v":""},{"$f":"IF(AND(B319<>\"\",SUM(R319:AC321)=0),1,0)","v":0},{"$f":"IF(B319<>\"\",IF(OR(F319=\"\",H319=\"\",I319=\"\"),1,0),\"\")","v":""},null,null,"",null,{"$f":"IF(ISERROR(VLOOKUP($H319,CARRPROT,2,FALSE)),\"\",VLOOKUP($H319,CARRPROT,2,FALSE))","v":""},null,null,null,null,"Presencial",null,0,0]
[{"$f":"IF(H320<>\"\",CONCATENATE(\"2\",MID(H320,2,9)),\"\")","v":""},null,null,null,null,{"$f":"IF(F319<>\"\",F319,\"\")","v":""},{"$f":"IF(G319<>\"\",G319,\"\")","v":""},{"$f":"IF(H319<>\"\",H319,\"\")","v":""},null,null,null,null,null,"Semipresencial",null,0,0]
[{"$f":"IF(H321<>\"\",CONCATENATE(\"3\",MID(H321,2,9)),\"\")","v":""},null,null,null,null,{"$f":"IF(F319<>\"\",F319,\"\")","v":""},{"$f":"IF(G319<>\"\",G319,\"\")","v":""},{"$f":"IF(H319<>\"\",H319,\"\")","v":""},null,null,null,null,null,"A distancia",null,0,0]
[{"$f":"IF(H322<>\"\",CONCATENATE(\"1\",MID(H322,2,9)),\"\")","v":""},{"$f":"CONCATENATE(F322,H322,LEFT(I322,5))","v":""},{"$f":"IF(AND(B322<>\"\",SUM(R322:AC324)=0),1,0)","v":0},{"$f":"IF(B322<>\"\",IF(OR(F322=\"\",H322=\"\",I322=\"\"),1,0),\"\")","v":""},null,null,"",null,{"$f":"IF(ISERROR(VLOOKUP($H322,CARRPROT,2,FALSE)),\"\",VLOOKUP($H322,CARRPROT,2,FALSE))","v":""},null,null,null,null,"Presencial",null,0,0]
[{"$f":"IF(H323<>\"\",CONCATENATE(\"2\",MID(H323,2,9)),\"\")","v":""},null,null,null,null,{"$f":"IF(F322<>\"\",F322,\"\")","v":""},{"$f":"IF(G322<>\"\",G322,\"\")","v":""},{"$f":"IF(H322<>\"\",H322,\"\")","v":""},null,null,null,null,null,"Semipresencial",null,0,0]
[{"$f":"IF(H324<>\"\",CONCATENATE(\"3\",MID(H324,2,9)),\"\")","v":""},null,null,null,null,{"$f":"IF(F322<>\"\",F322,\"\")","v":""},{"$f":"IF(G322<>\"\",G322,\"\")","v":""},{"$f":"IF(H322<>\"\",H322,\"\")","v":""},null,null,null,null,null,"A distancia",null,0,0]
[{"$f":"IF(H325<>\"\",CONCATENATE(\"1\",MID(H325,2,9)),\"\")","v":""},{"$f":"CONCATENATE(F325,H325,LEFT(I325,5))","v":""},{"$f":"IF(AND(B325<>\"\",SUM(R325:AC327)=0),1,0)","v":0},{"$f":"IF(B325<>\"\",IF(OR(F325=\"\",H325=\"\",I325=\"\"),1,0),\"\")","v":""},null,null,"",null,{"$f":"IF(ISERROR(VLOOKUP($H325,CARRPROT,2,FALSE)),\"\",VLOOKUP($H325,CARRPROT,2,FALSE))","v":""},null,null,null,null,"Presencial",null,0,0]
[{"$f":"IF(H326<>\"\",CONCATENATE(\"2\",MID(H326,2,9)),\"\")","v":""},null,null,null,null,{"$f":"IF(F325<>\"\",F325,\"\")","v":""},{"$f":"IF(G325<>\"\",G325,\"\")","v":""},{"$f":"IF(H325<>\"\",H325,\"\")","v":""},null,null,null,null,null,"Semipresencial",null,0,0]
[{"$f":"IF(H327<>\"\",CONCATENATE(\"3\",MID(H327,2,9)),\"\")","v":""},null,null,null,null,{"$f":"IF(F325<>\"\",F325,\"\")","v":""},{"$f":"IF(G325<>\"\",G325,\"\")","v":""},{"$f":"IF(H325<>\"\",H325,\"\")","v":""},null,null,null,null,null,"A distancia",null,0,0]
[{"$f":"IF(H328<>\"\",CONCATENATE(\"1\",MID(H328,2,9)),\"\")","v":""},{"$f":"CONCATENATE(F328,H328,LEFT(I328,5))","v":""},{"$f":"IF(AND(B328<>\"\",SUM(R328:AC330)=0),1,0)","v":0},{"$f":"IF(B328<>\"\",IF(OR(F328=\"\",H328=\"\",I328=\"\"),1,0),\"\")","v":""},null,null,"",null,{"$f":"IF(ISERROR(VLOOKUP($H328,CARRPROT,2,FALSE)),\"\",VLOOKUP($H328,CARRPROT,2,FALSE))","v":""},null,null,null,null,"Presencial",null,0,0]
[{"$f":"IF(H329<>\"\",CONCATENATE(\"2\",MID(H329,2,9)),\"\")","v":""},null,null,null,null,{"$f":"IF(F328<>\"\",F328,\"\")","v":""},{"$f":"IF(G328<>\"\",G328,\"\")","v":""},{"$f":"IF(H328<>\"\",H328,\"\")","v":""},null,null,null,null,null,"Semipresencial",null,0,0]
[{"$f":"IF(H330<>\"\",CONCATENATE(\"3\",MID(H330,2,9)),\"\")","v":""},null,null,null,null,{"$f":"IF(F328<>\"\",F328,\"\")","v":""},{"$f":"IF(G328<>\"\",G328,\"\")","v":""},{"$f":"IF(H328<>\"\",H328,\"\")","v":""},null,null,null,null,null,"A distancia",null,0,0]
[{"$f":"IF(H331<>\"\",CONCATENATE(\"1\",MID(H331,2,9)),\"\")","v":""},{"$f":"CONCATENATE(F331,H331,LEFT(I331,5))","v":""},{"$f":"IF(AND(B331<>\"\",SUM(R331:AC333)=0),1,0)","v":0},{"$f":"IF(B331<>\"\",IF(OR(F331=\"\",H331=\"\",I331=\"\"),1,0),\"\")","v":""},null,null,"",null,{"$f":"IF(ISERROR(VLOOKUP($H331,CARRPROT,2,FALSE)),\"\",VLOOKUP($H331,CARRPROT,2,FALSE))","v":""},null,null,null,null,"Presencial",null,0,0]
[{"$f":"IF(H332<>\"\",CONCATENATE(\"2\",MID(H332,2,9)),\"\")","v":""},null,null,null,null,{"$f":"IF(F331<>\"\",F331,\"\")","v":""},{"$f":"IF(G331<>\"\",G331,\"\")","v":""},{"$f":"IF(H331<>\"\",H331,\"\")","v":""},null,null,null,null,null,"Semipresencial",null,0,0]
[{"$f":"IF(H333<>\"\",CONCATENATE(\"3\",MID(H333,2,9)),\"\")","v":""},null,null,null,null,{"$f":"IF(F331<>\"\",F331,\"\")","v":""},{"$f":"IF(G331<>\"\",G331,\"\")","v":""},{"$f":"IF(H331<>\"\",H331,\"\")","v":""},null,null,null,null,null,"A distancia",null,0,0]
[{"$f":"IF(H334<>\"\",CONCATENATE(\"1\",MID(H334,2,9)),\"\")","v":""},{"$f":"CONCATENATE(F334,H334,LEFT(I334,5))","v":""},{"$f":"IF(AND(B334<>\"\",SUM(R334:AC336)=0),1,0)","v":0},{"$f":"IF(B334<>\"\",IF(OR(F334=\"\",H334=\"\",I334=\"\"),1,0),\"\")","v":""},null,null,"",null,{"$f":"IF(ISERROR(VLOOKUP($H334,CARRPROT,2,FALSE)),\"\",VLOOKUP($H334,CARRPROT,2,FALSE))","v":""},null,null,null,null,"Presencial",null,0,0]
[{"$f":"IF(H335<>\"\",CONCATENATE(\"2\",MID(H335,2,9)),\"\")","v":""},null,null,null,null,{"$f":"IF(F334<>\"\",F334,\"\")","v":""},{"$f":"IF(G334<>\"\",G334,\"\")","v":""},{"$f":"IF(H334<>\"\",H334,\"\")","v":""},null,null,null,null,null,"Semipresencial",null,0,0]
[{"$f":"IF(H336<>\"\",CONCATENATE(\"3\",MID(H336,2,9)),\"\")","v":""},null,null,null,null,{"$f":"IF(F334<>\"\",F334,\"\")","v":""},{"$f":"IF(G334<>\"\",G334,\"\")","v":""},{"$f":"IF(H334<>\"\",H334,\"\")","v":""},null,null,null,null,null,"A distancia",null,0,0]
[{"$f":"IF(H337<>\"\",CONCATENATE(\"1\",MID(H337,2,9)),\"\")","v":""},{"$f":"CONCATENATE(F337,H337,LEFT(I337,5))","v":""},{"$f":"IF(AND(B337<>\"\",SUM(R337:AC339)=0),1,0)","v":0},{"$f":"IF(B337<>\"\",IF(OR(F337=\"\",H337=\"\",I337=\"\"),1,0),\"\")","v":""},null,null,"",null,{"$f":"IF(ISERROR(VLOOKUP($H337,CARRPROT,2,FALSE)),\"\",VLOOKUP($H337,CARRPROT,2,FALSE))","v":""},null,null,null,null,"Presencial",null,0,0]
[{"$f":"IF(H338<>\"\",CONCATENATE(\"2\",MID(H338,2,9)),\"\")","v":""},null,null,null,null,{"$f":"IF(F337<>\"\",F337,\"\")","v":""},{"$f":"IF(G337<>\"\",G337,\"\")","v":""},{"$f":"IF(H337<>\"\",H337,\"\")","v":""},null,null,null,null,null,"Semipresencial",null,0,0]
[{"$f":"IF(H339<>\"\",CONCATENATE(\"3\",MID(H339,2,9)),\"\")","v":""},null,null,null,null,{"$f":"IF(F337<>\"\",F337,\"\")","v":""},{"$f":"IF(G337<>\"\",G337,\"\")","v":""},{"$f":"IF(H337<>\"\",H337,\"\")","v":""},null,null,null,null,null,"A distancia",null,0,0]
[{"$f":"IF(H340<>\"\",CONCATENATE(\"1\",MID(H340,2,9)),\"\")","v":""},{"$f":"CONCATENATE(F340,H340,LEFT(I340,5))","v":""},{"$f":"IF(AND(B340<>\"\",SUM(R340:AC342)=0),1,0)","v":0},{"$f":"IF(B340<>\"\",IF(OR(F340=\"\",H340=\"\",I340=\"\"),1,0),\"\")","v":""},null,null,"",null,{"$f":"IF(ISERROR(VLOOKUP($H340,CARRPROT,2,FALSE)),\"\",VLOOKUP($H340,CARRPROT,2,FALSE))","v":""},null,null,null,null,"Presencial",null,0,0]
[{"$f":"IF(H341<>\"\",CONCATENATE(\"2\",MID(H341,2,9)),\"\")","v":""},null,null,null,null,{"$f":"IF(F340<>\"\",F340,\"\")","v":""},{"$f":"IF(G340<>\"\",G340,\"\")","v":""},{"$f":"IF(H340<>\"\",H340,\"\")","v":""},null,null,null,null,null,"Semipresencial",null,0,0]
[{"$f":"IF(H342<>\"\",CONCATENATE(\"3\",MID(H342,2,9)),\"\")","v":""},null,null,null,null,{"$f":"IF(F340<>\"\",F340,\"\")","v":""},{"$f":"IF(G340<>\"\",G340,\"\")","v":""},{"$f":"IF(H340<>\"\",H340,\"\")","v":""},null,null,null,null,null,"A distancia",null,0,0]
[{"$f":"IF(H343<>\"\",CONCATENATE(\"1\",MID(H343,2,9)),\"\")","v":""},{"$f":"CONCATENATE(F343,H343,LEFT(I343,5))","v":""},{"$f":"IF(AND(B343<>\"\",SUM(R343:AC345)=0),1,0)","v":0},{"$f":"IF(B343<>\"\",IF(OR(F343=\"\",H343=\"\",I343=\"\"),1,0),\"\")","v":""},null,null,"",null,{"$f":"IF(ISERROR(VLOOKUP($H343,CARRPROT,2,FALSE)),\"\",VLOOKUP($H343,CARRPROT,2,FALSE))","v":""},null,null,null,null,"Presencial",null,0,0]
[{"$f":"IF(H344<>\"\",CONCATENATE(\"2\",MID(H344,2,9)),\"\")","v":""},null,null,null,null,{"$f":"IF(F343<>\"\",F343,\"\")","v":""},{"$f":"IF(G343<>\"\",G343,\"\")","v":""},{"$f":"IF(H343<>\"\",H343,\"\")","v":""},null,null,null,null,null,"Semipresencial",null,0,0]
[{"$f":"IF(H345<>\"\",CONCATENATE(\"3\",MID(H345,2,9)),\"\")","v":""},null,null,null,null,{"$f":"IF(F343<>\"\",F343,\"\")","v":""},{"$f":"IF(G343<>\"\",G343,\"\")","v":""},{"$f":"IF(H343<>\"\",H343,\"\")","v":""},null,null,null,null,null,"A distancia",null,0,0]
[{"$f":"IF(H346<>\"\",CONCATENATE(\"1\",MID(H346,2,9)),\"\")","v":""},{"$f":"CONCATENATE(F346,H346,LEFT(I346,5))","v":""},{"$f":"IF(AND(B346<>\"\",SUM(R346:AC348)=0),1,0)","v":0},{"$f":"IF(B346<>\"\",IF(OR(F346=\"\",H346=\"\",I346=\"\"),1,0),\"\")","v":""},null,null,"",null,{"$f":"IF(ISERROR(VLOOKUP($H346,CARRPROT,2,FALSE)),\"\",VLOOKUP($H346,CARRPROT,2,FALSE))","v":""},null,null,null,null,"Presencial",null,0,0]
[{"$f":"IF(H347<>\"\",CONCATENATE(\"2\",MID(H347,2,9)),\"\")","v":""},null,null,null,null,{"$f":"IF(F346<>\"\",F346,\"\")","v":""},{"$f":"IF(G346<>\"\",G346,\"\")","v":""},{"$f":"IF(H346<>\"\",H346,\"\")","v":""},null,null,null,null,null,"Semipresencial",null,0,0]
[{"$f":"IF(H348<>\"\",CONCATENATE(\"3\",MID(H348,2,9)),\"\")","v":""},null,null,null,null,{"$f":"IF(F346<>\"\",F346,\"\")","v":""},{"$f":"IF(G346<>\"\",G346,\"\")","v":""},{"$f":"IF(H346<>\"\",H346,\"\")","v":""},null,null,null,null,null,"A distancia",null,0,0]
[{"$f":"IF(H349<>\"\",CONCATENATE(\"1\",MID(H349,2,9)),\"\")","v":""},{"$f":"CONCATENATE(F349,H349,LEFT(I349,5))","v":""},{"$f":"IF(AND(B349<>\"\",SUM(R349:AC351)=0),1,0)","v":0},{"$f":"IF(B349<>\"\",IF(OR(F349=\"\",H349=\"\",I349=\"\"),1,0),\"\")","v":""},null,null,"",null,{"$f":"IF(ISERROR(VLOOKUP($H349,CARRPROT,2,FALSE)),\"\",VLOOKUP($H349,CARRPROT,2,FALSE))","v":""},null,null,null,null,"Presencial",null,0,0]
[{"$f":"IF(H350<>\"\",CONCATENATE(\"2\",MID(H350,2,9)),\"\")","v":""},null,null,null,null,{"$f":"IF(F349<>\"\",F349,\"\")","v":""},{"$f":"IF(G349<>\"\",G349,\"\")","v":""},{"$f":"IF(H349<>\"\",H349,\"\")","v":""},null,null,null,null,null,"Semipresencial",null,0,0]
[{"$f":"IF(H351<>\"\",CONCATENATE(\"3\",MID(H351,2,9)),\"\")","v":""},null,null,null,null,{"$f":"IF(F349<>\"\",F349,\"\")","v":""},{"$f":"IF(G349<>\"\",G349,\"\")","v":""},{"$f":"IF(H349<>\"\",H349,\"\")","v":""},null,null,null,null,null,"A distancia",null,0,0]
[{"$f":"IF(H352<>\"\",CONCATENATE(\"1\",MID(H352,2,9)),\"\")","v":""},{"$f":"CONCATENATE(F352,H352,LEFT(I352,5))","v":""},{"$f":"IF(AND(B352<>\"\",SUM(R352:AC354)=0),1,0)","v":0},{"$f":"IF(B352<>\"\",IF(OR(F352=\"\",H352=\"\",I352=\"\"),1,0),\"\")","v":""},null,null,"",null,{"$f":"IF(ISERROR(VLOOKUP($H352,CARRPROT,2,FALSE)),\"\",VLOOKUP($H352,CARRPROT,2,FALSE))","v":""},null,null,null,null,"Presencial",null,0,0]
[{"$f":"IF(H353<>\"\",CONCATENATE(\"2\",MID(H353,2,9)),\"\")","v":""},null,null,null,null,{"$f":"IF(F352<>\"\",F352,\"\")","v":""},{"$f":"IF(G352<>\"\",G352,\"\")","v":""},{"$f":"IF(H352<>\"\",H352,\"\")","v":""},null,null,null,null,null,"Semipresencial",null,0,0]
[{"$f":"IF(H354<>\"\",CONCATENATE(\"3\",MID(H354,2,9)),\"\")","v":""},null,null,null,null,{"$f":"IF(F352<>\"\",F352,\"\")","v":""},{"$f":"IF(G352<>\"\",G352,\"\")","v":""},{"$f":"IF(H352<>\"\",H352,\"\")","v":""},null,null,null,null,null,"A distancia",null,0,0]
[{"$f":"IF(H355<>\"\",CONCATENATE(\"1\",MID(H355,2,9)),\"\")","v":""},{"$f":"CONCATENATE(F355,H355,LEFT(I355,5))","v":""},{"$f":"IF(AND(B355<>\"\",SUM(R355:AC357)=0),1,0)","v":0},{"$f":"IF(B355<>\"\",IF(OR(F355=\"\",H355=\"\",I355=\"\"),1,0),\"\")","v":""},null,null,"",null,{"$f":"IF(ISERROR(VLOOKUP($H355,CARRPROT,2,FALSE)),\"\",VLOOKUP($H355,CARRPROT,2,FALSE))","v":""},null,null,null,null,"Presencial",null,0,0]
[{"$f":"IF(H356<>\"\",CONCATENATE(\"2\",MID(H356,2,9)),\"\")","v":""},null,null,null,null,{"$f":"IF(F355<>\"\",F355,\"\")","v":""},{"$f":"IF(G355<>\"\",G355,\"\")","v":""},{"$f":"IF(H355<>\"\",H355,\"\")","v":""},null,null,null,null,null,"Semipresencial",null,0,0]
[{"$f":"IF(H357<>\"\",CONCATENATE(\"3\",MID(H357,2,9)),\"\")","v":""},null,null,null,null,{"$f":"IF(F355<>\"\",F355,\"\")","v":""},{"$f":"IF(G355<>\"\",G355,\"\")","v":""},{"$f":"IF(H355<>\"\",H355,\"\")","v":""},null,null,null,null,null,"A distancia",null,0,0]
[{"$f":"IF(H358<>\"\",CONCATENATE(\"1\",MID(H358,2,9)),\"\")","v":""},{"$f":"CONCATENATE(F358,H358,LEFT(I358,5))","v":""},{"$f":"IF(AND(B358<>\"\",SUM(R358:AC360)=0),1,0)","v":0},{"$f":"IF(B358<>\"\",IF(OR(F358=\"\",H358=\"\",I358=\"\"),1,0),\"\")","v":""},null,null,"",null,{"$f":"IF(ISERROR(VLOOKUP($H358,CARRPROT,2,FALSE)),\"\",VLOOKUP($H358,CARRPROT,2,FALSE))","v":""},null,null,null,null,"Presencial",null,0,0]
[{"$f":"IF(H359<>\"\",CONCATENATE(\"2\",MID(H359,2,9)),\"\")","v":""},null,null,null,null,{"$f":"IF(F358<>\"\",F358,\"\")","v":""},{"$f":"IF(G358<>\"\",G358,\"\")","v":""},{"$f":"IF(H358<>\"\",H358,\"\")","v":""},null,null,null,null,null,"Semipresencial",null,0,0]
[{"$f":"IF(H360<>\"\",CONCATENATE(\"3\",MID(H360,2,9)),\"\")","v":""},null,null,null,null,{"$f":"IF(F358<>\"\",F358,\"\")","v":""},{"$f":"IF(G358<>\"\",G358,\"\")","v":""},{"$f":"IF(H358<>\"\",H358,\"\")","v":""},null,null,null,null,null,"A distancia",null,0,0]
[{"$f":"IF(H361<>\"\",CONCATENATE(\"1\",MID(H361,2,9)),\"\")","v":""},{"$f":"CONCATENATE(F361,H361,LEFT(I361,5))","v":""},{"$f":"IF(AND(B361<>\"\",SUM(R361:AC363)=0),1,0)","v":0},{"$f":"IF(B361<>\"\",IF(OR(F361=\"\",H361=\"\",I361=\"\"),1,0),\"\")","v":""},null,null,"",null,{"$f":"IF(ISERROR(VLOOKUP($H361,CARRPROT,2,FALSE)),\"\",VLOOKUP($H361,CARRPROT,2,FALSE))","v":""},null,null,null,null,"Presencial",null,0,0]
[{"$f":"IF(H362<>\"\",CONCATENATE(\"2\",MID(H362,2,9)),\"\")","v":""},null,null,null,null,{"$f":"IF(F361<>\"\",F361,\"\")","v":""},{"$f":"IF(G361<>\"\",G361,\"\")","v":""},{"$f":"IF(H361<>\"\",H361,\"\")","v":""},null,null,null,null,null,"Semipresencial",null,0,0]
[{"$f":"IF(H363<>\"\",CONCATENATE(\"3\",MID(H363,2,9)),\"\")","v":""},null,null,null,null,{"$f":"IF(F361<>\"\",F361,\"\")","v":""},{"$f":"IF(G361<>\"\",G361,\"\")","v":""},{"$f":"IF(H361<>\"\",H361,\"\")","v":""},null,null,null,null,null,"A distancia",null,0,0]
[{"$f":"IF(H364<>\"\",CONCATENATE(\"1\",MID(H364,2,9)),\"\")","v":""},{"$f":"CONCATENATE(F364,H364,LEFT(I364,5))","v":""},{"$f":"IF(AND(B364<>\"\",SUM(R364:AC366)=0),1,0)","v":0},{"$f":"IF(B364<>\"\",IF(OR(F364=\"\",H364=\"\",I364=\"\"),1,0),\"\")","v":""},null,null,"",null,{"$f":"IF(ISERROR(VLOOKUP($H364,CARRPROT,2,FALSE)),\"\",VLOOKUP($H364,CARRPROT,2,FALSE))","v":""},null,null,null,null,"Presencial",null,0,0]
[{"$f":"IF(H365<>\"\",CONCATENATE(\"2\",MID(H365,2,9)),\"\")","v":""},null,null,null,null,{"$f":"IF(F364<>\"\",F364,\"\")","v":""},{"$f":"IF(G364<>\"\",G364,\"\")","v":""},{"$f":"IF(H364<>\"\",H364,\"\")","v":""},null,null,null,null,null,"Semipresencial",null,0,0]
[{"$f":"IF(H366<>\"\",CONCATENATE(\"3\",MID(H366,2,9)),\"\")","v":""},null,null,null,null,{"$f":"IF(F364<>\"\",F364,\"\")","v":""},{"$f":"IF(G364<>\"\",G364,\"\")","v":""},{"$f":"IF(H364<>\"\",H364,\"\")","v":""},null,null,null,null,null,"A distancia",null,0,0]
[{"$f":"IF(H367<>\"\",CONCATENATE(\"1\",MID(H367,2,9)),\"\")","v":""},{"$f":"CONCATENATE(F367,H367,LEFT(I367,5))","v":""},{"$f":"IF(AND(B367<>\"\",SUM(R367:AC369)=0),1,0)","v":0},{"$f":"IF(B367<>\"\",IF(OR(F367=\"\",H367=\"\",I367=\"\"),1,0),\"\")","v":""},null,null,"",null,{"$f":"IF(ISERROR(VLOOKUP($H367,CARRPROT,2,FALSE)),\"\",VLOOKUP($H367,CARRPROT,2,FALSE))","v":""},null,null,null,null,"Presencial",null,0,0]
[{"$f":"IF(H368<>\"\",CONCATENATE(\"2\",MID(H368,2,9)),\"\")","v":""},null,null,null,null,{"$f":"IF(F367<>\"\",F367,\"\")","v":""},{"$f":"IF(G367<>\"\",G367,\"\")","v":""},{"$f":"IF(H367<>\"\",H367,\"\")","v":""},null,null,null,null,null,"Semipresencial",null,0,0]
[{"$f":"IF(H369<>\"\",CONCATENATE(\"3\",MID(H369,2,9)),\"\")","v":""},null,null,null,null,{"$f":"IF(F367<>\"\",F367,\"\")","v":""},{"$f":"IF(G367<>\"\",G367,\"\")","v":""},{"$f":"IF(H367<>\"\",H367,\"\")","v":""},null,null,null,null,null,"A distancia",null,0,0]
[{"$f":"IF(H370<>\"\",CONCATENATE(\"1\",MID(H370,2,9)),\"\")","v":""},{"$f":"CONCATENATE(F370,H370,LEFT(I370,5))","v":""},{"$f":"IF(AND(B370<>\"\",SUM(R370:AC372)=0),1,0)","v":0},{"$f":"IF(B370<>\"\",IF(OR(F370=\"\",H370=\"\",I370=\"\"),1,0),\"\")","v":""},null,null,"",null,{"$f":"IF(ISERROR(VLOOKUP($H370,CARRPROT,2,FALSE)),\"\",VLOOKUP($H370,CARRPROT,2,FALSE))","v":""},null,null,null,null,"Presencial",null,0,0]
[{"$f":"IF(H371<>\"\",CONCATENATE(\"2\",MID(H371,2,9)),\"\")","v":""},null,null,null,null,{"$f":"IF(F370<>\"\",F370,\"\")","v":""},{"$f":"IF(G370<>\"\",G370,\"\")","v":""},{"$f":"IF(H370<>\"\",H370,\"\")","v":""},null,null,null,null,null,"Semipresencial",null,0,0]
[{"$f":"IF(H372<>\"\",CONCATENATE(\"3\",MID(H372,2,9)),\"\")","v":""},null,null,null,null,{"$f":"IF(F370<>\"\",F370,\"\")","v":""},{"$f":"IF(G370<>\"\",G370,\"\")","v":""},{"$f":"IF(H370<>\"\",H370,\"\")","v":""},null,null,null,null,null,"A distancia",null,0,0]
[{"$f":"IF(H373<>\"\",CONCATENATE(\"1\",MID(H373,2,9)),\"\")","v":""},{"$f":"CONCATENATE(F373,H373,LEFT(I373,5))","v":""},{"$f":"IF(AND(B373<>\"\",SUM(R373:AC375)=0),1,0)","v":0},{"$f":"IF(B373<>\"\",IF(OR(F373=\"\",H373=\"\",I373=\"\"),1,0),\"\")","v":""},null,null,"",null,{"$f":"IF(ISERROR(VLOOKUP($H373,CARRPROT,2,FALSE)),\"\",VLOOKUP($H373,CARRPROT,2,FALSE))","v":""},null,null,null,null,"Presencial",null,0,0]
[{"$f":"IF(H374<>\"\",CONCATENATE(\"2\",MID(H374,2,9)),\"\")","v":""},null,null,null,null,{"$f":"IF(F373<>\"\",F373,\"\")","v":""},{"$f":"IF(G373<>\"\",G373,\"\")","v":""},{"$f":"IF(H373<>\"\",H373,\"\")","v":""},null,null,null,null,null,"Semipresencial",null,0,0]
[{"$f":"IF(H375<>\"\",CONCATENATE(\"3\",MID(H375,2,9)),\"\")","v":""},null,null,null,null,{"$f":"IF(F373<>\"\",F373,\"\")","v":""},{"$f":"IF(G373<>\"\",G373,\"\")","v":""},{"$f":"IF(H373<>\"\",H373,\"\")","v":""},null,null,null,null,null,"A distancia",null,0,0]
[{"$f":"IF(H376<>\"\",CONCATENATE(\"1\",MID(H376,2,9)),\"\")","v":""},{"$f":"CONCATENATE(F376,H376,LEFT(I376,5))","v":""},{"$f":"IF(AND(B376<>\"\",SUM(R376:AC378)=0),1,0)","v":0},{"$f":"IF(B376<>\"\",IF(OR(F376=\"\",H376=\"\",I376=\"\"),1,0),\"\")","v":""},null,null,"",null,{"$f":"IF(ISERROR(VLOOKUP($H376,CARRPROT,2,FALSE)),\"\",VLOOKUP($H376,CARRPROT,2,FALSE))","v":""},null,null,null,null,"Presencial",null,0,0]
[{"$f":"IF(H377<>\"\",CONCATENATE(\"2\",MID(H377,2,9)),\"\")","v":""},null,null,null,null,{"$f":"IF(F376<>\"\",F376,\"\")","v":""},{"$f":"IF(G376<>\"\",G376,\"\")","v":""},{"$f":"IF(H376<>\"\",H376,\"\")","v":""},null,null,null,null,null,"Semipresencial",null,0,0]
[{"$f":"IF(H378<>\"\",CONCATENATE(\"3\",MID(H378,2,9)),\"\")","v":""},null,null,null,null,{"$f":"IF(F376<>\"\",F376,\"\")","v":""},{"$f":"IF(G376<>\"\",G376,\"\")","v":""},{"$f":"IF(H376<>\"\",H376,\"\")","v":""},null,null,null,null,null,"A distancia",null,0,0]
[{"$f":"IF(H379<>\"\",CONCATENATE(\"1\",MID(H379,2,9)),\"\")","v":""},{"$f":"CONCATENATE(F379,H379,LEFT(I379,5))","v":""},{"$f":"IF(AND(B379<>\"\",SUM(R379:AC381)=0),1,0)","v":0},{"$f":"IF(B379<>\"\",IF(OR(F379=\"\",H379=\"\",I379=\"\"),1,0),\"\")","v":""},null,null,"",null,{"$f":"IF(ISERROR(VLOOKUP($H379,CARRPROT,2,FALSE)),\"\",VLOOKUP($H379,CARRPROT,2,FALSE))","v":""},null,null,null,null,"Presencial",null,0,0]
[{"$f":"IF(H380<>\"\",CONCATENATE(\"2\",MID(H380,2,9)),\"\")","v":""},null,null,null,null,{"$f":"IF(F379<>\"\",F379,\"\")","v":""},{"$f":"IF(G379<>\"\",G379,\"\")","v":""},{"$f":"IF(H379<>\"\",H379,\"\")","v":""},null,null,null,null,null,"Semipresencial",null,0,0]
[{"$f":"IF(H381<>\"\",CONCATENATE(\"3\",MID(H381,2,9)),\"\")","v":""},null,null,null,null,{"$f":"IF(F379<>\"\",F379,\"\")","v":""},{"$f":"IF(G379<>\"\",G379,\"\")","v":""},{"$f":"IF(H379<>\"\",H379,\"\")","v":""},null,null,null,null,null,"A distancia",null,0,0]
[{"$f":"IF(H382<>\"\",CONCATENATE(\"1\",MID(H382,2,9)),\"\")","v":""},{"$f":"CONCATENATE(F382,H382,LEFT(I382,5))","v":""},{"$f":"IF(AND(B382<>\"\",SUM(R382:AC384)=0),1,0)","v":0},{"$f":"IF(B382<>\"\",IF(OR(F382=\"\",H382=\"\",I382=\"\"),1,0),\"\")","v":""},null,null,"",null,{"$f":"IF(ISERROR(VLOOKUP($H382,CARRPROT,2,FALSE)),\"\",VLOOKUP($H382,CARRPROT,2,FALSE))","v":""},null,null,null,null,"Presencial",null,0,0]
[{"$f":"IF(H383<>\"\",CONCATENATE(\"2\",MID(H383,2,9)),\"\")","v":""},null,null,null,null,{"$f":"IF(F382<>\"\",F382,\"\")","v":""},{"$f":"IF(G382<>\"\",G382,\"\")","v":""},{"$f":"IF(H382<>\"\",H382,\"\")","v":""},null,null,null,null,null,"Semipresencial",null,0,0]
[{"$f":"IF(H384<>\"\",CONCATENATE(\"3\",MID(H384,2,9)),\"\")","v":""},null,null,null,null,{"$f":"IF(F382<>\"\",F382,\"\")","v":""},{"$f":"IF(G382<>\"\",G382,\"\")","v":""},{"$f":"IF(H382<>\"\",H382,\"\")","v":""},null,null,null,null,null,"A distancia",null,0,0]
[{"$f":"IF(H385<>\"\",CONCATENATE(\"1\",MID(H385,2,9)),\"\")","v":""},{"$f":"CONCATENATE(F385,H385,LEFT(I385,5))","v":""},{"$f":"IF(AND(B385<>\"\",SUM(R385:AC387)=0),1,0)","v":0},{"$f":"IF(B385<>\"\",IF(OR(F385=\"\",H385=\"\",I385=\"\"),1,0),\"\")","v":""},null,null,"",null,{"$f":"IF(ISERROR(VLOOKUP($H385,CARRPROT,2,FALSE)),\"\",VLOOKUP($H385,CARRPROT,2,FALSE))","v":""},null,null,null,null,"Presencial",null,0,0]
[{"$f":"IF(H386<>\"\",CONCATENATE(\"2\",MID(H386,2,9)),\"\")","v":""},null,null,null,null,{"$f":"IF(F385<>\"\",F385,\"\")","v":""},{"$f":"IF(G385<>\"\",G385,\"\")","v":""},{"$f":"IF(H385<>\"\",H385,\"\")","v":""},null,null,null,null,null,"Semipresencial",null,0,0]
[{"$f":"IF(H387<>\"\",CONCATENATE(\"3\",MID(H387,2,9)),\"\")","v":""},null,null,null,null,{"$f":"IF(F385<>\"\",F385,\"\")","v":""},{"$f":"IF(G385<>\"\",G385,\"\")","v":""},{"$f":"IF(H385<>\"\",H385,\"\")","v":""},null,null,null,null,null,"A distancia",null,0,0]
[{"$f":"IF(H388<>\"\",CONCATENATE(\"1\",MID(H388,2,9)),\"\")","v":""},{"$f":"CONCATENATE(F388,H388,LEFT(I388,5))","v":""},{"$f":"IF(AND(B388<>\"\",SUM(R388:AC390)=0),1,0)","v":0},{"$f":"IF(B388<>\"\",IF(OR(F388=\"\",H388=\"\",I388=\"\"),1,0),\"\")","v":""},null,null,"",null,{"$f":"IF(ISERROR(VLOOKUP($H388,CARRPROT,2,FALSE)),\"\",VLOOKUP($H388,CARRPROT,2,FALSE))","v":""},null,null,null,null,"Presencial",null,0,0]
[{"$f":"IF(H389<>\"\",CONCATENATE(\"2\",MID(H389,2,9)),\"\")","v":""},null,null,null,null,{"$f":"IF(F388<>\"\",F388,\"\")","v":""},{"$f":"IF(G388<>\"\",G388,\"\")","v":""},{"$f":"IF(H388<>\"\",H388,\"\")","v":""},null,null,null,null,null,"Semipresencial",null,0,0]
[{"$f":"IF(H390<>\"\",CONCATENATE(\"3\",MID(H390,2,9)),\"\")","v":""},null,null,null,null,{"$f":"IF(F388<>\"\",F388,\"\")","v":""},{"$f":"IF(G388<>\"\",G388,\"\")","v":""},{"$f":"IF(H388<>\"\",H388,\"\")","v":""},null,null,null,null,null,"A distancia",null,0,0]
[{"$f":"IF(H391<>\"\",CONCATENATE(\"1\",MID(H391,2,9)),\"\")","v":""},{"$f":"CONCATENATE(F391,H391,LEFT(I391,5))","v":""},{"$f":"IF(AND(B391<>\"\",SUM(R391:AC393)=0),1,0)","v":0},{"$f":"IF(B391<>\"\",IF(OR(F391=\"\",H391=\"\",I391=\"\"),1,0),\"\")","v":""},null,null,"",null,{"$f":"IF(ISERROR(VLOOKUP($H391,CARRPROT,2,FALSE)),\"\",VLOOKUP($H391,CARRPROT,2,FALSE))","v":""},null,null,null,null,"Presencial",null,0,0]
[{"$f":"IF(H392<>\"\",CONCATENATE(\"2\",MID(H392,2,9)),\"\")","v":""},null,null,null,null,{"$f":"IF(F391<>\"\",F391,\"\")","v":""},{"$f":"IF(G391<>\"\",G391,\"\")","v":""},{"$f":"IF(H391<>\"\",H391,\"\")","v":""},null,null,null,null,null,"Semipresencial",null,0,0]
[{"$f":"IF(H393<>\"\",CONCATENATE(\"3\",MID(H393,2,9)),\"\")","v":""},null,null,null,null,{"$f":"IF(F391<>\"\",F391,\"\")","v":""},{"$f":"IF(G391<>\"\",G391,\"\")","v":""},{"$f":"IF(H391<>\"\",H391,\"\")","v":""},null,null,null,null,null,"A distancia",null,0,0]
[{"$f":"IF(H394<>\"\",CONCATENATE(\"1\",MID(H394,2,9)),\"\")","v":""},{"$f":"CONCATENATE(F394,H394,LEFT(I394,5))","v":""},{"$f":"IF(AND(B394<>\"\",SUM(R394:AC396)=0),1,0)","v":0},{"$f":"IF(B394<>\"\",IF(OR(F394=\"\",H394=\"\",I394=\"\"),1,0),\"\")","v":""},null,null,"",null,{"$f":"IF(ISERROR(VLOOKUP($H394,CARRPROT,2,FALSE)),\"\",VLOOKUP($H394,CARRPROT,2,FALSE))","v":""},null,null,null,null,"Presencial",null,0,0]
[{"$f":"IF(H395<>\"\",CONCATENATE(\"2\",MID(H395,2,9)),\"\")","v":""},null,null,null,null,{"$f":"IF(F394<>\"\",F394,\"\")","v":""},{"$f":"IF(G394<>\"\",G394,\"\")","v":""},{"$f":"IF(H394<>\"\",H394,\"\")","v":""},null,null,null,null,null,"Semipresencial",null,0,0]
[{"$f":"IF(H396<>\"\",CONCATENATE(\"3\",MID(H396,2,9)),\"\")","v":""},null,null,null,null,{"$f":"IF(F394<>\"\",F394,\"\")","v":""},{"$f":"IF(G394<>\"\",G394,\"\")","v":""},{"$f":"IF(H394<>\"\",H394,\"\")","v":""},null,null,null,null,null,"A distancia",null,0,0]
[{"$f":"IF(H397<>\"\",CONCATENATE(\"1\",MID(H397,2,9)),\"\")","v":""},{"$f":"CONCATENATE(F397,H397,LEFT(I397,5))","v":""},{"$f":"IF(AND(B397<>\"\",SUM(R397:AC399)=0),1,0)","v":0},{"$f":"IF(B397<>\"\",IF(OR(F397=\"\",H397=\"\",I397=\"\"),1,0),\"\")","v":""},null,null,"",null,{"$f":"IF(ISERROR(VLOOKUP($H397,CARRPROT,2,FALSE)),\"\",VLOOKUP($H397,CARRPROT,2,FALSE))","v":""},null,null,null,null,"Presencial",null,0,0]
[{"$f":"IF(H398<>\"\",CONCATENATE(\"2\",MID(H398,2,9)),\"\")","v":""},null,null,null,null,{"$f":"IF(F397<>\"\",F397,\"\")","v":""},{"$f":"IF(G397<>\"\",G397,\"\")","v":""},{"$f":"IF(H397<>\"\",H397,\"\")","v":""},null,null,null,null,null,"Semipresencial",null,0,0]
[{"$f":"IF(H399<>\"\",CONCATENATE(\"3\",MID(H399,2,9)),\"\")","v":""},null,null,null,null,{"$f":"IF(F397<>\"\",F397,\"\")","v":""},{"$f":"IF(G397<>\"\",G397,\"\")","v":""},{"$f":"IF(H397<>\"\",H397,\"\")","v":""},null,null,null,null,null,"A distancia",null,0,0]
[{"$f":"IF(H400<>\"\",CONCATENATE(\"1\",MID(H400,2,9)),\"\")","v":""},{"$f":"CONCATENATE(F400,H400,LEFT(I400,5))","v":""},{"$f":"IF(AND(B400<>\"\",SUM(R400:AC402)=0),1,0)","v":0},{"$f":"IF(B400<>\"\",IF(OR(F400=\"\",H400=\"\",I400=\"\"),1,0),\"\")","v":""},null,null,"",null,{"$f":"IF(ISERROR(VLOOKUP($H400,CARRPROT,2,FALSE)),\"\",VLOOKUP($H400,CARRPROT,2,FALSE))","v":""},null,null,null,null,"Presencial",null,0,0]
[{"$f":"IF(H401<>\"\",CONCATENATE(\"2\",MID(H401,2,9)),\"\")","v":""},null,null,null,null,{"$f":"IF(F400<>\"\",F400,\"\")","v":""},{"$f":"IF(G400<>\"\",G400,\"\")","v":""},{"$f":"IF(H400<>\"\",H400,\"\")","v":""},null,null,null,null,null,"Semipresencial",null,{"$f":"R401+T401+V401+X401+Z401+AB401","v":0},{"$f":"S401+U401+W401+Y401+AA401+AC401","v":0}]
[{"$f":"IF(H402<>\"\",CONCATENATE(\"3\",MID(H402,2,9)),\"\")","v":""},null,null,null,null,{"$f":"IF(F400<>\"\",F400,\"\")","v":""},{"$f":"IF(G400<>\"\",G400,\"\")","v":""},{"$f":"IF(H400<>\"\",H400,\"\")","v":""},null,null,null,null,null,"A distancia",null,0,0]
[{"$f":"IF(H403<>\"\",CONCATENATE(\"1\",MID(H403,2,9)),\"\")","v":""},{"$f":"CONCATENATE(F403,H403,LEFT(I403,5))","v":""},{"$f":"IF(AND(B403<>\"\",SUM(R403:AC405)=0),1,0)","v":0},{"$f":"IF(B403<>\"\",IF(OR(F403=\"\",H403=\"\",I403=\"\"),1,0),\"\")","v":""},null,null,"",null,{"$f":"IF(ISERROR(VLOOKUP($H403,CARRPROT,2,FALSE)),\"\",VLOOKUP($H403,CARRPROT,2,FALSE))","v":""},null,null,null,null,"Presencial",null,{"$f":"R403+T403+V403+X403+Z403+AB403","v":0},{"$f":"S403+U403+W403+Y403+AA403+AC403","v":0}]
[{"$f":"IF(H404<>\"\",CONCATENATE(\"2\",MID(H404,2,9)),\"\")","v":""},null,null,null,null,{"$f":"IF(F403<>\"\",F403,\"\")","v":""},{"$f":"IF(G403<>\"\",G403,\"\")","v":""},{"$f":"IF(H403<>\"\",H403,\"\")","v":""},null,null,null,null,null,"Semipresencial",null,0,0]
[{"$f":"IF(H405<>\"\",CONCATENATE(\"3\",MID(H405,2,9)),\"\")","v":""},null,null,null,null,{"$f":"IF(F403<>\"\",F403,\"\")","v":""},{"$f":"IF(G403<>\"\",G403,\"\")","v":""},{"$f":"IF(H403<>\"\",H403,\"\")","v":""},null,null,null,null,null,"A distancia",null,0,0]
[{"$f":"IF(H406<>\"\",CONCATENATE(\"1\",MID(H406,2,9)),\"\")","v":""},{"$f":"CONCATENATE(F406,H406,LEFT(I406,5))","v":""},{"$f":"IF(AND(B406<>\"\",SUM(R406:AC408)=0),1,0)","v":0},{"$f":"IF(B406<>\"\",IF(OR(F406=\"\",H406=\"\",I406=\"\"),1,0),\"\")","v":""},null,null,"",null,{"$f":"IF(ISERROR(VLOOKUP($H406,CARRPROT,2,FALSE)),\"\",VLOOKUP($H406,CARRPROT,2,FALSE))","v":""},null,null,null,null,"Presencial",null,0,0]
[{"$f":"IF(H407<>\"\",CONCATENATE(\"2\",MID(H407,2,9)),\"\")","v":""},null,null,null,null,{"$f":"IF(F406<>\"\",F406,\"\")","v":""},{"$f":"IF(G406<>\"\",G406,\"\")","v":""},{"$f":"IF(H406<>\"\",H406,\"\")","v":""},null,null,null,null,null,"Semipresencial",null,0,0]
[{"$f":"IF(H408<>\"\",CONCATENATE(\"3\",MID(H408,2,9)),\"\")","v":""},null,null,null,null,{"$f":"IF(F406<>\"\",F406,\"\")","v":""},{"$f":"IF(G406<>\"\",G406,\"\")","v":""},{"$f":"IF(H406<>\"\",H406,\"\")","v":""},null,null,null,null,null,"A distancia",null,0,0]
[{"$f":"IF(H409<>\"\",CONCATENATE(\"1\",MID(H409,2,9)),\"\")","v":""},{"$f":"CONCATENATE(F409,H409,LEFT(I409,5))","v":""},{"$f":"IF(AND(B409<>\"\",SUM(R409:AC411)=0),1,0)","v":0},{"$f":"IF(B409<>\"\",IF(OR(F409=\"\",H409=\"\",I409=\"\"),1,0),\"\")","v":""},null,null,"",null,{"$f":"IF(ISERROR(VLOOKUP($H409,CARRPROT,2,FALSE)),\"\",VLOOKUP($H409,CARRPROT,2,FALSE))","v":""},null,null,null,null,"Presencial",null,0,0]
[{"$f":"IF(H410<>\"\",CONCATENATE(\"2\",MID(H410,2,9)),\"\")","v":""},null,null,null,null,{"$f":"IF(F409<>\"\",F409,\"\")","v":""},{"$f":"IF(G409<>\"\",G409,\"\")","v":""},{"$f":"IF(H409<>\"\",H409,\"\")","v":""},null,null,null,null,null,"Semipresencial",null,0,0]
[{"$f":"IF(H411<>\"\",CONCATENATE(\"3\",MID(H411,2,9)),\"\")","v":""},null,null,null,null,{"$f":"IF(F409<>\"\",F409,\"\")","v":""},{"$f":"IF(G409<>\"\",G409,\"\")","v":""},{"$f":"IF(H409<>\"\",H409,\"\")","v":""},null,null,null,null,null,"A distancia",null,0,0]
[{"$f":"IF(H412<>\"\",CONCATENATE(\"1\",MID(H412,2,9)),\"\")","v":""},{"$f":"CONCATENATE(F412,H412,LEFT(I412,5))","v":""},{"$f":"IF(AND(B412<>\"\",SUM(R412:AC414)=0),1,0)","v":0},{"$f":"IF(B412<>\"\",IF(OR(F412=\"\",H412=\"\",I412=\"\"),1,0),\"\")","v":""},null,null,"",null,{"$f":"IF(ISERROR(VLOOKUP($H412,CARRPROT,2,FALSE)),\"\",VLOOKUP($H412,CARRPROT,2,FALSE))","v":""},null,null,null,null,"Presencial",null,0,0]
[{"$f":"IF(H413<>\"\",CONCATENATE(\"2\",MID(H413,2,9)),\"\")","v":""},null,null,null,null,{"$f":"IF(F412<>\"\",F412,\"\")","v":""},{"$f":"IF(G412<>\"\",G412,\"\")","v":""},{"$f":"IF(H412<>\"\",H412,\"\")","v":""},null,null,null,null,null,"Semipresencial",null,0,0]
[{"$f":"IF(H414<>\"\",CONCATENATE(\"3\",MID(H414,2,9)),\"\")","v":""},null,null,null,null,{"$f":"IF(F412<>\"\",F412,\"\")","v":""},{"$f":"IF(G412<>\"\",G412,\"\")","v":""},{"$f":"IF(H412<>\"\",H412,\"\")","v":""},null,null,null,null,null,"A distancia",null,0,0]
[{"$f":"IF(H415<>\"\",CONCATENATE(\"1\",MID(H415,2,9)),\"\")","v":""},{"$f":"CONCATENATE(F415,H415,LEFT(I415,5))","v":""},{"$f":"IF(AND(B415<>\"\",SUM(R415:AC417)=0),1,0)","v":0},{"$f":"IF(B415<>\"\",IF(OR(F415=\"\",H415=\"\",I415=\"\"),1,0),\"\")","v":""},null,null,"",null,{"$f":"IF(ISERROR(VLOOKUP($H415,CARRPROT,2,FALSE)),\"\",VLOOKUP($H415,CARRPROT,2,FALSE))","v":""},null,null,null,null,"Presencial",null,0,0]
[{"$f":"IF(H416<>\"\",CONCATENATE(\"2\",MID(H416,2,9)),\"\")","v":""},null,null,null,null,{"$f":"IF(F415<>\"\",F415,\"\")","v":""},{"$f":"IF(G415<>\"\",G415,\"\")","v":""},{"$f":"IF(H415<>\"\",H415,\"\")","v":""},null,null,null,null,null,"Semipresencial",null,0,0]
[{"$f":"IF(H417<>\"\",CONCATENATE(\"3\",MID(H417,2,9)),\"\")","v":""},null,null,null,null,{"$f":"IF(F415<>\"\",F415,\"\")","v":""},{"$f":"IF(G415<>\"\",G415,\"\")","v":""},{"$f":"IF(H415<>\"\",H415,\"\")","v":""},null,null,null,null,null,"A distancia",null,0,0]
[{"$f":"IF(H418<>\"\",CONCATENATE(\"1\",MID(H418,2,9)),\"\")","v":""},{"$f":"CONCATENATE(F418,H418,LEFT(I418,5))","v":""},{"$f":"IF(AND(B418<>\"\",SUM(R418:AC420)=0),1,0)","v":0},{"$f":"IF(B418<>\"\",IF(OR(F418=\"\",H418=\"\",I418=\"\"),1,0),\"\")","v":""},null,null,"",null,{"$f":"IF(ISERROR(VLOOKUP($H418,CARRPROT,2,FALSE)),\"\",VLOOKUP($H418,CARRPROT,2,FALSE))","v":""},null,null,null,null,"Presencial",null,0,0]
[{"$f":"IF(H419<>\"\",CONCATENATE(\"2\",MID(H419,2,9)),\"\")","v":""},null,null,null,null,{"$f":"IF(F418<>\"\",F418,\"\")","v":""},{"$f":"IF(G418<>\"\",G418,\"\")","v":""},{"$f":"IF(H418<>\"\",H418,\"\")","v":""},null,null,null,null,null,"Semipresencial",null,0,0]
[{"$f":"IF(H420<>\"\",CONCATENATE(\"3\",MID(H420,2,9)),\"\")","v":""},null,null,null,null,{"$f":"IF(F418<>\"\",F418,\"\")","v":""},{"$f":"IF(G418<>\"\",G418,\"\")","v":""},{"$f":"IF(H418<>\"\",H418,\"\")","v":""},null,null,null,null,null,"A distancia",null,0,0]
[{"$f":"IF(H421<>\"\",CONCATENATE(\"1\",MID(H421,2,9)),\"\")","v":""},{"$f":"CONCATENATE(F421,H421,LEFT(I421,5))","v":""},{"$f":"IF(AND(B421<>\"\",SUM(R421:AC423)=0),1,0)","v":0},{"$f":"IF(B421<>\"\",IF(OR(F421=\"\",H421=\"\",I421=\"\"),1,0),\"\")","v":""},null,null,"",null,{"$f":"IF(ISERROR(VLOOKUP($H421,CARRPROT,2,FALSE)),\"\",VLOOKUP($H421,CARRPROT,2,FALSE))","v":""},null,null,null,null,"Presencial",null,0,0]
[{"$f":"IF(H422<>\"\",CONCATENATE(\"2\",MID(H422,2,9)),\"\")","v":""},null,null,null,null,{"$f":"IF(F421<>\"\",F421,\"\")","v":""},{"$f":"IF(G421<>\"\",G421,\"\")","v":""},{"$f":"IF(H421<>\"\",H421,\"\")","v":""},null,null,null,null,null,"Semipresencial",null,0,0]
[{"$f":"IF(H423<>\"\",CONCATENATE(\"3\",MID(H423,2,9)),\"\")","v":""},null,null,null,null,{"$f":"IF(F421<>\"\",F421,\"\")","v":""},{"$f":"IF(G421<>\"\",G421,\"\")","v":""},{"$f":"IF(H421<>\"\",H421,\"\")","v":""},null,null,null,null,null,"A distancia",null,0,0]
[{"$f":"IF(H424<>\"\",CONCATENATE(\"1\",MID(H424,2,9)),\"\")","v":""},{"$f":"CONCATENATE(F424,H424,LEFT(I424,5))","v":""},{"$f":"IF(AND(B424<>\"\",SUM(R424:AC426)=0),1,0)","v":0},{"$f":"IF(B424<>\"\",IF(OR(F424=\"\",H424=\"\",I424=\"\"),1,0),\"\")","v":""},null,null,"",null,{"$f":"IF(ISERROR(VLOOKUP($H424,CARRPROT,2,FALSE)),\"\",VLOOKUP($H424,CARRPROT,2,FALSE))","v":""},null,null,null,null,"Presencial",null,0,0]
[{"$f":"IF(H425<>\"\",CONCATENATE(\"2\",MID(H425,2,9)),\"\")","v":""},null,null,null,null,{"$f":"IF(F424<>\"\",F424,\"\")","v":""},{"$f":"IF(G424<>\"\",G424,\"\")","v":""},{"$f":"IF(H424<>\"\",H424,\"\")","v":""},null,null,null,null,null,"Semipresencial",null,0,0]
[{"$f":"IF(H426<>\"\",CONCATENATE(\"3\",MID(H426,2,9)),\"\")","v":""},null,null,null,null,{"$f":"IF(F424<>\"\",F424,\"\")","v":""},{"$f":"IF(G424<>\"\",G424,\"\")","v":""},{"$f":"IF(H424<>\"\",H424,\"\")","v":""},null,null,null,null,null,"A distancia",null,0,0]
[{"$f":"IF(H427<>\"\",CONCATENATE(\"1\",MID(H427,2,9)),\"\")","v":""},{"$f":"CONCATENATE(F427,H427,LEFT(I427,5))","v":""},{"$f":"IF(AND(B427<>\"\",SUM(R427:AC429)=0),1,0)","v":0},{"$f":"IF(B427<>\"\",IF(OR(F427=\"\",H427=\"\",I427=\"\"),1,0),\"\")","v":""},null,null,"",null,{"$f":"IF(ISERROR(VLOOKUP($H427,CARRPROT,2,FALSE)),\"\",VLOOKUP($H427,CARRPROT,2,FALSE))","v":""},null,null,null,null,"Presencial",null,0,0]
[{"$f":"IF(H428<>\"\",CONCATENATE(\"2\",MID(H428,2,9)),\"\")","v":""},null,null,null,null,{"$f":"IF(F427<>\"\",F427,\"\")","v":""},{"$f":"IF(G427<>\"\",G427,\"\")","v":""},{"$f":"IF(H427<>\"\",H427,\"\")","v":""},null,null,null,null,null,"Semipresencial",null,0,0]
[{"$f":"IF(H429<>\"\",CONCATENATE(\"3\",MID(H429,2,9)),\"\")","v":""},null,null,null,null,{"$f":"IF(F427<>\"\",F427,\"\")","v":""},{"$f":"IF(G427<>\"\",G427,\"\")","v":""},{"$f":"IF(H427<>\"\",H427,\"\")","v":""},null,null,null,null,null,"A distancia",null,0,0]
[{"$f":"IF(H430<>\"\",CONCATENATE(\"1\",MID(H430,2,9)),\"\")","v":""},{"$f":"CONCATENATE(F430,H430,LEFT(I430,5))","v":""},{"$f":"IF(AND(B430<>\"\",SUM(R430:AC432)=0),1,0)","v":0},{"$f":"IF(B430<>\"\",IF(OR(F430=\"\",H430=\"\",I430=\"\"),1,0),\"\")","v":""},null,null,"",null,{"$f":"IF(ISERROR(VLOOKUP($H430,CARRPROT,2,FALSE)),\"\",VLOOKUP($H430,CARRPROT,2,FALSE))","v":""},null,null,null,null,"Presencial",null,0,0]
[{"$f":"IF(H431<>\"\",CONCATENATE(\"2\",MID(H431,2,9)),\"\")","v":""},null,null,null,null,{"$f":"IF(F430<>\"\",F430,\"\")","v":""},{"$f":"IF(G430<>\"\",G430,\"\")","v":""},{"$f":"IF(H430<>\"\",H430,\"\")","v":""},null,null,null,null,null,"Semipresencial",null,0,0]
[{"$f":"IF(H432<>\"\",CONCATENATE(\"3\",MID(H432,2,9)),\"\")","v":""},null,null,null,null,{"$f":"IF(F430<>\"\",F430,\"\")","v":""},{"$f":"IF(G430<>\"\",G430,\"\")","v":""},{"$f":"IF(H430<>\"\",H430,\"\")","v":""},null,null,null,null,null,"A distancia",null,0,0]
[{"$f":"IF(H433<>\"\",CONCATENATE(\"1\",MID(H433,2,9)),\"\")","v":""},{"$f":"CONCATENATE(F433,H433,LEFT(I433,5))","v":""},{"$f":"IF(AND(B433<>\"\",SUM(R433:AC435)=0),1,0)","v":0},{"$f":"IF(B433<>\"\",IF(OR(F433=\"\",H433=\"\",I433=\"\"),1,0),\"\")","v":""},null,null,"",null,{"$f":"IF(ISERROR(VLOOKUP($H433,CARRPROT,2,FALSE)),\"\",VLOOKUP($H433,CARRPROT,2,FALSE))","v":""},null,null,null,null,"Presencial",null,0,0]
[{"$f":"IF(H434<>\"\",CONCATENATE(\"2\",MID(H434,2,9)),\"\")","v":""},null,null,null,null,{"$f":"IF(F433<>\"\",F433,\"\")","v":""},{"$f":"IF(G433<>\"\",G433,\"\")","v":""},{"$f":"IF(H433<>\"\",H433,\"\")","v":""},null,null,null,null,null,"Semipresencial",null,0,0]
[{"$f":"IF(H435<>\"\",CONCATENATE(\"3\",MID(H435,2,9)),\"\")","v":""},null,null,null,null,{"$f":"IF(F433<>\"\",F433,\"\")","v":""},{"$f":"IF(G433<>\"\",G433,\"\")","v":""},{"$f":"IF(H433<>\"\",H433,\"\")","v":""},null,null,null,null,null,"A distancia",null,0,0]
[{"$f":"IF(H436<>\"\",CONCATENATE(\"1\",MID(H436,2,9)),\"\")","v":""},{"$f":"CONCATENATE(F436,H436,LEFT(I436,5))","v":""},{"$f":"IF(AND(B436<>\"\",SUM(R436:AC438)=0),1,0)","v":0},{"$f":"IF(B436<>\"\",IF(OR(F436=\"\",H436=\"\",I436=\"\"),1,0),\"\")","v":""},null,null,"",null,{"$f":"IF(ISERROR(VLOOKUP($H436,CARRPROT,2,FALSE)),\"\",VLOOKUP($H436,CARRPROT,2,FALSE))","v":""},null,null,null,null,"Presencial",null,0,0]
[{"$f":"IF(H437<>\"\",CONCATENATE(\"2\",MID(H437,2,9)),\"\")","v":""},null,null,null,null,{"$f":"IF(F436<>\"\",F436,\"\")","v":""},{"$f":"IF(G436<>\"\",G436,\"\")","v":""},{"$f":"IF(H436<>\"\",H436,\"\")","v":""},null,null,null,null,null,"Semipresencial",null,0,0]
[{"$f":"IF(H438<>\"\",CONCATENATE(\"3\",MID(H438,2,9)),\"\")","v":""},null,null,null,null,{"$f":"IF(F436<>\"\",F436,\"\")","v":""},{"$f":"IF(G436<>\"\",G436,\"\")","v":""},{"$f":"IF(H436<>\"\",H436,\"\")","v":""},null,null,null,null,null,"A distancia",null,0,0]
[{"$f":"IF(H439<>\"\",CONCATENATE(\"1\",MID(H439,2,9)),\"\")","v":""},{"$f":"CONCATENATE(F439,H439,LEFT(I439,5))","v":""},{"$f":"IF(AND(B439<>\"\",SUM(R439:AC441)=0),1,0)","v":0},{"$f":"IF(B439<>\"\",IF(OR(F439=\"\",H439=\"\",I439=\"\"),1,0),\"\")","v":""},null,null,"",null,{"$f":"IF(ISERROR(VLOOKUP($H439,CARRPROT,2,FALSE)),\"\",VLOOKUP($H439,CARRPROT,2,FALSE))","v":""},null,null,null,null,"Presencial",null,0,0]
[{"$f":"IF(H440<>\"\",CONCATENATE(\"2\",MID(H440,2,9)),\"\")","v":""},null,null,null,null,{"$f":"IF(F439<>\"\",F439,\"\")","v":""},{"$f":"IF(G439<>\"\",G439,\"\")","v":""},{"$f":"IF(H439<>\"\",H439,\"\")","v":""},null,null,null,null,null,"Semipresencial",null,0,0]
[{"$f":"IF(H441<>\"\",CONCATENATE(\"3\",MID(H441,2,9)),\"\")","v":""},null,null,null,null,{"$f":"IF(F439<>\"\",F439,\"\")","v":""},{"$f":"IF(G439<>\"\",G439,\"\")","v":""},{"$f":"IF(H439<>\"\",H439,\"\")","v":""},null,null,null,null,null,"A distancia",null,0,0]
[{"$f":"IF(H442<>\"\",CONCATENATE(\"1\",MID(H442,2,9)),\"\")","v":""},{"$f":"CONCATENATE(F442,H442,LEFT(I442,5))","v":""},{"$f":"IF(AND(B442<>\"\",SUM(R442:AC444)=0),1,0)","v":0},{"$f":"IF(B442<>\"\",IF(OR(F442=\"\",H442=\"\",I442=\"\"),1,0),\"\")","v":""},null,null,"",null,{"$f":"IF(ISERROR(VLOOKUP($H442,CARRPROT,2,FALSE)),\"\",VLOOKUP($H442,CARRPROT,2,FALSE))","v":""},null,null,null,null,"Presencial",null,0,0]
[{"$f":"IF(H443<>\"\",CONCATENATE(\"2\",MID(H443,2,9)),\"\")","v":""},null,null,null,null,{"$f":"IF(F442<>\"\",F442,\"\")","v":""},{"$f":"IF(G442<>\"\",G442,\"\")","v":""},{"$f":"IF(H442<>\"\",H442,\"\")","v":""},null,null,null,null,null,"Semipresencial",null,0,0]
[{"$f":"IF(H444<>\"\",CONCATENATE(\"3\",MID(H444,2,9)),\"\")","v":""},null,null,null,null,{"$f":"IF(F442<>\"\",F442,\"\")","v":""},{"$f":"IF(G442<>\"\",G442,\"\")","v":""},{"$f":"IF(H442<>\"\",H442,\"\")","v":""},null,null,null,null,null,"A distancia",null,0,0]
[{"$f":"IF(H445<>\"\",CONCATENATE(\"1\",MID(H445,2,9)),\"\")","v":""},{"$f":"CONCATENATE(F445,H445,LEFT(I445,5))","v":""},{"$f":"IF(AND(B445<>\"\",SUM(R445:AC447)=0),1,0)","v":0},{"$f":"IF(B445<>\"\",IF(OR(F445=\"\",H445=\"\",I445=\"\"),1,0),\"\")","v":""},null,null,{"$f":"IF(ISERROR(VLOOKUP(F445,Locales,2,FALSE)),\"\",VLOOKUP(F445,Locales,2,FALSE))","v":""},null,{"$f":"IF(ISERROR(VLOOKUP($H445,CARRPROT,2,FALSE)),\"\",VLOOKUP($H445,CARRPROT,2,FALSE))","v":""},null,null,null,null,"Presencial",null,0,0]
[{"$f":"IF(H446<>\"\",CONCATENATE(\"2\",MID(H446,2,9)),\"\")","v":""},null,null,null,null,{"$f":"IF(F445<>\"\",F445,\"\")","v":""},{"$f":"IF(G445<>\"\",G445,\"\")","v":""},{"$f":"IF(H445<>\"\",H445,\"\")","v":""},null,null,null,null,null,"Semipresencial",null,0,0]
[{"$f":"IF(H447<>\"\",CONCATENATE(\"3\",MID(H447,2,9)),\"\")","v":""},null,null,null,null,{"$f":"IF(F445<>\"\",F445,\"\")","v":""},{"$f":"IF(G445<>\"\",G445,\"\")","v":""},{"$f":"IF(H445<>\"\",H445,\"\")","v":""},null,null,null,null,null,"A distancia",null,0,0]
[{"$f":"IF(H448<>\"\",CONCATENATE(\"1\",MID(H448,2,9)),\"\")","v":""},{"$f":"CONCATENATE(F448,H448,LEFT(I448,5))","v":""},{"$f":"IF(AND(B448<>\"\",SUM(R448:AC450)=0),1,0)","v":0},{"$f":"IF(B448<>\"\",IF(OR(F448=\"\",H448=\"\",I448=\"\"),1,0),\"\")","v":""},null,null,"",null,{"$f":"IF(ISERROR(VLOOKUP($H448,CARRPROT,2,FALSE)),\"\",VLOOKUP($H448,CARRPROT,2,FALSE))","v":""},null,null,null,null,"Presencial",null,0,0]
[{"$f":"IF(H449<>\"\",CONCATENATE(\"2\",MID(H449,2,9)),\"\")","v":""},null,null,null,null,{"$f":"IF(F448<>\"\",F448,\"\")","v":""},{"$f":"IF(G448<>\"\",G448,\"\")","v":""},{"$f":"IF(H448<>\"\",H448,\"\")","v":""},null,null,null,null,null,"Semipresencial",null,0,0]
[{"$f":"IF(H450<>\"\",CONCATENATE(\"3\",MID(H450,2,9)),\"\")","v":""},null,null,null,null,{"$f":"IF(F448<>\"\",F448,\"\")","v":""},{"$f":"IF(G448<>\"\",G448,\"\")","v":""},{"$f":"IF(H448<>\"\",H448,\"\")","v":""},null,null,null,null,null,"A distancia",null,0,0]
[{"$f":"IF(H451<>\"\",CONCATENATE(\"1\",MID(H451,2,9)),\"\")","v":""},{"$f":"CONCATENATE(F451,H451,LEFT(I451,5))","v":""},{"$f":"IF(AND(B451<>\"\",SUM(R451:AC453)=0),1,0)","v":0},{"$f":"IF(B451<>\"\",IF(OR(F451=\"\",H451=\"\",I451=\"\"),1,0),\"\")","v":""},null,null,"",null,{"$f":"IF(ISERROR(VLOOKUP($H451,CARRPROT,2,FALSE)),\"\",VLOOKUP($H451,CARRPROT,2,FALSE))","v":""},null,null,null,null,"Presencial",null,0,0]
[{"$f":"IF(H452<>\"\",CONCATENATE(\"2\",MID(H452,2,9)),\"\")","v":""},null,null,null,null,{"$f":"IF(F451<>\"\",F451,\"\")","v":""},{"$f":"IF(G451<>\"\",G451,\"\")","v":""},{"$f":"IF(H451<>\"\",H451,\"\")","v":""},null,null,null,null,null,"Semipresencial",null,0,0]
[{"$f":"IF(H453<>\"\",CONCATENATE(\"3\",MID(H453,2,9)),\"\")","v":""},null,null,null,null,{"$f":"IF(F451<>\"\",F451,\"\")","v":""},{"$f":"IF(G451<>\"\",G451,\"\")","v":""},{"$f":"IF(H451<>\"\",H451,\"\")","v":""},null,null,null,null,null,"A distancia",null,0,0]
[{"$f":"IF(H454<>\"\",CONCATENATE(\"1\",MID(H454,2,9)),\"\")","v":""},{"$f":"CONCATENATE(F454,H454,LEFT(I454,5))","v":""},{"$f":"IF(AND(B454<>\"\",SUM(R454:AC456)=0),1,0)","v":0},{"$f":"IF(B454<>\"\",IF(OR(F454=\"\",H454=\"\",I454=\"\"),1,0),\"\")","v":""},null,null,"",null,{"$f":"IF(ISERROR(VLOOKUP($H454,CARRPROT,2,FALSE)),\"\",VLOOKUP($H454,CARRPROT,2,FALSE))","v":""},null,null,null,null,"Presencial",null,0,0]
[{"$f":"IF(H455<>\"\",CONCATENATE(\"2\",MID(H455,2,9)),\"\")","v":""},null,null,null,null,{"$f":"IF(F454<>\"\",F454,\"\")","v":""},{"$f":"IF(G454<>\"\",G454,\"\")","v":""},{"$f":"IF(H454<>\"\",H454,\"\")","v":""},null,null,null,null,null,"Semipresencial",null,0,0]
[{"$f":"IF(H456<>\"\",CONCATENATE(\"3\",MID(H456,2,9)),\"\")","v":""},null,null,null,null,{"$f":"IF(F454<>\"\",F454,\"\")","v":""},{"$f":"IF(G454<>\"\",G454,\"\")","v":""},{"$f":"IF(H454<>\"\",H454,\"\")","v":""},null,null,null,null,null,"A distancia",null,0,0]
[{"$f":"IF(H457<>\"\",CONCATENATE(\"1\",MID(H457,2,9)),\"\")","v":""},{"$f":"CONCATENATE(F457,H457,LEFT(I457,5))","v":""},{"$f":"IF(AND(B457<>\"\",SUM(R457:AC459)=0),1,0)","v":0},{"$f":"IF(B457<>\"\",IF(OR(F457=\"\",H457=\"\",I457=\"\"),1,0),\"\")","v":""},null,null,"",null,{"$f":"IF(ISERROR(VLOOKUP($H457,CARRPROT,2,FALSE)),\"\",VLOOKUP($H457,CARRPROT,2,FALSE))","v":""},null,null,null,null,"Presencial",null,0,0]
[{"$f":"IF(H458<>\"\",CONCATENATE(\"2\",MID(H458,2,9)),\"\")","v":""},null,null,null,null,{"$f":"IF(F457<>\"\",F457,\"\")","v":""},{"$f":"IF(G457<>\"\",G457,\"\")","v":""},{"$f":"IF(H457<>\"\",H457,\"\")","v":""},null,null,null,null,null,"Semipresencial",null,0,0]
[{"$f":"IF(H459<>\"\",CONCATENATE(\"3\",MID(H459,2,9)),\"\")","v":""},null,null,null,null,{"$f":"IF(F457<>\"\",F457,\"\")","v":""},{"$f":"IF(G457<>\"\",G457,\"\")","v":""},{"$f":"IF(H457<>\"\",H457,\"\")","v":""},null,null,null,null,null,"A distancia",null,0,0]
[{"$f":"IF(H460<>\"\",CONCATENATE(\"1\",MID(H460,2,9)),\"\")","v":""},{"$f":"CONCATENATE(F460,H460,LEFT(I460,5))","v":""},{"$f":"IF(AND(B460<>\"\",SUM(R460:AC462)=0),1,0)","v":0},{"$f":"IF(B460<>\"\",IF(OR(F460=\"\",H460=\"\",I460=\"\"),1,0),\"\")","v":""},null,null,"",null,{"$f":"IF(ISERROR(VLOOKUP($H460,CARRPROT,2,FALSE)),\"\",VLOOKUP($H460,CARRPROT,2,FALSE))","v":""},null,null,null,null,"Presencial",null,0,0]
[{"$f":"IF(H461<>\"\",CONCATENATE(\"2\",MID(H461,2,9)),\"\")","v":""},null,null,null,null,{"$f":"IF(F460<>\"\",F460,\"\")","v":""},{"$f":"IF(G460<>\"\",G460,\"\")","v":""},{"$f":"IF(H460<>\"\",H460,\"\")","v":""},null,null,null,null,null,"Semipresencial",null,0,0]
[{"$f":"IF(H462<>\"\",CONCATENATE(\"3\",MID(H462,2,9)),\"\")","v":""},null,null,null,null,{"$f":"IF(F460<>\"\",F460,\"\")","v":""},{"$f":"IF(G460<>\"\",G460,\"\")","v":""},{"$f":"IF(H460<>\"\",H460,\"\")","v":""},null,null,null,null,null,"A distancia",null,0,0]
[{"$f":"IF(H463<>\"\",CONCATENATE(\"1\",MID(H463,2,9)),\"\")","v":""},{"$f":"CONCATENATE(F463,H463,LEFT(I463,5))","v":""},{"$f":"IF(AND(B463<>\"\",SUM(R463:AC465)=0),1,0)","v":0},{"$f":"IF(B463<>\"\",IF(OR(F463=\"\",H463=\"\",I463=\"\"),1,0),\"\")","v":""},null,null,"",null,{"$f":"IF(ISERROR(VLOOKUP($H463,CARRPROT,2,FALSE)),\"\",VLOOKUP($H463,CARRPROT,2,FALSE))","v":""},null,null,null,null,"Presencial",null,0,0]
[{"$f":"IF(H464<>\"\",CONCATENATE(\"2\",MID(H464,2,9)),\"\")","v":""},null,null,null,null,{"$f":"IF(F463<>\"\",F463,\"\")","v":""},{"$f":"IF(G463<>\"\",G463,\"\")","v":""},{"$f":"IF(H463<>\"\",H463,\"\")","v":""},null,null,null,null,null,"Semipresencial",null,0,0]
[{"$f":"IF(H465<>\"\",CONCATENATE(\"3\",MID(H465,2,9)),\"\")","v":""},null,null,null,null,{"$f":"IF(F463<>\"\",F463,\"\")","v":""},{"$f":"IF(G463<>\"\",G463,\"\")","v":""},{"$f":"IF(H463<>\"\",H463,\"\")","v":""},null,null,null,null,null,"A distancia",null,0,0]
[{"$f":"IF(H466<>\"\",CONCATENATE(\"1\",MID(H466,2,9)),\"\")","v":""},{"$f":"CONCATENATE(F466,H466,LEFT(I466,5))","v":""},{"$f":"IF(AND(B466<>\"\",SUM(R466:AC468)=0),1,0)","v":0},{"$f":"IF(B466<>\"\",IF(OR(F466=\"\",H466=\"\",I466=\"\"),1,0),\"\")","v":""},null,null,"",null,{"$f":"IF(ISERROR(VLOOKUP($H466,CARRPROT,2,FALSE)),\"\",VLOOKUP($H466,CARRPROT,2,FALSE))","v":""},null,null,null,null,"Presencial",null,0,0]
[{"$f":"IF(H467<>\"\",CONCATENATE(\"2\",MID(H467,2,9)),\"\")","v":""},null,null,null,null,{"$f":"IF(F466<>\"\",F466,\"\")","v":""},{"$f":"IF(G466<>\"\",G466,\"\")","v":""},{"$f":"IF(H466<>\"\",H466,\"\")","v":""},null,null,null,null,null,"Semipresencial",null,0,0]
[{"$f":"IF(H468<>\"\",CONCATENATE(\"3\",MID(H468,2,9)),\"\")","v":""},null,null,null,null,{"$f":"IF(F466<>\"\",F466,\"\")","v":""},{"$f":"IF(G466<>\"\",G466,\"\")","v":""},{"$f":"IF(H466<>\"\",H466,\"\")","v":""},null,null,null,null,null,"A distancia",null,0,0]
[{"$f":"IF(H469<>\"\",CONCATENATE(\"1\",MID(H469,2,9)),\"\")","v":""},{"$f":"CONCATENATE(F469,H469,LEFT(I469,5))","v":""},{"$f":"IF(AND(B469<>\"\",SUM(R469:AC471)=0),1,0)","v":0},{"$f":"IF(B469<>\"\",IF(OR(F469=\"\",H469=\"\",I469=\"\"),1,0),\"\")","v":""},null,null,"",null,{"$f":"IF(ISERROR(VLOOKUP($H469,CARRPROT,2,FALSE)),\"\",VLOOKUP($H469,CARRPROT,2,FALSE))","v":""},null,null,null,null,"Presencial",null,0,0]
[{"$f":"IF(H470<>\"\",CONCATENATE(\"2\",MID(H470,2,9)),\"\")","v":""},null,null,null,null,{"$f":"IF(F469<>\"\",F469,\"\")","v":""},{"$f":"IF(G469<>\"\",G469,\"\")","v":""},{"$f":"IF(H469<>\"\",H469,\"\")","v":""},null,null,null,null,null,"Semipresencial",null,0,0]
[{"$f":"IF(H471<>\"\",CONCATENATE(\"3\",MID(H471,2,9)),\"\")","v":""},null,null,null,null,{"$f":"IF(F469<>\"\",F469,\"\")","v":""},{"$f":"IF(G469<>\"\",G469,\"\")","v":""},{"$f":"IF(H469<>\"\",H469,\"\")","v":""},null,null,null,null,null,"A distancia",null,0,0]
[{"$f":"IF(H472<>\"\",CONCATENATE(\"1\",MID(H472,2,9)),\"\")","v":""},{"$f":"CONCATENATE(F472,H472,LEFT(I472,5))","v":""},{"$f":"IF(AND(B472<>\"\",SUM(R472:AC474)=0),1,0)","v":0},{"$f":"IF(B472<>\"\",IF(OR(F472=\"\",H472=\"\",I472=\"\"),1,0),\"\")","v":""},null,null,"",null,{"$f":"IF(ISERROR(VLOOKUP($H472,CARRPROT,2,FALSE)),\"\",VLOOKUP($H472,CARRPROT,2,FALSE))","v":""},null,null,null,null,"Presencial",null,0,0]
[{"$f":"IF(H473<>\"\",CONCATENATE(\"2\",MID(H473,2,9)),\"\")","v":""},null,null,null,null,{"$f":"IF(F472<>\"\",F472,\"\")","v":""},{"$f":"IF(G472<>\"\",G472,\"\")","v":""},{"$f":"IF(H472<>\"\",H472,\"\")","v":""},null,null,null,null,null,"Semipresencial",null,0,0]
[{"$f":"IF(H474<>\"\",CONCATENATE(\"3\",MID(H474,2,9)),\"\")","v":""},null,null,null,null,{"$f":"IF(F472<>\"\",F472,\"\")","v":""},{"$f":"IF(G472<>\"\",G472,\"\")","v":""},{"$f":"IF(H472<>\"\",H472,\"\")","v":""},null,null,null,null,null,"A distancia",null,0,0]
[{"$f":"IF(H475<>\"\",CONCATENATE(\"1\",MID(H475,2,9)),\"\")","v":""},{"$f":"CONCATENATE(F475,H475,LEFT(I475,5))","v":""},{"$f":"IF(AND(B475<>\"\",SUM(R475:AC477)=0),1,0)","v":0},{"$f":"IF(B475<>\"\",IF(OR(F475=\"\",H475=\"\",I475=\"\"),1,0),\"\")","v":""},null,null,"",null,{"$f":"IF(ISERROR(VLOOKUP($H475,CARRPROT,2,FALSE)),\"\",VLOOKUP($H475,CARRPROT,2,FALSE))","v":""},null,null,null,null,"Presencial",null,0,0]
[{"$f":"IF(H476<>\"\",CONCATENATE(\"2\",MID(H476,2,9)),\"\")","v":""},null,null,null,null,{"$f":"IF(F475<>\"\",F475,\"\")","v":""},{"$f":"IF(G475<>\"\",G475,\"\")","v":""},{"$f":"IF(H475<>\"\",H475,\"\")","v":""},null,null,null,null,null,"Semipresencial",null,0,0]
[{"$f":"IF(H477<>\"\",CONCATENATE(\"3\",MID(H477,2,9)),\"\")","v":""},null,null,null,null,{"$f":"IF(F475<>\"\",F475,\"\")","v":""},{"$f":"IF(G475<>\"\",G475,\"\")","v":""},{"$f":"IF(H475<>\"\",H475,\"\")","v":""},null,null,null,null,null,"A distancia",null,0,0]
[{"$f":"IF(H478<>\"\",CONCATENATE(\"1\",MID(H478,2,9)),\"\")","v":""},{"$f":"CONCATENATE(F478,H478,LEFT(I478,5))","v":""},{"$f":"IF(AND(B478<>\"\",SUM(R478:AC480)=0),1,0)","v":0},{"$f":"IF(B478<>\"\",IF(OR(F478=\"\",H478=\"\",I478=\"\"),1,0),\"\")","v":""},null,null,"",null,{"$f":"IF(ISERROR(VLOOKUP($H478,CARRPROT,2,FALSE)),\"\",VLOOKUP($H478,CARRPROT,2,FALSE))","v":""},null,null,null,null,"Presencial",null,0,0]
[{"$f":"IF(H479<>\"\",CONCATENATE(\"2\",MID(H479,2,9)),\"\")","v":""},null,null,null,null,{"$f":"IF(F478<>\"\",F478,\"\")","v":""},{"$f":"IF(G478<>\"\",G478,\"\")","v":""},{"$f":"IF(H478<>\"\",H478,\"\")","v":""},null,null,null,null,null,"Semipresencial",null,0,0]
[{"$f":"IF(H480<>\"\",CONCATENATE(\"3\",MID(H480,2,9)),\"\")","v":""},null,null,null,null,{"$f":"IF(F478<>\"\",F478,\"\")","v":""},{"$f":"IF(G478<>\"\",G478,\"\")","v":""},{"$f":"IF(H478<>\"\",H478,\"\")","v":""},null,null,null,null,null,"A distancia",null,0,0]
[{"$f":"IF(H481<>\"\",CONCATENATE(\"1\",MID(H481,2,9)),\"\")","v":""},{"$f":"CONCATENATE(F481,H481,LEFT(I481,5))","v":""},{"$f":"IF(AND(B481<>\"\",SUM(R481:AC483)=0),1,0)","v":0},{"$f":"IF(B481<>\"\",IF(OR(F481=\"\",H481=\"\",I481=\"\"),1,0),\"\")","v":""},null,null,"",null,{"$f":"IF(ISERROR(VLOOKUP($H481,CARRPROT,2,FALSE)),\"\",VLOOKUP($H481,CARRPROT,2,FALSE))","v":""},null,null,null,null,"Presencial",null,0,0]
[{"$f":"IF(H482<>\"\",CONCATENATE(\"2\",MID(H482,2,9)),\"\")","v":""},null,null,null,null,{"$f":"IF(F481<>\"\",F481,\"\")","v":""},{"$f":"IF(G481<>\"\",G481,\"\")","v":""},{"$f":"IF(H481<>\"\",H481,\"\")","v":""},null,null,null,null,null,"Semipresencial",null,0,0]
[{"$f":"IF(H483<>\"\",CONCATENATE(\"3\",MID(H483,2,9)),\"\")","v":""},null,null,null,null,{"$f":"IF(F481<>\"\",F481,\"\")","v":""},{"$f":"IF(G481<>\"\",G481,\"\")","v":""},{"$f":"IF(H481<>\"\",H481,\"\")","v":""},null,null,null,null,null,"A distancia",null,0,0]
[{"$f":"IF(H484<>\"\",CONCATENATE(\"1\",MID(H484,2,9)),\"\")","v":""},{"$f":"CONCATENATE(F484,H484,LEFT(I484,5))","v":""},{"$f":"IF(AND(B484<>\"\",SUM(R484:AC486)=0),1,0)","v":0},{"$f":"IF(B484<>\"\",IF(OR(F484=\"\",H484=\"\",I484=\"\"),1,0),\"\")","v":""},null,null,"",null,{"$f":"IF(ISERROR(VLOOKUP($H484,CARRPROT,2,FALSE)),\"\",VLOOKUP($H484,CARRPROT,2,FALSE))","v":""},null,null,null,null,"Presencial",null,0,0]
[{"$f":"IF(H485<>\"\",CONCATENATE(\"2\",MID(H485,2,9)),\"\")","v":""},null,null,null,null,{"$f":"IF(F484<>\"\",F484,\"\")","v":""},{"$f":"IF(G484<>\"\",G484,\"\")","v":""},{"$f":"IF(H484<>\"\",H484,\"\")","v":""},null,null,null,null,null,"Semipresencial",null,0,0]
[{"$f":"IF(H486<>\"\",CONCATENATE(\"3\",MID(H486,2,9)),\"\")","v":""},null,null,null,null,{"$f":"IF(F484<>\"\",F484,\"\")","v":""},{"$f":"IF(G484<>\"\",G484,\"\")","v":""},{"$f":"IF(H484<>\"\",H484,\"\")","v":""},null,null,null,null,null,"A distancia",null,0,0]
[{"$f":"IF(H487<>\"\",CONCATENATE(\"1\",MID(H487,2,9)),\"\")","v":""},{"$f":"CONCATENATE(F487,H487,LEFT(I487,5))","v":""},{"$f":"IF(AND(B487<>\"\",SUM(R487:AC489)=0),1,0)","v":0},{"$f":"IF(B487<>\"\",IF(OR(F487=\"\",H487=\"\",I487=\"\"),1,0),\"\")","v":""},null,null,"",null,{"$f":"IF(ISERROR(VLOOKUP($H487,CARRPROT,2,FALSE)),\"\",VLOOKUP($H487,CARRPROT,2,FALSE))","v":""},null,null,null,null,"Presencial",null,0,0]
[{"$f":"IF(H488<>\"\",CONCATENATE(\"2\",MID(H488,2,9)),\"\")","v":""},null,null,null,null,{"$f":"IF(F487<>\"\",F487,\"\")","v":""},{"$f":"IF(G487<>\"\",G487,\"\")","v":""},{"$f":"IF(H487<>\"\",H487,\"\")","v":""},null,null,null,null,null,"Semipresencial",null,0,0]
[{"$f":"IF(H489<>\"\",CONCATENATE(\"3\",MID(H489,2,9)),\"\")","v":""},null,null,null,null,{"$f":"IF(F487<>\"\",F487,\"\")","v":""},{"$f":"IF(G487<>\"\",G487,\"\")","v":""},{"$f":"IF(H487<>\"\",H487,\"\")","v":""},null,null,null,null,null,"A distancia",null,0,0]
[{"$f":"IF(H490<>\"\",CONCATENATE(\"1\",MID(H490,2,9)),\"\")","v":""},{"$f":"CONCATENATE(F490,H490,LEFT(I490,5))","v":""},{"$f":"IF(AND(B490<>\"\",SUM(R490:AC492)=0),1,0)","v":0},{"$f":"IF(B490<>\"\",IF(OR(F490=\"\",H490=\"\",I490=\"\"),1,0),\"\")","v":""},null,null,"",null,{"$f":"IF(ISERROR(VLOOKUP($H490,CARRPROT,2,FALSE)),\"\",VLOOKUP($H490,CARRPROT,2,FALSE))","v":""},null,null,null,null,"Presencial",null,0,0]
[{"$f":"IF(H491<>\"\",CONCATENATE(\"2\",MID(H491,2,9)),\"\")","v":""},null,null,null,null,{"$f":"IF(F490<>\"\",F490,\"\")","v":""},{"$f":"IF(G490<>\"\",G490,\"\")","v":""},{"$f":"IF(H490<>\"\",H490,\"\")","v":""},null,null,null,null,null,"Semipresencial",null,0,0]
[{"$f":"IF(H492<>\"\",CONCATENATE(\"3\",MID(H492,2,9)),\"\")","v":""},null,null,null,null,{"$f":"IF(F490<>\"\",F490,\"\")","v":""},{"$f":"IF(G490<>\"\",G490,\"\")","v":""},{"$f":"IF(H490<>\"\",H490,\"\")","v":""},null,null,null,null,null,"A distancia",null,0,0]
[{"$f":"IF(H493<>\"\",CONCATENATE(\"1\",MID(H493,2,9)),\"\")","v":""},{"$f":"CONCATENATE(F493,H493,LEFT(I493,5))","v":""},{"$f":"IF(AND(B493<>\"\",SUM(R493:AC495)=0),1,0)","v":0},{"$f":"IF(B493<>\"\",IF(OR(F493=\"\",H493=\"\",I493=\"\"),1,0),\"\")","v":""},null,null,"",null,{"$f":"IF(ISERROR(VLOOKUP($H493,CARRPROT,2,FALSE)),\"\",VLOOKUP($H493,CARRPROT,2,FALSE))","v":""},null,null,null,null,"Presencial",null,0,0]
[{"$f":"IF(H494<>\"\",CONCATENATE(\"2\",MID(H494,2,9)),\"\")","v":""},null,null,null,null,{"$f":"IF(F493<>\"\",F493,\"\")","v":""},{"$f":"IF(G493<>\"\",G493,\"\")","v":""},{"$f":"IF(H493<>\"\",H493,\"\")","v":""},null,null,null,null,null,"Semipresencial",null,0,0]
[{"$f":"IF(H495<>\"\",CONCATENATE(\"3\",MID(H495,2,9)),\"\")","v":""},null,null,null,null,{"$f":"IF(F493<>\"\",F493,\"\")","v":""},{"$f":"IF(G493<>\"\",G493,\"\")","v":""},{"$f":"IF(H493<>\"\",H493,\"\")","v":""},null,null,null,null,null,"A distancia",null,0,0]
[{"$f":"IF(H496<>\"\",CONCATENATE(\"1\",MID(H496,2,9)),\"\")","v":""},{"$f":"CONCATENATE(F496,H496,LEFT(I496,5))","v":""},{"$f":"IF(AND(B496<>\"\",SUM(R496:AC498)=0),1,0)","v":0},{"$f":"IF(B496<>\"\",IF(OR(F496=\"\",H496=\"\",I496=\"\"),1,0),\"\")","v":""},null,null,"",null,{"$f":"IF(ISERROR(VLOOKUP($H496,CARRPROT,2,FALSE)),\"\",VLOOKUP($H496,CARRPROT,2,FALSE))","v":""},null,null,null,null,"Presencial",null,0,0]
[{"$f":"IF(H497<>\"\",CONCATENATE(\"2\",MID(H497,2,9)),\"\")","v":""},null,null,null,null,{"$f":"IF(F496<>\"\",F496,\"\")","v":""},{"$f":"IF(G496<>\"\",G496,\"\")","v":""},{"$f":"IF(H496<>\"\",H496,\"\")","v":""},null,null,null,null,null,"Semipresencial",null,0,0]
[{"$f":"IF(H498<>\"\",CONCATENATE(\"3\",MID(H498,2,9)),\"\")","v":""},null,null,null,null,{"$f":"IF(F496<>\"\",F496,\"\")","v":""},{"$f":"IF(G496<>\"\",G496,\"\")","v":""},{"$f":"IF(H496<>\"\",H496,\"\")","v":""},null,null,null,null,null,"A distancia",null,0,0]
[{"$f":"IF(H499<>\"\",CONCATENATE(\"1\",MID(H499,2,9)),\"\")","v":""},{"$f":"CONCATENATE(F499,H499,LEFT(I499,5))","v":""},{"$f":"IF(AND(B499<>\"\",SUM(R499:AC501)=0),1,0)","v":0},{"$f":"IF(B499<>\"\",IF(OR(F499=\"\",H499=\"\",I499=\"\"),1,0),\"\")","v":""},null,null,"",null,{"$f":"IF(ISERROR(VLOOKUP($H499,CARRPROT,2,FALSE)),\"\",VLOOKUP($H499,CARRPROT,2,FALSE))","v":""},null,null,null,null,"Presencial",null,0,0]
[{"$f":"IF(H500<>\"\",CONCATENATE(\"2\",MID(H500,2,9)),\"\")","v":""},null,null,null,null,{"$f":"IF(F499<>\"\",F499,\"\")","v":""},{"$f":"IF(G499<>\"\",G499,\"\")","v":""},{"$f":"IF(H499<>\"\",H499,\"\")","v":""},null,null,null,null,null,"Semipresencial",null,0,0]
[{"$f":"IF(H501<>\"\",CONCATENATE(\"3\",MID(H501,2,9)),\"\")","v":""},null,null,null,null,{"$f":"IF(F499<>\"\",F499,\"\")","v":""},{"$f":"IF(G499<>\"\",G499,\"\")","v":""},{"$f":"IF(H499<>\"\",H499,\"\")","v":""},null,null,null,null,null,"A distancia",null,0,0]
[{"$f":"IF(H502<>\"\",CONCATENATE(\"1\",MID(H502,2,9)),\"\")","v":""},{"$f":"CONCATENATE(F502,H502,LEFT(I502,5))","v":""},{"$f":"IF(AND(B502<>\"\",SUM(R502:AC504)=0),1,0)","v":0},{"$f":"IF(B502<>\"\",IF(OR(F502=\"\",H502=\"\",I502=\"\"),1,0),\"\")","v":""},null,null,"",null,{"$f":"IF(ISERROR(VLOOKUP($H502,CARRPROT,2,FALSE)),\"\",VLOOKUP($H502,CARRPROT,2,FALSE))","v":""},null,null,null,null,"Presencial",null,0,0]
[{"$f":"IF(H503<>\"\",CONCATENATE(\"2\",MID(H503,2,9)),\"\")","v":""},null,null,null,null,{"$f":"IF(F502<>\"\",F502,\"\")","v":""},{"$f":"IF(G502<>\"\",G502,\"\")","v":""},{"$f":"IF(H502<>\"\",H502,\"\")","v":""},null,null,null,null,null,"Semipresencial",null,0,0]
[{"$f":"IF(H504<>\"\",CONCATENATE(\"3\",MID(H504,2,9)),\"\")","v":""},null,null,null,null,{"$f":"IF(F502<>\"\",F502,\"\")","v":""},{"$f":"IF(G502<>\"\",G502,\"\")","v":""},{"$f":"IF(H502<>\"\",H502,\"\")","v":""},null,null,null,null,null,"A distancia",null,0,0]
[{"$f":"IF(H505<>\"\",CONCATENATE(\"1\",MID(H505,2,9)),\"\")","v":""},{"$f":"CONCATENATE(F505,H505,LEFT(I505,5))","v":""},{"$f":"IF(AND(B505<>\"\",SUM(R505:AC507)=0),1,0)","v":0},{"$f":"IF(B505<>\"\",IF(OR(F505=\"\",H505=\"\",I505=\"\"),1,0),\"\")","v":""},null,null,"",null,{"$f":"IF(ISERROR(VLOOKUP($H505,CARRPROT,2,FALSE)),\"\",VLOOKUP($H505,CARRPROT,2,FALSE))","v":""},null,null,null,null,"Presencial",null,0,0]
[{"$f":"IF(H506<>\"\",CONCATENATE(\"2\",MID(H506,2,9)),\"\")","v":""},null,null,null,null,{"$f":"IF(F505<>\"\",F505,\"\")","v":""},{"$f":"IF(G505<>\"\",G505,\"\")","v":""},{"$f":"IF(H505<>\"\",H505,\"\")","v":""},null,null,null,null,null,"Semipresencial",null,0,0]
[{"$f":"IF(H507<>\"\",CONCATENATE(\"3\",MID(H507,2,9)),\"\")","v":""},null,null,null,null,{"$f":"IF(F505<>\"\",F505,\"\")","v":""},{"$f":"IF(G505<>\"\",G505,\"\")","v":""},{"$f":"IF(H505<>\"\",H505,\"\")","v":""},null,null,null,null,null,"A distancia",null,0,0]
[{"$f":"IF(H508<>\"\",CONCATENATE(\"1\",MID(H508,2,9)),\"\")","v":""},{"$f":"CONCATENATE(F508,H508,LEFT(I508,5))","v":""},{"$f":"IF(AND(B508<>\"\",SUM(R508:AC510)=0),1,0)","v":0},{"$f":"IF(B508<>\"\",IF(OR(F508=\"\",H508=\"\",I508=\"\"),1,0),\"\")","v":""},null,null,"",null,{"$f":"IF(ISERROR(VLOOKUP($H508,CARRPROT,2,FALSE)),\"\",VLOOKUP($H508,CARRPROT,2,FALSE))","v":""},null,null,null,null,"Presencial",null,0,0]
[{"$f":"IF(H509<>\"\",CONCATENATE(\"2\",MID(H509,2,9)),\"\")","v":""},null,null,null,null,{"$f":"IF(F508<>\"\",F508,\"\")","v":""},{"$f":"IF(G508<>\"\",G508,\"\")","v":""},{"$f":"IF(H508<>\"\",H508,\"\")","v":""},null,null,null,null,null,"Semipresencial",null,0,0]
[{"$f":"IF(H510<>\"\",CONCATENATE(\"3\",MID(H510,2,9)),\"\")","v":""},null,null,null,null,{"$f":"IF(F508<>\"\",F508,\"\")","v":""},{"$f":"IF(G508<>\"\",G508,\"\")","v":""},{"$f":"IF(H508<>\"\",H508,\"\")","v":""},null,null,null,null,null,"A distancia",null,0,0]
[{"$f":"IF(H511<>\"\",CONCATENATE(\"1\",MID(H511,2,9)),\"\")","v":""},{"$f":"CONCATENATE(F511,H511,LEFT(I511,5))","v":""},{"$f":"IF(AND(B511<>\"\",SUM(R511:AC513)=0),1,0)","v":0},{"$f":"IF(B511<>\"\",IF(OR(F511=\"\",H511=\"\",I511=\"\"),1,0),\"\")","v":""},null,null,"",null,{"$f":"IF(ISERROR(VLOOKUP($H511,CARRPROT,2,FALSE)),\"\",VLOOKUP($H511,CARRPROT,2,FALSE))","v":""},null,null,null,null,"Presencial",null,0,0]
[{"$f":"IF(H512<>\"\",CONCATENATE(\"2\",MID(H512,2,9)),\"\")","v":""},null,null,null,null,{"$f":"IF(F511<>\"\",F511,\"\")","v":""},{"$f":"IF(G511<>\"\",G511,\"\")","v":""},{"$f":"IF(H511<>\"\",H511,\"\")","v":""},null,null,null,null,null,"Semipresencial",null,0,0]
[{"$f":"IF(H513<>\"\",CONCATENATE(\"3\",MID(H513,2,9)),\"\")","v":""},null,null,null,null,{"$f":"IF(F511<>\"\",F511,\"\")","v":""},{"$f":"IF(G511<>\"\",G511,\"\")","v":""},{"$f":"IF(H511<>\"\",H511,\"\")","v":""},null,null,null,null,null,"A distancia",null,0,0]
[{"$f":"IF(H514<>\"\",CONCATENATE(\"1\",MID(H514,2,9)),\"\")","v":""},{"$f":"CONCATENATE(F514,H514,LEFT(I514,5))","v":""},{"$f":"IF(AND(B514<>\"\",SUM(R514:AC516)=0),1,0)","v":0},{"$f":"IF(B514<>\"\",IF(OR(F514=\"\",H514=\"\",I514=\"\"),1,0),\"\")","v":""},null,null,"",null,{"$f":"IF(ISERROR(VLOOKUP($H514,CARRPROT,2,FALSE)),\"\",VLOOKUP($H514,CARRPROT,2,FALSE))","v":""},null,null,null,null,"Presencial",null,0,0]
[{"$f":"IF(H515<>\"\",CONCATENATE(\"2\",MID(H515,2,9)),\"\")","v":""},null,null,null,null,{"$f":"IF(F514<>\"\",F514,\"\")","v":""},{"$f":"IF(G514<>\"\",G514,\"\")","v":""},{"$f":"IF(H514<>\"\",H514,\"\")","v":""},null,null,null,null,null,"Semipresencial",null,0,0]
[{"$f":"IF(H516<>\"\",CONCATENATE(\"3\",MID(H516,2,9)),\"\")","v":""},null,null,null,null,{"$f":"IF(F514<>\"\",F514,\"\")","v":""},{"$f":"IF(G514<>\"\",G514,\"\")","v":""},{"$f":"IF(H514<>\"\",H514,\"\")","v":""},null,null,null,null,null,"A distancia",null,0,0]
[{"$f":"IF(H517<>\"\",CONCATENATE(\"1\",MID(H517,2,9)),\"\")","v":""},{"$f":"CONCATENATE(F517,H517,LEFT(I517,5))","v":""},{"$f":"IF(AND(B517<>\"\",SUM(R517:AC519)=0),1,0)","v":0},{"$f":"IF(B517<>\"\",IF(OR(F517=\"\",H517=\"\",I517=\"\"),1,0),\"\")","v":""},null,null,"",null,{"$f":"IF(ISERROR(VLOOKUP($H517,CARRPROT,2,FALSE)),\"\",VLOOKUP($H517,CARRPROT,2,FALSE))","v":""},null,null,null,null,"Presencial",null,0,0]
[{"$f":"IF(H518<>\"\",CONCATENATE(\"2\",MID(H518,2,9)),\"\")","v":""},null,null,null,null,{"$f":"IF(F517<>\"\",F517,\"\")","v":""},{"$f":"IF(G517<>\"\",G517,\"\")","v":""},{"$f":"IF(H517<>\"\",H517,\"\")","v":""},null,null,null,null,null,"Semipresencial",null,0,0]
[{"$f":"IF(H519<>\"\",CONCATENATE(\"3\",MID(H519,2,9)),\"\")","v":""},null,null,null,null,{"$f":"IF(F517<>\"\",F517,\"\")","v":""},{"$f":"IF(G517<>\"\",G517,\"\")","v":""},{"$f":"IF(H517<>\"\",H517,\"\")","v":""},null,null,null,null,null,"A distancia",null,0,0]
[{"$f":"IF(H520<>\"\",CONCATENATE(\"1\",MID(H520,2,9)),\"\")","v":""},{"$f":"CONCATENATE(F520,H520,LEFT(I520,5))","v":""},{"$f":"IF(AND(B520<>\"\",SUM(R520:AC522)=0),1,0)","v":0},{"$f":"IF(B520<>\"\",IF(OR(F520=\"\",H520=\"\",I520=\"\"),1,0),\"\")","v":""},null,null,"",null,{"$f":"IF(ISERROR(VLOOKUP($H520,CARRPROT,2,FALSE)),\"\",VLOOKUP($H520,CARRPROT,2,FALSE))","v":""},null,null,null,null,"Presencial",null,0,0]
[{"$f":"IF(H521<>\"\",CONCATENATE(\"2\",MID(H521,2,9)),\"\")","v":""},null,null,null,null,{"$f":"IF(F520<>\"\",F520,\"\")","v":""},{"$f":"IF(G520<>\"\",G520,\"\")","v":""},{"$f":"IF(H520<>\"\",H520,\"\")","v":""},null,null,null,null,null,"Semipresencial",null,0,0]
[{"$f":"IF(H522<>\"\",CONCATENATE(\"3\",MID(H522,2,9)),\"\")","v":""},null,null,null,null,{"$f":"IF(F520<>\"\",F520,\"\")","v":""},{"$f":"IF(G520<>\"\",G520,\"\")","v":""},{"$f":"IF(H520<>\"\",H520,\"\")","v":""},null,null,null,null,null,"A distancia",null,0,0]
[{"$f":"IF(H523<>\"\",CONCATENATE(\"1\",MID(H523,2,9)),\"\")","v":""},{"$f":"CONCATENATE(F523,H523,LEFT(I523,5))","v":""},{"$f":"IF(AND(B523<>\"\",SUM(R523:AC525)=0),1,0)","v":0},{"$f":"IF(B523<>\"\",IF(OR(F523=\"\",H523=\"\",I523=\"\"),1,0),\"\")","v":""},null,null,"",null,{"$f":"IF(ISERROR(VLOOKUP($H523,CARRPROT,2,FALSE)),\"\",VLOOKUP($H523,CARRPROT,2,FALSE))","v":""},null,null,null,null,"Presencial",null,0,0]
[{"$f":"IF(H524<>\"\",CONCATENATE(\"2\",MID(H524,2,9)),\"\")","v":""},null,null,null,null,{"$f":"IF(F523<>\"\",F523,\"\")","v":""},{"$f":"IF(G523<>\"\",G523,\"\")","v":""},{"$f":"IF(H523<>\"\",H523,\"\")","v":""},null,null,null,null,null,"Semipresencial",null,0,0]
[{"$f":"IF(H525<>\"\",CONCATENATE(\"3\",MID(H525,2,9)),\"\")","v":""},null,null,null,null,{"$f":"IF(F523<>\"\",F523,\"\")","v":""},{"$f":"IF(G523<>\"\",G523,\"\")","v":""},{"$f":"IF(H523<>\"\",H523,\"\")","v":""},null,null,null,null,null,"A distancia",null,0,0]
[{"$f":"IF(H526<>\"\",CONCATENATE(\"1\",MID(H526,2,9)),\"\")","v":""},{"$f":"CONCATENATE(F526,H526,LEFT(I526,5))","v":""},{"$f":"IF(AND(B526<>\"\",SUM(R526:AC528)=0),1,0)","v":0},{"$f":"IF(B526<>\"\",IF(OR(F526=\"\",H526=\"\",I526=\"\"),1,0),\"\")","v":""},null,null,"",null,{"$f":"IF(ISERROR(VLOOKUP($H526,CARRPROT,2,FALSE)),\"\",VLOOKUP($H526,CARRPROT,2,FALSE))","v":""},null,null,null,null,"Presencial",null,0,0]
[{"$f":"IF(H527<>\"\",CONCATENATE(\"2\",MID(H527,2,9)),\"\")","v":""},null,null,null,null,{"$f":"IF(F526<>\"\",F526,\"\")","v":""},{"$f":"IF(G526<>\"\",G526,\"\")","v":""},{"$f":"IF(H526<>\"\",H526,\"\")","v":""},null,null,null,null,null,"Semipresencial",null,0,0]
[{"$f":"IF(H528<>\"\",CONCATENATE(\"3\",MID(H528,2,9)),\"\")","v":""},null,null,null,null,{"$f":"IF(F526<>\"\",F526,\"\")","v":""},{"$f":"IF(G526<>\"\",G526,\"\")","v":""},{"$f":"IF(H526<>\"\",H526,\"\")","v":""},null,null,null,null,null,"A distancia",null,0,0]
[{"$f":"IF(H529<>\"\",CONCATENATE(\"1\",MID(H529,2,9)),\"\")","v":""},{"$f":"CONCATENATE(F529,H529,LEFT(I529,5))","v":""},{"$f":"IF(AND(B529<>\"\",SUM(R529:AC531)=0),1,0)","v":0},{"$f":"IF(B529<>\"\",IF(OR(F529=\"\",H529=\"\",I529=\"\"),1,0),\"\")","v":""},null,null,"",null,{"$f":"IF(ISERROR(VLOOKUP($H529,CARRPROT,2,FALSE)),\"\",VLOOKUP($H529,CARRPROT,2,FALSE))","v":""},null,null,null,null,"Presencial",null,0,0]
[{"$f":"IF(H530<>\"\",CONCATENATE(\"2\",MID(H530,2,9)),\"\")","v":""},null,null,null,null,{"$f":"IF(F529<>\"\",F529,\"\")","v":""},{"$f":"IF(G529<>\"\",G529,\"\")","v":""},{"$f":"IF(H529<>\"\",H529,\"\")","v":""},null,null,null,null,null,"Semipresencial",null,0,0]
[{"$f":"IF(H531<>\"\",CONCATENATE(\"3\",MID(H531,2,9)),\"\")","v":""},null,null,null,null,{"$f":"IF(F529<>\"\",F529,\"\")","v":""},{"$f":"IF(G529<>\"\",G529,\"\")","v":""},{"$f":"IF(H529<>\"\",H529,\"\")","v":""},null,null,null,null,null,"A distancia",null,0,0]
[{"$f":"IF(H532<>\"\",CONCATENATE(\"1\",MID(H532,2,9)),\"\")","v":""},{"$f":"CONCATENATE(F532,H532,LEFT(I532,5))","v":""},{"$f":"IF(AND(B532<>\"\",SUM(R532:AC534)=0),1,0)","v":0},{"$f":"IF(B532<>\"\",IF(OR(F532=\"\",H532=\"\",I532=\"\"),1,0),\"\")","v":""},null,null,"",null,{"$f":"IF(ISERROR(VLOOKUP($H532,CARRPROT,2,FALSE)),\"\",VLOOKUP($H532,CARRPROT,2,FALSE))","v":""},null,null,null,null,"Presencial",null,0,0]
[{"$f":"IF(H533<>\"\",CONCATENATE(\"2\",MID(H533,2,9)),\"\")","v":""},null,null,null,null,{"$f":"IF(F532<>\"\",F532,\"\")","v":""},{"$f":"IF(G532<>\"\",G532,\"\")","v":""},{"$f":"IF(H532<>\"\",H532,\"\")","v":""},null,null,null,null,null,"Semipresencial",null,0,0]
[{"$f":"IF(H534<>\"\",CONCATENATE(\"3\",MID(H534,2,9)),\"\")","v":""},null,null,null,null,{"$f":"IF(F532<>\"\",F532,\"\")","v":""},{"$f":"IF(G532<>\"\",G532,\"\")","v":""},{"$f":"IF(H532<>\"\",H532,\"\")","v":""},null,null,null,null,null,"A distancia",null,0,0]
[{"$f":"IF(H535<>\"\",CONCATENATE(\"1\",MID(H535,2,9)),\"\")","v":""},{"$f":"CONCATENATE(F535,H535,LEFT(I535,5))","v":""},{"$f":"IF(AND(B535<>\"\",SUM(R535:AC537)=0),1,0)","v":0},{"$f":"IF(B535<>\"\",IF(OR(F535=\"\",H535=\"\",I535=\"\"),1,0),\"\")","v":""},null,null,"",null,{"$f":"IF(ISERROR(VLOOKUP($H535,CARRPROT,2,FALSE)),\"\",VLOOKUP($H535,CARRPROT,2,FALSE))","v":""},null,null,null,null,"Presencial",null,0,0]
[{"$f":"IF(H536<>\"\",CONCATENATE(\"2\",MID(H536,2,9)),\"\")","v":""},null,null,null,null,{"$f":"IF(F535<>\"\",F535,\"\")","v":""},{"$f":"IF(G535<>\"\",G535,\"\")","v":""},{"$f":"IF(H535<>\"\",H535,\"\")","v":""},null,null,null,null,null,"Semipresencial",null,0,0]
[{"$f":"IF(H537<>\"\",CONCATENATE(\"3\",MID(H537,2,9)),\"\")","v":""},null,null,null,null,{"$f":"IF(F535<>\"\",F535,\"\")","v":""},{"$f":"IF(G535<>\"\",G535,\"\")","v":""},{"$f":"IF(H535<>\"\",H535,\"\")","v":""},null,null,null,null,null,"A distancia",null,0,0]
[{"$f":"IF(H538<>\"\",CONCATENATE(\"1\",MID(H538,2,9)),\"\")","v":""},{"$f":"CONCATENATE(F538,H538,LEFT(I538,5))","v":""},{"$f":"IF(AND(B538<>\"\",SUM(R538:AC540)=0),1,0)","v":0},{"$f":"IF(B538<>\"\",IF(OR(F538=\"\",H538=\"\",I538=\"\"),1,0),\"\")","v":""},null,null,"",null,{"$f":"IF(ISERROR(VLOOKUP($H538,CARRPROT,2,FALSE)),\"\",VLOOKUP($H538,CARRPROT,2,FALSE))","v":""},null,null,null,null,"Presencial",null,0,0]
[{"$f":"IF(H539<>\"\",CONCATENATE(\"2\",MID(H539,2,9)),\"\")","v":""},null,null,null,null,{"$f":"IF(F538<>\"\",F538,\"\")","v":""},{"$f":"IF(G538<>\"\",G538,\"\")","v":""},{"$f":"IF(H538<>\"\",H538,\"\")","v":""},null,null,null,null,null,"Semipresencial",null,0,0]
[{"$f":"IF(H540<>\"\",CONCATENATE(\"3\",MID(H540,2,9)),\"\")","v":""},null,null,null,null,{"$f":"IF(F538<>\"\",F538,\"\")","v":""},{"$f":"IF(G538<>\"\",G538,\"\")","v":""},{"$f":"IF(H538<>\"\",H538,\"\")","v":""},null,null,null,null,null,"A distancia",null,0,0]
[{"$f":"IF(H541<>\"\",CONCATENATE(\"1\",MID(H541,2,9)),\"\")","v":""},{"$f":"CONCATENATE(F541,H541,LEFT(I541,5))","v":""},{"$f":"IF(AND(B541<>\"\",SUM(R541:AC543)=0),1,0)","v":0},{"$f":"IF(B541<>\"\",IF(OR(F541=\"\",H541=\"\",I541=\"\"),1,0),\"\")","v":""},null,null,"",null,{"$f":"IF(ISERROR(VLOOKUP($H541,CARRPROT,2,FALSE)),\"\",VLOOKUP($H541,CARRPROT,2,FALSE))","v":""},null,null,null,null,"Presencial",null,0,0]
[{"$f":"IF(H542<>\"\",CONCATENATE(\"2\",MID(H542,2,9)),\"\")","v":""},null,null,null,null,{"$f":"IF(F541<>\"\",F541,\"\")","v":""},{"$f":"IF(G541<>\"\",G541,\"\")","v":""},{"$f":"IF(H541<>\"\",H541,\"\")","v":""},null,null,null,null,null,"Semipresencial",null,0,0]
[{"$f":"IF(H543<>\"\",CONCATENATE(\"3\",MID(H543,2,9)),\"\")","v":""},null,null,null,null,{"$f":"IF(F541<>\"\",F541,\"\")","v":""},{"$f":"IF(G541<>\"\",G541,\"\")","v":""},{"$f":"IF(H541<>\"\",H541,\"\")","v":""},null,null,null,null,null,"A distancia",null,0,0]
[{"$f":"IF(H544<>\"\",CONCATENATE(\"1\",MID(H544,2,9)),\"\")","v":""},{"$f":"CONCATENATE(F544,H544,LEFT(I544,5))","v":""},{"$f":"IF(AND(B544<>\"\",SUM(R544:AC546)=0),1,0)","v":0},{"$f":"IF(B544<>\"\",IF(OR(F544=\"\",H544=\"\",I544=\"\"),1,0),\"\")","v":""},null,null,"",null,{"$f":"IF(ISERROR(VLOOKUP($H544,CARRPROT,2,FALSE)),\"\",VLOOKUP($H544,CARRPROT,2,FALSE))","v":""},null,null,null,null,"Presencial",null,0,0]
[{"$f":"IF(H545<>\"\",CONCATENATE(\"2\",MID(H545,2,9)),\"\")","v":""},null,null,null,null,{"$f":"IF(F544<>\"\",F544,\"\")","v":""},{"$f":"IF(G544<>\"\",G544,\"\")","v":""},{"$f":"IF(H544<>\"\",H544,\"\")","v":""},null,null,null,null,null,"Semipresencial",null,0,0]
[{"$f":"IF(H546<>\"\",CONCATENATE(\"3\",MID(H546,2,9)),\"\")","v":""},null,null,null,null,{"$f":"IF(F544<>\"\",F544,\"\")","v":""},{"$f":"IF(G544<>\"\",G544,\"\")","v":""},{"$f":"IF(H544<>\"\",H544,\"\")","v":""},null,null,null,null,null,"A distancia",null,0,0]
[{"$f":"IF(H547<>\"\",CONCATENATE(\"1\",MID(H547,2,9)),\"\")","v":""},{"$f":"CONCATENATE(F547,H547,LEFT(I547,5))","v":""},{"$f":"IF(AND(B547<>\"\",SUM(R547:AC549)=0),1,0)","v":0},{"$f":"IF(B547<>\"\",IF(OR(F547=\"\",H547=\"\",I547=\"\"),1,0),\"\")","v":""},null,null,"",null,{"$f":"IF(ISERROR(VLOOKUP($H547,CARRPROT,2,FALSE)),\"\",VLOOKUP($H547,CARRPROT,2,FALSE))","v":""},null,null,null,null,"Presencial",null,0,0]
[{"$f":"IF(H548<>\"\",CONCATENATE(\"2\",MID(H548,2,9)),\"\")","v":""},null,null,null,null,{"$f":"IF(F547<>\"\",F547,\"\")","v":""},{"$f":"IF(G547<>\"\",G547,\"\")","v":""},{"$f":"IF(H547<>\"\",H547,\"\")","v":""},null,null,null,null,null,"Semipresencial",null,{"$f":"R548+T548+V548+X548+Z548+AB548","v":0},{"$f":"S548+U548+W548+Y548+AA548+AC548","v":0}]
[{"$f":"IF(H549<>\"\",CONCATENATE(\"3\",MID(H549,2,9)),\"\")","v":""},null,null,null,null,{"$f":"IF(F547<>\"\",F547,\"\")","v":""},{"$f":"IF(G547<>\"\",G547,\"\")","v":""},{"$f":"IF(H547<>\"\",H547,\"\")","v":""},null,null,null,null,null,"A distancia",null,0,0]
[{"$f":"IF(H550<>\"\",CONCATENATE(\"1\",MID(H550,2,9)),\"\")","v":""},{"$f":"CONCATENATE(F550,H550,LEFT(I550,5))","v":""},{"$f":"IF(AND(B550<>\"\",SUM(R550:AC552)=0),1,0)","v":0},{"$f":"IF(B550<>\"\",IF(OR(F550=\"\",H550=\"\",I550=\"\"),1,0),\"\")","v":""},null,null,"",null,{"$f":"IF(ISERROR(VLOOKUP($H550,CARRPROT,2,FALSE)),\"\",VLOOKUP($H550,CARRPROT,2,FALSE))","v":""},null,null,null,null,"Presencial",null,{"$f":"R550+T550+V550+X550+Z550+AB550","v":0},{"$f":"S550+U550+W550+Y550+AA550+AC550","v":0}]
[{"$f":"IF(H551<>\"\",CONCATENATE(\"2\",MID(H551,2,9)),\"\")","v":""},null,null,null,null,{"$f":"IF(F550<>\"\",F550,\"\")","v":""},{"$f":"IF(G550<>\"\",G550,\"\")","v":""},{"$f":"IF(H550<>\"\",H550,\"\")","v":""},null,null,null,null,null,"Semipresencial",null,0,0]
[{"$f":"IF(H552<>\"\",CONCATENATE(\"3\",MID(H552,2,9)),\"\")","v":""},null,null,null,null,{"$f":"IF(F550<>\"\",F550,\"\")","v":""},{"$f":"IF(G550<>\"\",G550,\"\")","v":""},{"$f":"IF(H550<>\"\",H550,\"\")","v":""},null,null,null,null,null,"A distancia",null,0,0]
[null,null,null,null,null,"Nota:  Los totales de esta tabla deben ser iguales a los de la tabla 208"]
[null,null,null,null,null,210,"POSTULANTES E INGRESANTES EN CARRERAS Y/O PROGRAMAS DE ESTUDIOS DE TRES AÑOS, POR SEXO, SEGÚN DENOMINACIÓN DE LA CARRERA"]
[]
[null,null,null,null,null,"CARRERAS Y/O PROGRAMAS DE ESTUDIOS",null,null,null,null,null,null,null,"SEMESTRE ACADÉMICO 2024-I"]
[null,null,null,null,null,null,null,null,null,null,null,null,null,"POSTULANTES",null,null,null,"INGRESANTES"]
[null,null,null,null,null,"CÓDIGO","DENOMINACIÓN",null,null,null,null,null,null,"H",null,"M",null,"H",null,"M"]
[null,null,null,null,null,"**","******","0000000000",null,null,null,null,null,{"$f":"SUM(N560:O659)","v":0},null,{"$f":"SUM(P560:Q659)","v":0},null,{"$f":"SUM(R560:S659)","v":0},null,{"$f":"SUM(T560:U659)","v":0}]
["1",null,null,null,null,{"$f":"IF(F253<>\"\",F253,\"\")","v":""},{"$f":"IF(G253<>\"\",G253,\"\")","v":""},{"$f":"IF(H253<>\"\",H253,\"\")","v":""},{"$f":"IF(I253<>\"\",I253,\"\")","v":""}]
["2",null,null,null,null,{"$f":"IF(F256<>\"\",F256,\"\")","v":""},{"$f":"IF(G256<>\"\",G256,\"\")","v":""},{"$f":"IF(H256<>\"\",H256,\"\")","v":""},{"$f":"IF(I256<>\"\",I256,\"\")","v":""}]
["3",null,null,null,null,{"$f":"IF(F259<>\"\",F259,\"\")","v":""},{"$f":"IF(G259<>\"\",G259,\"\")","v":""},{"$f":"IF(H259<>\"\",H259,\"\")","v":""},{"$f":"IF(I259<>\"\",I259,\"\")","v":""}]
["4",null,null,null,null,{"$f":"IF(F262<>\"\",F262,\"\")","v":""},{"$f":"IF(G262<>\"\",G262,\"\")","v":""},{"$f":"IF(H262<>\"\",H262,\"\")","v":""},{"$f":"IF(I262<>\"\",I262,\"\")","v":""}]
["5",null,null,null,null,{"$f":"IF(F265<>\"\",F265,\"\")","v":""},{"$f":"IF(G265<>\"\",G265,\"\")","v":""},{"$f":"IF(H265<>\"\",H265,\"\")","v":""},{"$f":"IF(I265<>\"\",I265,\"\")","v":""}]
["6",null,null,null,null,{"$f":"IF(F268<>\"\",F268,\"\")","v":""},{"$f":"IF(G268<>\"\",G268,\"\")","v":""},{"$f":"IF(H268<>\"\",H268,\"\")","v":""},{"$f":"IF(I268<>\"\",I268,\"\")","v":""}]
["7",null,null,null,null,{"$f":"IF(F271<>\"\",F271,\"\")","v":""},{"$f":"IF(G271<>\"\",G271,\"\")","v":""},{"$f":"IF(H271<>\"\",H271,\"\")","v":""},{"$f":"IF(I271<>\"\",I271,\"\")","v":""}]
["8",null,null,null,null,{"$f":"IF(F274<>\"\",F274,\"\")","v":""},{"$f":"IF(G274<>\"\",G274,\"\")","v":""},{"$f":"IF(H274<>\"\",H274,\"\")","v":""},{"$f":"IF(I274<>\"\",I274,\"\")","v":""}]
["9",null,null,null,null,{"$f":"IF(F277<>\"\",F277,\"\")","v":""},{"$f":"IF(G277<>\"\",G277,\"\")","v":""},{"$f":"IF(H277<>\"\",H277,\"\")","v":""},{"$f":"IF(I277<>\"\",I277,\"\")","v":""}]
["10",null,null,null,null,{"$f":"IF(F280<>\"\",F280,\"\")","v":""},{"$f":"IF(G280<>\"\",G280,\"\")","v":""},{"$f":"IF(H280<>\"\",H280,\"\")","v":""},{"$f":"IF(I280<>\"\",I280,\"\")","v":""}]
["11",null,null,null,null,{"$f":"IF(F283<>\"\",F283,\"\")","v":""},{"$f":"IF(G283<>\"\",G283,\"\")","v":""},{"$f":"IF(H283<>\"\",H283,\"\")","v":""},{"$f":"IF(I283<>\"\",I283,\"\")","v":""}]
["12",null,null,null,null,{"$f":"IF(F286<>\"\",F286,\"\")","v":""},{"$f":"IF(G286<>\"\",G286,\"\")","v":""},{"$f":"IF(H286<>\"\",H286,\"\")","v":""},{"$f":"IF(I286<>\"\",I286,\"\")","v":""}]
["13",null,null,null,null,{"$f":"IF(F289<>\"\",F289,\"\")","v":""},{"$f":"IF(G289<>\"\",G289,\"\")","v":""},{"$f":"IF(H289<>\"\",H289,\"\")","v":""},{"$f":"IF(I289<>\"\",I289,\"\")","v":""}]
["14",null,null,null,null,{"$f":"IF(F292<>\"\",F292,\"\")","v":""},{"$f":"IF(G292<>\"\",G292,\"\")","v":""},{"$f":"IF(H292<>\"\",H292,\"\")","v":""},{"$f":"IF(I292<>\"\",I292,\"\")","v":""}]
["15",null,null,null,null,{"$f":"IF(F295<>\"\",F295,\"\")","v":""},{"$f":"IF(G295<>\"\",G295,\"\")","v":""},{"$f":"IF(H295<>\"\",H295,\"\")","v":""},{"$f":"IF(I295<>\"\",I295,\"\")","v":""}]
["16",null,null,null,null,{"$f":"IF(F298<>\"\",F298,\"\")","v":""},{"$f":"IF(G298<>\"\",G298,\"\")","v":""},{"$f":"IF(H298<>\"\",H298,\"\")","v":""},{"$f":"IF(I298<>\"\",I298,\"\")","v":""}]
["17",null,null,null,null,{"$f":"IF(F301<>\"\",F301,\"\")","v":""},{"$f":"IF(G301<>\"\",G301,\"\")","v":""},{"$f":"IF(H301<>\"\",H301,\"\")","v":""},{"$f":"IF(I301<>\"\",I301,\"\")","v":""}]
["18",null,null,null,null,{"$f":"IF(F304<>\"\",F304,\"\")","v":""},{"$f":"IF(G304<>\"\",G304,\"\")","v":""},{"$f":"IF(H304<>\"\",H304,\"\")","v":""},{"$f":"IF(I304<>\"\",I304,\"\")","v":""}]
["19",null,null,null,null,{"$f":"IF(F307<>\"\",F307,\"\")","v":""},{"$f":"IF(G307<>\"\",G307,\"\")","v":""},{"$f":"IF(H307<>\"\",H307,\"\")","v":""},{"$f":"IF(I307<>\"\",I307,\"\")","v":""}]
["20",null,null,null,null,{"$f":"IF(F310<>\"\",F310,\"\")","v":""},{"$f":"IF(G310<>\"\",G310,\"\")","v":""},{"$f":"IF(H310<>\"\",H310,\"\")","v":""},{"$f":"IF(I310<>\"\",I310,\"\")","v":""}]
["21",null,null,null,null,{"$f":"IF(F313<>\"\",F313,\"\")","v":""},{"$f":"IF(G313<>\"\",G313,\"\")","v":""},{"$f":"IF(H313<>\"\",H313,\"\")","v":""},{"$f":"IF(I313<>\"\",I313,\"\")","v":""}]
["22",null,null,null,null,{"$f":"IF(F316<>\"\",F316,\"\")","v":""},{"$f":"IF(G316<>\"\",G316,\"\")","v":""},{"$f":"IF(H316<>\"\",H316,\"\")","v":""},{"$f":"IF(I316<>\"\",I316,\"\")","v":""}]
["23",null,null,null,null,{"$f":"IF(F319<>\"\",F319,\"\")","v":""},{"$f":"IF(G319<>\"\",G319,\"\")","v":""},{"$f":"IF(H319<>\"\",H319,\"\")","v":""},{"$f":"IF(I319<>\"\",I319,\"\")","v":""}]
["24",null,null,null,null,{"$f":"IF(F322<>\"\",F322,\"\")","v":""},{"$f":"IF(G322<>\"\",G322,\"\")","v":""},{"$f":"IF(H322<>\"\",H322,\"\")","v":""},{"$f":"IF(I322<>\"\",I322,\"\")","v":""}]
["25",null,null,null,null,{"$f":"IF(F325<>\"\",F325,\"\")","v":""},{"$f":"IF(G325<>\"\",G325,\"\")","v":""},{"$f":"IF(H325<>\"\",H325,\"\")","v":""},{"$f":"IF(I325<>\"\",I325,\"\")","v":""}]
["26",null,null,null,null,{"$f":"IF(F328<>\"\",F328,\"\")","v":""},{"$f":"IF(G328<>\"\",G328,\"\")","v":""},{"$f":"IF(H328<>\"\",H328,\"\")","v":""},{"$f":"IF(I328<>\"\",I328,\"\")","v":""}]
["27",null,null,null,null,{"$f":"IF(F331<>\"\",F331,\"\")","v":""},{"$f":"IF(G331<>\"\",G331,\"\")","v":""},{"$f":"IF(H331<>\"\",H331,\"\")","v":""},{"$f":"IF(I331<>\"\",I331,\"\")","v":""}]
["28",null,null,null,null,{"$f":"IF(F334<>\"\",F334,\"\")","v":""},{"$f":"IF(G334<>\"\",G334,\"\")","v":""},{"$f":"IF(H334<>\"\",H334,\"\")","v":""},{"$f":"IF(I334<>\"\",I334,\"\")","v":""}]
["29",null,null,null,null,{"$f":"IF(F337<>\"\",F337,\"\")","v":""},{"$f":"IF(G337<>\"\",G337,\"\")","v":""},{"$f":"IF(H337<>\"\",H337,\"\")","v":""},{"$f":"IF(I337<>\"\",I337,\"\")","v":""}]
["30",null,null,null,null,{"$f":"IF(F340<>\"\",F340,\"\")","v":""},{"$f":"IF(G340<>\"\",G340,\"\")","v":""},{"$f":"IF(H340<>\"\",H340,\"\")","v":""},{"$f":"IF(I340<>\"\",I340,\"\")","v":""}]
["31",null,null,null,null,{"$f":"IF(F343<>\"\",F343,\"\")","v":""},{"$f":"IF(G343<>\"\",G343,\"\")","v":""},{"$f":"IF(H343<>\"\",H343,\"\")","v":""},{"$f":"IF(I343<>\"\",I343,\"\")","v":""}]
["32",null,null,null,null,{"$f":"IF(F346<>\"\",F346,\"\")","v":""},{"$f":"IF(G346<>\"\",G346,\"\")","v":""},{"$f":"IF(H346<>\"\",H346,\"\")","v":""},{"$f":"IF(I346<>\"\",I346,\"\")","v":""}]
["33",null,null,null,null,{"$f":"IF(F349<>\"\",F349,\"\")","v":""},{"$f":"IF(G349<>\"\",G349,\"\")","v":""},{"$f":"IF(H349<>\"\",H349,\"\")","v":""},{"$f":"IF(I349<>\"\",I349,\"\")","v":""}]
["34",null,null,null,null,{"$f":"IF(F352<>\"\",F352,\"\")","v":""},{"$f":"IF(G352<>\"\",G352,\"\")","v":""},{"$f":"IF(H352<>\"\",H352,\"\")","v":""},{"$f":"IF(I352<>\"\",I352,\"\")","v":""}]
["35",null,null,null,null,{"$f":"IF(F355<>\"\",F355,\"\")","v":""},{"$f":"IF(G355<>\"\",G355,\"\")","v":""},{"$f":"IF(H355<>\"\",H355,\"\")","v":""},{"$f":"IF(I355<>\"\",I355,\"\")","v":""}]
["36",null,null,null,null,{"$f":"IF(F358<>\"\",F358,\"\")","v":""},{"$f":"IF(G358<>\"\",G358,\"\")","v":""},{"$f":"IF(H358<>\"\",H358,\"\")","v":""},{"$f":"IF(I358<>\"\",I358,\"\")","v":""}]
["37",null,null,null,null,{"$f":"IF(F361<>\"\",F361,\"\")","v":""},{"$f":"IF(G361<>\"\",G361,\"\")","v":""},{"$f":"IF(H361<>\"\",H361,\"\")","v":""},{"$f":"IF(I361<>\"\",I361,\"\")","v":""}]
["38",null,null,null,null,{"$f":"IF(F364<>\"\",F364,\"\")","v":""},{"$f":"IF(G364<>\"\",G364,\"\")","v":""},{"$f":"IF(H364<>\"\",H364,\"\")","v":""},{"$f":"IF(I364<>\"\",I364,\"\")","v":""}]
["39",null,null,null,null,{"$f":"IF(F367<>\"\",F367,\"\")","v":""},{"$f":"IF(G367<>\"\",G367,\"\")","v":""},{"$f":"IF(H367<>\"\",H367,\"\")","v":""},{"$f":"IF(I367<>\"\",I367,\"\")","v":""}]
["40",null,null,null,null,{"$f":"IF(F370<>\"\",F370,\"\")","v":""},"","",""]
["41",null,null,null,null,{"$f":"IF(F373<>\"\",F373,\"\")","v":""},{"$f":"IF(G373<>\"\",G373,\"\")","v":""},{"$f":"IF(H373<>\"\",H373,\"\")","v":""},{"$f":"IF(I373<>\"\",I373,\"\")","v":""}]
["42",null,null,null,null,{"$f":"IF(F376<>\"\",F376,\"\")","v":""},{"$f":"IF(G376<>\"\",G376,\"\")","v":""},{"$f":"IF(H376<>\"\",H376,\"\")","v":""},{"$f":"IF(I376<>\"\",I376,\"\")","v":""}]
["43",null,null,null,null,{"$f":"IF(F379<>\"\",F379,\"\")","v":""},{"$f":"IF(G379<>\"\",G379,\"\")","v":""},{"$f":"IF(H379<>\"\",H379,\"\")","v":""},{"$f":"IF(I379<>\"\",I379,\"\")","v":""}]
["44",null,null,null,null,{"$f":"IF(F382<>\"\",F382,\"\")","v":""},{"$f":"IF(G382<>\"\",G382,\"\")","v":""},{"$f":"IF(H382<>\"\",H382,\"\")","v":""},{"$f":"IF(I382<>\"\",I382,\"\")","v":""}]
["45",null,null,null,null,{"$f":"IF(F385<>\"\",F385,\"\")","v":""},{"$f":"IF(G385<>\"\",G385,\"\")","v":""},{"$f":"IF(H385<>\"\",H385,\"\")","v":""},{"$f":"IF(I385<>\"\",I385,\"\")","v":""}]
["46",null,null,null,null,{"$f":"IF(F388<>\"\",F388,\"\")","v":""},{"$f":"IF(G388<>\"\",G388,\"\")","v":""},{"$f":"IF(H388<>\"\",H388,\"\")","v":""},{"$f":"IF(I388<>\"\",I388,\"\")","v":""}]
["47",null,null,null,null,{"$f":"IF(F391<>\"\",F391,\"\")","v":""},{"$f":"IF(G391<>\"\",G391,\"\")","v":""},{"$f":"IF(H391<>\"\",H391,\"\")","v":""},{"$f":"IF(I391<>\"\",I391,\"\")","v":""}]
["48",null,null,null,null,{"$f":"IF(F394<>\"\",F394,\"\")","v":""},{"$f":"IF(G394<>\"\",G394,\"\")","v":""},{"$f":"IF(H394<>\"\",H394,\"\")","v":""},{"$f":"IF(I394<>\"\",I394,\"\")","v":""}]
["49",null,null,null,null,{"$f":"IF(F397<>\"\",F397,\"\")","v":""},{"$f":"IF(G397<>\"\",G397,\"\")","v":""},{"$f":"IF(H397<>\"\",H397,\"\")","v":""},{"$f":"IF(I397<>\"\",I397,\"\")","v":""}]
["50",null,null,null,null,{"$f":"IF(F400<>\"\",F400,\"\")","v":""},{"$f":"IF(G400<>\"\",G400,\"\")","v":""},{"$f":"IF(H400<>\"\",H400,\"\")","v":""},{"$f":"IF(I400<>\"\",I400,\"\")","v":""}]
["51",null,null,null,null,{"$f":"IF(F403<>\"\",F403,\"\")","v":""},{"$f":"IF(G403<>\"\",G403,\"\")","v":""},{"$f":"IF(H403<>\"\",H403,\"\")","v":""},{"$f":"IF(I403<>\"\",I403,\"\")","v":""}]
["52",null,null,null,null,{"$f":"IF(F406<>\"\",F406,\"\")","v":""},{"$f":"IF(G406<>\"\",G406,\"\")","v":""},{"$f":"IF(H406<>\"\",H406,\"\")","v":""},{"$f":"IF(I406<>\"\",I406,\"\")","v":""}]
["53",null,null,null,null,{"$f":"IF(F409<>\"\",F409,\"\")","v":""},{"$f":"IF(G409<>\"\",G409,\"\")","v":""},{"$f":"IF(H409<>\"\",H409,\"\")","v":""},{"$f":"IF(I409<>\"\",I409,\"\")","v":""}]
["54",null,null,null,null,{"$f":"IF(F412<>\"\",F412,\"\")","v":""},{"$f":"IF(G412<>\"\",G412,\"\")","v":""},{"$f":"IF(H412<>\"\",H412,\"\")","v":""},{"$f":"IF(I412<>\"\",I412,\"\")","v":""}]
["55",null,null,null,null,{"$f":"IF(F415<>\"\",F415,\"\")","v":""},{"$f":"IF(G415<>\"\",G415,\"\")","v":""},{"$f":"IF(H415<>\"\",H415,\"\")","v":""},{"$f":"IF(I415<>\"\",I415,\"\")","v":""}]
["56",null,null,null,null,{"$f":"IF(F418<>\"\",F418,\"\")","v":""},{"$f":"IF(G418<>\"\",G418,\"\")","v":""},{"$f":"IF(H418<>\"\",H418,\"\")","v":""},{"$f":"IF(I418<>\"\",I418,\"\")","v":""}]
["57",null,null,null,null,{"$f":"IF(F421<>\"\",F421,\"\")","v":""},{"$f":"IF(G421<>\"\",G421,\"\")","v":""},{"$f":"IF(H421<>\"\",H421,\"\")","v":""},{"$f":"IF(I421<>\"\",I421,\"\")","v":""}]
["58",null,null,null,null,{"$f":"IF(F424<>\"\",F424,\"\")","v":""},{"$f":"IF(G424<>\"\",G424,\"\")","v":""},{"$f":"IF(H424<>\"\",H424,\"\")","v":""},{"$f":"IF(I424<>\"\",I424,\"\")","v":""}]
["59",null,null,null,null,{"$f":"IF(F427<>\"\",F427,\"\")","v":""},{"$f":"IF(G427<>\"\",G427,\"\")","v":""},{"$f":"IF(H427<>\"\",H427,\"\")","v":""},{"$f":"IF(I427<>\"\",I427,\"\")","v":""}]
["60",null,null,null,null,{"$f":"IF(F430<>\"\",F430,\"\")","v":""},"","",""]
["61",null,null,null,null,{"$f":"IF(F433<>\"\",F433,\"\")","v":""},{"$f":"IF(G433<>\"\",G433,\"\")","v":""},{"$f":"IF(H433<>\"\",H433,\"\")","v":""},{"$f":"IF(I433<>\"\",I433,\"\")","v":""}]
["62",null,null,null,null,{"$f":"IF(F436<>\"\",F436,\"\")","v":""},{"$f":"IF(G436<>\"\",G436,\"\")","v":""},{"$f":"IF(H436<>\"\",H436,\"\")","v":""},{"$f":"IF(I436<>\"\",I436,\"\")","v":""}]
["63",null,null,null,null,{"$f":"IF(F439<>\"\",F439,\"\")","v":""},{"$f":"IF(G439<>\"\",G439,\"\")","v":""},{"$f":"IF(H439<>\"\",H439,\"\")","v":""},{"$f":"IF(I439<>\"\",I439,\"\")","v":""}]
["64",null,null,null,null,{"$f":"IF(F442<>\"\",F442,\"\")","v":""},{"$f":"IF(G442<>\"\",G442,\"\")","v":""},{"$f":"IF(H442<>\"\",H442,\"\")","v":""},{"$f":"IF(I442<>\"\",I442,\"\")","v":""}]
["65",null,null,null,null,{"$f":"IF(F445<>\"\",F445,\"\")","v":""},{"$f":"IF(G445<>\"\",G445,\"\")","v":""},{"$f":"IF(H445<>\"\",H445,\"\")","v":""},{"$f":"IF(I445<>\"\",I445,\"\")","v":""}]
["66",null,null,null,null,{"$f":"IF(F448<>\"\",F448,\"\")","v":""},{"$f":"IF(G448<>\"\",G448,\"\")","v":""},{"$f":"IF(H448<>\"\",H448,\"\")","v":""},{"$f":"IF(I448<>\"\",I448,\"\")","v":""}]
["67",null,null,null,null,{"$f":"IF(F451<>\"\",F451,\"\")","v":""},{"$f":"IF(G451<>\"\",G451,\"\")","v":""},{"$f":"IF(H451<>\"\",H451,\"\")","v":""},{"$f":"IF(I451<>\"\",I451,\"\")","v":""}]
["68",null,null,null,null,{"$f":"IF(F454<>\"\",F454,\"\")","v":""},{"$f":"IF(G454<>\"\",G454,\"\")","v":""},{"$f":"IF(H454<>\"\",H454,\"\")","v":""},{"$f":"IF(I454<>\"\",I454,\"\")","v":""}]
["69",null,null,null,null,{"$f":"IF(F457<>\"\",F457,\"\")","v":""},{"$f":"IF(G457<>\"\",G457,\"\")","v":""},{"$f":"IF(H457<>\"\",H457,\"\")","v":""},{"$f":"IF(I457<>\"\",I457,\"\")","v":""}]
["70",null,null,null,null,{"$f":"IF(F460<>\"\",F460,\"\")","v":""},{"$f":"IF(G460<>\"\",G460,\"\")","v":""},{"$f":"IF(H460<>\"\",H460,\"\")","v":""},{"$f":"IF(I460<>\"\",I460,\"\")","v":""}]
["71",null,null,null,null,{"$f":"IF(F463<>\"\",F463,\"\")","v":""},{"$f":"IF(G463<>\"\",G463,\"\")","v":""},{"$f":"IF(H463<>\"\",H463,\"\")","v":""},{"$f":"IF(I463<>\"\",I463,\"\")","v":""}]
["72",null,null,null,null,{"$f":"IF(F466<>\"\",F466,\"\")","v":""},{"$f":"IF(G466<>\"\",G466,\"\")","v":""},{"$f":"IF(H466<>\"\",H466,\"\")","v":""},{"$f":"IF(I466<>\"\",I466,\"\")","v":""}]
["73",null,null,null,null,{"$f":"IF(F469<>\"\",F469,\"\")","v":""},{"$f":"IF(G469<>\"\",G469,\"\")","v":""},{"$f":"IF(H469<>\"\",H469,\"\")","v":""},{"$f":"IF(I469<>\"\",I469,\"\")","v":""}]
["74",null,null,null,null,{"$f":"IF(F472<>\"\",F472,\"\")","v":""},{"$f":"IF(G472<>\"\",G472,\"\")","v":""},{"$f":"IF(H472<>\"\",H472,\"\")","v":""},{"$f":"IF(I472<>\"\",I472,\"\")","v":""}]
["75",null,null,null,null,{"$f":"IF(F475<>\"\",F475,\"\")","v":""},{"$f":"IF(G475<>\"\",G475,\"\")","v":""},{"$f":"IF(H475<>\"\",H475,\"\")","v":""},{"$f":"IF(I475<>\"\",I475,\"\")","v":""}]
["76",null,null,null,null,{"$f":"IF(F478<>\"\",F478,\"\")","v":""},{"$f":"IF(G478<>\"\",G478,\"\")","v":""},{"$f":"IF(H478<>\"\",H478,\"\")","v":""},{"$f":"IF(I478<>\"\",I478,\"\")","v":""}]
["77",null,null,null,null,{"$f":"IF(F481<>\"\",F481,\"\")","v":""},{"$f":"IF(G481<>\"\",G481,\"\")","v":""},{"$f":"IF(H481<>\"\",H481,\"\")","v":""},{"$f":"IF(I481<>\"\",I481,\"\")","v":""}]
["78",null,null,null,null,{"$f":"IF(F484<>\"\",F484,\"\")","v":""},{"$f":"IF(G484<>\"\",G484,\"\")","v":""},{"$f":"IF(H484<>\"\",H484,\"\")","v":""},{"$f":"IF(I484<>\"\",I484,\"\")","v":""}]
["79",null,null,null,null,{"$f":"IF(F487<>\"\",F487,\"\")","v":""},{"$f":"IF(G487<>\"\",G487,\"\")","v":""},{"$f":"IF(H487<>\"\",H487,\"\")","v":""},{"$f":"IF(I487<>\"\",I487,\"\")","v":""}]
["80",null,null,null,null,{"$f":"IF(F490<>\"\",F490,\"\")","v":""},"","",""]
["81",null,null,null,null,{"$f":"IF(F493<>\"\",F493,\"\")","v":""},{"$f":"IF(G493<>\"\",G493,\"\")","v":""},{"$f":"IF(H493<>\"\",H493,\"\")","v":""},{"$f":"IF(I493<>\"\",I493,\"\")","v":""}]
["82",null,null,null,null,{"$f":"IF(F496<>\"\",F496,\"\")","v":""},{"$f":"IF(G496<>\"\",G496,\"\")","v":""},{"$f":"IF(H496<>\"\",H496,\"\")","v":""},{"$f":"IF(I496<>\"\",I496,\"\")","v":""}]
["83",null,null,null,null,{"$f":"IF(F499<>\"\",F499,\"\")","v":""},{"$f":"IF(G499<>\"\",G499,\"\")","v":""},{"$f":"IF(H499<>\"\",H499,\"\")","v":""},{"$f":"IF(I499<>\"\",I499,\"\")","v":""}]
["84",null,null,null,null,{"$f":"IF(F502<>\"\",F502,\"\")","v":""},{"$f":"IF(G502<>\"\",G502,\"\")","v":""},{"$f":"IF(H502<>\"\",H502,\"\")","v":""},{"$f":"IF(I502<>\"\",I502,\"\")","v":""}]
["85",null,null,null,null,{"$f":"IF(F505<>\"\",F505,\"\")","v":""},{"$f":"IF(G505<>\"\",G505,\"\")","v":""},{"$f":"IF(H505<>\"\",H505,\"\")","v":""},{"$f":"IF(I505<>\"\",I505,\"\")","v":""}]
["86",null,null,null,null,{"$f":"IF(F508<>\"\",F508,\"\")","v":""},{"$f":"IF(G508<>\"\",G508,\"\")","v":""},{"$f":"IF(H508<>\"\",H508,\"\")","v":""},{"$f":"IF(I508<>\"\",I508,\"\")","v":""}]
["87",null,null,null,null,{"$f":"IF(F511<>\"\",F511,\"\")","v":""},{"$f":"IF(G511<>\"\",G511,\"\")","v":""},{"$f":"IF(H511<>\"\",H511,\"\")","v":""},{"$f":"IF(I511<>\"\",I511,\"\")","v":""}]
["88",null,null,null,null,{"$f":"IF(F514<>\"\",F514,\"\")","v":""},{"$f":"IF(G514<>\"\",G514,\"\")","v":""},{"$f":"IF(H514<>\"\",H514,\"\")","v":""},{"$f":"IF(I514<>\"\",I514,\"\")","v":""}]
["89",null,null,null,null,{"$f":"IF(F517<>\"\",F517,\"\")","v":""},{"$f":"IF(G517<>\"\",G517,\"\")","v":""},{"$f":"IF(H517<>\"\",H517,\"\")","v":""},{"$f":"IF(I517<>\"\",I517,\"\")","v":""}]
["90",null,null,null,null,{"$f":"IF(F520<>\"\",F520,\"\")","v":""},{"$f":"IF(G520<>\"\",G520,\"\")","v":""},{"$f":"IF(H520<>\"\",H520,\"\")","v":""},{"$f":"IF(I520<>\"\",I520,\"\")","v":""}]
["91",null,null,null,null,{"$f":"IF(F523<>\"\",F523,\"\")","v":""},{"$f":"IF(G523<>\"\",G523,\"\")","v":""},{"$f":"IF(H523<>\"\",H523,\"\")","v":""},{"$f":"IF(I523<>\"\",I523,\"\")","v":""}]
["92",null,null,null,null,{"$f":"IF(F526<>\"\",F526,\"\")","v":""},{"$f":"IF(G526<>\"\",G526,\"\")","v":""},{"$f":"IF(H526<>\"\",H526,\"\")","v":""},{"$f":"IF(I526<>\"\",I526,\"\")","v":""}]
["93",null,null,null,null,{"$f":"IF(F529<>\"\",F529,\"\")","v":""},{"$f":"IF(G529<>\"\",G529,\"\")","v":""},{"$f":"IF(H529<>\"\",H529,\"\")","v":""},{"$f":"IF(I529<>\"\",I529,\"\")","v":""}]
["94",null,null,null,null,{"$f":"IF(F532<>\"\",F532,\"\")","v":""},{"$f":"IF(G532<>\"\",G532,\"\")","v":""},{"$f":"IF(H532<>\"\",H532,\"\")","v":""},{"$f":"IF(I532<>\"\",I532,\"\")","v":""}]
["95",null,null,null,null,{"$f":"IF(F535<>\"\",F535,\"\")","v":""},{"$f":"IF(G535<>\"\",G535,\"\")","v":""},{"$f":"IF(H535<>\"\",H535,\"\")","v":""},{"$f":"IF(I535<>\"\",I535,\"\")","v":""}]
["96",null,null,null,null,{"$f":"IF(F538<>\"\",F538,\"\")","v":""},{"$f":"IF(G538<>\"\",G538,\"\")","v":""},{"$f":"IF(H538<>\"\",H538,\"\")","v":""},{"$f":"IF(I538<>\"\",I538,\"\")","v":""}]
["97",null,null,null,null,{"$f":"IF(F541<>\"\",F541,\"\")","v":""},{"$f":"IF(G541<>\"\",G541,\"\")","v":""},{"$f":"IF(H541<>\"\",H541,\"\")","v":""},{"$f":"IF(I541<>\"\",I541,\"\")","v":""}]
["98",null,null,null,null,{"$f":"IF(F544<>\"\",F544,\"\")","v":""},{"$f":"IF(G544<>\"\",G544,\"\")","v":""},{"$f":"IF(H544<>\"\",H544,\"\")","v":""},{"$f":"IF(I544<>\"\",I544,\"\")","v":""}]
["99",null,null,null,null,{"$f":"IF(F547<>\"\",F547,\"\")","v":""},{"$f":"IF(G547<>\"\",G547,\"\")","v":""},{"$f":"IF(H547<>\"\",H547,\"\")","v":""},{"$f":"IF(I547<>\"\",I547,\"\")","v":""}]
["100",null,null,null,null,{"$f":"IF(F550<>\"\",F550,\"\")","v":""},"","",""]
[]
[null,null,null,null,null,211,"INGRESANTES EN CARRERAS Y/O PROGRAMAS DE ESTUDIOS DE TRES AÑOS, POR EDAD, SEGÚN SEXO"]
[]
[null,null,null,null,null,"SEXO",null,"TOTAL","EDAD EN AÑOS CUMPLIDOS AL 31 DE MARZO DE 2024 / SEMESTRE 2024-I"]
[null,null,null,null,null,null,null,null,15,16,17,18,19,20,21,22,23,24,"25-29","30-34","35-39","40-44","45-49","50-54","55-59","60\ny más"]
["01",null,null,null,null,"Hombre",null,{"$f":"SUM(I665:Z665)","v":0}]
["02",null,null,null,null,"Mujer",null,{"$f":"SUM(I666:Z666)","v":0}]
[null,null,null,null,null,"Nota: Los totales de esta tabla deben ser iguales a los reportados en la columna “Ingresantes” de la tabla 210."]
[null,null,null,null,null,212,"MATRICULA EN CARRERAS Y/O PROGRAMAS DE ESTUDIOS DE TRES AÑOS POR EDAD Y SEXO, SEGÚN TIPO DE PROGRAMA DE REPARACIONES\nEN EDUCACIÓN (Ley N° 28592)"]
[]
[null,null,null,null,null,"TIPO DE PROGRAMA DE\nREPARACIÓN EN EDUCACIÓN",null,null,null,"TOTAL",null,"EDAD"]
[null,null,null,null,null,null,null,null,null,null,null,15,null,16,null,17,null,18,null,19,null,20,null,21,null,22]
[null,null,null,null,null,null,null,null,null,"H","M","H","M","H","M","H","M","H","M","H","M","H","M","H","M","H","M"]
["00",null,null,null,null,"TOTAL",null,null,null,{"$f":"L673+N673+P673+R673+T673+V673+X673+Z673+AB673","v":0},{"$f":"M673+O673+Q673+S673+U673+W673+Y673+AA673+AC673","v":0},{"$f":"SUM(L674:L677)","v":0},{"$f":"SUM(M674:M677)","v":0},{"$f":"SUM(N674:N677)","v":0},0,0,0,0,0,0,0,0,0,0,0,0,0,{"$f":"J682+L682+N682+P682+R682+T682+V682+X682+Z682+AB682","v":0},{"$f":"K682+M682+O682+Q682+S682+U682+W682+Y682+AA682+AC682","v":0},{"$f":"L673+N673+P673+R673+T673+V673+X673+Z673","v":0},{"$f":"M673+O673+Q673+S673+U673+W673+Y673+AA673","v":0}]
["01",null,null,null,null,"RUV - Víctimas directas",null,null,null,{"$f":"L674+N674+P674+R674+T674+V674+X674+Z674+AB674","v":0},0,null,null,null,null,null,null,null,null,null,null,null,null,null,null,null,null,{"$f":"J683+L683+N683+P683+R683+T683+V683+X683+Z683+AB683","v":0},0,{"$f":"L674+N674+P674+R674+T674+V674+X674+Z674","v":0},{"$f":"M674+O674+Q674+S674+U674+W674+Y674+AA674","v":0}]
["02",null,null,null,null,"REBRED-Transferencias de beneficios",null,null,null,0,0,null,null,null,null,null,null,null,null,null,null,null,null,null,null,null,null,0,0,0,0]
["03",null,null,null,null,"Otros Programas del Estado",null,null,null,0,0,null,null,null,null,null,null,null,null,null,null,null,null,null,null,null,null,0,0,0,0]
["04",null,null,null,null,"Estudiante no beneficiado",null,null,null,0,0,null,null,null,null,null,null,null,null,null,null,null,null,null,null,null,null,0,0,0,0]
[null,null,null,null,null,"CONTINUACIÓN CUADRO 212 …."]
[null,null,null,null,null,"TIPO DE PROGRAMA DE\nREPARACIÓN EN EDUCACIÓN",null,null,null,"EDAD"]
[null,null,null,null,null,null,null,null,null,23,null,24,null,"25-29",null,"30-34",null,"35-39",null,"40-44",null,"45-49",null,"50-54",null,"55-59",null,"60 y más"]
[null,null,null,null,null,null,null,null,null,"H","M","H","M","H","M","H","M","H","M","H","M","H","M","H","M","H","M","H","M"]
["00",null,null,null,null,"TOTAL",null,null,null,{"$f":"SUM(J683:J686)","v":0},0,0,0,0,0,0,0,0,0,0,0,0,0,0,0,0,0,0,0]
["01",null,null,null,null,"RUV - Víctimas directas"]
["02",null,null,null,null,"REBRED-Transferencias de beneficios"]
["03",null,null,null,null,"Otros Programas del Estado"]
["04",null,null,null,null,"Estudiante no beneficiado"]
[null,null,null,null,null,"Nota: El total de esta tabla debe ser igual a la tabla 208"]
[null,null,null,null,null,213," MATRÍCULA EN CARRERAS Y/O PROGRAMAS DE ESTUDIOS DE TRES AÑOS, POR CICLOS Y SEXO, SEGÚN LENGUA MATERNA CON LA CUAL APRENDIO HABLAR EN SU NIÑEZ."]
[]
[null,null,null,null,null,"CÓDIGO","LENGUA MATERNA",null,null,"TOTAL",null,"CICLO"]
[null,null,null,null,null,null,null,null,null,null,null,"I",null,"II",null,"III",null,"IV",null,"V",null,"VI"]
[null,null,null,null,null,null,null,null,null,"H","M","H","M","H","M","H","M","H","M","H","M","H","M"]
[null,null,null,null,null,"0000: TOTAL",null,null,null,{"$f":"L693+N693+P693+R693+T693+V693","v":0},{"$f":"M693+O693+Q693+S693+U693+W693","v":0},{"$f":"SUM(L694:L738)","v":0},0,0,0,0,0,0,0,0,0,0,0]
["1",null,null,null,null,null,null,null,null,0,0]
["2",null,null,null,null,null,null,null,null,0,0]
["3",null,null,null,null,null,null,null,null,0,0]
["4",null,null,null,null,null,null,null,null,{"$f":"L697+N697+P697+R697+T697+V697","v":0},{"$f":"M697+O697+Q697+S697+U697+W697","v":0}]
["5",null,null,null,null,null,null,null,null,0,0]
["6",null,null,null,null,null,null,null,null,0,0]
["7",null,null,null,null,null,null,null,null,0,0]
["8",null,null,null,null,null,null,null,null,0,0]
["9",null,null,null,null,null,null,null,null,0,0]
["10",null,null,null,null,null,null,null,null,0,0]
["11",null,null,null,null,null,null,null,null,0,0]
["12",null,null,null,null,null,null,null,null,0,0]
["13",null,null,null,null,null,null,null,null,0,0]
["14",null,null,null,null,null,null,null,null,0,0]
["15",null,null,null,null,null,null,null,null,0,0]
["16",null,null,null,null,null,null,null,null,0,0]
["17",null,null,null,null,null,null,null,null,0,0]
["18",null,null,null,null,null,null,null,null,0,0]
["19",null,null,null,null,null,null,null,null,0,0]
["20",null,null,null,null,null,null,null,null,0,0]
["21",null,null,null,null,null,null,null,null,0,0]
["22",null,null,null,null,null,null,null,null,0,0]
["23",null,null,null,null,null,null,null,null,0,0]
["24",null,null,null,null,null,null,null,null,0,0]
["25",null,null,null,null,null,null,null,null,0,0]
["26",null,null,null,null,null,null,null,null,0,0]
["27",null,null,null,null,null,null,null,null,0,0]
["28",null,null,null,null,null,null,null,null,0,0]
["29",null,null,null,null,null,null,null,null,0,0]
["30",null,null,null,null,null,null,null,null,0,0]
["31",null,null,null,null,null,null,null,null,0,0]
["32",null,null,null,null,null,null,null,null,0,0]
["33",null,null,null,null,null,null,null,null,0,0]
["34",null,null,null,null,null,null,null,null,0,0]
["35",null,null,null,null,null,null,null,null,0,0]
["36",null,null,null,null,null,null,null,null,{"$f":"L729+N729+P729+R729+T729+V729","v":0},{"$f":"M729+O729+Q729+S729+U729+W729","v":0}]
["37",null,null,null,null,null,null,null,null,0,0]
["38",null,null,null,null,null,null,null,null,0,0]
["39",null,null,null,null,null,null,null,null,0,0]
["40",null,null,null,null,null,null,null,null,0,0]
["41",null,null,null,null,null,null,null,null,0,0]
["42",null,null,null,null,null,null,null,null,0,0]
["43",null,null,null,null,null,null,null,null,0,0]
["44",null,null,null,null,null,null,null,null,0,0]
["45",null,null,null,null,null,null,null,null,0,0]
[null,null,null,null,null,"Nota: El total de esta tabla debe ser igual a la tabla 208"]
[null,null,null,null,null,214,"NÚMERO TOTAL DE SECCIONES EN CARRERAS Y/O PROGRAMAS DE ESTUDIOS DE TRES AÑOS, POR CICLO, SEGÚN TURNO"]
[]
[null,null,null,null,null,"TURNO",null,null,null,"TOTAL","CICLO"]
[null,null,null,null,null,null,null,null,null,null,"I","II","III","IV","V","VI"]
["00",null,null,null,null,"TOTAL",null,null,null,{"$f":"SUM(K744:P744)","v":0},{"$f":"SUM(K745:K747)","v":0},0,0,0,0,0]
["01",null,null,null,null,"Mañana",null,null,null,{"$f":"SUM(K745:P745)","v":0}]
["02",null,null,null,null,"Tarde",null,null,null,{"$f":"SUM(K746:P746)","v":0}]
["03",null,null,null,null,"Noche",null,null,null,{"$f":"SUM(K747:P747)","v":0}]
[null,null,null,null,null,"Solo registre el número de secciones que tiene, por ciclo de estudio según turno"]
[]
[null,null,null,null,null,"200. MATRÍCULA Y SECCIONES PARA DOS AÑOS (Para Institutos o Escuelas Públicas y Privadas)"]
[]
[null,null,null,null,null,215,"MATRÍCULA EN CARRERAS Y/O PROGRAMAS DE ESTUDIOS DE DOS AÑOS, POR CICLOS Y SEXO, SEGÚN EDAD\n(Sumar todos los turnos). Registrar la información del semestre académico 2024-I"]
[]
[null,null,null,null,null,null,null,null,"TOTAL",null,"CICLO"]
[null,null,null,null,null,"EDADES","MODALIDADES",null,null,null,"I",null,"II",null,"III",null,"IV"]
[null,null,null,null,null,null,null,null,"H","M","H","M","H","M","H","M","H","M"]
["0000",null,null,null,null,"TOTAL",null,null,{"$f":"K757+M757+O757+Q757","v":0},{"$f":"L757+N757+P757+R757","v":0},{"$f":"SUM(K758:K811)","v":0},0,0,0,0,0,0,0]
["15-1",{"$f":"SUM(I758:I760)","v":0},{"$f":"SUM(J758:J760)","v":0},{"$f":"F758","v":15},null,15,"Presencial",null,0,0]
["15-2",{"$f":"SUM(I761:I763)","v":0},{"$f":"SUM(J761:J763)","v":0},{"$f":"F761","v":16},null,null,"Semipresencial",null,0,0]
["15-3",{"$f":"SUM(I764:I766)","v":0},{"$f":"SUM(J764:J766)","v":0},{"$f":"F764","v":17},null,null,"A distancia",null,0,0]
[{"$f":"CONCATENATE(F761,\"-1\")","v":"16-1"},{"$f":"SUM(I767:I769)","v":0},{"$f":"SUM(J767:J769)","v":0},{"$f":"F767","v":18},null,16,"Presencial",null,0,0]
[{"$f":"CONCATENATE(F761,\"-2\")","v":"16-2"},{"$f":"SUM(I770:I772)","v":0},{"$f":"SUM(J770:J772)","v":0},{"$f":"F770","v":19},null,null,"Semipresencial",null,0,0]
[{"$f":"CONCATENATE(F761,\"-3\")","v":"16-3"},{"$f":"SUM(I773:I775)","v":0},{"$f":"SUM(J773:J775)","v":0},{"$f":"F773","v":20},null,null,"A distancia",null,0,0]
[{"$f":"CONCATENATE(F764,\"-1\")","v":"17-1"},{"$f":"SUM(I776:I778)","v":0},{"$f":"SUM(J776:J778)","v":0},{"$f":"F776","v":21},null,17,"Presencial",null,0,0]
[{"$f":"CONCATENATE(F764,\"-2\")","v":"17-2"},{"$f":"SUM(I779:I781)","v":0},{"$f":"SUM(J779:J781)","v":0},{"$f":"F779","v":22},null,null,"Semipresencial",null,0,0]
[{"$f":"CONCATENATE(F764,\"-3\")","v":"17-3"},null,null,null,null,null,"A distancia",null,0,0]
[{"$f":"CONCATENATE(F767,\"-1\")","v":"18-1"},null,null,null,null,18,"Presencial",null,0,0]
[{"$f":"CONCATENATE(F767,\"-2\")","v":"18-2"},null,null,null,null,null,"Semipresencial",null,0,0]
[{"$f":"CONCATENATE(F767,\"-3\")","v":"18-3"},null,null,null,null,null,"A distancia",null,0,0]
[{"$f":"CONCATENATE(F770,\"-1\")","v":"19-1"},null,null,null,null,19,"Presencial",null,0,0]
[{"$f":"CONCATENATE(F770,\"-2\")","v":"19-2"},null,null,null,null,null,"Semipresencial",null,0,0]
[{"$f":"CONCATENATE(F770,\"-3\")","v":"19-3"},null,null,null,null,null,"A distancia",null,0,0]
[{"$f":"CONCATENATE(F773,\"-1\")","v":"20-1"},null,null,null,null,20,"Presencial",null,0,0]
[{"$f":"CONCATENATE(F773,\"-2\")","v":"20-2"},null,null,null,null,null,"Semipresencial",null,0,0]
[{"$f":"CONCATENATE(F773,\"-3\")","v":"20-3"},null,null,null,null,null,"A distancia",null,0,0]
[{"$f":"CONCATENATE(F776,\"-1\")","v":"21-1"},null,null,null,null,21,"Presencial",null,0,0]
[{"$f":"CONCATENATE(F776,\"-2\")","v":"21-2"},null,null,null,null,null,"Semipresencial",null,0,0]
[{"$f":"CONCATENATE(F776,\"-3\")","v":"21-3"},null,null,null,null,null,"A distancia",null,0,0]
[{"$f":"CONCATENATE(F779,\"-1\")","v":"22-1"},null,null,null,null,22,"Presencial",null,0,0]
[{"$f":"CONCATENATE(F779,\"-2\")","v":"22-2"},null,null,null,null,null,"Semipresencial",null,0,0]
[{"$f":"CONCATENATE(F779,\"-3\")","v":"22-3"},null,null,null,null,null,"A distancia",null,0,0]
[{"$f":"CONCATENATE(F782,\"-1\")","v":"23-1"},{"$f":"SUM(I782:I784)","v":0},{"$f":"SUM(J782:J784)","v":0},{"$f":"F782","v":23},null,23,"Presencial",null,0,0]
[{"$f":"CONCATENATE(F782,\"-2\")","v":"23-2"},{"$f":"SUM(I785:I787)","v":0},{"$f":"SUM(J785:J787)","v":0},{"$f":"F785","v":24},null,null,"Semipresencial",null,0,0]
[{"$f":"CONCATENATE(F782,\"-3\")","v":"23-3"},{"$f":"SUM(I788:I790)","v":0},{"$f":"SUM(J788:J790)","v":0},{"$f":"F788","v":"25 - 29"},null,null,"A distancia",null,0,0]
[{"$f":"CONCATENATE(F785,\"-1\")","v":"24-1"},{"$f":"SUM(I791:I793)","v":0},{"$f":"SUM(J791:J793)","v":0},{"$f":"F791","v":"30 - 34"},null,24,"Presencial",null,0,0]
[{"$f":"CONCATENATE(F785,\"-2\")","v":"24-2"},{"$f":"SUM(I794:I796)","v":0},{"$f":"SUM(J794:J796)","v":0},{"$f":"F794","v":"35 - 39"},null,null,"Semipresencial",null,0,0]
[{"$f":"CONCATENATE(F785,\"-3\")","v":"24-3"},{"$f":"SUM(I797:I799)","v":0},{"$f":"SUM(J797:J799)","v":0},{"$f":"F797","v":"40 - 44"},null,null,"A distancia",null,0,0]
[{"$f":"CONCATENATE(LEFT(F788,2),\"-1\")","v":"25-1"},{"$f":"SUM(I800:I802)","v":0},{"$f":"SUM(J800:J802)","v":0},{"$f":"F800","v":"45 - 49"},null,"25 - 29","Presencial",null,0,0]
[{"$f":"CONCATENATE(LEFT(F788,2),\"-2\")","v":"25-2"},{"$f":"SUM(I803:I805)","v":0},{"$f":"SUM(J803:J805)","v":0},{"$f":"F803","v":"50 - 54"},null,null,"Semipresencial",null,{"$f":"K789+M789+O789+Q789","v":0},{"$f":"L789+N789+P789+R789","v":0}]
[{"$f":"CONCATENATE(LEFT(F788,2),\"-3\")","v":"25-3"},{"$f":"SUM(I806:I808)","v":0},{"$f":"SUM(J806:J808)","v":0},{"$f":"F806","v":"55 - 59"},null,null,"A distancia",null,0,0]
[{"$f":"CONCATENATE(LEFT(F791,2),\"-1\")","v":"30-1"},{"$f":"SUM(I809:I811)","v":0},{"$f":"SUM(J809:J811)","v":0},{"$f":"F809","v":"60 y más"},null,"30 - 34","Presencial",null,0,0]
[{"$f":"CONCATENATE(LEFT(F791,2),\"-2\")","v":"30-2"},null,null,null,null,null,"Semipresencial",null,0,0]
[{"$f":"CONCATENATE(LEFT(F791,2),\"-3\")","v":"30-3"},null,null,null,null,null,"A distancia",null,0,0]
[{"$f":"CONCATENATE(LEFT(F794,2),\"-1\")","v":"35-1"},null,null,null,null,"35 - 39","Presencial",null,0,0]
[{"$f":"CONCATENATE(LEFT(F794,2),\"-2\")","v":"35-2"},null,null,null,null,null,"Semipresencial",null,0,0]
[{"$f":"CONCATENATE(LEFT(F794,2),\"-3\")","v":"35-3"},null,null,null,null,null,"A distancia",null,0,0]
[{"$f":"CONCATENATE(LEFT(F797,2),\"-1\")","v":"40-1"},null,null,null,null,"40 - 44","Presencial",null,0,0]
[{"$f":"CONCATENATE(LEFT(F797,2),\"-2\")","v":"40-2"},null,null,null,null,null,"Semipresencial",null,0,0]
[{"$f":"CONCATENATE(LEFT(F797,2),\"-3\")","v":"40-3"},null,null,null,null,null,"A distancia",null,0,0]
[{"$f":"CONCATENATE(LEFT(F800,2),\"-1\")","v":"45-1"},null,null,null,null,"45 - 49","Presencial",null,0,0]
[{"$f":"CONCATENATE(LEFT(F800,2),\"-2\")","v":"45-2"},null,null,null,null,null,"Semipresencial",null,0,0]
[{"$f":"CONCATENATE(LEFT(F800,2),\"-3\")","v":"45-3"},null,null,null,null,null,"A distancia",null,0,0]
[{"$f":"CONCATENATE(LEFT(F803,2),\"-1\")","v":"50-1"},null,null,null,null,"50 - 54","Presencial",null,0,0]
[{"$f":"CONCATENATE(LEFT(F803,2),\"-2\")","v":"50-2"},null,null,null,null,null,"Semipresencial",null,0,0]
[{"$f":"CONCATENATE(LEFT(F803,2),\"-3\")","v":"50-3"},null,null,null,null,null,"A distancia",null,0,0]
[{"$f":"CONCATENATE(LEFT(F806,2),\"-1\")","v":"55-1"},null,null,null,null,"55 - 59","Presencial",null,0,0]
[{"$f":"CONCATENATE(LEFT(F806,2),\"-2\")","v":"55-2"},null,null,null,null,null,"Semipresencial",null,0,0]
[{"$f":"CONCATENATE(LEFT(F806,2),\"-3\")","v":"55-3"},null,null,null,null,null,"A distancia",null,0,0]
[{"$f":"CONCATENATE(LEFT(F809,2),\"-1\")","v":"60-1"},null,null,null,null,"60 y más","Presencial",null,0,0]
[{"$f":"CONCATENATE(LEFT(F809,2),\"-2\")","v":"60-2"},null,null,null,null,null,"Semipresencial",null,0,0]
[{"$f":"CONCATENATE(LEFT(F809,2),\"-3\")","v":"60-3"},null,null,null,null,null,"A distancia",null,0,0]
[null,null,null,null,null,"Nota: Incluya a los estudiantes con algún tipo de discapacidad u otra condición"]
[null,null,null,null,null,216,"MATRÍCULA EN CARRERAS Y/O PROGRAMAS DE ESTUDIOS DE DOS AÑOS, POR CICLOS Y SEXO, SEGÚN SEDE Y DENOMINACIÓN DE LA CARRERA (Sumar todos los turnos).  Semestre académico 2024-I"]
[]
[null,null,null,null,null,"CÓDIGO DE SEDE","CÓDIGO DE LOCAL","CARRERAS Y/O PROGRAMAS CICLO DE ESTUDIOS",null,null,null,null,null,null,null,"TOTAL 2/",null,"CICLO"]
[null,null,null,null,null,null,null,null,null,null,null,null,null,"MODALIDADES",null,null,null,"I",null,"II",null,"III",null,"IV"]
[null,null,null,null,null,null,null,"CÓDIGO","DENOMINACIÓN",null,null,null,null,null,null,"H","M","H","M","H","M","H","M","H","M"]
[{"$f":"H818","v":"0000000000"},null,null,null,null,"**","******","0000000000","TOTAL",null,null,null,null,null,null,{"$f":"R818+T818+V818+X818","v":0},{"$f":"S818+U818+W818+Y818","v":0},{"$f":"SUM(R819:R846)","v":0},0,0,0,0,0,0,0]
[{"$f":"IF(H819<>\"\",CONCATENATE(\"1\",MID(H819,2,9)),\"\")","v":""},{"$f":"CONCATENATE(F819,H819,LEFT(I819,5))","v":""},{"$f":"IF(AND(B819<>\"\",SUM(R819:Y821)=0),1,0)","v":0},{"$f":"IF(B819<>\"\",IF(OR(F819=\"\",H819=\"\",I819=\"\"),1,0),\"\")","v":""},null,null,{"$f":"IF(ISERROR(VLOOKUP(F819,Locales,2,FALSE)),\"\",VLOOKUP(F819,Locales,2,FALSE))","v":""},null,{"$f":"IF(ISERROR(VLOOKUP($H819,CARRTEC,2,FALSE)),\"\",VLOOKUP($H819,CARRTEC,2,FALSE))","v":""},null,null,null,null,"Presencial",null,{"$f":"R819+T819+V819+X819","v":0},0]
[{"$f":"IF(H820<>\"\",CONCATENATE(\"2\",MID(H820,2,9)),\"\")","v":""},null,null,null,null,{"$f":"IF(F819<>\"\",F819,\"\")","v":""},{"$f":"IF(G819<>\"\",G819,\"\")","v":""},{"$f":"IF(H819<>\"\",H819,\"\")","v":""},null,null,null,null,null,"Semipresencial",null,{"$f":"R820+T820+V820+X820","v":0},{"$f":"S820+U820+W820+Y820","v":0}]
[{"$f":"IF(H821<>\"\",CONCATENATE(\"3\",MID(H821,2,9)),\"\")","v":""},null,null,null,null,{"$f":"IF(F819<>\"\",F819,\"\")","v":""},{"$f":"IF(G819<>\"\",G819,\"\")","v":""},{"$f":"IF(H819<>\"\",H819,\"\")","v":""},null,null,null,null,null,"A distancia",null,0,0]
[{"$f":"IF(H822<>\"\",CONCATENATE(\"1\",MID(H822,2,9)),\"\")","v":""},{"$f":"CONCATENATE(F822,H822,LEFT(I822,5))","v":""},{"$f":"IF(AND(B822<>\"\",SUM(R822:Y824)=0),1,0)","v":0},{"$f":"IF(B822<>\"\",IF(OR(F822=\"\",H822=\"\",I822=\"\"),1,0),\"\")","v":""},null,null,{"$f":"IF(ISERROR(VLOOKUP(F822,Locales,2,FALSE)),\"\",VLOOKUP(F822,Locales,2,FALSE))","v":""},null,{"$f":"IF(ISERROR(VLOOKUP($H822,CARRTEC,2,FALSE)),\"\",VLOOKUP($H822,CARRTEC,2,FALSE))","v":""},null,null,null,null,"Presencial",null,0,0]
[{"$f":"IF(H823<>\"\",CONCATENATE(\"2\",MID(H823,2,9)),\"\")","v":""},null,null,null,null,{"$f":"IF(F822<>\"\",F822,\"\")","v":""},{"$f":"IF(G822<>\"\",G822,\"\")","v":""},{"$f":"IF(H822<>\"\",H822,\"\")","v":""},null,null,null,null,null,"Semipresencial",null,{"$f":"R823+T823+V823+X823","v":0},{"$f":"S823+U823+W823+Y823","v":0}]
[{"$f":"IF(H824<>\"\",CONCATENATE(\"3\",MID(H824,2,9)),\"\")","v":""},null,null,null,null,{"$f":"IF(F822<>\"\",F822,\"\")","v":""},{"$f":"IF(G822<>\"\",G822,\"\")","v":""},{"$f":"IF(H822<>\"\",H822,\"\")","v":""},null,null,null,null,null,"A distancia",null,0,0]
[{"$f":"IF(H825<>\"\",CONCATENATE(\"1\",MID(H825,2,9)),\"\")","v":""},{"$f":"CONCATENATE(F825,H825,LEFT(I825,5))","v":""},{"$f":"IF(AND(B825<>\"\",SUM(R825:Y827)=0),1,0)","v":0},{"$f":"IF(B825<>\"\",IF(OR(F825=\"\",H825=\"\",I825=\"\"),1,0),\"\")","v":""},null,null,{"$f":"IF(ISERROR(VLOOKUP(F825,Locales,2,FALSE)),\"\",VLOOKUP(F825,Locales,2,FALSE))","v":""},null,{"$f":"IF(ISERROR(VLOOKUP($H825,CARRTEC,2,FALSE)),\"\",VLOOKUP($H825,CARRTEC,2,FALSE))","v":""},null,null,null,null,"Presencial",null,0,0]
[{"$f":"IF(H826<>\"\",CONCATENATE(\"2\",MID(H826,2,9)),\"\")","v":""},null,null,null,null,{"$f":"IF(F825<>\"\",F825,\"\")","v":""},{"$f":"IF(G825<>\"\",G825,\"\")","v":""},{"$f":"IF(H825<>\"\",H825,\"\")","v":""},null,null,null,null,null,"Semipresencial",null,0,0]
[{"$f":"IF(H827<>\"\",CONCATENATE(\"3\",MID(H827,2,9)),\"\")","v":""},null,null,null,null,{"$f":"IF(F825<>\"\",F825,\"\")","v":""},{"$f":"IF(G825<>\"\",G825,\"\")","v":""},{"$f":"IF(H825<>\"\",H825,\"\")","v":""},null,null,null,null,null,"A distancia",null,0,0]
[{"$f":"IF(H828<>\"\",CONCATENATE(\"1\",MID(H828,2,9)),\"\")","v":""},{"$f":"CONCATENATE(F828,H828,LEFT(I828,5))","v":""},{"$f":"IF(AND(B828<>\"\",SUM(R828:Y830)=0),1,0)","v":0},{"$f":"IF(B828<>\"\",IF(OR(F828=\"\",H828=\"\",I828=\"\"),1,0),\"\")","v":""},null,null,"",null,{"$f":"IF(ISERROR(VLOOKUP($H828,CARRTEC,2,FALSE)),\"\",VLOOKUP($H828,CARRTEC,2,FALSE))","v":""},null,null,null,null,"Presencial",null,0,0]
[{"$f":"IF(H829<>\"\",CONCATENATE(\"2\",MID(H829,2,9)),\"\")","v":""},null,null,null,null,{"$f":"IF(F828<>\"\",F828,\"\")","v":""},{"$f":"IF(G828<>\"\",G828,\"\")","v":""},{"$f":"IF(H828<>\"\",H828,\"\")","v":""},null,null,null,null,null,"Semipresencial",null,0,0]
[{"$f":"IF(H830<>\"\",CONCATENATE(\"3\",MID(H830,2,9)),\"\")","v":""},null,null,null,null,{"$f":"IF(F828<>\"\",F828,\"\")","v":""},{"$f":"IF(G828<>\"\",G828,\"\")","v":""},{"$f":"IF(H828<>\"\",H828,\"\")","v":""},null,null,null,null,null,"A distancia",null,0,0]
[{"$f":"IF(H831<>\"\",CONCATENATE(\"1\",MID(H831,2,9)),\"\")","v":""},{"$f":"CONCATENATE(F831,H831,LEFT(I831,5))","v":""},{"$f":"IF(AND(B831<>\"\",SUM(R831:Y833)=0),1,0)","v":0},{"$f":"IF(B831<>\"\",IF(OR(F831=\"\",H831=\"\",I831=\"\"),1,0),\"\")","v":""},null,null,"",null,{"$f":"IF(ISERROR(VLOOKUP($H831,CARRTEC,2,FALSE)),\"\",VLOOKUP($H831,CARRTEC,2,FALSE))","v":""},null,null,null,null,"Presencial",null,0,0]
[{"$f":"IF(H832<>\"\",CONCATENATE(\"2\",MID(H832,2,9)),\"\")","v":""},null,null,null,null,{"$f":"IF(F831<>\"\",F831,\"\")","v":""},{"$f":"IF(G831<>\"\",G831,\"\")","v":""},{"$f":"IF(H831<>\"\",H831,\"\")","v":""},null,null,null,null,null,"Semipresencial",null,0,0]
[{"$f":"IF(H833<>\"\",CONCATENATE(\"3\",MID(H833,2,9)),\"\")","v":""},null,null,null,null,{"$f":"IF(F831<>\"\",F831,\"\")","v":""},{"$f":"IF(G831<>\"\",G831,\"\")","v":""},{"$f":"IF(H831<>\"\",H831,\"\")","v":""},null,null,null,null,null,"A distancia",null,0,0]
[{"$f":"IF(H834<>\"\",CONCATENATE(\"1\",MID(H834,2,9)),\"\")","v":""},{"$f":"CONCATENATE(F834,H834,LEFT(I834,5))","v":""},{"$f":"IF(AND(B834<>\"\",SUM(R834:Y836)=0),1,0)","v":0},{"$f":"IF(B834<>\"\",IF(OR(F834=\"\",H834=\"\",I834=\"\"),1,0),\"\")","v":""},null,null,"",null,{"$f":"IF(ISERROR(VLOOKUP($H834,CARRTEC,2,FALSE)),\"\",VLOOKUP($H834,CARRTEC,2,FALSE))","v":""},null,null,null,null,"Presencial",null,0,0]
[{"$f":"IF(H835<>\"\",CONCATENATE(\"2\",MID(H835,2,9)),\"\")","v":""},null,null,null,null,{"$f":"IF(F834<>\"\",F834,\"\")","v":""},{"$f":"IF(G834<>\"\",G834,\"\")","v":""},{"$f":"IF(H834<>\"\",H834,\"\")","v":""},null,null,null,null,null,"Semipresencial",null,0,0]
[{"$f":"IF(H836<>\"\",CONCATENATE(\"3\",MID(H836,2,9)),\"\")","v":""},null,null,null,null,{"$f":"IF(F834<>\"\",F834,\"\")","v":""},{"$f":"IF(G834<>\"\",G834,\"\")","v":""},{"$f":"IF(H834<>\"\",H834,\"\")","v":""},null,null,null,null,null,"A distancia",null,0,0]
[{"$f":"IF(H837<>\"\",CONCATENATE(\"1\",MID(H837,2,9)),\"\")","v":""},{"$f":"CONCATENATE(F837,H837,LEFT(I837,5))","v":""},{"$f":"IF(AND(B837<>\"\",SUM(R837:Y839)=0),1,0)","v":0},{"$f":"IF(B837<>\"\",IF(OR(F837=\"\",H837=\"\",I837=\"\"),1,0),\"\")","v":""},null,null,"",null,{"$f":"IF(ISERROR(VLOOKUP($H837,CARRTEC,2,FALSE)),\"\",VLOOKUP($H837,CARRTEC,2,FALSE))","v":""},null,null,null,null,"Presencial",null,0,0]
[{"$f":"IF(H838<>\"\",CONCATENATE(\"2\",MID(H838,2,9)),\"\")","v":""},null,null,null,null,{"$f":"IF(F837<>\"\",F837,\"\")","v":""},{"$f":"IF(G837<>\"\",G837,\"\")","v":""},{"$f":"IF(H837<>\"\",H837,\"\")","v":""},null,null,null,null,null,"Semipresencial",null,0,0]
[{"$f":"IF(H839<>\"\",CONCATENATE(\"3\",MID(H839,2,9)),\"\")","v":""},null,null,null,null,{"$f":"IF(F837<>\"\",F837,\"\")","v":""},{"$f":"IF(G837<>\"\",G837,\"\")","v":""},{"$f":"IF(H837<>\"\",H837,\"\")","v":""},null,null,null,null,null,"A distancia",null,0,0]
[{"$f":"IF(H840<>\"\",CONCATENATE(\"1\",MID(H840,2,9)),\"\")","v":""},{"$f":"CONCATENATE(F840,H840,LEFT(I840,5))","v":""},{"$f":"IF(AND(B840<>\"\",SUM(R840:Y842)=0),1,0)","v":0},{"$f":"IF(B840<>\"\",IF(OR(F840=\"\",H840=\"\",I840=\"\"),1,0),\"\")","v":""},null,null,"",null,{"$f":"IF(ISERROR(VLOOKUP($H840,CARRTEC,2,FALSE)),\"\",VLOOKUP($H840,CARRTEC,2,FALSE))","v":""},null,null,null,null,"Presencial",null,0,0]
[{"$f":"IF(H841<>\"\",CONCATENATE(\"2\",MID(H841,2,9)),\"\")","v":""},null,null,null,null,{"$f":"IF(F840<>\"\",F840,\"\")","v":""},{"$f":"IF(G840<>\"\",G840,\"\")","v":""},{"$f":"IF(H840<>\"\",H840,\"\")","v":""},null,null,null,null,null,"Semipresencial",null,0,0]
[{"$f":"IF(H842<>\"\",CONCATENATE(\"3\",MID(H842,2,9)),\"\")","v":""},null,null,null,null,{"$f":"IF(F840<>\"\",F840,\"\")","v":""},{"$f":"IF(G840<>\"\",G840,\"\")","v":""},{"$f":"IF(H840<>\"\",H840,\"\")","v":""},null,null,null,null,null,"A distancia",null,0,0]
[{"$f":"IF(H843<>\"\",CONCATENATE(\"1\",MID(H843,2,9)),\"\")","v":""},{"$f":"CONCATENATE(F843,H843,LEFT(I843,5))","v":""},{"$f":"IF(AND(B843<>\"\",SUM(R843:Y845)=0),1,0)","v":0},{"$f":"IF(B843<>\"\",IF(OR(F843=\"\",H843=\"\",I843=\"\"),1,0),\"\")","v":""},null,null,"",null,{"$f":"IF(ISERROR(VLOOKUP($H843,CARRTEC,2,FALSE)),\"\",VLOOKUP($H843,CARRTEC,2,FALSE))","v":""},null,null,null,null,"Presencial",null,0,0]
[{"$f":"IF(H844<>\"\",CONCATENATE(\"2\",MID(H844,2,9)),\"\")","v":""},null,null,null,null,{"$f":"IF(F843<>\"\",F843,\"\")","v":""},{"$f":"IF(G843<>\"\",G843,\"\")","v":""},{"$f":"IF(H843<>\"\",H843,\"\")","v":""},null,null,null,null,null,"Semipresencial",null,{"$f":"R844+T844+V844+X844","v":0},{"$f":"S844+U844+W844+Y844","v":0}]
[{"$f":"IF(H845<>\"\",CONCATENATE(\"3\",MID(H845,2,9)),\"\")","v":""},null,null,null,null,{"$f":"IF(F843<>\"\",F843,\"\")","v":""},{"$f":"IF(G843<>\"\",G843,\"\")","v":""},{"$f":"IF(H843<>\"\",H843,\"\")","v":""},null,null,null,null,null,"A distancia",null,0,0]
[{"$f":"IF(H846<>\"\",CONCATENATE(\"1\",MID(H846,2,9)),\"\")","v":""},{"$f":"CONCATENATE(F846,H846,LEFT(I846,5))","v":""},{"$f":"IF(AND(B846<>\"\",SUM(R846:Y848)=0),1,0)","v":0},{"$f":"IF(B846<>\"\",IF(OR(F846=\"\",H846=\"\",I846=\"\"),1,0),\"\")","v":""},null,null,"",null,{"$f":"IF(ISERROR(VLOOKUP($H846,CARRTEC,2,FALSE)),\"\",VLOOKUP($H846,CARRTEC,2,FALSE))","v":""},null,null,null,null,"Presencial",null,{"$f":"R846+T846+V846+X846","v":0},{"$f":"S846+U846+W846+Y846","v":0}]
[{"$f":"IF(H847<>\"\",CONCATENATE(\"2\",MID(H847,2,9)),\"\")","v":""},null,null,null,null,{"$f":"IF(F846<>\"\",F846,\"\")","v":""},{"$f":"IF(G846<>\"\",G846,\"\")","v":""},{"$f":"IF(H846<>\"\",H846,\"\")","v":""},null,null,null,null,null,"Semipresencial",null,{"$f":"R847+T847+V847+X847","v":0},{"$f":"S847+U847+W847+Y847","v":0}]
[{"$f":"IF(H848<>\"\",CONCATENATE(\"3\",MID(H848,2,9)),\"\")","v":""},null,null,null,null,{"$f":"IF(F846<>\"\",F846,\"\")","v":""},{"$f":"IF(G846<>\"\",G846,\"\")","v":""},{"$f":"IF(H846<>\"\",H846,\"\")","v":""},null,null,null,null,null,"A distancia",null,0,0]
[null,null,null,null,null,"2/ Los totales de esta tabla deben ser iguales a los de la tabla 203."]
[null,null,null,null,null,217,"POSTULANTES E INGRESANTES EN CARRERAS Y/O PROGRAMAS DE ESTUDIOS DE DOS AÑOS, POR SEXO, SEGÚN DENOMINACIÓN DE LA CARRERA "]
[]
[null,null,null,null,null,"CARRERAS Y/O PROGRAMAS DE ESTUDIOS",null,null,null,null,null,null,null,"SEMESTRE ACADÉMICO 2024-I"]
[null,null,null,null,null,null,null,null,null,null,null,null,null,"POSTULANTES",null,null,null,"INGRESANTES"]
[null,null,null,null,null,"SEDE","LOCAL","CÓDIGO","DENOMINACIÓN",null,null,null,null,"H",null,"M",null,"H",null,"M"]
[null,null,null,null,null,"**","******","000000000",null,null,null,null,null,{"$f":"SUM(N856:O865)","v":0},null,{"$f":"SUM(P856:Q865)","v":0},null,{"$f":"SUM(R856:S865)","v":0},null,{"$f":"SUM(T856:U865)","v":0}]
[null,null,null,null,null,{"$f":"IF(F819<>\"\",F819,\"\")","v":""},{"$f":"IF(G819<>\"\",G819,\"\")","v":""},{"$f":"IF(H819<>\"\",H819,\"\")","v":""},{"$f":"IF(I819<>\"\",I819,\"\")","v":""}]
[null,null,null,null,null,{"$f":"IF(F822<>\"\",F822,\"\")","v":""},{"$f":"IF(G822<>\"\",G822,\"\")","v":""},{"$f":"IF(H822<>\"\",H822,\"\")","v":""},{"$f":"IF(I822<>\"\",I822,\"\")","v":""}]
[null,null,null,null,null,{"$f":"IF(F825<>\"\",F825,\"\")","v":""},{"$f":"IF(G825<>\"\",G825,\"\")","v":""},{"$f":"IF(H825<>\"\",H825,\"\")","v":""},{"$f":"IF(I825<>\"\",I825,\"\")","v":""}]
[null,null,null,null,null,{"$f":"IF(F828<>\"\",F828,\"\")","v":""},{"$f":"IF(G828<>\"\",G828,\"\")","v":""},{"$f":"IF(H828<>\"\",H828,\"\")","v":""},{"$f":"IF(I828<>\"\",I828,\"\")","v":""}]
[null,null,null,null,null,{"$f":"IF(F831<>\"\",F831,\"\")","v":""},{"$f":"IF(G831<>\"\",G831,\"\")","v":""},{"$f":"IF(H831<>\"\",H831,\"\")","v":""},{"$f":"IF(I831<>\"\",I831,\"\")","v":""}]
[null,null,null,null,null,{"$f":"IF(F834<>\"\",F834,\"\")","v":""},{"$f":"IF(G834<>\"\",G834,\"\")","v":""},{"$f":"IF(H834<>\"\",H834,\"\")","v":""},{"$f":"IF(I834<>\"\",I834,\"\")","v":""}]
[null,null,null,null,null,{"$f":"IF(F837<>\"\",F837,\"\")","v":""},{"$f":"IF(G837<>\"\",G837,\"\")","v":""},{"$f":"IF(H837<>\"\",H837,\"\")","v":""},{"$f":"IF(I837<>\"\",I837,\"\")","v":""}]
[null,null,null,null,null,{"$f":"IF(F840<>\"\",F840,\"\")","v":""},{"$f":"IF(G840<>\"\",G840,\"\")","v":""},{"$f":"IF(H840<>\"\",H840,\"\")","v":""},{"$f":"IF(I840<>\"\",I840,\"\")","v":""}]
[null,null,null,null,null,{"$f":"IF(F843<>\"\",F843,\"\")","v":""},{"$f":"IF(G843<>\"\",G843,\"\")","v":""},{"$f":"IF(H843<>\"\",H843,\"\")","v":""},{"$f":"IF(I843<>\"\",I843,\"\")","v":""}]
[null,null,null,null,null,{"$f":"IF(F846<>\"\",F846,\"\")","v":""},"","",""]
[]
[null,null,null,null,null,218,"INGRESANTES EN CARRERAS Y/O PROGRAMAS DE ESTUDIOS DE DOS AÑOS, POR EDAD, SEGÚN SEXO"]
[]
[null,null,null,null,null,"SEXO",null,"TOTAL","EDAD EN AÑOS CUMPLIDOS AL 31 DE MARZO DE 2024 / SEMESTRE 2024-I"]
[null,null,null,null,null,null,null,null,15,16,17,18,19,20,21,22,23,24,"25-29","30-34","35-39","40-44","45-49","50-54","55-59","60\ny más"]
["01",null,null,null,null,"Hombre",null,{"$f":"SUM(I871:Z871)","v":0}]
["02",null,null,null,null,"Mujer",null,{"$f":"SUM(I872:Z872)","v":0}]
[null,null,null,null,null,"Nota: Los totales de esta tabla deben ser iguales a los reportados en la columna “Ingresantes” de la tabla 217"]
[null,null,null,null,null,219,"MATRICULA EN CARRERAS Y/O PROGRAMAS DE ESTUDIOS DE DOS AÑOS POR EDAD Y SEXO, SEGÚN TIPO DE PROGRAMA DE REPARACIONES EN EDUCACIÓN (Ley N° 28592)"]
[]
[null,null,null,null,null,"TIPO DE PROGRAMA DE\nREPARACIÓN EN EDUCACIÓN",null,null,null,"TOTAL",null,"EDAD"]
[null,null,null,null,null,null,null,null,null,null,null,15,null,16,null,17,null,18,null,19,null,20,null,21,null,22]
[null,null,null,null,null,null,null,null,null,"H","M","H","M","H","M","H","M","H","M","H","M","H","M","H","M","H","M"]
["00",null,null,null,null,"TOTAL",null,null,null,{"$f":"L879+N879+P879+R879+T879+V879+X879+Z879+AB879","v":0},{"$f":"M879+O879+Q879+S879+U879+W879+Y879+AA879+AC879","v":0},{"$f":"SUM(L880:L883)","v":0},{"$f":"SUM(M880:M883)","v":0},{"$f":"SUM(N880:N883)","v":0},0,0,0,0,0,0,0,0,0,0,0,0,0,{"$f":"J888+L888+N888+P888+R888+T888+V888+X888+Z888+AB888","v":0},{"$f":"K888+M888+O888+Q888+S888+U888+W888+Y888+AA888+AC888","v":0},{"$f":"L879+N879+P879+R879+T879+V879+X879+Z879","v":0},{"$f":"M879+O879+Q879+S879+U879+W879+Y879+AA879","v":0}]
["01",null,null,null,null,"RUV - Víctimas directas",null,null,null,{"$f":"L880+N880+P880+R880+T880+V880+X880+Z880+AB880","v":0},0,null,null,null,null,null,null,null,null,null,null,null,null,null,null,null,null,{"$f":"J889+L889+N889+P889+R889+T889+V889+X889+Z889+AB889","v":0},0,{"$f":"L880+N880+P880+R880+T880+V880+X880+Z880","v":0},{"$f":"M880+O880+Q880+S880+U880+W880+Y880+AA880","v":0}]
["02",null,null,null,null,"REBRED-Transferencias de beneficios",null,null,null,0,0,null,null,null,null,null,null,null,null,null,null,null,null,null,null,null,null,0,0,0,0]
["03",null,null,null,null,"Otros Programas del Estado",null,null,null,0,0,null,null,null,null,null,null,null,null,null,null,null,null,null,null,null,null,0,0,0,0]
["04",null,null,null,null,"Estudiante no beneficiado",null,null,null,0,0,null,null,null,null,null,null,null,null,null,null,null,null,null,null,null,null,0,0,0,0]
[null,null,null,null,null,"CONTINUACIÓN CUADRO 217 …."]
[null,null,null,null,null,"TIPO DE PROGRAMA DE\nREPARACIÓN EN EDUCACIÓN",null,null,null,"EDAD"]
[null,null,null,null,null,null,null,null,null,23,null,24,null,"25-29",null,"30-34",null,"35-39",null,"40-44",null,"45-49",null,"50-54",null,"55-59",null,"60 y más"]
[null,null,null,null,null,null,null,null,null,"H","M","H","M","H","M","H","M","H","M","H","M","H","M","H","M","H","M","H","M"]
["00",null,null,null,null,"TOTAL",null,null,null,{"$f":"SUM(J889:J892)","v":0},0,0,0,0,0,0,0,0,0,0,0,0,0,0,0,0,0,0,0]
["01",null,null,null,null,"RUV - Víctimas directas"]
["02",null,null,null,null,"REBRED-Transferencias de beneficios"]
["03",null,null,null,null,"Otros Programas del Estado"]
["04",null,null,null,null,"Estudiante no beneficiado"]
[null,null,null,null,null,"Nota: El total de esta tabla debe ser igual a la tabla 203"]
[null,null,null,null,null,220,"MATRÍCULA EN CARRERAS Y/O PROGRAMAS DE ESTUDIOS DE DOS AÑOS, POR CICLOS Y SEXO, SEGÚN LENGUA MATERNA CON LA CUAL APRENDIO HABLAR EN SU NIÑEZ"]
[]
[null,null,null,null,null,"CÓDIGO","LENGUA MATERNA",null,null,"TOTAL",null,"CICLO"]
[null,null,null,null,null,null,null,null,null,null,null,"I",null,"II",null,"III",null,"IV"]
[null,null,null,null,null,null,null,null,null,"H","M","H","M","H","M","H","M","H","M"]
[null,null,null,null,null,"0000: TOTAL",null,null,null,{"$f":"L899+N899+P899+R899","v":0},{"$f":"M899+O899+Q899+S899","v":0},{"$f":"SUM(L900:L919)","v":0},0,0,0,0,0,0,0]
["1",null,null,null,null,null,null,null,null,0,0]
["2",null,null,null,null,null,null,null,null,0,0]
["3",null,null,null,null,null,null,null,null,{"$f":"L902+N902+P902+R902","v":0},{"$f":"M902+O902+Q902+S902","v":0}]
["4",null,null,null,null,null,null,null,null,0,0]
["5",null,null,null,null,null,null,null,null,0,0]
["6",null,null,null,null,null,null,null,null,0,0]
["7",null,null,null,null,null,null,null,null,0,0]
["8",null,null,null,null,null,null,null,null,0,0]
["9",null,null,null,null,null,null,null,null,0,0]
["10",null,null,null,null,null,null,null,null,0,0]
["11",null,null,null,null,null,null,null,null,0,0]
["12",null,null,null,null,null,null,null,null,0,0]
["13",null,null,null,null,null,null,null,null,0,0]
["14",null,null,null,null,null,null,null,null,0,0]
["15",null,null,null,null,null,null,null,null,0,0]
["16",null,null,null,null,null,null,null,null,0,0]
["17",null,null,null,null,null,null,null,null,0,0]
["20",null,null,null,null,null,null,null,null,0,0]
["21",null,null,null,null,null,null,null,null,0,0]
["22",null,null,null,null,null,null,null,null,0,0]
[null,null,null,null,null,"Nota: El total de esta tabla debe ser igual a la tabla 203"]
[null,null,null,null,null,221,"NÚMERO TOTAL DE SECCIONES EN CARRERAS Y/O PROGRAMAS DE ESTUDIOS DE DOS AÑOS, POR CICLO, SEGÚN TURNO"]
[]
[null,null,null,null,null,"TURNO",null,null,null,"TOTAL","CICLO"]
[null,null,null,null,null,null,null,null,null,null,"I","II","III","IV"]
["00",null,null,null,null,"TOTAL",null,null,null,{"$f":"SUM(K925:N925)","v":0},{"$f":"SUM(K926:K928)","v":0},{"$f":"SUM(L926:L928)","v":0},{"$f":"SUM(M926:M928)","v":0},{"$f":"SUM(N926:N928)","v":0}]
["01",null,null,null,null,"Mañana",null,null,null,{"$f":"SUM(K926:N926)","v":0}]
["02",null,null,null,null,"Tarde",null,null,null,{"$f":"SUM(K927:N927)","v":0}]
["03",null,null,null,null,"Noche",null,null,null,{"$f":"SUM(K928:N928)","v":0}]
[null,null,null,null,null,"Solo registre el número de secciones que tiene, por ciclo de estudio según turno"]
[null,null,null,null,null,222,"MATRÍCULA POR TIPO DE DISCAPACIDAD U OTRA CONDICIÓN, SEGÚN CARRERAS O PROGRAMAS DE ESTUDIOS - (Para dos, tres y cuatro años a más)"]
[]
[null,null,null,null,null,"CARRERAS Y/O PROGRAMAS DE ESTUDIOS",null,null,null,null,null,null,null,"TOTAL",null,"Discapacidad Intelectual",null,null,null,null,null,"Discapacidad Auditiva",null,null,null,"Discapacidad Visual",null,null,null,"Discapacidad Física o Motora",null,"Trastorno del Espectro Autista",null,"Sordoceguera",null,"Multidis-capacidad",null,"Otra discapacidad u otra condición",null," Ninguna  discapacidad",null,null,null,null,null,null,null,null,null,null,null,null,null,null,null,null,"Otra NEE",null,"Ninguna NEE"]
[null,null,null,null,null,null,null,null,null,null,null,null,null,null,null,"Retardo mental leve",null,"Retardo mental moderado",null,"Retardo mental severo",null,"Hipoacusia",null,"Sordera total",null,"Baja visión",null,"Ceguera"]
[null,null,null,null,null,"CÓDIGO","DENOMINACIÓN",null,null,null,null,null,null,"H","M","H","M","H","M","H","M","H","M","H","M","H","M","H","M","H","M","H","M","H","M","H","M","H","M","H","M"]
[null,null,null,null,null,"0000000000","TOTAL",null,null,null,null,null,null,{"$f":"SUM(N936:N1025)","v":0},{"$f":"SUM(O936:O1025)","v":0},{"$f":"SUM(P936:P1025)","v":0},{"$f":"SUM(Q936:Q1025)","v":0},{"$f":"SUM(R936:R1025)","v":0},0,0,0,0,0,0,0,0,0,0,0,0,0,0,0,{"$f":"SUM(AH936:AH1025)","v":0},0,0,0,0,0,0,{"$f":"SUM(AO936:AO1025)","v":0}]
[{"$f":"IF(ISERROR(VLOOKUP(F936,CARRPROF,2,FALSE)),\"\",VLOOKUP(F936,CARRPROF,2,FALSE))","v":""},{"$f":"IF(ISERROR(VLOOKUP(F936,CARRPROT,2,FALSE)),\"\",VLOOKUP(F936,CARRPROT,2,FALSE))","v":""},{"$f":"IF(ISERROR(VLOOKUP(F936,CARRTEC,2,FALSE)),\"\",VLOOKUP(F936,CARRTEC,2,FALSE))","v":""},null,null,null,{"$f":"CONCATENATE(A936,B936,C936)","v":""},null,null,null,null,null,null,{"$f":"P936+R936+T936+V936+X936+Z936+AB936+AD936+AF936+AH936+AJ936+AL936+AN936","v":0},{"$f":"Q936+S936+U936+W936+Y936+AA936+AC936+AE936+AG936+AI936+AK936+AM936+AO936","v":0}]
["","","",null,null,null,{"$f":"CONCATENATE(A937,B937,C937)","v":""},null,null,null,null,null,null,0,0]
["","","",null,null,null,{"$f":"CONCATENATE(A938,B938,C938)","v":""},null,null,null,null,null,null,0,0]
["","","",null,null,null,"",null,null,null,null,null,null,0,0]
["","","",null,null,null,"",null,null,null,null,null,null,0,0]
["","","",null,null,null,"",null,null,null,null,null,null,0,0]
["","","",null,null,null,"",null,null,null,null,null,null,0,0]
["","","",null,null,null,"",null,null,null,null,null,null,0,0]
["","","",null,null,null,"",null,null,null,null,null,null,0,0]
["","","",null,null,null,"",null,null,null,null,null,null,0,0]
["","","",null,null,null,"",null,null,null,null,null,null,0,0]
["","","",null,null,null,"",null,null,null,null,null,null,0,0]
["","","",null,null,null,"",null,null,null,null,null,null,0,0]
["","","",null,null,null,"",null,null,null,null,null,null,0,0]
["","","",null,null,null,"",null,null,null,null,null,null,0,0]
["","","",null,null,null,"",null,null,null,null,null,null,0,0]
["","","",null,null,null,"",null,null,null,null,null,null,0,0]
["","","",null,null,null,"",null,null,null,null,null,null,0,0]
["","","",null,null,null,"",null,null,null,null,null,null,0,0]
["","","",null,null,null,"",null,null,null,null,null,null,0,0]
["","","",null,null,null,"",null,null,null,null,null,null,0,0]
["","","",null,null,null,"",null,null,null,null,null,null,0,0]
["","","",null,null,null,"",null,null,null,null,null,null,0,0]
["","","",null,null,null,"",null,null,null,null,null,null,0,0]
["","","",null,null,null,"",null,null,null,null,null,null,0,0]
["","","",null,null,null,"",null,null,null,null,null,null,0,0]
["","","",null,null,null,"",null,null,null,null,null,null,0,0]
["","","",null,null,null,"",null,null,null,null,null,null,0,0]
["","","",null,null,null,"",null,null,null,null,null,null,{"$f":"P964+R964+T964+V964+X964+Z964+AB964+AD964+AF964+AH964+AJ964+AL964+AN964","v":0},{"$f":"Q964+S964+U964+W964+Y964+AA964+AC964+AE964+AG964+AI964+AK964+AM964+AO964","v":0}]
["","","",null,null,null,"",null,null,null,null,null,null,0,0]
["","","",null,null,null,"",null,null,null,null,null,null,0,0]
["","","",null,null,null,"",null,null,null,null,null,null,0,0]
[{"$f":"IF(ISERROR(VLOOKUP(F968,CARRPROF,2,FALSE)),\"\",VLOOKUP(F968,CARRPROF,2,FALSE))","v":""},{"$f":"IF(ISERROR(VLOOKUP(F968,CARRPROT,2,FALSE)),\"\",VLOOKUP(F968,CARRPROT,2,FALSE))","v":""},{"$f":"IF(ISERROR(VLOOKUP(F968,CARRTEC,2,FALSE)),\"\",VLOOKUP(F968,CARRTEC,2,FALSE))","v":""},null,null,null,"",null,null,null,null,null,null,0,0]
["","","",null,null,null,"",null,null,null,null,null,null,0,0]
["","","",null,null,null,"",null,null,null,null,null,null,0,0]
["","","",null,null,null,"",null,null,null,null,null,null,0,0]
["","","",null,null,null,"",null,null,null,null,null,null,0,0]
["","","",null,null,null,"",null,null,null,null,null,null,0,0]
["","","",null,null,null,"",null,null,null,null,null,null,0,0]
["","","",null,null,null,"",null,null,null,null,null,null,0,0]
["","","",null,null,null,"",null,null,null,null,null,null,0,0]
["","","",null,null,null,"",null,null,null,null,null,null,0,0]
["","","",null,null,null,"",null,null,null,null,null,null,0,0]
["","","",null,null,null,"",null,null,null,null,null,null,0,0]
["","","",null,null,null,"",null,null,null,null,null,null,0,0]
["","","",null,null,null,"",null,null,null,null,null,null,0,0]
["","","",null,null,null,"",null,null,null,null,null,null,0,0]
["","","",null,null,null,"",null,null,null,null,null,null,0,0]
["","","",null,null,null,"",null,null,null,null,null,null,0,0]
["","","",null,null,null,"",null,null,null,null,null,null,0,0]
["","","",null,null,null,"",null,null,null,null,null,null,0,0]
["","","",null,null,null,"",null,null,null,null,null,null,0,0]
["","","",null,null,null,"",null,null,null,null,null,null,0,0]
["","","",null,null,null,"",null,null,null,null,null,null,0,0]
["","","",null,null,null,"",null,null,null,null,null,null,0,0]
["","","",null,null,null,"",null,null,null,null,null,null,0,0]
["","","",null,null,null,"",null,null,null,null,null,null,0,0]
["","","",null,null,null,"",null,null,null,null,null,null,0,0]
["","","",null,null,null,"",null,null,null,null,null,null,0,0]
["","","",null,null,null,"",null,null,null,null,null,null,{"$f":"P995+R995+T995+V995+X995+Z995+AB995+AD995+AF995+AH995+AJ995+AL995+AN995","v":0},{"$f":"Q995+S995+U995+W995+Y995+AA995+AC995+AE995+AG995+AI995+AK995+AM995+AO995","v":0}]
["","","",null,null,null,"",null,null,null,null,null,null,0,0]
["","","",null,null,null,"",null,null,null,null,null,null,0,0]
["","","",null,null,null,"",null,null,null,null,null,null,0,0]
["","","",null,null,null,"",null,null,null,null,null,null,0,0]
[{"$f":"IF(ISERROR(VLOOKUP(F1000,CARRPROF,2,FALSE)),\"\",VLOOKUP(F1000,CARRPROF,2,FALSE))","v":""},{"$f":"IF(ISERROR(VLOOKUP(F1000,CARRPROT,2,FALSE)),\"\",VLOOKUP(F1000,CARRPROT,2,FALSE))","v":""},{"$f":"IF(ISERROR(VLOOKUP(F1000,CARRTEC,2,FALSE)),\"\",VLOOKUP(F1000,CARRTEC,2,FALSE))","v":""},null,null,null,"",null,null,null,null,null,null,0,0]
["","","",null,null,null,"",null,null,null,null,null,null,0,0]
["","","",null,null,null,{"$f":"CONCATENATE(A1002,B1002,C1002)","v":""},null,null,null,null,null,null,0,0]
["","","",null,null,null,"",null,null,null,null,null,null,0,0]
["","","",null,null,null,"",null,null,null,null,null,null,0,0]
["","","",null,null,null,"",null,null,null,null,null,null,0,0]
["","","",null,null,null,"",null,null,null,null,null,null,0,0]
["","","",null,null,null,"",null,null,null,null,null,null,0,0]
["","","",null,null,null,"",null,null,null,null,null,null,0,0]
["","","",null,null,null,"",null,null,null,null,null,null,0,0]
["","","",null,null,null,"",null,null,null,null,null,null,0,0]
["","","",null,null,null,"",null,null,null,null,null,null,0,0]
["","","",null,null,null,"",null,null,null,null,null,null,0,0]
["","","",null,null,null,"",null,null,null,null,null,null,0,0]
["","","",null,null,null,"",null,null,null,null,null,null,0,0]
["","","",null,null,null,"",null,null,null,null,null,null,0,0]
["","","",null,null,null,"",null,null,null,null,null,null,0,0]
["","","",null,null,null,"",null,null,null,null,null,null,0,0]
["","","",null,null,null,"",null,null,null,null,null,null,0,0]
["","","",null,null,null,"",null,null,null,null,null,null,0,0]
["","","",null,null,null,"",null,null,null,null,null,null,0,0]
["","","",null,null,null,"",null,null,null,null,null,null,0,0]
["","","",null,null,null,"",null,null,null,null,null,null,0,0]
["","","",null,null,null,"",null,null,null,null,null,null,0,0]
["","","",null,null,null,"",null,null,null,null,null,null,0,0]
["","","",null,null,null,"",null,null,null,null,null,null,0,0]
[null,null,null,null,null,"Nota: Los totales de esta tabla deben ser iguales a la suma de las tabla 201, 202 y 203."]
[null,null,null,null,null,223,"INGRESANTES POR TIPO DE DISCAPACIDAD U OTRA CONDICIÓN, SEGÚN CARRERAS O PROGRAMAS DE ESTUDIOS"]
[]
[null,null,null,null,null,"CARRERA",null,null,null,null,null,null,null,"TOTAL",null,"Discapacidad Intelectual",null,null,null,null,null,"Discapacidad Auditiva",null,null,null,"Discapacidad Visual",null,null,null,"Discapacidad Física o Motora",null,"Trastorno del Espectro Autista",null,"Sordoceguera",null,"Multidis-capacidad",null,"Otra discapacidad u otra condición",null," Ninguna  discapacidad"]
[null,null,null,null,null,null,null,null,null,null,null,null,null,null,null,"Retardo mental leve",null,"Retardo mental moderado",null,"Retardo mental severo",null,"Hipoacusia",null,"Sordera total",null,"Baja visión",null,"Ceguera"]
[null,null,null,null,null,"CÓDIGO","DENOMINACIÓN",null,null,null,null,null,null,"H","M","H","M","H","M","H","M","H","M","H","M","H","M","H","M","H","M","H","M","H","M","H","M","H","M","H","M"]
[null,null,null,null,null,"0000000000","TOTAL",null,null,null,null,null,null,{"$f":"SUM(N1033:N1122)","v":0},0,0,0,0,0,0,0,0,0,0,0,0,0,0,0,0,0,0,0,0,0,0,0,0,0,0,0]
[{"$f":"IF(ISERROR(VLOOKUP(F1033,CARRPROF,2,FALSE)),\"\",VLOOKUP(F1033,CARRPROF,2,FALSE))","v":""},{"$f":"IF(ISERROR(VLOOKUP(F1033,CARRPROT,2,FALSE)),\"\",VLOOKUP(F1033,CARRPROT,2,FALSE))","v":""},{"$f":"IF(ISERROR(VLOOKUP(F1033,CARRTEC,2,FALSE)),\"\",VLOOKUP(F1033,CARRTEC,2,FALSE))","v":""},null,null,null,{"$f":"CONCATENATE(A1033,B1033,C1033)","v":""},null,null,null,null,null,null,{"$f":"P1033+R1033+T1033+V1033+X1033+Z1033+AB1033+AD1033+AF1033+AH1033+AJ1033+AL1033+AN1033","v":0},{"$f":"Q1033+S1033+U1033+W1033+Y1033+AA1033+AC1033+AE1033+AG1033+AI1033+AK1033+AM1033+AO1033","v":0}]
["","","",null,null,null,{"$f":"CONCATENATE(A1034,B1034,C1034)","v":""},null,null,null,null,null,null,{"$f":"P1034+R1034+T1034+V1034+X1034+Z1034+AB1034+AD1034+AF1034+AH1034+AJ1034+AL1034+AN1034","v":0},{"$f":"Q1034+S1034+U1034+W1034+Y1034+AA1034+AC1034+AE1034+AG1034+AI1034+AK1034+AM1034+AO1034","v":0}]
["","","",null,null,null,{"$f":"CONCATENATE(A1035,B1035,C1035)","v":""},null,null,null,null,null,null,0,0]
["","","",null,null,null,"",null,null,null,null,null,null,0,0]
["","","",null,null,null,"",null,null,null,null,null,null,0,0]
["","","",null,null,null,"",null,null,null,null,null,null,0,0]
["","","",null,null,null,"",null,null,null,null,null,null,0,0]
["","","",null,null,null,"",null,null,null,null,null,null,0,0]
["","","",null,null,null,"",null,null,null,null,null,null,0,0]
["","","",null,null,null,"",null,null,null,null,null,null,0,0]
["","","",null,null,null,"",null,null,null,null,null,null,0,0]
["","","",null,null,null,"",null,null,null,null,null,null,0,0]
["","","",null,null,null,"",null,null,null,null,null,null,0,0]
["","","",null,null,null,"",null,null,null,null,null,null,0,0]
["","","",null,null,null,"",null,null,null,null,null,null,0,0]
["","","",null,null,null,"",null,null,null,null,null,null,0,0]
["","","",null,null,null,"",null,null,null,null,null,null,0,0]
["","","",null,null,null,"",null,null,null,null,null,null,0,0]
["","","",null,null,null,"",null,null,null,null,null,null,0,0]
["","","",null,null,null,"",null,null,null,null,null,null,0,0]
["","","",null,null,null,"",null,null,null,null,null,null,0,0]
["","","",null,null,null,"",null,null,null,null,null,null,0,0]
["","","",null,null,null,"",null,null,null,null,null,null,0,0]
["","","",null,null,null,"",null,null,null,null,null,null,0,0]
["","","",null,null,null,"",null,null,null,null,null,null,0,0]
["","","",null,null,null,"",null,null,null,null,null,null,0,0]
["","","",null,null,null,"",null,null,null,null,null,null,0,0]
["","","",null,null,null,"",null,null,null,null,null,null,{"$f":"P1060+R1060+T1060+V1060+X1060+Z1060+AB1060+AD1060+AF1060+AH1060+AJ1060+AL1060+AN1060","v":0},{"$f":"Q1060+S1060+U1060+W1060+Y1060+AA1060+AC1060+AE1060+AG1060+AI1060+AK1060+AM1060+AO1060","v":0}]
["","","",null,null,null,"",null,null,null,null,null,null,0,0]
["","","",null,null,null,"",null,null,null,null,null,null,0,0]
["","","",null,null,null,"",null,null,null,null,null,null,0,0]
["","","",null,null,null,"",null,null,null,null,null,null,0,0]
[{"$f":"IF(ISERROR(VLOOKUP(F1065,CARRPROF,2,FALSE)),\"\",VLOOKUP(F1065,CARRPROF,2,FALSE))","v":""},{"$f":"IF(ISERROR(VLOOKUP(F1065,CARRPROT,2,FALSE)),\"\",VLOOKUP(F1065,CARRPROT,2,FALSE))","v":""},{"$f":"IF(ISERROR(VLOOKUP(F1065,CARRTEC,2,FALSE)),\"\",VLOOKUP(F1065,CARRTEC,2,FALSE))","v":""},null,null,null,"",null,null,null,null,null,null,0,0]
["","","",null,null,null,"",null,null,null,null,null,null,0,0]
["","","",null,null,null,"",null,null,null,null,null,null,0,0]
["","","",null,null,null,"",null,null,null,null,null,null,0,0]
["","","",null,null,null,"",null,null,null,null,null,null,0,0]
["","","",null,null,null,"",null,null,null,null,null,null,0,0]
["","","",null,null,null,"",null,null,null,null,null,null,0,0]
["","","",null,null,null,"",null,null,null,null,null,null,0,0]
["","","",null,null,null,"",null,null,null,null,null,null,0,0]
["","","",null,null,null,"",null,null,null,null,null,null,0,0]
["","","",null,null,null,"",null,null,null,null,null,null,0,0]
["","","",null,null,null,"",null,null,null,null,null,null,0,0]
["","","",null,null,null,"",null,null,null,null,null,null,0,0]
["","","",null,null,null,"",null,null,null,null,null,null,0,0]
["","","",null,null,null,"",null,null,null,null,null,null,0,0]
["","","",null,null,null,"",null,null,null,null,null,null,0,0]
["","","",null,null,null,"",null,null,null,null,null,null,0,0]
["","","",null,null,null,"",null,null,null,null,null,null,0,0]
["","","",null,null,null,"",null,null,null,null,null,null,0,0]
["","","",null,null,null,"",null,null,null,null,null,null,0,0]
["","","",null,null,null,"",null,null,null,null,null,null,0,0]
["","","",null,null,null,"",null,null,null,null,null,null,0,0]
["","","",null,null,null,"",null,null,null,null,null,null,0,0]
["","","",null,null,null,"",null,null,null,null,null,null,0,0]
["","","",null,null,null,"",null,null,null,null,null,null,0,0]
["","","",null,null,null,"",null,null,null,null,null,null,0,0]
["","","",null,null,null,"",null,null,null,null,null,null,0,0]
["","","",null,null,null,"",null,null,null,null,null,null,{"$f":"P1092+R1092+T1092+V1092+X1092+Z1092+AB1092+AD1092+AF1092+AH1092+AJ1092+AL1092+AN1092","v":0},{"$f":"Q1092+S1092+U1092+W1092+Y1092+AA1092+AC1092+AE1092+AG1092+AI1092+AK1092+AM1092+AO1092","v":0}]
["","","",null,null,null,"",null,null,null,null,null,null,0,0]
["","","",null,null,null,"",null,null,null,null,null,null,0,0]
["","","",null,null,null,"",null,null,null,null,null,null,0,0]
["","","",null,null,null,"",null,null,null,null,null,null,0,0]
[{"$f":"IF(ISERROR(VLOOKUP(F1097,CARRPROF,2,FALSE)),\"\",VLOOKUP(F1097,CARRPROF,2,FALSE))","v":""},{"$f":"IF(ISERROR(VLOOKUP(F1097,CARRPROT,2,FALSE)),\"\",VLOOKUP(F1097,CARRPROT,2,FALSE))","v":""},{"$f":"IF(ISERROR(VLOOKUP(F1097,CARRTEC,2,FALSE)),\"\",VLOOKUP(F1097,CARRTEC,2,FALSE))","v":""},null,null,null,"",null,null,null,null,null,null,0,0]
["","","",null,null,null,"",null,null,null,null,null,null,0,0]
["","","",null,null,null,{"$f":"CONCATENATE(A1099,B1099,C1099)","v":""},null,null,null,null,null,null,0,0]
["","","",null,null,null,"",null,null,null,null,null,null,0,0]
["","","",null,null,null,"",null,null,null,null,null,null,0,0]
["","","",null,null,null,"",null,null,null,null,null,null,0,0]
["","","",null,null,null,"",null,null,null,null,null,null,0,0]
["","","",null,null,null,"",null,null,null,null,null,null,0,0]
["","","",null,null,null,"",null,null,null,null,null,null,0,0]
["","","",null,null,null,"",null,null,null,null,null,null,0,0]
["","","",null,null,null,"",null,null,null,null,null,null,0,0]
["","","",null,null,null,"",null,null,null,null,null,null,0,0]
["","","",null,null,null,"",null,null,null,null,null,null,0,0]
["","","",null,null,null,"",null,null,null,null,null,null,0,0]
["","","",null,null,null,"",null,null,null,null,null,null,0,0]
["","","",null,null,null,"",null,null,null,null,null,null,0,0]
["","","",null,null,null,"",null,null,null,null,null,null,0,0]
["","","",null,null,null,"",null,null,null,null,null,null,0,0]
["","","",null,null,null,"",null,null,null,null,null,null,0,0]
["","","",null,null,null,"",null,null,null,null,null,null,0,0]
["","","",null,null,null,"",null,null,null,null,null,null,0,0]
["","","",null,null,null,"",null,null,null,null,null,null,0,0]
["","","",null,null,null,"",null,null,null,null,null,null,0,0]
["","","",null,null,null,"",null,null,null,null,null,null,0,0]
["","","",null,null,null,"",null,null,null,null,null,null,0,0]
["","","",null,null,null,"",null,null,null,null,null,null,0,0]
[null,null,null,null,null,"Nota: Los totales de esta tabla deben ser iguales a la suma de las tablas 207, 208 y 209 reportados en la columna “Ingresantes”"]
[null,null,null,null,null,224,"MATRÍCULA EN CARRERAS Y/O PROGRAMAS DE ESTUDIOS DE DOS AÑOS A MÁS POR SEXO Y CICLO I, SEGÚN AÑO DE EGRESO DE LA EDUCACIÓN BÁSICA REGULAR"]
[]
[null,null,null,null,null,"SEXO",null,"TOTAL","AÑO QUE EGRESO O TERMINÓ LA EDUCACIÓN BÁSICA REGULAR"]
[null,null,null,null,null,null,null,null,2024,2023,2022,2021,2020,2019,2018,2017,2016," Menor al 2016"]
["01",null,null,null,null,"Hombre",null,{"$f":"SUM(I1128:R1128)","v":0}]
["02",null,null,null,null,"Mujer",null,{"$f":"SUM(I1129:R1129)","v":0}]
[]
[]
[]
["Sedes"]
[{"$f":"IF('C100'!I215<>\"\",'C100'!G215,\"X\")","v":"X"}]
[{"$f":"IF('C100'!I216<>\"\",'C100'!G216,\"X\")","v":"X"}]
[{"$f":"IF('C100'!I217<>\"\",'C100'!G217,\"X\")","v":"X"},null,null,null,null,null,null,null,0,0,0,0,0,0,0,0,0,0,0,0,0,0]
[{"$f":"IF('C100'!I218<>\"\",'C100'!G218,\"X\")","v":"X"},null,null,null,null,null,null,null,0,0,0,0,0,0,0,0,0,0,0,0,0,0]
[{"$f":"IF('C100'!I219<>\"\",'C100'!G219,\"X\")","v":"X"}]
[{"$f":"IF('C100'!I220<>\"\",'C100'!G220,\"X\")","v":"X"},null,null,null,null,null,null,null,{"$f":"J758","v":0},{"$f":"J759","v":0},{"$f":"J760","v":0},{"$f":"J761","v":0},{"$f":"J762","v":0},{"$f":"J763","v":0},{"$f":"J764","v":0},{"$f":"J765","v":0},{"$f":"J766","v":0},{"$f":"J767","v":0},{"$f":"J768","v":0},{"$f":"J769","v":0},{"$f":"J770","v":0},{"$f":"J771+J772+J773+J774+J775","v":0}]
[{"$f":"IF('C100'!I221<>\"\",'C100'!G221,\"X\")","v":"X"},null,null,null,null,null,null,null,{"$f":"K758","v":0},{"$f":"K759","v":0},{"$f":"K760","v":0},{"$f":"K761","v":0},{"$f":"K762","v":0},{"$f":"K763","v":0},{"$f":"K764","v":0},{"$f":"K765","v":0},{"$f":"K766","v":0},{"$f":"K767","v":0},{"$f":"K768","v":0},{"$f":"K769","v":0},{"$f":"K770","v":0},{"$f":"K771+K772+K773+K774+K775","v":0}]
[{"$f":"IF('C100'!I222<>\"\",'C100'!G222,\"X\")","v":"X"}]
[{"$f":"IF('C100'!I223<>\"\",'C100'!G223,\"X\")","v":"X"}]
[{"$f":"IF('C100'!I224<>\"\",'C100'!G224,\"X\")","v":"X"}]
[{"$f":"IF('C100'!I225<>\"\",'C100'!G225,\"X\")","v":"X"}]
[{"$f":"IF('C100'!I226<>\"\",'C100'!G226,\"X\")","v":"X"}]
[{"$f":"IF('C100'!I227<>\"\",'C100'!G227,\"X\")","v":"X"}]
[{"$f":"IF('C100'!I228<>\"\",'C100'!G228,\"X\")","v":"X"}]
[{"$f":"IF('C100'!I229<>\"\",'C100'!G229,\"X\")","v":"X"}]
[{"$f":"IF('C100'!I230<>\"\",'C100'!G230,\"X\")","v":"X"}]
[{"$f":"IF('C100'!I231<>\"\",'C100'!G231,\"X\")","v":"X"}]
[{"$f":"IF('C100'!I232<>\"\",'C100'!G232,\"X\")","v":"X"}]
[{"$f":"IF('C100'!I233<>\"\",'C100'!G233,\"X\")","v":"X"}]
[{"$f":"IF('C100'!I234<>\"\",'C100'!G234,\"X\")","v":"X"}]
[]
[]
[]
[]
[]
[]
[]
[]
[]
[]
[]
[]
[]
[]
[]
["306. Lengua Materna"]
["0100: Castellano"]
["0200: Achuar"]
["0300: Aimara"]
["0400: Amahuaca"]
["0500: Arabela"]
["0600: Asháninka"]
["0610: Asheninka"]
["0700: Awajún"]
["0800: Bora"]
["0900: Kapanawa"]
["1000: Cashinahua"]
["1100: Kawki"]
["1200: Chamikuro"]
["1300: Ese eja"]
["1400: Harakbut"]
["1500: Iñapari"]
["1600: Ikuitu"]
["1700: Iskonawa"]
["1800: Jaqaru"]
["1900: Kakataibo"]
["2000: Kakinte (caquinte)"]
["2110: Kandozi (Chapra)"]
["2120: Kandozi (Kandozi)"]
["2200: Kukama-kukamiria"]
["2300: Madija (culina)"]
["2400: Maijiki"]
["2500: Matsés"]
["2600: Matsigenka"]
["2700: Munichi"]
["2800: Murui-muinani"]
["2900: Matsigenka-montetokunirira"]
["3000: Nomatsigenga"]
["3100: Ocaina"]
["3200: Omagua"]
["3310: Quechua amazónico (Kichwa)"]
["3321: Quechua central (Ancash)"]
["3322: Quechua central (Huánuco)"]
["3323: Quechua central (Wanka)"]
["3324: Quechua central (Pasco)"]
["3331: Quechua norteño (Cajamarca)"]
["3332: Quechua norteño (Inkawasi Kañaris)"]
["3341: Quechua sureño (Chanka)"]
["3342: Quechua sureño (Collao)"]
["3400: Resígaro"]
["3500: Secoya"]
["3600: Sharanahua"]
["3700: Shawi"]
["3800: Shipibo-Konibo"]
["3900: Shiwilu"]
["4000: Taushiro"]
["4100: Ticuna"]
["4200: Urarina"]
["4300: Wampis"]
["4400: Yagua"]
["4500: Yaminahua"]
["4600: Yanesha"]
["4700: Yine"]
["4800: Nahua"]
["5100: Alemán"]
["5200: Inglés"]
["5300: Italiano"]
["5400: Japonés"]
["5500: Portugués"]
["5600: Ruso"]
["5700: Francés"]
["5800: Otra lengua extranjera"]

{"sheet":"C300","index":3,"n_rows":1525,"n_cols":79,"rows_kept":1125,"cut":true,"hidden":false,"merged":[[15,75,16,75],[15,11,17,11],[15,14,17,14],[15,15,17,15],[15,16,17,16],[15,32,17,32],[15,31,17,31],[15,28,17,28],[15,42,17,42],[16,53,17,53],[15,39,17,39],[15,36,17,36],[15,38,17,38],[15,33,17,33],[16,56,17,56],[15,25,17,25],[15,41,17,41],[15,35,17,35],[15,40,17,40],[15,37,17,37],[15,34,17,34],[15,29,17,29],[15,30,17,30],[15,26,17,26],[7,11,7,23],[1,14,1,21],[2,14,2,21],[15,20,17,20],[15,21,17,21],[14,17,14,18],[15,23,16,24],[15,13,17,13],[15,17,15,18],[15,19,17,19],[15,12,17,12],[15,22,17,22],[15,27,17,27],[15,74,17,74],[15,71,17,71],[14,53,14,56],[16,54,17,54],[15,53,15,56],[16,55,17,55],[14,57,14,59],[15,57,15,59],[16,57,17,57],[16,58,16,59],[16,69,17,69],[14,67,14,68],[16,63,17,63],[16,64,17,64],[16,65,17,65],[15,66,17,66],[15,60,16,60],[15,69,15,70],[15,61,16,61],[15,72,16,72],[15,73,16,73],[16,62,17,62],[16,70,17,70],[15,67,16,68]],"bounds":{"rows_first":500,"rows_last":125,"rows_between":500,"halvings":2}}
[]
[null,null,null,null,null,null,null,null,null,null,null,null,null,null,"CENSO EDUCATIVO 2024"]
[null,null,null,null,null,null,null,null,null,null,null,null,null,null,"MATRÍCULA, DOCENTES Y RECURSOS"]
[]
["PERSONAL",{"$f":"P10+V10","v":0}]
[]
["DOCENTES",{"$f":"COUNTIF(T19:T1523,\"01: Docente\")","v":0},null,null,null,null,null,null,null,null,null,"300. PERSONAL DOCENTE Y ADMINISTRATIVO"]
["ADMINISTRATIVOS",{"$f":"COUNTIF(T19:T1523,\"02: Administrativo\")","v":0},null,null,null,null,null,null,null,null,null,"En esta tabla, REGISTRE a todo el personal docente y personal administrativo que se encuentre laborando en el servicio/nivel educativo durante el periodo\nde reporte del censo educativo. (EXCLUYA al personal que se encuentre haciendo uso de licencia y a los que han sido destacados a otra IE/DRE/UGEL)"]
[]
["DOCENTES CON SECCIÓN",{"$f":"COUNTIF(AQ19:AQ1523,\"SI\")","v":0},null,null,null,null,null,null,null,null,null,null,null,null,"DOCENTES :",null,null,null,null,"ADMINISTRATIVOS :"]
[]
[null,{"$f":"B7+B8","v":0},null,null,null,null,null,null,null,null,null,"A continuación registre a todo el personal que desempeñe funciones docentes en el Servicio/Nivel educativo: Directivos con o sin aula a cargo, docentes de aula, jefes o jerárquicos"]
[null,null,null,null,null,null,null,null,null,null,null,"Documentos fuente: Legajo de personal y CAP de la institución educativa."]
[null,null,3,4,5,6,7,8,{"$f":"H14+1","v":9},{"$f":"I14+1","v":10}]
[null,null,null,null,null,null,null,null,null,null,null,null,300,300,301.10000000000002,301.2,301.3,302,null,303,304,305,306,null,307,308,309,310,311,311.10000000000002,312,313,314,315,316,317,318,319,320,321,322,323,324,325,null,null,null,null,null,null,null,null,null,326,null,null,null,327,null,null,328,329,330,331,332,333,334,335,null,336,null,337,338,339,340,341]
["GESTIÓN",{"$f":"IF(OR('C100'!M70=\"X\",'C100'!R70=\"X\"),1,IF('C100'!Z70=\"X\",3,\"\"))","v":""},null,null,null,null,null,null,null,null,null,"Nº","Código de Local Educativo","Código de la Sede donde labora","Apellido Paterno","Apellido Materno","Nombres","Documento de Identidad",null,"Tipo de\nPersonal","Edad","Sexo","¿Cuál es la lengua materna con la que aprendió a hablar en su niñez?","Además de la lengua materna con la cual aprendió a hablar en su niñez\n¿Habla alguna otra lengua?",null,"Fuente de\nfinanciamiento","Condición Laboral","Modalidad de Contrato","Máximo nivel\neducativo alcanzado","Nivel Educativo (Técnico, Profesional Técnico, Universitario)","Especialidad Pedagógica\nque ha estudiado","¿En qué tipo de\ninstitución obtuvo\nsu formación pedagógica?","Segunda especialidad","Estudios de Postgrado\nen Pedagogía","Tiempo de Servicio\n(en años)","Años de Experiencia Laboral","Años de\nexperiencia\nlaboral en\neste servicio/nivel\neducativo","Escala\nMagisterial","Función o cargo","Situación en cargo\ndirectivo","Licencia \no\nDestaque","Jornada Laboral según\nNombramiento\no Contrato","¿Tiene secciones a cargo?","Ciclos Atendidos",null,null,null,null,null,null,null,null,null,"Conocimiento de Ingles",null,null,null,"Certificación de Inglés",null,null,"Enseña idioma Inglés en el IES","¿Tiene otra actividad que le genere ingresos económicos?","Solo para los que respondierón “Sí” en la pregunta 329",null,null,null,"¿Tiene algún conocimiento de las TICs?","¿Ha tenido experiencia laboral en el sector privado relacionado al servicio brindado?",null,"¿Ha participado en un proceso …",null,"¿Ha sido reconocido por haber participado en el equipo técnico de:","¿ Atiende a estudiantes con NEE asociadas a discapacidad ?","¿Presenta alguna discapacidad?","Solo si respondió Sí en la pregunta\n339 ¿Cúal es el tipo de discapacidad?","¿Ha recibido asistencia y orientación para la atención educativa de estudiantes con discapacidad del equipo SAEV?"]
[null,null,"Exp1","Exp2","Exp3","Exp4","Exp5","Exp6","Exp7",null,null,null,null,null,null,null,null,302.10000000000002,302.2,null,null,null,null,null,null,null,null,null,null,null,null,null,null,null,null,null,null,null,null,null,null,null,null,"Marque con una “X”, según corresponda",null,null,null,null,null,null,null,null,null,"No Sabe","Habla","Lee","Escribe","No Tiene","Si Tiene",null,null,null,"¿Es una actividad permanente?","¿Cuál es la ocupación que desempeña?","¿Con que frecuencia realiza esta ocupación?","¿Es esta actividad su ocupación principal?",null,null,null,"De actualización tecnológica?","De Capacitación para el dominio disciplinar?"]
["302.1 Tipo de documento de Identidad","313. Tipo de inst. donde estudio","Corr","Escala","Gest","Secc","Tipo Pers","Duplex","Fmt",null,null,null,null,null,null,null,null,"Tipo","Número",null,null,null,null,"SI - NO","Solo si repondio “SI” Especificar",null,null,null,null,null,null,null,null,null,null,null,null,null,null,null,null,null,null,"I","II","III","IV","V","VI","VII","VIII","IX","X",null,null,null,null,null,"Nacional","Interna cional","SI - NO","SI - NO",null,null,null,null,null,"SI - NO","¿Cuántos años?",null,null,null,"SI - NO","SI - NO",null,"SI - NO"]
["01: DNI.","01: IESP (Público)",1,{"$f":"IF(AND(LEFT(T19,2)=\"01\",LEFT(Z19,2)=\"01\",LEFT(AA19,2)=\"01\",E19=1),1,0)","v":0},{"$f":"$B$16","v":""},{"$f":"COUNTIF(AR19:BA19,\"X\")","v":0},{"$f":"IF(T19<>\"\",VALUE(LEFT(T19,2)),0)","v":0},{"$f":"IF(S19<>\"\",COUNTIF($S$19:$S$1523,S19),0)","v":0},{"$f":"IF(L19<>\"\",1,0)","v":0},null,null,{"$f":"IF(C19<=$B$5,C19,\"\")","v":""},{"$f":"IF(ISERROR(VLOOKUP(N19,Locales,2,FALSE)),\"\",VLOOKUP(N19,Locales,2,FALSE))","v":""},null,null,null,null,null,null,null,null,null,null,null,null,null,null,null,null,null,null,null,null,null,null,null,null,null,null,null,null,null,null,null,null,null,null,null,null,null,null,null,null,null,null,null,null,null,null,null,null,null,null,null,null,null,null,null,null,null,null,null,null,null,null,null,null,{"$f":"IF($AC19<>\"\",IF(OR(LEFT($AC19,2)=\"01\",LEFT($AC19,2)=\"02\",LEFT($AC19,2)=\"04\",LEFT($AC19,2)=\"05\"),1,0),\"\")","v":""},{"$f":"IF($AC19<>\"\",IF(OR(LEFT($AC19,2)=\"01\",LEFT($AC19,2)=\"02\",LEFT($AC19,2)=\"04\",LEFT($AC19,2)=\"05\"),1,0),\"\")","v":""}]
["02: Carnet Ext.","02: IESP (Privado)",2,0,{"$f":"$B$16","v":""},{"$f":"COUNTIF(AR20:BA20,\"X\")","v":0},{"$f":"IF(T20<>\"\",VALUE(LEFT(T20,2)),0)","v":0},{"$f":"IF(S20<>\"\",COUNTIF($S$19:$S$1523,S20),0)","v":0},0,null,null,{"$f":"IF(C20<=$B$5,C20,\"\")","v":""},"",null,null,null,null,null,null,null,null,null,null,null,null,null,null,null,null,null,null,null,null,null,null,null,null,null,null,null,null,null,null,null,null,null,null,null,null,null,null,null,null,null,null,null,null,null,null,null,null,null,null,null,null,null,null,null,null,null,null,null,null,null,null,null,null,{"$f":"IF($AC20<>\"\",IF(OR(LEFT($AC20,2)=\"01\",LEFT($AC20,2)=\"02\",LEFT($AC20,2)=\"04\",LEFT($AC20,2)=\"05\"),1,0),\"\")","v":""},""]
["03: Pasaporte","03: Universidad Privada",3,0,"",0,0,0,0,null,null,{"$f":"IF(C21<=$B$5,C21,\"\")","v":""},"",null,null,null,null,null,null,null,null,null,null,null,null,null,null,null,null,null,null,null,null,null,null,null,null,null,null,null,null,null,null,null,null,null,null,null,null,null,null,null,null,null,null,null,null,null,null,null,null,null,null,null,null,null,null,null,null,null,null,null,null,null,null,null,null,"",""]
[null,"04: Universidad Pública",4,0,"",0,0,0,0,null,null,"","",null,null,null,null,null,null,null,null,null,null,null,null,null,null,null,null,null,null,null,null,null,null,null,null,null,null,null,null,null,null,null,null,null,null,null,null,null,null,null,null,null,null,null,null,null,null,null,null,null,null,null,null,null,null,null,null,null,null,null,null,null,null,null,null,"",""]
["303. Tipo de Personal","05: Sin Formación Pedagógica",5,0,"",0,0,0,0,null,null,"","",null,null,null,null,null,null,null,null,null,null,null,null,null,null,null,null,null,null,null,null,null,null,null,null,null,null,null,null,null,null,null,null,null,null,null,null,null,null,null,null,null,null,null,null,null,null,null,null,null,null,null,null,null,null,null,null,null,null,null,null,null,null,null,null,"",""]
["01: Docente",null,6,0,"",0,0,0,0,null,null,"","",null,null,null,null,null,null,null,null,null,null,null,null,null,null,null,null,null,null,null,null,null,null,null,null,null,null,null,null,null,null,null,null,null,null,null,null,null,null,null,null,null,null,null,null,null,null,null,null,null,null,null,null,null,null,null,null,null,null,null,null,null,null,null,null,"",""]
["02: Administrativo","314. Segunda Especialidad",7,0,"",0,0,0,0,null,null,"","",null,null,null,null,null,null,null,null,null,null,null,null,null,null,null,null,null,null,null,null,null,null,null,null,null,null,null,null,null,null,null,null,null,null,null,null,null,null,null,null,null,null,null,null,null,null,null,null,null,null,null,null,null,null,null,null,null,null,null,null,null,null,null,null,"",""]
["03: Aux. de Educación","Utilice las especialidades de la tabla de códigos 313.",8,0,"",0,0,0,0,null,null,"","",null,null,null,null,null,null,null,null,null,null,null,null,null,null,null,null,null,null,null,null,null,null,null,null,null,null,null,null,null,null,null,null,null,null,null,null,null,null,null,null,null,null,null,null,null,null,null,null,null,null,null,null,null,null,null,null,null,null,null,null,null,null,null,null,"",""]
[null,null,9,0,"",0,0,0,0,null,null,"","",null,null,null,null,null,null,null,null,null,null,null,null,null,null,null,null,null,null,null,null,null,null,null,null,null,null,null,null,null,null,null,null,null,null,null,null,null,null,null,null,null,null,null,null,null,null,null,null,null,null,null,null,null,null,null,null,null,null,null,null,null,null,null,null,"",""]
["305. Sexo","315. Estudios de Postgrado en Pedagogía",10,0,"",0,0,0,0,null,null,"","",null,null,null,null,null,null,null,null,null,null,null,null,null,null,null,null,null,null,null,null,null,null,null,null,null,null,null,null,null,null,null,null,null,null,null,null,null,null,null,null,null,null,null,null,null,null,null,null,null,null,null,null,null,null,null,null,null,null,null,null,null,null,null,null,"",""]
["Hombre","Estudios de Maestría y doctorado",11,0,"",0,0,0,0,null,null,"","",null,null,null,null,null,null,null,null,null,null,null,null,null,null,null,null,null,null,null,null,null,null,null,null,null,null,null,null,null,null,null,null,null,null,null,null,null,null,null,null,null,null,null,null,null,null,null,null,null,null,null,null,null,null,null,null,null,null,null,null,null,null,null,null,"",""]
["Mujer","01: Maestria concluida con grado",12,0,"",0,0,0,0,null,null,"","",null,null,null,null,null,null,null,null,null,null,null,null,null,null,null,null,null,null,null,null,null,null,null,null,null,null,null,null,null,null,null,null,null,null,null,null,null,null,null,null,null,null,null,null,null,null,null,null,null,null,null,null,null,null,null,null,null,null,null,null,null,null,null,null,"",""]
[null,"02: Maestria concluida sin grado",13,0,"",0,0,0,0,null,null,"","",null,null,null,null,null,null,null,null,null,null,null,null,null,null,null,null,null,null,null,null,null,null,null,null,null,null,null,null,null,null,null,null,null,null,null,null,null,null,null,null,null,null,null,null,null,null,null,null,null,null,null,null,null,null,null,null,null,null,null,null,null,null,null,null,"",""]
["306. Lengua Materna","03: Maestria en proceso",14,0,"",0,0,0,0,null,null,"","",null,null,null,null,null,null,null,null,null,null,null,null,null,null,null,null,null,null,null,null,null,null,null,null,null,null,null,null,null,null,null,null,null,null,null,null,null,null,null,null,null,null,null,null,null,null,null,null,null,null,null,null,null,null,null,null,null,null,null,null,null,null,null,null,"",""]
["0100: Castellano","04: Doctorado concluido con grado",15,0,"",0,0,0,0,null,null,"","",null,null,null,null,null,null,null,null,null,null,null,null,null,null,null,null,null,null,null,null,null,null,null,null,null,null,null,null,null,null,null,null,null,null,null,null,null,null,null,null,null,null,null,null,null,null,null,null,null,null,null,null,null,null,null,null,null,null,null,null,null,null,null,null,"",""]
["0200: Achuar","05: Doctorado concluido sin grado",16,0,"",0,0,0,0,null,null,"","",null,null,null,null,null,null,null,null,null,null,null,null,null,null,null,null,null,null,null,null,null,null,null,null,null,null,null,null,null,null,null,null,null,null,null,null,null,null,null,null,null,null,null,null,null,null,null,null,null,null,null,null,null,null,null,null,null,null,null,null,null,null,null,null,"",""]
["0300: Aimara","06: Doctorado en proceso",17,0,"",0,0,0,0,null,null,"","",null,null,null,null,null,null,null,null,null,null,null,null,null,null,null,null,null,null,null,null,null,null,null,null,null,null,null,null,null,null,null,null,null,null,null,null,null,null,null,null,null,null,null,null,null,null,null,null,null,null,null,null,null,null,null,null,null,null,null,null,null,null,null,null,"",""]
["0400: Amahuaca","07: Sin Postgrado",18,0,"",0,0,0,0,null,null,"","",null,null,null,null,null,null,null,null,null,null,null,null,null,null,null,null,null,null,null,null,null,null,null,null,null,null,null,null,null,null,null,null,null,null,null,null,null,null,null,null,null,null,null,null,null,null,null,null,null,null,null,null,null,null,null,null,null,null,null,null,null,null,null,null,"",""]
["0500: Arabela",null,19,0,"",0,0,0,0,null,null,"","",null,null,null,null,null,null,null,null,null,null,null,null,null,null,null,null,null,null,null,null,null,null,null,null,null,null,null,null,null,null,null,null,null,null,null,null,null,null,null,null,null,null,null,null,null,null,null,null,null,null,null,null,null,null,null,null,null,null,null,null,null,null,null,null,"",""]
["0600: Asháninka","317. Tiempo de Servicio",20,0,"",0,0,0,0,null,null,"","",null,null,null,null,null,null,null,null,null,null,null,null,null,null,null,null,null,null,null,null,null,null,null,null,null,null,null,null,null,null,null,null,null,null,null,null,null,null,null,null,null,null,null,null,null,null,null,null,null,null,null,null,null,null,null,null,null,null,null,null,null,null,null,null,"",""]
["0610: Asheninka","Solo personal Nombrado.",21,0,"",0,0,0,0,null,null,"","",null,null,null,null,null,null,null,null,null,null,null,null,null,null,null,null,null,null,null,null,null,null,null,null,null,null,null,null,null,null,null,null,null,null,null,null,null,null,null,null,null,null,null,null,null,null,null,null,null,null,null,null,null,null,null,null,null,null,null,null,null,null,null,null,"",""]
["0700: Awajún","Tiempo contado expresado en años desde su fecha de Nombramiento",22,0,"",0,0,0,0,null,null,"","",null,null,null,null,null,null,null,null,null,null,null,null,null,null,null,null,null,null,null,null,null,null,null,null,null,null,null,null,null,null,null,null,null,null,null,null,null,null,null,null,null,null,null,null,null,null,null,null,null,null,null,null,null,null,null,null,null,null,null,null,null,null,null,null,"",""]
["0800: Bora",null,23,0,"",0,0,0,0,null,null,"","",null,null,null,null,null,null,null,null,null,null,null,null,null,null,null,null,null,null,null,null,null,null,null,null,null,null,null,null,null,null,null,null,null,null,null,null,null,null,null,null,null,null,null,null,null,null,null,null,null,null,null,null,null,null,null,null,null,null,null,null,null,null,null,null,"",""]
["0900: Kapanawa","318. Años de Experiencia Laboral",24,0,"",0,0,0,0,null,null,"","",null,null,null,null,null,null,null,null,null,null,null,null,null,null,null,null,null,null,null,null,null,null,null,null,null,null,null,null,null,null,null,null,null,null,null,null,null,null,null,null,null,null,null,null,null,null,null,null,null,null,null,null,null,null,null,null,null,null,null,null,null,null,null,null,"",""]
["1000: Cashinahua","Registre el total de años que tiene como experiencia",25,0,"",0,0,0,0,null,null,"","",null,null,null,null,null,null,null,null,null,null,null,null,null,null,null,null,null,null,null,null,null,null,null,null,null,null,null,null,null,null,null,null,null,null,null,null,null,null,null,null,null,null,null,null,null,null,null,null,null,null,null,null,null,null,null,null,null,null,null,null,null,null,null,null,"",""]
["1100: Kawki","en el Tipo de Personal que se está registrando (Tabla 301.)",26,0,"",0,0,0,0,null,null,"","",null,null,null,null,null,null,null,null,null,null,null,null,null,null,null,null,null,null,null,null,null,null,null,null,null,null,null,null,null,null,null,null,null,null,null,null,null,null,null,null,null,null,null,null,null,null,null,null,null,null,null,null,null,null,null,null,null,null,null,null,null,null,null,null,"",""]
["1200: Chamikuro",null,27,0,"",0,0,0,0,null,null,"","",null,null,null,null,null,null,null,null,null,null,null,null,null,null,null,null,null,null,null,null,null,null,null,null,null,null,null,null,null,null,null,null,null,null,null,null,null,null,null,null,null,null,null,null,null,null,null,null,null,null,null,null,null,null,null,null,null,null,null,null,null,null,null,null,"",""]
["1300: Ese eja","319. Años de experiencia laboral en este servicio/ nivel educativo",28,0,"",0,0,0,0,null,null,"","",null,null,null,null,null,null,null,null,null,null,null,null,null,null,null,null,null,null,null,null,null,null,null,null,null,null,null,null,null,null,null,null,null,null,null,null,null,null,null,null,null,null,null,null,null,null,null,null,null,null,null,null,null,null,null,null,null,null,null,null,null,null,null,null,"",""]
["1400: Harakbut","Anote el N° de años de experiencia prestando servicios",29,0,"",0,0,0,0,null,null,"","",null,null,null,null,null,null,null,null,null,null,null,null,null,null,null,null,null,null,null,null,null,null,null,null,null,null,null,null,null,null,null,null,null,null,null,null,null,null,null,null,null,null,null,null,null,null,null,null,null,null,null,null,null,null,null,null,null,null,null,null,null,null,null,null,"",""]
["1500: Iñapari","en este servicio/nivel educativo por el tipo de personal",30,0,"",0,0,0,0,null,null,"","",null,null,null,null,null,null,null,null,null,null,null,null,null,null,null,null,null,null,null,null,null,null,null,null,null,null,null,null,null,null,null,null,null,null,null,null,null,null,null,null,null,null,null,null,null,null,null,null,null,null,null,null,null,null,null,null,null,null,null,null,null,null,null,null,"",""]
["1600: Ikuitu","que se está registrando (Tabla 301.)",31,0,"",0,0,0,0,null,null,"","",null,null,null,null,null,null,null,null,null,null,null,null,null,null,null,null,null,null,null,null,null,null,null,null,null,null,null,null,null,null,null,null,null,null,null,null,null,null,null,null,null,null,null,null,null,null,null,null,null,null,null,null,null,null,null,null,null,null,null,null,null,null,null,null,"",""]
["1700: Iskonawa",null,32,0,"",0,0,0,0,null,null,"","",null,null,null,null,null,null,null,null,null,null,null,null,null,null,null,null,null,null,null,null,null,null,null,null,null,null,null,null,null,null,null,null,null,null,null,null,null,null,null,null,null,null,null,null,null,null,null,null,null,null,null,null,null,null,null,null,null,null,null,null,null,null,null,null,"",""]
["1800: Jaqaru","319. Escala Magisterial",33,0,"",0,0,0,0,null,null,"","",null,null,null,null,null,null,null,null,null,null,null,null,null,null,null,null,null,null,null,null,null,null,null,null,null,null,null,null,null,null,null,null,null,null,null,null,null,null,null,null,null,null,null,null,null,null,null,null,null,null,null,null,null,null,null,null,null,null,null,null,null,null,null,null,"",""]
["1900: Kakataibo","Complete los datos de Escala Magisterial, según corresponda",34,0,"",0,0,0,0,null,null,"","",null,null,null,null,null,null,null,null,null,null,null,null,null,null,null,null,null,null,null,null,null,null,null,null,null,null,null,null,null,null,null,null,null,null,null,null,null,null,null,null,null,null,null,null,null,null,null,null,null,null,null,null,null,null,null,null,null,null,null,null,null,null,null,null,"",""]
["2000: Kakinte (caquinte)","01: Primera",35,0,"",0,0,0,0,null,null,"","",null,null,null,null,null,null,null,null,null,null,null,null,null,null,null,null,null,null,null,null,null,null,null,null,null,null,null,null,null,null,null,null,null,null,null,null,null,null,null,null,null,null,null,null,null,null,null,null,null,null,null,null,null,null,null,null,null,null,null,null,null,null,null,null,"",""]
["2110: Kandozi (Chapra)","02: Segunda",36,0,"",0,0,0,0,null,null,"","",null,null,null,null,null,null,null,null,null,null,null,null,null,null,null,null,null,null,null,null,null,null,null,null,null,null,null,null,null,null,null,null,null,null,null,null,null,null,null,null,null,null,null,null,null,null,null,null,null,null,null,null,null,null,null,null,null,null,null,null,null,null,null,null,"",""]
["2120: Kandozi (Kandozi)","03: Tercera",37,0,"",0,0,0,0,null,null,"","",null,null,null,null,null,null,null,null,null,null,null,null,null,null,null,null,null,null,null,null,null,null,null,null,null,null,null,null,null,null,null,null,null,null,null,null,null,null,null,null,null,null,null,null,null,null,null,null,null,null,null,null,null,null,null,null,null,null,null,null,null,null,null,null,"",""]
["2200: Kukama-kukamiria","04: Cuarta",38,0,"",0,0,0,0,null,null,"","",null,null,null,null,null,null,null,null,null,null,null,null,null,null,null,null,null,null,null,null,null,null,null,null,null,null,null,null,null,null,null,null,null,null,null,null,null,null,null,null,null,null,null,null,null,null,null,null,null,null,null,null,null,null,null,null,null,null,null,null,null,null,null,null,"",""]
["2300: Madija (culina)","05: Quinta",39,0,"",0,0,0,0,null,null,"","",null,null,null,null,null,null,null,null,null,null,null,null,null,null,null,null,null,null,null,null,null,null,null,null,null,null,null,null,null,null,null,null,null,null,null,null,null,null,null,null,null,null,null,null,null,null,null,null,null,null,null,null,null,null,null,null,null,null,null,null,null,null,null,null,"",""]
["2400: Maijiki","06: Sexta",40,0,"",0,0,0,0,null,null,"","",null,null,null,null,null,null,null,null,null,null,null,null,null,null,null,null,null,null,null,null,null,null,null,null,null,null,null,null,null,null,null,null,null,null,null,null,null,null,null,null,null,null,null,null,null,null,null,null,null,null,null,null,null,null,null,null,null,null,null,null,null,null,null,null,"",""]
["2500: Matsés","07: Séptima",41,0,"",0,0,0,0,null,null,"","",null,null,null,null,null,null,null,null,null,null,null,null,null,null,null,null,null,null,null,null,null,null,null,null,null,null,null,null,null,null,null,null,null,null,null,null,null,null,null,null,null,null,null,null,null,null,null,null,null,null,null,null,null,null,null,null,null,null,null,null,null,null,null,null,"",""]
["2600: Matsigenka","08: Octava",42,0,"",0,0,0,0,null,null,"","",null,null,null,null,null,null,null,null,null,null,null,null,null,null,null,null,null,null,null,null,null,null,null,null,null,null,null,null,null,null,null,null,null,null,null,null,null,null,null,null,null,null,null,null,null,null,null,null,null,null,null,null,null,null,null,null,null,null,null,null,null,null,null,null,"",""]
["2700: Munichi","09: Sin Escala",43,0,"",0,0,0,0,null,null,"","",null,null,null,null,null,null,null,null,null,null,null,null,null,null,null,null,null,null,null,null,null,null,null,null,null,null,null,null,null,null,null,null,null,null,null,null,null,null,null,null,null,null,null,null,null,null,null,null,null,null,null,null,null,null,null,null,null,null,null,null,null,null,null,null,"",""]
["2800: Murui-muinani",null,44,0,"",0,0,0,0,null,null,"","",null,null,null,null,null,null,null,null,null,null,null,null,null,null,null,null,null,null,null,null,null,null,null,null,null,null,null,null,null,null,null,null,null,null,null,null,null,null,null,null,null,null,null,null,null,null,null,null,null,null,null,null,null,null,null,null,null,null,null,null,null,null,null,null,"",""]
["2900: Matsigenka-montetokunirira","320. Función o Cargo",45,0,"",0,0,0,0,null,null,"","",null,null,null,null,null,null,null,null,null,null,null,null,null,null,null,null,null,null,null,null,null,null,null,null,null,null,null,null,null,null,null,null,null,null,null,null,null,null,null,null,null,null,null,null,null,null,null,null,null,null,null,null,null,null,null,null,null,null,null,null,null,null,null,null,"",""]
["3000: Nomatsigenga","(Desempeñado a la fecha de reporte)",46,0,"",0,0,0,0,null,null,"","",null,null,null,null,null,null,null,null,null,null,null,null,null,null,null,null,null,null,null,null,null,null,null,null,null,null,null,null,null,null,null,null,null,null,null,null,null,null,null,null,null,null,null,null,null,null,null,null,null,null,null,null,null,null,null,null,null,null,null,null,null,null,null,null,"",""]
["3100: Ocaina","Docentes",47,0,"",0,0,0,0,null,null,"","",null,null,null,null,null,null,null,null,null,null,null,null,null,null,null,null,null,null,null,null,null,null,null,null,null,null,null,null,null,null,null,null,null,null,null,null,null,null,null,null,null,null,null,null,null,null,null,null,null,null,null,null,null,null,null,null,null,null,null,null,null,null,null,null,"",""]
["3200: Omagua","01: (101)-Director General",48,0,"",0,0,0,0,null,null,"","",null,null,null,null,null,null,null,null,null,null,null,null,null,null,null,null,null,null,null,null,null,null,null,null,null,null,null,null,null,null,null,null,null,null,null,null,null,null,null,null,null,null,null,null,null,null,null,null,null,null,null,null,null,null,null,null,null,null,null,null,null,null,null,null,"",""]
["3310: Quechua amazónico (Kichwa)","02: (103)-Sub Director",49,0,"",0,0,0,0,null,null,"","",null,null,null,null,null,null,null,null,null,null,null,null,null,null,null,null,null,null,null,null,null,null,null,null,null,null,null,null,null,null,null,null,null,null,null,null,null,null,null,null,null,null,null,null,null,null,null,null,null,null,null,null,null,null,null,null,null,null,null,null,null,null,null,null,"",""]
["3321: Quechua central (Ancash)","03: (129)-Jefe de departamento",50,0,"",0,0,0,0,null,null,"","",null,null,null,null,null,null,null,null,null,null,null,null,null,null,null,null,null,null,null,null,null,null,null,null,null,null,null,null,null,null,null,null,null,null,null,null,null,null,null,null,null,null,null,null,null,null,null,null,null,null,null,null,null,null,null,null,null,null,null,null,null,null,null,null,"",""]
["3322: Quechua central (Huánuco)","04: (130)-Jefe de área",51,0,"",0,0,0,0,null,null,"","",null,null,null,null,null,null,null,null,null,null,null,null,null,null,null,null,null,null,null,null,null,null,null,null,null,null,null,null,null,null,null,null,null,null,null,null,null,null,null,null,null,null,null,null,null,null,null,null,null,null,null,null,null,null,null,null,null,null,null,null,null,null,null,null,"",""]
["3323: Quechua central (Wanka)","05: (123)-Jefe de unidad académica",52,0,"",0,0,0,0,null,null,"","",null,null,null,null,null,null,null,null,null,null,null,null,null,null,null,null,null,null,null,null,null,null,null,null,null,null,null,null,null,null,null,null,null,null,null,null,null,null,null,null,null,null,null,null,null,null,null,null,null,null,null,null,null,null,null,null,null,null,null,null,null,null,null,null,"",""]
["3324: Quechua central (Pasco)","06: (124)-Jefe de unidad administrativa",53,0,"",0,0,0,0,null,null,"","",null,null,null,null,null,null,null,null,null,null,null,null,null,null,null,null,null,null,null,null,null,null,null,null,null,null,null,null,null,null,null,null,null,null,null,null,null,null,null,null,null,null,null,null,null,null,null,null,null,null,null,null,null,null,null,null,null,null,null,null,null,null,null,null,"",""]
["3331: Quechua norteño (Cajamarca)","07: (131)-Jefe de taller",54,0,"",0,0,0,0,null,null,"","",null,null,null,null,null,null,null,null,null,null,null,null,null,null,null,null,null,null,null,null,null,null,null,null,null,null,null,null,null,null,null,null,null,null,null,null,null,null,null,null,null,null,null,null,null,null,null,null,null,null,null,null,null,null,null,null,null,null,null,null,null,null,null,null,"",""]
["3332: Quechua norteño (Inkawasi Kañaris)","08: (108)-Coordinador de Taller",55,0,"",0,0,0,0,null,null,"","",null,null,null,null,null,null,null,null,null,null,null,null,null,null,null,null,null,null,null,null,null,null,null,null,null,null,null,null,null,null,null,null,null,null,null,null,null,null,null,null,null,null,null,null,null,null,null,null,null,null,null,null,null,null,null,null,null,null,null,null,null,null,null,null,"",""]
["3341: Quechua sureño (Chanka)","09: (132)-Secretario General",56,0,"",0,0,0,0,null,null,"","",null,null,null,null,null,null,null,null,null,null,null,null,null,null,null,null,null,null,null,null,null,null,null,null,null,null,null,null,null,null,null,null,null,null,null,null,null,null,null,null,null,null,null,null,null,null,null,null,null,null,null,null,null,null,null,null,null,null,null,null,null,null,null,null,"",""]
["3342: Quechua sureño (Collao)","10: (137)-Secretario Académico",57,0,"",0,0,0,0,null,null,"","",null,null,null,null,null,null,null,null,null,null,null,null,null,null,null,null,null,null,null,null,null,null,null,null,null,null,null,null,null,null,null,null,null,null,null,null,null,null,null,null,null,null,null,null,null,null,null,null,null,null,null,null,null,null,null,null,null,null,null,null,null,null,null,null,"",""]
["3400: Resígaro","11: (111)-Docente por horas",58,0,"",0,0,0,0,null,null,"","",null,null,null,null,null,null,null,null,null,null,null,null,null,null,null,null,null,null,null,null,null,null,null,null,null,null,null,null,null,null,null,null,null,null,null,null,null,null,null,null,null,null,null,null,null,null,null,null,null,null,null,null,null,null,null,null,null,null,null,null,null,null,null,null,"",""]
["3500: Secoya","12: (136)-Asistente",59,0,"",0,0,0,0,null,null,"","",null,null,null,null,null,null,null,null,null,null,null,null,null,null,null,null,null,null,null,null,null,null,null,null,null,null,null,null,null,null,null,null,null,null,null,null,null,null,null,null,null,null,null,null,null,null,null,null,null,null,null,null,null,null,null,null,null,null,null,null,null,null,null,null,"",""]
["3600: Sharanahua","13: (110)-Coordinador",60,0,"",0,0,0,0,null,null,"","",null,null,null,null,null,null,null,null,null,null,null,null,null,null,null,null,null,null,null,null,null,null,null,null,null,null,null,null,null,null,null,null,null,null,null,null,null,null,null,null,null,null,null,null,null,null,null,null,null,null,null,null,null,null,null,null,null,null,null,null,null,null,null,null,"",""]
["3700: Shawi","14: (139)-Otro docente o jerarquico",61,0,"",0,0,0,0,null,null,"","",null,null,null,null,null,null,null,null,null,null,null,null,null,null,null,null,null,null,null,null,null,null,null,null,null,null,null,null,null,null,null,null,null,null,null,null,null,null,null,null,null,null,null,null,null,null,null,null,null,null,null,null,null,null,null,null,null,null,null,null,null,null,null,null,"",""]
["3800: Shipibo-Konibo",null,62,0,"",0,0,0,0,null,null,"","",null,null,null,null,null,null,null,null,null,null,null,null,null,null,null,null,null,null,null,null,null,null,null,null,null,null,null,null,null,null,null,null,null,null,null,null,null,null,null,null,null,null,null,null,null,null,null,null,null,null,null,null,null,null,null,null,null,null,null,null,null,null,null,null,"",""]
["3900: Shiwilu",null,63,0,"",0,0,0,0,null,null,"","",null,null,null,null,null,null,null,null,null,null,null,null,null,null,null,null,null,null,null,null,null,null,null,null,null,null,null,null,null,null,null,null,null,null,null,null,null,null,null,null,null,null,null,null,null,null,null,null,null,null,null,null,null,null,null,null,null,null,null,null,null,null,null,null,"",""]
["4000: Taushiro",null,64,0,"",0,0,0,0,null,null,"","",null,null,null,null,null,null,null,null,null,null,null,null,null,null,null,null,null,null,null,null,null,null,null,null,null,null,null,null,null,null,null,null,null,null,null,null,null,null,null,null,null,null,null,null,null,null,null,null,null,null,null,null,null,null,null,null,null,null,null,null,null,null,null,null,"",""]
["4100: Ticuna",null,65,{"$f":"IF(AND(LEFT(T83,2)=\"01\",LEFT(Z83,2)=\"01\",LEFT(AA83,2)=\"01\",E83=1),1,0)","v":0},"",0,0,0,{"$f":"IF(L83<>\"\",1,0)","v":0},null,null,"",{"$f":"IF(ISERROR(VLOOKUP(N83,Locales,2,FALSE)),\"\",VLOOKUP(N83,Locales,2,FALSE))","v":""},null,null,null,null,null,null,null,null,null,null,null,null,null,null,null,null,null,null,null,null,null,null,null,null,null,null,null,null,null,null,null,null,null,null,null,null,null,null,null,null,null,null,null,null,null,null,null,null,null,null,null,null,null,null,null,null,null,null,null,null,null,null,null,null,"",""]
["4200: Urarina",null,66,0,{"$f":"$B$16","v":""},{"$f":"COUNTIF(AR84:BA84,\"X\")","v":0},{"$f":"IF(T84<>\"\",VALUE(LEFT(T84,2)),0)","v":0},{"$f":"IF(S84<>\"\",COUNTIF($S$19:$S$1523,S84),0)","v":0},0,null,null,"","",null,null,null,null,null,null,null,null,null,null,null,null,null,null,null,null,null,null,null,null,null,null,null,null,null,null,null,null,null,null,null,null,null,null,null,null,null,null,null,null,null,null,null,null,null,null,null,null,null,null,null,null,null,null,null,null,null,null,null,null,null,null,null,null,{"$f":"IF($AC84<>\"\",IF(OR(LEFT($AC84,2)=\"01\",LEFT($AC84,2)=\"02\",LEFT($AC84,2)=\"04\",LEFT($AC84,2)=\"05\"),1,0),\"\")","v":""},""]
["4300: Wampis",null,67,0,"",0,0,0,0,null,null,{"$f":"IF(C85<=$B$5,C85,\"\")","v":""},"",null,null,null,null,null,null,null,null,null,null,null,null,null,null,null,null,null,null,null,null,null,null,null,null,null,null,null,null,null,null,null,null,null,null,null,null,null,null,null,null,null,null,null,null,null,null,null,null,null,null,null,null,null,null,null,null,null,null,null,null,null,null,null,null,"",""]
["4400: Yagua","Administrativos",68,0,"",0,0,0,0,null,null,"","",null,null,null,null,null,null,null,null,null,null,null,null,null,null,null,null,null,null,null,null,null,null,null,null,null,null,null,null,null,null,null,null,null,null,null,null,null,null,null,null,null,null,null,null,null,null,null,null,null,null,null,null,null,null,null,null,null,null,null,null,null,null,null,null,"",""]
["4500: Yaminahua","15: (534)-Administrador",69,0,"",0,0,0,0,null,null,"","",null,null,null,null,null,null,null,null,null,null,null,null,null,null,null,null,null,null,null,null,null,null,null,null,null,null,null,null,null,null,null,null,null,null,null,null,null,null,null,null,null,null,null,null,null,null,null,null,null,null,null,null,null,null,null,null,null,null,null,null,null,null,null,null,"",""]
["4600: Yanesha","16: (535)-Contador",70,0,"",0,0,0,0,null,null,"","",null,null,null,null,null,null,null,null,null,null,null,null,null,null,null,null,null,null,null,null,null,null,null,null,null,null,null,null,null,null,null,null,null,null,null,null,null,null,null,null,null,null,null,null,null,null,null,null,null,null,null,null,null,null,null,null,null,null,null,null,null,null,null,null,"",""]
["4700: Yine","17: (501)-Psicólogo",71,0,"",0,0,0,0,null,null,"","",null,null,null,null,null,null,null,null,null,null,null,null,null,null,null,null,null,null,null,null,null,null,null,null,null,null,null,null,null,null,null,null,null,null,null,null,null,null,null,null,null,null,null,null,null,null,null,null,null,null,null,null,null,null,null,null,null,null,null,null,null,null,null,null,"",""]
["4800: Nahua","18: (502)-Trabajo social / Servicio social",72,0,"",0,0,0,0,null,null,"","",null,null,null,null,null,null,null,null,null,null,null,null,null,null,null,null,null,null,null,null,null,null,null,null,null,null,null,null,null,null,null,null,null,null,null,null,null,null,null,null,null,null,null,null,null,null,null,null,null,null,null,null,null,null,null,null,null,null,null,null,null,null,null,null,"",""]
["5100: Alemán","19: (503)-Personal de Salud",73,0,"",0,0,0,0,null,null,"","",null,null,null,null,null,null,null,null,null,null,null,null,null,null,null,null,null,null,null,null,null,null,null,null,null,null,null,null,null,null,null,null,null,null,null,null,null,null,null,null,null,null,null,null,null,null,null,null,null,null,null,null,null,null,null,null,null,null,null,null,null,null,null,null,"",""]
["5200: Inglés","20: (537)-Guía intérprete de sordoceguera",74,0,"",0,0,0,0,null,null,"","",null,null,null,null,null,null,null,null,null,null,null,null,null,null,null,null,null,null,null,null,null,null,null,null,null,null,null,null,null,null,null,null,null,null,null,null,null,null,null,null,null,null,null,null,null,null,null,null,null,null,null,null,null,null,null,null,null,null,null,null,null,null,null,null,"",""]
["5300: Italiano","21: (538)-Intérprete de Lengua de Señas Peruana",75,0,"",0,0,0,0,null,null,"","",null,null,null,null,null,null,null,null,null,null,null,null,null,null,null,null,null,null,null,null,null,null,null,null,null,null,null,null,null,null,null,null,null,null,null,null,null,null,null,null,null,null,null,null,null,null,null,null,null,null,null,null,null,null,null,null,null,null,null,null,null,null,null,null,"",""]
["5400: Japonés","22: (539)-Modelo Lingüístio",76,0,"",0,0,0,0,null,null,"","",null,null,null,null,null,null,null,null,null,null,null,null,null,null,null,null,null,null,null,null,null,null,null,null,null,null,null,null,null,null,null,null,null,null,null,null,null,null,null,null,null,null,null,null,null,null,null,null,null,null,null,null,null,null,null,null,null,null,null,null,null,null,null,null,"",""]
["5500: Portugués","23: (505)-Otro personal profesional",77,0,"",0,0,0,0,null,null,"","",null,null,null,null,null,null,null,null,null,null,null,null,null,null,null,null,null,null,null,null,null,null,null,null,null,null,null,null,null,null,null,null,null,null,null,null,null,null,null,null,null,null,null,null,null,null,null,null,null,null,null,null,null,null,null,null,null,null,null,null,null,null,null,null,"",""]
["5600: Ruso","24: (506)-Auxiliar de Biblioteca",78,0,"",0,0,0,0,null,null,"","",null,null,null,null,null,null,null,null,null,null,null,null,null,null,null,null,null,null,null,null,null,null,null,null,null,null,null,null,null,null,null,null,null,null,null,null,null,null,null,null,null,null,null,null,null,null,null,null,null,null,null,null,null,null,null,null,null,null,null,null,null,null,null,null,"",""]
["5700: Francés","25: (507)-Auxiliar de Laboratorio",79,0,"",0,0,0,0,null,null,"","",null,null,null,null,null,null,null,null,null,null,null,null,null,null,null,null,null,null,null,null,null,null,null,null,null,null,null,null,null,null,null,null,null,null,null,null,null,null,null,null,null,null,null,null,null,null,null,null,null,null,null,null,null,null,null,null,null,null,null,null,null,null,null,null,"",""]
["5800: Otra lengua extranjera","26: (508)-Secretaria u Oficinista",80,0,"",0,0,0,0,null,null,"","",null,null,null,null,null,null,null,null,null,null,null,null,null,null,null,null,null,null,null,null,null,null,null,null,null,null,null,null,null,null,null,null,null,null,null,null,null,null,null,null,null,null,null,null,null,null,null,null,null,null,null,null,null,null,null,null,null,null,null,null,null,null,null,null,"",""]
[null,"27: (536)-Bibliotecario",81,0,"",0,0,0,0,null,null,"","",null,null,null,null,null,null,null,null,null,null,null,null,null,null,null,null,null,null,null,null,null,null,null,null,null,null,null,null,null,null,null,null,null,null,null,null,null,null,null,null,null,null,null,null,null,null,null,null,null,null,null,null,null,null,null,null,null,null,null,null,null,null,null,null,"",""]
["307. Otra Lengua","28: (512)-Personal de Servicio - Mantenimiento",82,0,"",0,0,0,0,null,null,"","",null,null,null,null,null,null,null,null,null,null,null,null,null,null,null,null,null,null,null,null,null,null,null,null,null,null,null,null,null,null,null,null,null,null,null,null,null,null,null,null,null,null,null,null,null,null,null,null,null,null,null,null,null,null,null,null,null,null,null,null,null,null,null,null,"",""]
["De: todos","29: (513)-Personal de Servicio - Cocina",83,0,"",0,0,0,0,null,null,"","",null,null,null,null,null,null,null,null,null,null,null,null,null,null,null,null,null,null,null,null,null,null,null,null,null,null,null,null,null,null,null,null,null,null,null,null,null,null,null,null,null,null,null,null,null,null,null,null,null,null,null,null,null,null,null,null,null,null,null,null,null,null,null,null,"",""]
[null,"30: (514)-Personal de Servicio - Limpieza",84,0,"",0,0,0,0,null,null,"","",null,null,null,null,null,null,null,null,null,null,null,null,null,null,null,null,null,null,null,null,null,null,null,null,null,null,null,null,null,null,null,null,null,null,null,null,null,null,null,null,null,null,null,null,null,null,null,null,null,null,null,null,null,null,null,null,null,null,null,null,null,null,null,null,"",""]
["308. Fuente de Financiamiento","31: (516)-Personal de Servicio - Vigilante",85,0,"",0,0,0,0,null,null,"","",null,null,null,null,null,null,null,null,null,null,null,null,null,null,null,null,null,null,null,null,null,null,null,null,null,null,null,null,null,null,null,null,null,null,null,null,null,null,null,null,null,null,null,null,null,null,null,null,null,null,null,null,null,null,null,null,null,null,null,null,null,null,null,null,"",""]
["01: Sector Educación","32: (517)-Personal de servicio - Otro",86,0,"",0,0,0,0,null,null,"","",null,null,null,null,null,null,null,null,null,null,null,null,null,null,null,null,null,null,null,null,null,null,null,null,null,null,null,null,null,null,null,null,null,null,null,null,null,null,null,null,null,null,null,null,null,null,null,null,null,null,null,null,null,null,null,null,null,null,null,null,null,null,null,null,"",""]
["02: Otro sector público","33: (518)-Otro personal No profesional",87,0,"",0,0,0,0,null,null,"","",null,null,null,null,null,null,null,null,null,null,null,null,null,null,null,null,null,null,null,null,null,null,null,null,null,null,null,null,null,null,null,null,null,null,null,null,null,null,null,null,null,null,null,null,null,null,null,null,null,null,null,null,null,null,null,null,null,null,null,null,null,null,null,null,"",""]
["03: Municipalidad",null,88,0,"",0,0,0,0,null,null,"","",null,null,null,null,null,null,null,null,null,null,null,null,null,null,null,null,null,null,null,null,null,null,null,null,null,null,null,null,null,null,null,null,null,null,null,null,null,null,null,null,null,null,null,null,null,null,null,null,null,null,null,null,null,null,null,null,null,null,null,null,null,null,null,null,"",""]
["04: Gobierno Regional",null,89,0,"",0,0,0,0,null,null,"","",null,null,null,null,null,null,null,null,null,null,null,null,null,null,null,null,null,null,null,null,null,null,null,null,null,null,null,null,null,null,null,null,null,null,null,null,null,null,null,null,null,null,null,null,null,null,null,null,null,null,null,null,null,null,null,null,null,null,null,null,null,null,null,null,"",""]
["05: APAFA","99: (999)-Auxiliar de Educación",90,0,"",0,0,0,0,null,null,"","",null,null,null,null,null,null,null,null,null,null,null,null,null,null,null,null,null,null,null,null,null,null,null,null,null,null,null,null,null,null,null,null,null,null,null,null,null,null,null,null,null,null,null,null,null,null,null,null,null,null,null,null,null,null,null,null,null,null,null,null,null,null,null,null,"",""]
["06: Otra fuente Privada",null,91,0,"",0,0,0,0,null,null,"","",null,null,null,null,null,null,null,null,null,null,null,null,null,null,null,null,null,null,null,null,null,null,null,null,null,null,null,null,null,null,null,null,null,null,null,null,null,null,null,null,null,null,null,null,null,null,null,null,null,null,null,null,null,null,null,null,null,null,null,null,null,null,null,null,"",""]
[null,null,92,0,"",0,0,0,0,null,null,"","",null,null,null,null,null,null,null,null,null,null,null,null,null,null,null,null,null,null,null,null,null,null,null,null,null,null,null,null,null,null,null,null,null,null,null,null,null,null,null,null,null,null,null,null,null,null,null,null,null,null,null,null,null,null,null,null,null,null,null,null,null,null,null,null,"",""]
["309. Condición Laboral","SI / NO",93,0,"",0,0,0,0,null,null,"","",null,null,null,null,null,null,null,null,null,null,null,null,null,null,null,null,null,null,null,null,null,null,null,null,null,null,null,null,null,null,null,null,null,null,null,null,null,null,null,null,null,null,null,null,null,null,null,null,null,null,null,null,null,null,null,null,null,null,null,null,null,null,null,null,"",""]
["01: Nombrado","SI",94,0,"",0,0,0,0,null,null,"","",null,null,null,null,null,null,null,null,null,null,null,null,null,null,null,null,null,null,null,null,null,null,null,null,null,null,null,null,null,null,null,null,null,null,null,null,null,null,null,null,null,null,null,null,null,null,null,null,null,null,null,null,null,null,null,null,null,null,null,null,null,null,null,null,"",""]
["02: Contratado","NO",95,0,"",0,0,0,0,null,null,"","",null,null,null,null,null,null,null,null,null,null,null,null,null,null,null,null,null,null,null,null,null,null,null,null,null,null,null,null,null,null,null,null,null,null,null,null,null,null,null,null,null,null,null,null,null,null,null,null,null,null,null,null,null,null,null,null,null,null,null,null,null,null,null,null,"",""]
["03: No aplica",null,96,0,"",0,0,0,0,null,null,"","",null,null,null,null,null,null,null,null,null,null,null,null,null,null,null,null,null,null,null,null,null,null,null,null,null,null,null,null,null,null,null,null,null,null,null,null,null,null,null,null,null,null,null,null,null,null,null,null,null,null,null,null,null,null,null,null,null,null,null,null,null,null,null,null,"",""]
[null,null,97,0,"",0,0,0,0,null,null,"","",null,null,null,null,null,null,null,null,null,null,null,null,null,null,null,null,null,null,null,null,null,null,null,null,null,null,null,null,null,null,null,null,null,null,null,null,null,null,null,null,null,null,null,null,null,null,null,null,null,null,null,null,null,null,null,null,null,null,null,null,null,null,null,null,"",""]
["310. Modalidad de Contrato",null,98,0,"",0,0,0,0,null,null,"","",null,null,null,null,null,null,null,null,null,null,null,null,null,null,null,null,null,null,null,null,null,null,null,null,null,null,null,null,null,null,null,null,null,null,null,null,null,null,null,null,null,null,null,null,null,null,null,null,null,null,null,null,null,null,null,null,null,null,null,null,null,null,null,null,"",""]
["Contrato Público",null,99,0,"",0,0,0,0,null,null,"","",null,null,null,null,null,null,null,null,null,null,null,null,null,null,null,null,null,null,null,null,null,null,null,null,null,null,null,null,null,null,null,null,null,null,null,null,null,null,null,null,null,null,null,null,null,null,null,null,null,null,null,null,null,null,null,null,null,null,null,null,null,null,null,null,"",""]
["01: A plazo fijo D. Leg. 728",null,100,0,"",0,0,0,0,null,null,"","",null,null,null,null,null,null,null,null,null,null,null,null,null,null,null,null,null,null,null,null,null,null,null,null,null,null,null,null,null,null,null,null,null,null,null,null,null,null,null,null,null,null,null,null,null,null,null,null,null,null,null,null,null,null,null,null,null,null,null,null,null,null,null,null,"",""]
["02: Locación de Serv. / Honorarios",null,101,0,"",0,0,0,0,null,null,"","",null,null,null,null,null,null,null,null,null,null,null,null,null,null,null,null,null,null,null,null,null,null,null,null,null,null,null,null,null,null,null,null,null,null,null,null,null,null,null,null,null,null,null,null,null,null,null,null,null,null,null,null,null,null,null,null,null,null,null,null,null,null,null,null,"",""]
["03: CAS - D. Leg. 1057",null,102,0,"",0,0,0,0,null,null,"","",null,null,null,null,null,null,null,null,null,null,null,null,null,null,null,null,null,null,null,null,null,null,null,null,null,null,null,null,null,null,null,null,null,null,null,null,null,null,null,null,null,null,null,null,null,null,null,null,null,null,null,null,null,null,null,null,null,null,null,null,null,null,null,null,"",""]
["04: Contrato D. Leg. 276",null,103,0,"",0,0,0,0,null,null,"","",null,null,null,null,null,null,null,null,null,null,null,null,null,null,null,null,null,null,null,null,null,null,null,null,null,null,null,null,null,null,null,null,null,null,null,null,null,null,null,null,null,null,null,null,null,null,null,null,null,null,null,null,null,null,null,null,null,null,null,null,null,null,null,null,"",""]
["05: Contrato Ley 30328","321. Situación en el Cargo Directivo",104,0,"",0,0,0,0,null,null,"","",null,null,null,null,null,null,null,null,null,null,null,null,null,null,null,null,null,null,null,null,null,null,null,null,null,null,null,null,null,null,null,null,null,null,null,null,null,null,null,null,null,null,null,null,null,null,null,null,null,null,null,null,null,null,null,null,null,null,null,null,null,null,null,null,"",""]
["06: Contrato Ley 30512","01: Titular ratificado eval.2014",105,0,"",0,0,0,0,null,null,"","",null,null,null,null,null,null,null,null,null,null,null,null,null,null,null,null,null,null,null,null,null,null,null,null,null,null,null,null,null,null,null,null,null,null,null,null,null,null,null,null,null,null,null,null,null,null,null,null,null,null,null,null,null,null,null,null,null,null,null,null,null,null,null,null,"",""]
["07: Otra modalidad","02: Titular designado eval. 2015, 2016 y 2018",106,0,"",0,0,0,0,null,null,"","",null,null,null,null,null,null,null,null,null,null,null,null,null,null,null,null,null,null,null,null,null,null,null,null,null,null,null,null,null,null,null,null,null,null,null,null,null,null,null,null,null,null,null,null,null,null,null,null,null,null,null,null,null,null,null,null,null,null,null,null,null,null,null,null,"",""]
["Contrato Privado","03: Titular otro",107,0,"",0,0,0,0,null,null,"","",null,null,null,null,null,null,null,null,null,null,null,null,null,null,null,null,null,null,null,null,null,null,null,null,null,null,null,null,null,null,null,null,null,null,null,null,null,null,null,null,null,null,null,null,null,null,null,null,null,null,null,null,null,null,null,null,null,null,null,null,null,null,null,null,"",""]
["08: A plazo indefinido (Permanente)","04: Encargado por función, sin doc. formal",108,0,"",0,0,0,0,null,null,"","",null,null,null,null,null,null,null,null,null,null,null,null,null,null,null,null,null,null,null,null,null,null,null,null,null,null,null,null,null,null,null,null,null,null,null,null,null,null,null,null,null,null,null,null,null,null,null,null,null,null,null,null,null,null,null,null,null,null,null,null,null,null,null,null,"",""]
["09: Plazo fijo (Tiempo determinado)","05: Encargado",109,0,"",0,0,0,0,null,null,"","",null,null,null,null,null,null,null,null,null,null,null,null,null,null,null,null,null,null,null,null,null,null,null,null,null,null,null,null,null,null,null,null,null,null,null,null,null,null,null,null,null,null,null,null,null,null,null,null,null,null,null,null,null,null,null,null,null,null,null,null,null,null,null,null,"",""]
["10: A tiempo parcial (por horas)",null,110,0,"",0,0,0,0,null,null,"","",null,null,null,null,null,null,null,null,null,null,null,null,null,null,null,null,null,null,null,null,null,null,null,null,null,null,null,null,null,null,null,null,null,null,null,null,null,null,null,null,null,null,null,null,null,null,null,null,null,null,null,null,null,null,null,null,null,null,null,null,null,null,null,null,"",""]
["11: Locación de Serv. / Honorarios","322. Destaque o Licencia",111,0,"",0,0,0,0,null,null,"","",null,null,null,null,null,null,null,null,null,null,null,null,null,null,null,null,null,null,null,null,null,null,null,null,null,null,null,null,null,null,null,null,null,null,null,null,null,null,null,null,null,null,null,null,null,null,null,null,null,null,null,null,null,null,null,null,null,null,null,null,null,null,null,null,"",""]
["12: Otra modalidad","01: Cubriendo una licencia",112,0,"",0,0,0,0,null,null,"","",null,null,null,null,null,null,null,null,null,null,null,null,null,null,null,null,null,null,null,null,null,null,null,null,null,null,null,null,null,null,null,null,null,null,null,null,null,null,null,null,null,null,null,null,null,null,null,null,null,null,null,null,null,null,null,null,null,null,null,null,null,null,null,null,"",""]
["311. Máximo Nivel Educativo Alcanzado","02: De otra I.E./DRE/UGEL",113,0,"",0,0,0,0,null,null,"","",null,null,null,null,null,null,null,null,null,null,null,null,null,null,null,null,null,null,null,null,null,null,null,null,null,null,null,null,null,null,null,null,null,null,null,null,null,null,null,null,null,null,null,null,null,null,null,null,null,null,null,null,null,null,null,null,null,null,null,null,null,null,null,null,"",""]
["01: EP.Concluidos con título","03: No Aplica",114,0,"",0,0,0,0,null,null,"","",null,null,null,null,null,null,null,null,null,null,null,null,null,null,null,null,null,null,null,null,null,null,null,null,null,null,null,null,null,null,null,null,null,null,null,null,null,null,null,null,null,null,null,null,null,null,null,null,null,null,null,null,null,null,null,null,null,null,null,null,null,null,null,null,"",""]
["02: EP.Concluidos sin título",null,115,0,"",0,0,0,0,null,null,"","",null,null,null,null,null,null,null,null,null,null,null,null,null,null,null,null,null,null,null,null,null,null,null,null,null,null,null,null,null,null,null,null,null,null,null,null,null,null,null,null,null,null,null,null,null,null,null,null,null,null,null,null,null,null,null,null,null,null,null,null,null,null,null,null,"",""]
["03: EP.No concluidos",null,116,0,"",0,0,0,0,null,null,"","",null,null,null,null,null,null,null,null,null,null,null,null,null,null,null,null,null,null,null,null,null,null,null,null,null,null,null,null,null,null,null,null,null,null,null,null,null,null,null,null,null,null,null,null,null,null,null,null,null,null,null,null,null,null,null,null,null,null,null,null,null,null,null,null,"",""]
["04: NP.Concluidos con título","323. Jornada Laboral (Nombramiento / Contrato)",117,0,"",0,0,0,0,null,null,"","",null,null,null,null,null,null,null,null,null,null,null,null,null,null,null,null,null,null,null,null,null,null,null,null,null,null,null,null,null,null,null,null,null,null,null,null,null,null,null,null,null,null,null,null,null,null,null,null,null,null,null,null,null,null,null,null,null,null,null,null,null,null,null,null,"",""]
["05: NP.Concluidos sin título","40: 40 horas",118,0,"",0,0,0,0,null,null,"","",null,null,null,null,null,null,null,null,null,null,null,null,null,null,null,null,null,null,null,null,null,null,null,null,null,null,null,null,null,null,null,null,null,null,null,null,null,null,null,null,null,null,null,null,null,null,null,null,null,null,null,null,null,null,null,null,null,null,null,null,null,null,null,null,"",""]
["06: NP.No concluidos","30: 30 horas",119,0,"",0,0,0,0,null,null,"","",null,null,null,null,null,null,null,null,null,null,null,null,null,null,null,null,null,null,null,null,null,null,null,null,null,null,null,null,null,null,null,null,null,null,null,null,null,null,null,null,null,null,null,null,null,null,null,null,null,null,null,null,null,null,null,null,null,null,null,null,null,null,null,null,"",""]
["07: Secundaria","25: 25 horas",120,0,"",0,0,0,0,null,null,"","",null,null,null,null,null,null,null,null,null,null,null,null,null,null,null,null,null,null,null,null,null,null,null,null,null,null,null,null,null,null,null,null,null,null,null,null,null,null,null,null,null,null,null,null,null,null,null,null,null,null,null,null,null,null,null,null,null,null,null,null,null,null,null,null,"",""]
["08: Primaria","24: 24 horas",121,0,"",0,0,0,0,null,null,"","",null,null,null,null,null,null,null,null,null,null,null,null,null,null,null,null,null,null,null,null,null,null,null,null,null,null,null,null,null,null,null,null,null,null,null,null,null,null,null,null,null,null,null,null,null,null,null,null,null,null,null,null,null,null,null,null,null,null,null,null,null,null,null,null,"",""]
[null,"23: Menos 24 horas",122,0,"",0,0,0,0,null,null,"","",null,null,null,null,null,null,null,null,null,null,null,null,null,null,null,null,null,null,null,null,null,null,null,null,null,null,null,null,null,null,null,null,null,null,null,null,null,null,null,null,null,null,null,null,null,null,null,null,null,null,null,null,null,null,null,null,null,null,null,null,null,null,null,null,"",""]
[null,null,123,0,"",0,0,0,0,null,null,"","",null,null,null,null,null,null,null,null,null,null,null,null,null,null,null,null,null,null,null,null,null,null,null,null,null,null,null,null,null,null,null,null,null,null,null,null,null,null,null,null,null,null,null,null,null,null,null,null,null,null,null,null,null,null,null,null,null,null,null,null,null,null,null,null,"",""]
["311.1 Nivel Educativo",null,124,0,"",0,0,0,0,null,null,"","",null,null,null,null,null,null,null,null,null,null,null,null,null,null,null,null,null,null,null,null,null,null,null,null,null,null,null,null,null,null,null,null,null,null,null,null,null,null,null,null,null,null,null,null,null,null,null,null,null,null,null,null,null,null,null,null,null,null,null,null,null,null,null,null,"",""]
["01: Técnico","332. Frecuencia",125,0,"",0,0,0,0,null,null,"","",null,null,null,null,null,null,null,null,null,null,null,null,null,null,null,null,null,null,null,null,null,null,null,null,null,null,null,null,null,null,null,null,null,null,null,null,null,null,null,null,null,null,null,null,null,null,null,null,null,null,null,null,null,null,null,null,null,null,null,null,null,null,null,null,"",""]
["02: Profesional Técnico","01: Diario",126,0,"",0,0,0,0,null,null,"","",null,null,null,null,null,null,null,null,null,null,null,null,null,null,null,null,null,null,null,null,null,null,null,null,null,null,null,null,null,null,null,null,null,null,null,null,null,null,null,null,null,null,null,null,null,null,null,null,null,null,null,null,null,null,null,null,null,null,null,null,null,null,null,null,"",""]
["03: Universitario","02: Interdiario",127,0,"",0,0,0,0,null,null,"","",null,null,null,null,null,null,null,null,null,null,null,null,null,null,null,null,null,null,null,null,null,null,null,null,null,null,null,null,null,null,null,null,null,null,null,null,null,null,null,null,null,null,null,null,null,null,null,null,null,null,null,null,null,null,null,null,null,null,null,null,null,null,null,null,"",""]
[null,"03: Semanal",128,0,"",0,0,0,0,null,null,"","",null,null,null,null,null,null,null,null,null,null,null,null,null,null,null,null,null,null,null,null,null,null,null,null,null,null,null,null,null,null,null,null,null,null,null,null,null,null,null,null,null,null,null,null,null,null,null,null,null,null,null,null,null,null,null,null,null,null,null,null,null,null,null,null,"",""]
[null,"04: Quincenal",129,{"$f":"IF(AND(LEFT(T147,2)=\"01\",LEFT(Z147,2)=\"01\",LEFT(AA147,2)=\"01\",E147=1),1,0)","v":0},"",0,0,0,{"$f":"IF(L147<>\"\",1,0)","v":0},null,null,"",{"$f":"IF(ISERROR(VLOOKUP(N147,Locales,2,FALSE)),\"\",VLOOKUP(N147,Locales,2,FALSE))","v":""},null,null,null,null,null,null,null,null,null,null,null,null,null,null,null,null,null,null,null,null,null,null,null,null,null,null,null,null,null,null,null,null,null,null,null,null,null,null,null,null,null,null,null,null,null,null,null,null,null,null,null,null,null,null,null,null,null,null,null,null,null,null,null,null,"",""]
["312. Especialidad del Título","05: Mensual",130,0,{"$f":"$B$16","v":""},{"$f":"COUNTIF(AR148:BA148,\"X\")","v":0},{"$f":"IF(T148<>\"\",VALUE(LEFT(T148,2)),0)","v":0},{"$f":"IF(S148<>\"\",COUNTIF($S$19:$S$1523,S148),0)","v":0},0,null,null,"","",null,null,null,null,null,null,null,null,null,null,null,null,null,null,null,null,null,null,null,null,null,null,null,null,null,null,null,null,null,null,null,null,null,null,null,null,null,null,null,null,null,null,null,null,null,null,null,null,null,null,null,null,null,null,null,null,null,null,null,null,null,null,null,null,{"$f":"IF($AC148<>\"\",IF(OR(LEFT($AC148,2)=\"01\",LEFT($AC148,2)=\"02\",LEFT($AC148,2)=\"04\",LEFT($AC148,2)=\"05\"),1,0),\"\")","v":""},""]
["01: Educación Inicial",null,131,0,"",0,0,0,0,null,null,{"$f":"IF(C149<=$B$5,C149,\"\")","v":""},"",null,null,null,null,null,null,null,null,null,null,null,null,null,null,null,null,null,null,null,null,null,null,null,null,null,null,null,null,null,null,null,null,null,null,null,null,null,null,null,null,null,null,null,null,null,null,null,null,null,null,null,null,null,null,null,null,null,null,null,null,null,null,null,null,"",""]
["02: Educación Primaria",null,132,0,"",0,0,0,0,null,null,"","",null,null,null,null,null,null,null,null,null,null,null,null,null,null,null,null,null,null,null,null,null,null,null,null,null,null,null,null,null,null,null,null,null,null,null,null,null,null,null,null,null,null,null,null,null,null,null,null,null,null,null,null,null,null,null,null,null,null,null,null,null,null,null,null,"",""]
["03: E.I. Intercultural Bilingüe",null,133,0,"",0,0,0,0,null,null,"","",null,null,null,null,null,null,null,null,null,null,null,null,null,null,null,null,null,null,null,null,null,null,null,null,null,null,null,null,null,null,null,null,null,null,null,null,null,null,null,null,null,null,null,null,null,null,null,null,null,null,null,null,null,null,null,null,null,null,null,null,null,null,null,null,"",""]
["04: E.P. Intercultural Bilingüe","340 ¿Cuál es el tipo de discapacidad?",134,0,"",0,0,0,0,null,null,"","",null,null,null,null,null,null,null,null,null,null,null,null,null,null,null,null,null,null,null,null,null,null,null,null,null,null,null,null,null,null,null,null,null,null,null,null,null,null,null,null,null,null,null,null,null,null,null,null,null,null,null,null,null,null,null,null,null,null,null,null,null,null,null,null,"",""]
["05: Educación Básica Alternativa","01: Auditiva",135,0,"",0,0,0,0,null,null,"","",null,null,null,null,null,null,null,null,null,null,null,null,null,null,null,null,null,null,null,null,null,null,null,null,null,null,null,null,null,null,null,null,null,null,null,null,null,null,null,null,null,null,null,null,null,null,null,null,null,null,null,null,null,null,null,null,null,null,null,null,null,null,null,null,"",""]
["06: Educación Especial","02: Visual",136,0,"",0,0,0,0,null,null,"","",null,null,null,null,null,null,null,null,null,null,null,null,null,null,null,null,null,null,null,null,null,null,null,null,null,null,null,null,null,null,null,null,null,null,null,null,null,null,null,null,null,null,null,null,null,null,null,null,null,null,null,null,null,null,null,null,null,null,null,null,null,null,null,null,"",""]
["07: Educación Física","03: Física o Motora",137,0,"",0,0,0,0,null,null,"","",null,null,null,null,null,null,null,null,null,null,null,null,null,null,null,null,null,null,null,null,null,null,null,null,null,null,null,null,null,null,null,null,null,null,null,null,null,null,null,null,null,null,null,null,null,null,null,null,null,null,null,null,null,null,null,null,null,null,null,null,null,null,null,null,"",""]
["08: Educación Artística","04: Otras",138,0,"",0,0,0,0,null,null,"","",null,null,null,null,null,null,null,null,null,null,null,null,null,null,null,null,null,null,null,null,null,null,null,null,null,null,null,null,null,null,null,null,null,null,null,null,null,null,null,null,null,null,null,null,null,null,null,null,null,null,null,null,null,null,null,null,null,null,null,null,null,null,null,null,"",""]
["09: E.S. Lengua y Literatura",null,139,0,"",0,0,0,0,null,null,"","",null,null,null,null,null,null,null,null,null,null,null,null,null,null,null,null,null,null,null,null,null,null,null,null,null,null,null,null,null,null,null,null,null,null,null,null,null,null,null,null,null,null,null,null,null,null,null,null,null,null,null,null,null,null,null,null,null,null,null,null,null,null,null,null,"",""]
["10: E.S. Comunicación",null,140,0,"",0,0,0,0,null,null,"","",null,null,null,null,null,null,null,null,null,null,null,null,null,null,null,null,null,null,null,null,null,null,null,null,null,null,null,null,null,null,null,null,null,null,null,null,null,null,null,null,null,null,null,null,null,null,null,null,null,null,null,null,null,null,null,null,null,null,null,null,null,null,null,null,"",""]
["11: E.S. Matemática y Física","337.3 Asistencia Técnica",141,0,"",0,0,0,0,null,null,"","",null,null,null,null,null,null,null,null,null,null,null,null,null,null,null,null,null,null,null,null,null,null,null,null,null,null,null,null,null,null,null,null,null,null,null,null,null,null,null,null,null,null,null,null,null,null,null,null,null,null,null,null,null,null,null,null,null,null,null,null,null,null,null,null,"",""]
["12: E.S. Matemática","01: Uso pedagógico de los cuadernos",142,0,"",0,0,0,0,null,null,"","",null,null,null,null,null,null,null,null,null,null,null,null,null,null,null,null,null,null,null,null,null,null,null,null,null,null,null,null,null,null,null,null,null,null,null,null,null,null,null,null,null,null,null,null,null,null,null,null,null,null,null,null,null,null,null,null,null,null,null,null,null,null,null,null,"",""]
["13: E.S. CCSS y Filosofía","02: TICs",143,0,"",0,0,0,0,null,null,"","",null,null,null,null,null,null,null,null,null,null,null,null,null,null,null,null,null,null,null,null,null,null,null,null,null,null,null,null,null,null,null,null,null,null,null,null,null,null,null,null,null,null,null,null,null,null,null,null,null,null,null,null,null,null,null,null,null,null,null,null,null,null,null,null,"",""]
["14: E.S. Ciencias Sociales","03: Inclusión Financiera",144,0,"",0,0,0,0,null,null,"","",null,null,null,null,null,null,null,null,null,null,null,null,null,null,null,null,null,null,null,null,null,null,null,null,null,null,null,null,null,null,null,null,null,null,null,null,null,null,null,null,null,null,null,null,null,null,null,null,null,null,null,null,null,null,null,null,null,null,null,null,null,null,null,null,"",""]
["15: E.S. Ciencias Naturales","04: Prevención de la violencia",145,0,"",0,0,0,0,null,null,"","",null,null,null,null,null,null,null,null,null,null,null,null,null,null,null,null,null,null,null,null,null,null,null,null,null,null,null,null,null,null,null,null,null,null,null,null,null,null,null,null,null,null,null,null,null,null,null,null,null,null,null,null,null,null,null,null,null,null,null,null,null,null,null,null,"",""]
["16: E.S. Ciencia Tecnología y Ambiente","05: Otro",146,0,"",0,0,0,0,null,null,"","",null,null,null,null,null,null,null,null,null,null,null,null,null,null,null,null,null,null,null,null,null,null,null,null,null,null,null,null,null,null,null,null,null,null,null,null,null,null,null,null,null,null,null,null,null,null,null,null,null,null,null,null,null,null,null,null,null,null,null,null,null,null,null,null,"",""]
["17: E.S. Alimentación y Nutrición","06: No recibió asistencia técnica",147,0,"",0,0,0,0,null,null,"","",null,null,null,null,null,null,null,null,null,null,null,null,null,null,null,null,null,null,null,null,null,null,null,null,null,null,null,null,null,null,null,null,null,null,null,null,null,null,null,null,null,null,null,null,null,null,null,null,null,null,null,null,null,null,null,null,null,null,null,null,null,null,null,null,"",""]
["18: E.S. Biología y Química",null,148,0,"",0,0,0,0,null,null,"","",null,null,null,null,null,null,null,null,null,null,null,null,null,null,null,null,null,null,null,null,null,null,null,null,null,null,null,null,null,null,null,null,null,null,null,null,null,null,null,null,null,null,null,null,null,null,null,null,null,null,null,null,null,null,null,null,null,null,null,null,null,null,null,null,"",""]
["19: E.S. Historia y Geografía","339.3 ¿Cuál fue el tipo de estudios en EIB?",149,0,"",0,0,0,0,null,null,"","",null,null,null,null,null,null,null,null,null,null,null,null,null,null,null,null,null,null,null,null,null,null,null,null,null,null,null,null,null,null,null,null,null,null,null,null,null,null,null,null,null,null,null,null,null,null,null,null,null,null,null,null,null,null,null,null,null,null,null,null,null,null,null,null,"",""]
["20: E.S. CC.HH. Sociales","01: Doctorado",150,0,"",0,0,0,0,null,null,"","",null,null,null,null,null,null,null,null,null,null,null,null,null,null,null,null,null,null,null,null,null,null,null,null,null,null,null,null,null,null,null,null,null,null,null,null,null,null,null,null,null,null,null,null,null,null,null,null,null,null,null,null,null,null,null,null,null,null,null,null,null,null,null,null,"",""]
["21: E.S. Idioma Inglés","02: Maestría",151,0,"",0,0,0,0,null,null,"","",null,null,null,null,null,null,null,null,null,null,null,null,null,null,null,null,null,null,null,null,null,null,null,null,null,null,null,null,null,null,null,null,null,null,null,null,null,null,null,null,null,null,null,null,null,null,null,null,null,null,null,null,null,null,null,null,null,null,null,null,null,null,null,null,"",""]
["22: Educación Religiosa","03: Segunda especialidad",152,0,"",0,0,0,0,null,null,"","",null,null,null,null,null,null,null,null,null,null,null,null,null,null,null,null,null,null,null,null,null,null,null,null,null,null,null,null,null,null,null,null,null,null,null,null,null,null,null,null,null,null,null,null,null,null,null,null,null,null,null,null,null,null,null,null,null,null,null,null,null,null,null,null,"",""]
["23: E.S. Educación Familiar","04: Especialización",153,0,"",0,0,0,0,null,null,"","",null,null,null,null,null,null,null,null,null,null,null,null,null,null,null,null,null,null,null,null,null,null,null,null,null,null,null,null,null,null,null,null,null,null,null,null,null,null,null,null,null,null,null,null,null,null,null,null,null,null,null,null,null,null,null,null,null,null,null,null,null,null,null,null,"",""]
["24: E.T. Artes Industriales","05: Actualización",154,0,"",0,0,0,0,null,null,"","",null,null,null,null,null,null,null,null,null,null,null,null,null,null,null,null,null,null,null,null,null,null,null,null,null,null,null,null,null,null,null,null,null,null,null,null,null,null,null,null,null,null,null,null,null,null,null,null,null,null,null,null,null,null,null,null,null,null,null,null,null,null,null,null,"",""]
["25: E.T. Artesanía","06: Otro",155,0,"",0,0,0,0,null,null,"","",null,null,null,null,null,null,null,null,null,null,null,null,null,null,null,null,null,null,null,null,null,null,null,null,null,null,null,null,null,null,null,null,null,null,null,null,null,null,null,null,null,null,null,null,null,null,null,null,null,null,null,null,null,null,null,null,null,null,null,null,null,null,null,null,"",""]
["26: E.T. Agropecuaria",null,156,0,"",0,0,0,0,null,null,"","",null,null,null,null,null,null,null,null,null,null,null,null,null,null,null,null,null,null,null,null,null,null,null,null,null,null,null,null,null,null,null,null,null,null,null,null,null,null,null,null,null,null,null,null,null,null,null,null,null,null,null,null,null,null,null,null,null,null,null,null,null,null,null,null,"",""]
["27: E.T. Construcción en madera","Parroquiales",157,0,"",0,0,0,0,null,null,"","",null,null,null,null,null,null,null,null,null,null,null,null,null,null,null,null,null,null,null,null,null,null,null,null,null,null,null,null,null,null,null,null,null,null,null,null,null,null,null,null,null,null,null,null,null,null,null,null,null,null,null,null,null,null,null,null,null,null,null,null,null,null,null,null,"",""]
["28: E.T. Computación e Informática","05: APAFA",158,0,"",0,0,0,0,null,null,"","",null,null,null,null,null,null,null,null,null,null,null,null,null,null,null,null,null,null,null,null,null,null,null,null,null,null,null,null,null,null,null,null,null,null,null,null,null,null,null,null,null,null,null,null,null,null,null,null,null,null,null,null,null,null,null,null,null,null,null,null,null,null,null,null,"",""]
["29: E.T. Carpintería/Ebanistería","06: Otra fuente Privada",159,0,"",0,0,0,0,null,null,"","",null,null,null,null,null,null,null,null,null,null,null,null,null,null,null,null,null,null,null,null,null,null,null,null,null,null,null,null,null,null,null,null,null,null,null,null,null,null,null,null,null,null,null,null,null,null,null,null,null,null,null,null,null,null,null,null,null,null,null,null,null,null,null,null,"",""]
["30: E.T. Electricidad","01: Sector Educación",160,0,"",0,0,0,0,null,null,"","",null,null,null,null,null,null,null,null,null,null,null,null,null,null,null,null,null,null,null,null,null,null,null,null,null,null,null,null,null,null,null,null,null,null,null,null,null,null,null,null,null,null,null,null,null,null,null,null,null,null,null,null,null,null,null,null,null,null,null,null,null,null,null,null,"",""]
["31: E.T. Electrónica",null,161,0,"",0,0,0,0,null,null,"","",null,null,null,null,null,null,null,null,null,null,null,null,null,null,null,null,null,null,null,null,null,null,null,null,null,null,null,null,null,null,null,null,null,null,null,null,null,null,null,null,null,null,null,null,null,null,null,null,null,null,null,null,null,null,null,null,null,null,null,null,null,null,null,null,"",""]
["32: E.T. Ebanistería","337. Reconocimiento",162,0,"",0,0,0,0,null,null,"","",null,null,null,null,null,null,null,null,null,null,null,null,null,null,null,null,null,null,null,null,null,null,null,null,null,null,null,null,null,null,null,null,null,null,null,null,null,null,null,null,null,null,null,null,null,null,null,null,null,null,null,null,null,null,null,null,null,null,null,null,null,null,null,null,"",""]
["33: E.T. Industria del Vestido","01: Innovación",163,0,"",0,0,0,0,null,null,"","",null,null,null,null,null,null,null,null,null,null,null,null,null,null,null,null,null,null,null,null,null,null,null,null,null,null,null,null,null,null,null,null,null,null,null,null,null,null,null,null,null,null,null,null,null,null,null,null,null,null,null,null,null,null,null,null,null,null,null,null,null,null,null,null,"",""]
["34: E.T. Industria del Vestido Alimentación y Alta Costura","02: Buenas prácticas ",164,0,"",0,0,0,0,null,null,"","",null,null,null,null,null,null,null,null,null,null,null,null,null,null,null,null,null,null,null,null,null,null,null,null,null,null,null,null,null,null,null,null,null,null,null,null,null,null,null,null,null,null,null,null,null,null,null,null,null,null,null,null,null,null,null,null,null,null,null,null,null,null,null,null,"",""]
["35: E.T. en Industria del Vestido y Alta Costura","03: No ha participado",165,0,"",0,0,0,0,null,null,"","",null,null,null,null,null,null,null,null,null,null,null,null,null,null,null,null,null,null,null,null,null,null,null,null,null,null,null,null,null,null,null,null,null,null,null,null,null,null,null,null,null,null,null,null,null,null,null,null,null,null,null,null,null,null,null,null,null,null,null,null,null,null,null,null,"",""]
["36: E.T.Técnica Esp. Ind. del Vestido Ind.Alimentaria y Artes",null,166,0,"",0,0,0,0,null,null,"","",null,null,null,null,null,null,null,null,null,null,null,null,null,null,null,null,null,null,null,null,null,null,null,null,null,null,null,null,null,null,null,null,null,null,null,null,null,null,null,null,null,null,null,null,null,null,null,null,null,null,null,null,null,null,null,null,null,null,null,null,null,null,null,null,"",""]
["37: E.T. Industria Alimentaria","Sedes",167,0,"",0,0,0,0,null,null,"","",null,null,null,null,null,null,null,null,null,null,null,null,null,null,null,null,null,null,null,null,null,null,null,null,null,null,null,null,null,null,null,null,null,null,null,null,null,null,null,null,null,null,null,null,null,null,null,null,null,null,null,null,null,null,null,null,null,null,null,null,null,null,null,null,"",""]
["38: E.T. Mecánica Automotriz",{"$f":"IF('C100'!I215<>\"\",'C100'!G215,\"X\")","v":"X"},168,0,"",0,0,0,0,null,null,"","",null,null,null,null,null,null,null,null,null,null,null,null,null,null,null,null,null,null,null,null,null,null,null,null,null,null,null,null,null,null,null,null,null,null,null,null,null,null,null,null,null,null,null,null,null,null,null,null,null,null,null,null,null,null,null,null,null,null,null,null,null,null,null,null,"",""]
["39: E.T. Mecánica de Producción",{"$f":"IF('C100'!I216<>\"\",'C100'!G216,\"X\")","v":"X"},169,0,"",0,0,0,0,null,null,"","",null,null,null,null,null,null,null,null,null,null,null,null,null,null,null,null,null,null,null,null,null,null,null,null,null,null,null,null,null,null,null,null,null,null,null,null,null,null,null,null,null,null,null,null,null,null,null,null,null,null,null,null,null,null,null,null,null,null,null,null,null,null,null,null,"",""]
["40: E.T. Mecánica de Producción y Soldadura",{"$f":"IF('C100'!I217<>\"\",'C100'!G217,\"X\")","v":"X"},170,0,"",0,0,0,0,null,null,"","",null,null,null,null,null,null,null,null,null,null,null,null,null,null,null,null,null,null,null,null,null,null,null,null,null,null,null,null,null,null,null,null,null,null,null,null,null,null,null,null,null,null,null,null,null,null,null,null,null,null,null,null,null,null,null,null,null,null,null,null,null,null,null,null,"",""]
["41: E.T. Textilería",{"$f":"IF('C100'!I218<>\"\",'C100'!G218,\"X\")","v":"X"},171,0,"",0,0,0,0,null,null,"","",null,null,null,null,null,null,null,null,null,null,null,null,null,null,null,null,null,null,null,null,null,null,null,null,null,null,null,null,null,null,null,null,null,null,null,null,null,null,null,null,null,null,null,null,null,null,null,null,null,null,null,null,null,null,null,null,null,null,null,null,null,null,null,null,"",""]
["42: Otra pedagógica",{"$f":"IF('C100'!I219<>\"\",'C100'!G219,\"X\")","v":"X"},172,0,"",0,0,0,0,null,null,"","",null,null,null,null,null,null,null,null,null,null,null,null,null,null,null,null,null,null,null,null,null,null,null,null,null,null,null,null,null,null,null,null,null,null,null,null,null,null,null,null,null,null,null,null,null,null,null,null,null,null,null,null,null,null,null,null,null,null,null,null,null,null,null,null,"",""]
[null,{"$f":"IF('C100'!I220<>\"\",'C100'!G220,\"X\")","v":"X"},173,0,"",0,0,0,0,null,null,"","",null,null,null,null,null,null,null,null,null,null,null,null,null,null,null,null,null,null,null,null,null,null,null,null,null,null,null,null,null,null,null,null,null,null,null,null,null,null,null,null,null,null,null,null,null,null,null,null,null,null,null,null,null,null,null,null,null,null,null,null,null,null,null,null,"",""]
[null,{"$f":"IF('C100'!I221<>\"\",'C100'!G221,\"X\")","v":"X"},174,0,"",0,0,0,0,null,null,"","",null,null,null,null,null,null,null,null,null,null,null,null,null,null,null,null,null,null,null,null,null,null,null,null,null,null,null,null,null,null,null,null,null,null,null,null,null,null,null,null,null,null,null,null,null,null,null,null,null,null,null,null,null,null,null,null,null,null,null,null,null,null,null,null,"",""]
["331. Ocupaciones",{"$f":"IF('C100'!I222<>\"\",'C100'!G222,\"X\")","v":"X"},175,0,"",0,0,0,0,null,null,"","",null,null,null,null,null,null,null,null,null,null,null,null,null,null,null,null,null,null,null,null,null,null,null,null,null,null,null,null,null,null,null,null,null,null,null,null,null,null,null,null,null,null,null,null,null,null,null,null,null,null,null,null,null,null,null,null,null,null,null,null,null,null,null,null,"",""]
["01: Abogado",{"$f":"IF('C100'!I223<>\"\",'C100'!G223,\"X\")","v":"X"},176,0,"",0,0,0,0,null,null,"","",null,null,null,null,null,null,null,null,null,null,null,null,null,null,null,null,null,null,null,null,null,null,null,null,null,null,null,null,null,null,null,null,null,null,null,null,null,null,null,null,null,null,null,null,null,null,null,null,null,null,null,null,null,null,null,null,null,null,null,null,null,null,null,null,"",""]
["02: Actores y directores de cine, radio, teatro y televisión",{"$f":"IF('C100'!I224<>\"\",'C100'!G224,\"X\")","v":"X"},177,0,"",0,0,0,0,null,null,"","",null,null,null,null,null,null,null,null,null,null,null,null,null,null,null,null,null,null,null,null,null,null,null,null,null,null,null,null,null,null,null,null,null,null,null,null,null,null,null,null,null,null,null,null,null,null,null,null,null,null,null,null,null,null,null,null,null,null,null,null,null,null,null,null,"",""]
["03: Administradores de empresas",{"$f":"IF('C100'!I225<>\"\",'C100'!G225,\"X\")","v":"X"},178,0,"",0,0,0,0,null,null,"","",null,null,null,null,null,null,null,null,null,null,null,null,null,null,null,null,null,null,null,null,null,null,null,null,null,null,null,null,null,null,null,null,null,null,null,null,null,null,null,null,null,null,null,null,null,null,null,null,null,null,null,null,null,null,null,null,null,null,null,null,null,null,null,null,"",""]
["04: Agrimensores, cartógrafos y topógrafos",{"$f":"IF('C100'!I226<>\"\",'C100'!G226,\"X\")","v":"X"},179,0,"",0,0,0,0,null,null,"","",null,null,null,null,null,null,null,null,null,null,null,null,null,null,null,null,null,null,null,null,null,null,null,null,null,null,null,null,null,null,null,null,null,null,null,null,null,null,null,null,null,null,null,null,null,null,null,null,null,null,null,null,null,null,null,null,null,null,null,null,null,null,null,null,"",""]
["05: Arquitectos, urbanistas",{"$f":"IF('C100'!I227<>\"\",'C100'!G227,\"X\")","v":"X"},180,0,"",0,0,0,0,null,null,"","",null,null,null,null,null,null,null,null,null,null,null,null,null,null,null,null,null,null,null,null,null,null,null,null,null,null,null,null,null,null,null,null,null,null,null,null,null,null,null,null,null,null,null,null,null,null,null,null,null,null,null,null,null,null,null,null,null,null,null,null,null,null,null,null,"",""]
["06: Bibliotecarios, documentalista y afines",{"$f":"IF('C100'!I228<>\"\",'C100'!G228,\"X\")","v":"X"},181,0,"",0,0,0,0,null,null,"","",null,null,null,null,null,null,null,null,null,null,null,null,null,null,null,null,null,null,null,null,null,null,null,null,null,null,null,null,null,null,null,null,null,null,null,null,null,null,null,null,null,null,null,null,null,null,null,null,null,null,null,null,null,null,null,null,null,null,null,null,null,null,null,null,"",""]
["07: Cocineros calificados, barman y afines",{"$f":"IF('C100'!I229<>\"\",'C100'!G229,\"X\")","v":"X"},182,0,"",0,0,0,0,null,null,"","",null,null,null,null,null,null,null,null,null,null,null,null,null,null,null,null,null,null,null,null,null,null,null,null,null,null,null,null,null,null,null,null,null,null,null,null,null,null,null,null,null,null,null,null,null,null,null,null,null,null,null,null,null,null,null,null,null,null,null,null,null,null,null,null,"",""]
["08: Contadores",{"$f":"IF('C100'!I230<>\"\",'C100'!G230,\"X\")","v":"X"},183,0,"",0,0,0,0,null,null,"","",null,null,null,null,null,null,null,null,null,null,null,null,null,null,null,null,null,null,null,null,null,null,null,null,null,null,null,null,null,null,null,null,null,null,null,null,null,null,null,null,null,null,null,null,null,null,null,null,null,null,null,null,null,null,null,null,null,null,null,null,null,null,null,null,"",""]
["09: Directores y gerentes de empresas",{"$f":"IF('C100'!I231<>\"\",'C100'!G231,\"X\")","v":"X"},184,0,"",0,0,0,0,null,null,"","",null,null,null,null,null,null,null,null,null,null,null,null,null,null,null,null,null,null,null,null,null,null,null,null,null,null,null,null,null,null,null,null,null,null,null,null,null,null,null,null,null,null,null,null,null,null,null,null,null,null,null,null,null,null,null,null,null,null,null,null,null,null,null,null,"",""]
["10: Economistas y planificadores",{"$f":"IF('C100'!I232<>\"\",'C100'!G232,\"X\")","v":"X"},185,0,"",0,0,0,0,null,null,"","",null,null,null,null,null,null,null,null,null,null,null,null,null,null,null,null,null,null,null,null,null,null,null,null,null,null,null,null,null,null,null,null,null,null,null,null,null,null,null,null,null,null,null,null,null,null,null,null,null,null,null,null,null,null,null,null,null,null,null,null,null,null,null,null,"",""]
["11: Escultores, pinturas y afines",{"$f":"IF('C100'!I233<>\"\",'C100'!G233,\"X\")","v":"X"},186,0,"",0,0,0,0,null,null,"","",null,null,null,null,null,null,null,null,null,null,null,null,null,null,null,null,null,null,null,null,null,null,null,null,null,null,null,null,null,null,null,null,null,null,null,null,null,null,null,null,null,null,null,null,null,null,null,null,null,null,null,null,null,null,null,null,null,null,null,null,null,null,null,null,"",""]
["12: Especialista en turismo y hoteleria",{"$f":"IF('C100'!I234<>\"\",'C100'!G234,\"X\")","v":"X"},187,0,"",0,0,0,0,null,null,"","",null,null,null,null,null,null,null,null,null,null,null,null,null,null,null,null,null,null,null,null,null,null,null,null,null,null,null,null,null,null,null,null,null,null,null,null,null,null,null,null,null,null,null,null,null,null,null,null,null,null,null,null,null,null,null,null,null,null,null,null,null,null,null,null,"",""]
["13: Fotógrafos y operadores de equipos de grabación de imagen y sonido",null,188,0,"",0,0,0,0,null,null,"","",null,null,null,null,null,null,null,null,null,null,null,null,null,null,null,null,null,null,null,null,null,null,null,null,null,null,null,null,null,null,null,null,null,null,null,null,null,null,null,null,null,null,null,null,null,null,null,null,null,null,null,null,null,null,null,null,null,null,null,null,null,null,null,null,"",""]
["14: Ingenieros y profesionales afines",null,189,0,"",0,0,0,0,null,null,"","",null,null,null,null,null,null,null,null,null,null,null,null,null,null,null,null,null,null,null,null,null,null,null,null,null,null,null,null,null,null,null,null,null,null,null,null,null,null,null,null,null,null,null,null,null,null,null,null,null,null,null,null,null,null,null,null,null,null,null,null,null,null,null,null,"",""]
["15: Matemáticos, estadísticos y afines",null,190,0,"",0,0,0,0,null,null,"","",null,null,null,null,null,null,null,null,null,null,null,null,null,null,null,null,null,null,null,null,null,null,null,null,null,null,null,null,null,null,null,null,null,null,null,null,null,null,null,null,null,null,null,null,null,null,null,null,null,null,null,null,null,null,null,null,null,null,null,null,null,null,null,null,"",""]
["16: Médicos y profesionales afines",null,191,0,"",0,0,0,0,null,null,"","",null,null,null,null,null,null,null,null,null,null,null,null,null,null,null,null,null,null,null,null,null,null,null,null,null,null,null,null,null,null,null,null,null,null,null,null,null,null,null,null,null,null,null,null,null,null,null,null,null,null,null,null,null,null,null,null,null,null,null,null,null,null,null,null,"",""]
["17: Músicos, cantantes y bailarines",null,192,0,"",0,0,0,0,null,null,"","",null,null,null,null,null,null,null,null,null,null,null,null,null,null,null,null,null,null,null,null,null,null,null,null,null,null,null,null,null,null,null,null,null,null,null,null,null,null,null,null,null,null,null,null,null,null,null,null,null,null,null,null,null,null,null,null,null,null,null,null,null,null,null,null,"",""]
["18: Oficiales, Fuerzas Armadas y Policías",null,193,{"$f":"IF(AND(LEFT(T211,2)=\"01\",LEFT(Z211,2)=\"01\",LEFT(AA211,2)=\"01\",E211=1),1,0)","v":0},"",0,0,0,{"$f":"IF(L211<>\"\",1,0)","v":0},null,null,"",{"$f":"IF(ISERROR(VLOOKUP(N211,Locales,2,FALSE)),\"\",VLOOKUP(N211,Locales,2,FALSE))","v":""},null,null,null,null,null,null,null,null,null,null,null,null,null,null,null,null,null,null,null,null,null,null,null,null,null,null,null,null,null,null,null,null,null,null,null,null,null,null,null,null,null,null,null,null,null,null,null,null,null,null,null,null,null,null,null,null,null,null,null,null,null,null,null,null,"",""]
["19: Optometrista y ópticos",null,194,0,{"$f":"$B$16","v":""},{"$f":"COUNTIF(AR212:BA212,\"X\")","v":0},{"$f":"IF(T212<>\"\",VALUE(LEFT(T212,2)),0)","v":0},{"$f":"IF(S212<>\"\",COUNTIF($S$19:$S$1523,S212),0)","v":0},0,null,null,"","",null,null,null,null,null,null,null,null,null,null,null,null,null,null,null,null,null,null,null,null,null,null,null,null,null,null,null,null,null,null,null,null,null,null,null,null,null,null,null,null,null,null,null,null,null,null,null,null,null,null,null,null,null,null,null,null,null,null,null,null,null,null,null,null,{"$f":"IF($AC212<>\"\",IF(OR(LEFT($AC212,2)=\"01\",LEFT($AC212,2)=\"02\",LEFT($AC212,2)=\"04\",LEFT($AC212,2)=\"05\"),1,0),\"\")","v":""},""]
["20: Peluqueros, especialista en tratamiento de belleza ",null,195,0,"",0,0,0,0,null,null,{"$f":"IF(C213<=$B$5,C213,\"\")","v":""},"",null,null,null,null,null,null,null,null,null,null,null,null,null,null,null,null,null,null,null,null,null,null,null,null,null,null,null,null,null,null,null,null,null,null,null,null,null,null,null,null,null,null,null,null,null,null,null,null,null,null,null,null,null,null,null,null,null,null,null,null,null,null,null,null,"",""]
["21: Profesionales en ciencias (Bacteríologos, biólogos, botánicos, zoólogos y afines)",null,196,0,"",0,0,0,0,null,null,"","",null,null,null,null,null,null,null,null,null,null,null,null,null,null,null,null,null,null,null,null,null,null,null,null,null,null,null,null,null,null,null,null,null,null,null,null,null,null,null,null,null,null,null,null,null,null,null,null,null,null,null,null,null,null,null,null,null,null,null,null,null,null,null,null,"",""]
["22: Profesionales/técnicos en agronomía, zootecnia y otros",null,197,0,"",0,0,0,0,null,null,"","",null,null,null,null,null,null,null,null,null,null,null,null,null,null,null,null,null,null,null,null,null,null,null,null,null,null,null,null,null,null,null,null,null,null,null,null,null,null,null,null,null,null,null,null,null,null,null,null,null,null,null,null,null,null,null,null,null,null,null,null,null,null,null,null,"",""]
["23: Profesores",null,198,0,"",0,0,0,0,null,null,"","",null,null,null,null,null,null,null,null,null,null,null,null,null,null,null,null,null,null,null,null,null,null,null,null,null,null,null,null,null,null,null,null,null,null,null,null,null,null,null,null,null,null,null,null,null,null,null,null,null,null,null,null,null,null,null,null,null,null,null,null,null,null,null,null,"",""]
["24: Psicólogos",null,199,0,"",0,0,0,0,null,null,"","",null,null,null,null,null,null,null,null,null,null,null,null,null,null,null,null,null,null,null,null,null,null,null,null,null,null,null,null,null,null,null,null,null,null,null,null,null,null,null,null,null,null,null,null,null,null,null,null,null,null,null,null,null,null,null,null,null,null,null,null,null,null,null,null,"",""]
["25: Sociologos, antropologos, historiadores y arqueólogos",null,200,0,"",0,0,0,{"$f":"IF(L218<>\"\",1,0)","v":0},null,null,"","",null,null,null,null,null,null,null,null,null,null,null,null,null,null,null,null,null,null,null,null,null,null,null,null,null,null,null,null,null,null,null,null,null,null,null,null,null,null,null,null,null,null,null,null,null,null,null,null,null,null,null,null,null,null,null,null,null,null,null,null,null,null,null,null,"",""]
["26: Técnicos de salud, enfermería, farmacia, laboratorio clínico y otros",null,201,0,"",0,0,0,{"$f":"IF(L219<>\"\",1,0)","v":0},null,null,"","",null,null,null,null,null,null,null,null,null,null,null,null,null,null,null,null,null,null,null,null,null,null,null,null,null,null,null,null,null,null,null,null,null,null,null,null,null,null,null,null,null,null,null,null,null,null,null,null,null,null,null,null,null,null,null,null,null,null,null,null,null,null,null,null,"",""]
["27: Técnicos dietistas, nutricionistas y bromatólogos",null,202,0,"",0,0,0,0,null,null,"","",null,null,null,null,null,null,null,null,null,null,null,null,null,null,null,null,null,null,null,null,null,null,null,null,null,null,null,null,null,null,null,null,null,null,null,null,null,null,null,null,null,null,null,null,null,null,null,null,null,null,null,null,null,null,null,null,null,null,null,null,null,null,null,null,"",""]
["28: Técnicos en administración, economía y afines",null,203,0,"",0,0,0,0,null,null,"","",null,null,null,null,null,null,null,null,null,null,null,null,null,null,null,null,null,null,null,null,null,null,null,null,null,null,null,null,null,null,null,null,null,null,null,null,null,null,null,null,null,null,null,null,null,null,null,null,null,null,null,null,null,null,null,null,null,null,null,null,null,null,null,null,"",""]
["29: Técnicos en ciencias (biológicas, físicas, químicas, sociales y afines)",null,204,0,"",0,0,0,0,null,null,"","",null,null,null,null,null,null,null,null,null,null,null,null,null,null,null,null,null,null,null,null,null,null,null,null,null,null,null,null,null,null,null,null,null,null,null,null,null,null,null,null,null,null,null,null,null,null,null,null,null,null,null,null,null,null,null,null,null,null,null,null,null,null,null,null,"",""]
["30: Técnicos en electricidad, electrónica y telecomunicaciones",null,205,0,"",0,0,0,0,null,null,"","",null,null,null,null,null,null,null,null,null,null,null,null,null,null,null,null,null,null,null,null,null,null,null,null,null,null,null,null,null,null,null,null,null,null,null,null,null,null,null,null,null,null,null,null,null,null,null,null,null,null,null,null,null,null,null,null,null,null,null,null,null,null,null,null,"",""]
["31: Técnicos en estadística, matemáticas y otros",null,206,0,"",0,0,0,0,null,null,"","",null,null,null,null,null,null,null,null,null,null,null,null,null,null,null,null,null,null,null,null,null,null,null,null,null,null,null,null,null,null,null,null,null,null,null,null,null,null,null,null,null,null,null,null,null,null,null,null,null,null,null,null,null,null,null,null,null,null,null,null,null,null,null,null,"",""]
["32: Técnicos en química y afines",null,207,0,"",0,0,0,0,null,null,"","",null,null,null,null,null,null,null,null,null,null,null,null,null,null,null,null,null,null,null,null,null,null,null,null,null,null,null,null,null,null,null,null,null,null,null,null,null,null,null,null,null,null,null,null,null,null,null,null,null,null,null,null,null,null,null,null,null,null,null,null,null,null,null,null,"",""]
["33: Técnicos, mecánicos y afines",null,208,0,"",0,0,0,0,null,null,"","",null,null,null,null,null,null,null,null,null,null,null,null,null,null,null,null,null,null,null,null,null,null,null,null,null,null,null,null,null,null,null,null,null,null,null,null,null,null,null,null,null,null,null,null,null,null,null,null,null,null,null,null,null,null,null,null,null,null,null,null,null,null,null,null,"",""]
["34: Otro",null,209,0,"",0,0,0,0,null,null,"","",null,null,null,null,null,null,null,null,null,null,null,null,null,null,null,null,null,null,null,null,null,null,null,null,null,null,null,null,null,null,null,null,null,null,null,null,null,null,null,null,null,null,null,null,null,null,null,null,null,null,null,null,null,null,null,null,null,null,null,null,null,null,null,null,"",""]
[null,null,210,0,"",0,0,0,0,null,null,"","",null,null,null,null,null,null,null,null,null,null,null,null,null,null,null,null,null,null,null,null,null,null,null,null,null,null,null,null,null,null,null,null,null,null,null,null,null,null,null,null,null,null,null,null,null,null,null,null,null,null,null,null,null,null,null,null,null,null,null,null,null,null,null,null,"",""]
[null,null,211,0,"",0,0,0,0,null,null,"","",null,null,null,null,null,null,null,null,null,null,null,null,null,null,null,null,null,null,null,null,null,null,null,null,null,null,null,null,null,null,null,null,null,null,null,null,null,null,null,null,null,null,null,null,null,null,null,null,null,null,null,null,null,null,null,null,null,null,null,null,null,null,null,null,"",""]
[null,null,212,0,"",0,0,0,0,null,null,"","",null,null,null,null,null,null,null,null,null,null,null,null,null,null,null,null,null,null,null,null,null,null,null,null,null,null,null,null,null,null,null,null,null,null,null,null,null,null,null,null,null,null,null,null,null,null,null,null,null,null,null,null,null,null,null,null,null,null,null,null,null,null,null,null,"",""]
[null,null,213,0,"",0,0,0,0,null,null,"","",null,null,null,null,null,null,null,null,null,null,null,null,null,null,null,null,null,null,null,null,null,null,null,null,null,null,null,null,null,null,null,null,null,null,null,null,null,null,null,null,null,null,null,null,null,null,null,null,null,null,null,null,null,null,null,null,null,null,null,null,null,null,null,null,"",""]
[null,null,214,0,"",0,0,0,0,null,null,"","",null,null,null,null,null,null,null,null,null,null,null,null,null,null,null,null,null,null,null,null,null,null,null,null,null,null,null,null,null,null,null,null,null,null,null,null,null,null,null,null,null,null,null,null,null,null,null,null,null,null,null,null,null,null,null,null,null,null,null,null,null,null,null,null,"",""]
[null,null,215,0,"",0,0,0,0,null,null,"","",null,null,null,null,null,null,null,null,null,null,null,null,null,null,null,null,null,null,null,null,null,null,null,null,null,null,null,null,null,null,null,null,null,null,null,null,null,null,null,null,null,null,null,null,null,null,null,null,null,null,null,null,null,null,null,null,null,null,null,null,null,null,null,null,"",""]
[null,null,216,0,"",0,0,0,0,null,null,"","",null,null,null,null,null,null,null,null,null,null,null,null,null,null,null,null,null,null,null,null,null,null,null,null,null,null,null,null,null,null,null,null,null,null,null,null,null,null,null,null,null,null,null,null,null,null,null,null,null,null,null,null,null,null,null,null,null,null,null,null,null,null,null,null,"",""]
[null,null,217,0,"",0,0,0,0,null,null,"","",null,null,null,null,null,null,null,null,null,null,null,null,null,null,null,null,null,null,null,null,null,null,null,null,null,null,null,null,null,null,null,null,null,null,null,null,null,null,null,null,null,null,null,null,null,null,null,null,null,null,null,null,null,null,null,null,null,null,null,null,null,null,null,null,"",""]
[null,null,218,0,"",0,0,0,0,null,null,"","",null,null,null,null,null,null,null,null,null,null,null,null,null,null,null,null,null,null,null,null,null,null,null,null,null,null,null,null,null,null,null,null,null,null,null,null,null,null,null,null,null,null,null,null,null,null,null,null,null,null,null,null,null,null,null,null,null,null,null,null,null,null,null,null,"",""]
[null,null,219,0,"",0,0,0,0,null,null,"","",null,null,null,null,null,null,null,null,null,null,null,null,null,null,null,null,null,null,null,null,null,null,null,null,null,null,null,null,null,null,null,null,null,null,null,null,null,null,null,null,null,null,null,null,null,null,null,null,null,null,null,null,null,null,null,null,null,null,null,null,null,null,null,null,"",""]
[null,null,220,0,"",0,0,0,0,null,null,"","",null,null,null,null,null,null,null,null,null,null,null,null,null,null,null,null,null,null,null,null,null,null,null,null,null,null,null,null,null,null,null,null,null,null,null,null,null,null,null,null,null,null,null,null,null,null,null,null,null,null,null,null,null,null,null,null,null,null,null,null,null,null,null,null,"",""]
[null,null,221,0,"",0,0,0,0,null,null,"","",null,null,null,null,null,null,null,null,null,null,null,null,null,null,null,null,null,null,null,null,null,null,null,null,null,null,null,null,null,null,null,null,null,null,null,null,null,null,null,null,null,null,null,null,null,null,null,null,null,null,null,null,null,null,null,null,null,null,null,null,null,null,null,null,"",""]
[null,null,222,0,"",0,0,0,0,null,null,"","",null,null,null,null,null,null,null,null,null,null,null,null,null,null,null,null,null,null,null,null,null,null,null,null,null,null,null,null,null,null,null,null,null,null,null,null,null,null,null,null,null,null,null,null,null,null,null,null,null,null,null,null,null,null,null,null,null,null,null,null,null,null,null,null,"",""]
[null,null,223,0,"",0,0,0,0,null,null,"","",null,null,null,null,null,null,null,null,null,null,null,null,null,null,null,null,null,null,null,null,null,null,null,null,null,null,null,null,null,null,null,null,null,null,null,null,null,null,null,null,null,null,null,null,null,null,null,null,null,null,null,null,null,null,null,null,null,null,null,null,null,null,null,null,"",""]
[null,null,224,0,"",0,0,0,0,null,null,"","",null,null,null,null,null,null,null,null,null,null,null,null,null,null,null,null,null,null,null,null,null,null,null,null,null,null,null,null,null,null,null,null,null,null,null,null,null,null,null,null,null,null,null,null,null,null,null,null,null,null,null,null,null,null,null,null,null,null,null,null,null,null,null,null,"",""]
[null,null,225,0,"",0,0,0,0,null,null,"","",null,null,null,null,null,null,null,null,null,null,null,null,null,null,null,null,null,null,null,null,null,null,null,null,null,null,null,null,null,null,null,null,null,null,null,null,null,null,null,null,null,null,null,null,null,null,null,null,null,null,null,null,null,null,null,null,null,null,null,null,null,null,null,null,"",""]
[null,null,226,0,"",0,0,0,0,null,null,"","",null,null,null,null,null,null,null,null,null,null,null,null,null,null,null,null,null,null,null,null,null,null,null,null,null,null,null,null,null,null,null,null,null,null,null,null,null,null,null,null,null,null,null,null,null,null,null,null,null,null,null,null,null,null,null,null,null,null,null,null,null,null,null,null,"",""]
[null,null,227,0,"",0,0,0,0,null,null,"","",null,null,null,null,null,null,null,null,null,null,null,null,null,null,null,null,null,null,null,null,null,null,null,null,null,null,null,null,null,null,null,null,null,null,null,null,null,null,null,null,null,null,null,null,null,null,null,null,null,null,null,null,null,null,null,null,null,null,null,null,null,null,null,null,"",""]
[null,null,228,0,"",0,0,0,0,null,null,"","",null,null,null,null,null,null,null,null,null,null,null,null,null,null,null,null,null,null,null,null,null,null,null,null,null,null,null,null,null,null,null,null,null,null,null,null,null,null,null,null,null,null,null,null,null,null,null,null,null,null,null,null,null,null,null,null,null,null,null,null,null,null,null,null,"",""]
[null,null,229,0,"",0,0,0,0,null,null,"","",null,null,null,null,null,null,null,null,null,null,null,null,null,null,null,null,null,null,null,null,null,null,null,null,null,null,null,null,null,null,null,null,null,null,null,null,null,null,null,null,null,null,null,null,null,null,null,null,null,null,null,null,null,null,null,null,null,null,null,null,null,null,null,null,"",""]
[null,null,230,0,"",0,0,0,0,null,null,"","",null,null,null,null,null,null,null,null,null,null,null,null,null,null,null,null,null,null,null,null,null,null,null,null,null,null,null,null,null,null,null,null,null,null,null,null,null,null,null,null,null,null,null,null,null,null,null,null,null,null,null,null,null,null,null,null,null,null,null,null,null,null,null,null,"",""]
[null,null,231,0,"",0,0,0,0,null,null,"","",null,null,null,null,null,null,null,null,null,null,null,null,null,null,null,null,null,null,null,null,null,null,null,null,null,null,null,null,null,null,null,null,null,null,null,null,null,null,null,null,null,null,null,null,null,null,null,null,null,null,null,null,null,null,null,null,null,null,null,null,null,null,null,null,"",""]
[null,null,232,0,"",0,0,0,0,null,null,"","",null,null,null,null,null,null,null,null,null,null,null,null,null,null,null,null,null,null,null,null,null,null,null,null,null,null,null,null,null,null,null,null,null,null,null,null,null,null,null,null,null,null,null,null,null,null,null,null,null,null,null,null,null,null,null,null,null,null,null,null,null,null,null,null,"",""]
[null,null,233,0,"",0,0,0,0,null,null,"","",null,null,null,null,null,null,null,null,null,null,null,null,null,null,null,null,null,null,null,null,null,null,null,null,null,null,null,null,null,null,null,null,null,null,null,null,null,null,null,null,null,null,null,null,null,null,null,null,null,null,null,null,null,null,null,null,null,null,null,null,null,null,null,null,"",""]
[null,null,234,0,"",0,0,0,0,null,null,"","",null,null,null,null,null,null,null,null,null,null,null,null,null,null,null,null,null,null,null,null,null,null,null,null,null,null,null,null,null,null,null,null,null,null,null,null,null,null,null,null,null,null,null,null,null,null,null,null,null,null,null,null,null,null,null,null,null,null,null,null,null,null,null,null,"",""]
[null,null,235,0,"",0,0,0,0,null,null,"","",null,null,null,null,null,null,null,null,null,null,null,null,null,null,null,null,null,null,null,null,null,null,null,null,null,null,null,null,null,null,null,null,null,null,null,null,null,null,null,null,null,null,null,null,null,null,null,null,null,null,null,null,null,null,null,null,null,null,null,null,null,null,null,null,"",""]
[null,null,236,0,"",0,0,0,0,null,null,"","",null,null,null,null,null,null,null,null,null,null,null,null,null,null,null,null,null,null,null,null,null,null,null,null,null,null,null,null,null,null,null,null,null,null,null,null,null,null,null,null,null,null,null,null,null,null,null,null,null,null,null,null,null,null,null,null,null,null,null,null,null,null,null,null,"",""]
[null,null,237,0,"",0,0,0,0,null,null,"","",null,null,null,null,null,null,null,null,null,null,null,null,null,null,null,null,null,null,null,null,null,null,null,null,null,null,null,null,null,null,null,null,null,null,null,null,null,null,null,null,null,null,null,null,null,null,null,null,null,null,null,null,null,null,null,null,null,null,null,null,null,null,null,null,"",""]
[null,null,238,0,"",0,0,0,0,null,null,"","",null,null,null,null,null,null,null,null,null,null,null,null,null,null,null,null,null,null,null,null,null,null,null,null,null,null,null,null,null,null,null,null,null,null,null,null,null,null,null,null,null,null,null,null,null,null,null,null,null,null,null,null,null,null,null,null,null,null,null,null,null,null,null,null,"",""]
[null,null,239,0,"",0,0,0,0,null,null,"","",null,null,null,null,null,null,null,null,null,null,null,null,null,null,null,null,null,null,null,null,null,null,null,null,null,null,null,null,null,null,null,null,null,null,null,null,null,null,null,null,null,null,null,null,null,null,null,null,null,null,null,null,null,null,null,null,null,null,null,null,null,null,null,null,"",""]
[null,null,240,0,"",0,0,0,0,null,null,"","",null,null,null,null,null,null,null,null,null,null,null,null,null,null,null,null,null,null,null,null,null,null,null,null,null,null,null,null,null,null,null,null,null,null,null,null,null,null,null,null,null,null,null,null,null,null,null,null,null,null,null,null,null,null,null,null,null,null,null,null,null,null,null,null,"",""]
[null,null,241,0,"",0,0,0,0,null,null,"","",null,null,null,null,null,null,null,null,null,null,null,null,null,null,null,null,null,null,null,null,null,null,null,null,null,null,null,null,null,null,null,null,null,null,null,null,null,null,null,null,null,null,null,null,null,null,null,null,null,null,null,null,null,null,null,null,null,null,null,null,null,null,null,null,"",""]
[null,null,242,0,"",0,0,0,0,null,null,"","",null,null,null,null,null,null,null,null,null,null,null,null,null,null,null,null,null,null,null,null,null,null,null,null,null,null,null,null,null,null,null,null,null,null,null,null,null,null,null,null,null,null,null,null,null,null,null,null,null,null,null,null,null,null,null,null,null,null,null,null,null,null,null,null,"",""]
[null,null,243,0,"",0,0,0,0,null,null,"","",null,null,null,null,null,null,null,null,null,null,null,null,null,null,null,null,null,null,null,null,null,null,null,null,null,null,null,null,null,null,null,null,null,null,null,null,null,null,null,null,null,null,null,null,null,null,null,null,null,null,null,null,null,null,null,null,null,null,null,null,null,null,null,null,"",""]
[null,null,244,0,"",0,0,0,0,null,null,"","",null,null,null,null,null,null,null,null,null,null,null,null,null,null,null,null,null,null,null,null,null,null,null,null,null,null,null,null,null,null,null,null,null,null,null,null,null,null,null,null,null,null,null,null,null,null,null,null,null,null,null,null,null,null,null,null,null,null,null,null,null,null,null,null,"",""]
[null,null,245,0,"",0,0,0,0,null,null,"","",null,null,null,null,null,null,null,null,null,null,null,null,null,null,null,null,null,null,null,null,null,null,null,null,null,null,null,null,null,null,null,null,null,null,null,null,null,null,null,null,null,null,null,null,null,null,null,null,null,null,null,null,null,null,null,null,null,null,null,null,null,null,null,null,"",""]
[null,null,246,0,"",0,0,0,0,null,null,"","",null,null,null,null,null,null,null,null,null,null,null,null,null,null,null,null,null,null,null,null,null,null,null,null,null,null,null,null,null,null,null,null,null,null,null,null,null,null,null,null,null,null,null,null,null,null,null,null,null,null,null,null,null,null,null,null,null,null,null,null,null,null,null,null,"",""]
[null,null,247,0,"",0,0,0,0,null,null,"","",null,null,null,null,null,null,null,null,null,null,null,null,null,null,null,null,null,null,null,null,null,null,null,null,null,null,null,null,null,null,null,null,null,null,null,null,null,null,null,null,null,null,null,null,null,null,null,null,null,null,null,null,null,null,null,null,null,null,null,null,null,null,null,null,"",""]
[null,null,248,0,"",0,0,0,0,null,null,"","",null,null,null,null,null,null,null,null,null,null,null,null,null,null,null,null,null,null,null,null,null,null,null,null,null,null,null,null,null,null,null,null,null,null,null,null,null,null,null,null,null,null,null,null,null,null,null,null,null,null,null,null,null,null,null,null,null,null,null,null,null,null,null,null,"",""]
[null,null,249,0,"",0,0,0,0,null,null,"","",null,null,null,null,null,null,null,null,null,null,null,null,null,null,null,null,null,null,null,null,null,null,null,null,null,null,null,null,null,null,null,null,null,null,null,null,null,null,null,null,null,null,null,null,null,null,null,null,null,null,null,null,null,null,null,null,null,null,null,null,null,null,null,null,"",""]
[null,null,250,0,"",0,0,0,0,null,null,"","",null,null,null,null,null,null,null,null,null,null,null,null,null,null,null,null,null,null,null,null,null,null,null,null,null,null,null,null,null,null,null,null,null,null,null,null,null,null,null,null,null,null,null,null,null,null,null,null,null,null,null,null,null,null,null,null,null,null,null,null,null,null,null,null,"",""]
[null,null,251,0,"",0,0,0,0,null,null,"","",null,null,null,null,null,null,null,null,null,null,null,null,null,null,null,null,null,null,null,null,null,null,null,null,null,null,null,null,null,null,null,null,null,null,null,null,null,null,null,null,null,null,null,null,null,null,null,null,null,null,null,null,null,null,null,null,null,null,null,null,null,null,null,null,"",""]
[null,null,252,0,"",0,0,0,0,null,null,"","",null,null,null,null,null,null,null,null,null,null,null,null,null,null,null,null,null,null,null,null,null,null,null,null,null,null,null,null,null,null,null,null,null,null,null,null,null,null,null,null,null,null,null,null,null,null,null,null,null,null,null,null,null,null,null,null,null,null,null,null,null,null,null,null,"",""]
[null,null,253,0,"",0,0,0,0,null,null,"","",null,null,null,null,null,null,null,null,null,null,null,null,null,null,null,null,null,null,null,null,null,null,null,null,null,null,null,null,null,null,null,null,null,null,null,null,null,null,null,null,null,null,null,null,null,null,null,null,null,null,null,null,null,null,null,null,null,null,null,null,null,null,null,null,"",""]
[null,null,254,0,"",0,0,0,0,null,null,"","",null,null,null,null,null,null,null,null,null,null,null,null,null,null,null,null,null,null,null,null,null,null,null,null,null,null,null,null,null,null,null,null,null,null,null,null,null,null,null,null,null,null,null,null,null,null,null,null,null,null,null,null,null,null,null,null,null,null,null,null,null,null,null,null,"",""]
[null,null,255,0,"",0,0,0,0,null,null,"","",null,null,null,null,null,null,null,null,null,null,null,null,null,null,null,null,null,null,null,null,null,null,null,null,null,null,null,null,null,null,null,null,null,null,null,null,null,null,null,null,null,null,null,null,null,null,null,null,null,null,null,null,null,null,null,null,null,null,null,null,null,null,null,null,"",""]
[null,null,256,0,"",0,0,0,0,null,null,"","",null,null,null,null,null,null,null,null,null,null,null,null,null,null,null,null,null,null,null,null,null,null,null,null,null,null,null,null,null,null,null,null,null,null,null,null,null,null,null,null,null,null,null,null,null,null,null,null,null,null,null,null,null,null,null,null,null,null,null,null,null,null,null,null,"",""]
[null,null,257,{"$f":"IF(AND(LEFT(T275,2)=\"01\",LEFT(Z275,2)=\"01\",LEFT(AA275,2)=\"01\",E275=1),1,0)","v":0},"",0,0,0,0,null,null,"",{"$f":"IF(ISERROR(VLOOKUP(N275,Locales,2,FALSE)),\"\",VLOOKUP(N275,Locales,2,FALSE))","v":""},null,null,null,null,null,null,null,null,null,null,null,null,null,null,null,null,null,null,null,null,null,null,null,null,null,null,null,null,null,null,null,null,null,null,null,null,null,null,null,null,null,null,null,null,null,null,null,null,null,null,null,null,null,null,null,null,null,null,null,null,null,null,null,null,"",""]
[null,null,258,0,{"$f":"$B$16","v":""},{"$f":"COUNTIF(AR276:BA276,\"X\")","v":0},{"$f":"IF(T276<>\"\",VALUE(LEFT(T276,2)),0)","v":0},{"$f":"IF(S276<>\"\",COUNTIF($S$19:$S$1523,S276),0)","v":0},0,null,null,"","",null,null,null,null,null,null,null,null,null,null,null,null,null,null,null,null,null,null,null,null,null,null,null,null,null,null,null,null,null,null,null,null,null,null,null,null,null,null,null,null,null,null,null,null,null,null,null,null,null,null,null,null,null,null,null,null,null,null,null,null,null,null,null,null,{"$f":"IF($AC276<>\"\",IF(OR(LEFT($AC276,2)=\"01\",LEFT($AC276,2)=\"02\",LEFT($AC276,2)=\"04\",LEFT($AC276,2)=\"05\"),1,0),\"\")","v":""},""]
[null,null,259,0,"",0,0,0,0,null,null,{"$f":"IF(C277<=$B$5,C277,\"\")","v":""},"",null,null,null,null,null,null,null,null,null,null,null,null,null,null,null,null,null,null,null,null,null,null,null,null,null,null,null,null,null,null,null,null,null,null,null,null,null,null,null,null,null,null,null,null,null,null,null,null,null,null,null,null,null,null,null,null,null,null,null,null,null,null,null,null,"",""]
[null,null,260,0,"",0,0,0,0,null,null,"","",null,null,null,null,null,null,null,null,null,null,null,null,null,null,null,null,null,null,null,null,null,null,null,null,null,null,null,null,null,null,null,null,null,null,null,null,null,null,null,null,null,null,null,null,null,null,null,null,null,null,null,null,null,null,null,null,null,null,null,null,null,null,null,null,"",""]
[null,null,261,0,"",0,0,0,0,null,null,"","",null,null,null,null,null,null,null,null,null,null,null,null,null,null,null,null,null,null,null,null,null,null,null,null,null,null,null,null,null,null,null,null,null,null,null,null,null,null,null,null,null,null,null,null,null,null,null,null,null,null,null,null,null,null,null,null,null,null,null,null,null,null,null,null,"",""]
[null,null,262,0,"",0,0,0,0,null,null,"","",null,null,null,null,null,null,null,null,null,null,null,null,null,null,null,null,null,null,null,null,null,null,null,null,null,null,null,null,null,null,null,null,null,null,null,null,null,null,null,null,null,null,null,null,null,null,null,null,null,null,null,null,null,null,null,null,null,null,null,null,null,null,null,null,"",""]
[null,null,263,0,"",0,0,0,0,null,null,"","",null,null,null,null,null,null,null,null,null,null,null,null,null,null,null,null,null,null,null,null,null,null,null,null,null,null,null,null,null,null,null,null,null,null,null,null,null,null,null,null,null,null,null,null,null,null,null,null,null,null,null,null,null,null,null,null,null,null,null,null,null,null,null,null,"",""]
[null,null,264,0,"",0,0,0,0,null,null,"","",null,null,null,null,null,null,null,null,null,null,null,null,null,null,null,null,null,null,null,null,null,null,null,null,null,null,null,null,null,null,null,null,null,null,null,null,null,null,null,null,null,null,null,null,null,null,null,null,null,null,null,null,null,null,null,null,null,null,null,null,null,null,null,null,"",""]
[null,null,265,0,"",0,0,0,{"$f":"IF(L283<>\"\",1,0)","v":0},null,null,"","",null,null,null,null,null,null,null,null,null,null,null,null,null,null,null,null,null,null,null,null,null,null,null,null,null,null,null,null,null,null,null,null,null,null,null,null,null,null,null,null,null,null,null,null,null,null,null,null,null,null,null,null,null,null,null,null,null,null,null,null,null,null,null,null,"",""]
[null,null,266,0,"",0,0,0,0,null,null,"","",null,null,null,null,null,null,null,null,null,null,null,null,null,null,null,null,null,null,null,null,null,null,null,null,null,null,null,null,null,null,null,null,null,null,null,null,null,null,null,null,null,null,null,null,null,null,null,null,null,null,null,null,null,null,null,null,null,null,null,null,null,null,null,null,"",""]
[null,null,267,0,"",0,0,0,0,null,null,"","",null,null,null,null,null,null,null,null,null,null,null,null,null,null,null,null,null,null,null,null,null,null,null,null,null,null,null,null,null,null,null,null,null,null,null,null,null,null,null,null,null,null,null,null,null,null,null,null,null,null,null,null,null,null,null,null,null,null,null,null,null,null,null,null,"",""]
[null,null,268,0,"",0,0,0,0,null,null,"","",null,null,null,null,null,null,null,null,null,null,null,null,null,null,null,null,null,null,null,null,null,null,null,null,null,null,null,null,null,null,null,null,null,null,null,null,null,null,null,null,null,null,null,null,null,null,null,null,null,null,null,null,null,null,null,null,null,null,null,null,null,null,null,null,"",""]
[null,null,269,0,"",0,0,0,0,null,null,"","",null,null,null,null,null,null,null,null,null,null,null,null,null,null,null,null,null,null,null,null,null,null,null,null,null,null,null,null,null,null,null,null,null,null,null,null,null,null,null,null,null,null,null,null,null,null,null,null,null,null,null,null,null,null,null,null,null,null,null,null,null,null,null,null,"",""]
[null,null,270,0,"",0,0,0,0,null,null,"","",null,null,null,null,null,null,null,null,null,null,null,null,null,null,null,null,null,null,null,null,null,null,null,null,null,null,null,null,null,null,null,null,null,null,null,null,null,null,null,null,null,null,null,null,null,null,null,null,null,null,null,null,null,null,null,null,null,null,null,null,null,null,null,null,"",""]
[null,null,271,0,"",0,0,0,0,null,null,"","",null,null,null,null,null,null,null,null,null,null,null,null,null,null,null,null,null,null,null,null,null,null,null,null,null,null,null,null,null,null,null,null,null,null,null,null,null,null,null,null,null,null,null,null,null,null,null,null,null,null,null,null,null,null,null,null,null,null,null,null,null,null,null,null,"",""]
[null,null,272,0,"",0,0,0,0,null,null,"","",null,null,null,null,null,null,null,null,null,null,null,null,null,null,null,null,null,null,null,null,null,null,null,null,null,null,null,null,null,null,null,null,null,null,null,null,null,null,null,null,null,null,null,null,null,null,null,null,null,null,null,null,null,null,null,null,null,null,null,null,null,null,null,null,"",""]
[null,null,273,0,"",0,0,0,0,null,null,"","",null,null,null,null,null,null,null,null,null,null,null,null,null,null,null,null,null,null,null,null,null,null,null,null,null,null,null,null,null,null,null,null,null,null,null,null,null,null,null,null,null,null,null,null,null,null,null,null,null,null,null,null,null,null,null,null,null,null,null,null,null,null,null,null,"",""]
[null,null,274,0,"",0,0,0,0,null,null,"","",null,null,null,null,null,null,null,null,null,null,null,null,null,null,null,null,null,null,null,null,null,null,null,null,null,null,null,null,null,null,null,null,null,null,null,null,null,null,null,null,null,null,null,null,null,null,null,null,null,null,null,null,null,null,null,null,null,null,null,null,null,null,null,null,"",""]
[null,null,275,0,"",0,0,0,0,null,null,"","",null,null,null,null,null,null,null,null,null,null,null,null,null,null,null,null,null,null,null,null,null,null,null,null,null,null,null,null,null,null,null,null,null,null,null,null,null,null,null,null,null,null,null,null,null,null,null,null,null,null,null,null,null,null,null,null,null,null,null,null,null,null,null,null,"",""]
[null,null,276,0,"",0,0,0,0,null,null,"","",null,null,null,null,null,null,null,null,null,null,null,null,null,null,null,null,null,null,null,null,null,null,null,null,null,null,null,null,null,null,null,null,null,null,null,null,null,null,null,null,null,null,null,null,null,null,null,null,null,null,null,null,null,null,null,null,null,null,null,null,null,null,null,null,"",""]
[null,null,277,0,"",0,0,0,0,null,null,"","",null,null,null,null,null,null,null,null,null,null,null,null,null,null,null,null,null,null,null,null,null,null,null,null,null,null,null,null,null,null,null,null,null,null,null,null,null,null,null,null,null,null,null,null,null,null,null,null,null,null,null,null,null,null,null,null,null,null,null,null,null,null,null,null,"",""]
[null,null,278,0,"",0,0,0,0,null,null,"","",null,null,null,null,null,null,null,null,null,null,null,null,null,null,null,null,null,null,null,null,null,null,null,null,null,null,null,null,null,null,null,null,null,null,null,null,null,null,null,null,null,null,null,null,null,null,null,null,null,null,null,null,null,null,null,null,null,null,null,null,null,null,null,null,"",""]
[null,null,279,0,"",0,0,0,0,null,null,"","",null,null,null,null,null,null,null,null,null,null,null,null,null,null,null,null,null,null,null,null,null,null,null,null,null,null,null,null,null,null,null,null,null,null,null,null,null,null,null,null,null,null,null,null,null,null,null,null,null,null,null,null,null,null,null,null,null,null,null,null,null,null,null,null,"",""]
[null,null,280,0,"",0,0,0,0,null,null,"","",null,null,null,null,null,null,null,null,null,null,null,null,null,null,null,null,null,null,null,null,null,null,null,null,null,null,null,null,null,null,null,null,null,null,null,null,null,null,null,null,null,null,null,null,null,null,null,null,null,null,null,null,null,null,null,null,null,null,null,null,null,null,null,null,"",""]
[null,null,281,0,"",0,0,0,0,null,null,"","",null,null,null,null,null,null,null,null,null,null,null,null,null,null,null,null,null,null,null,null,null,null,null,null,null,null,null,null,null,null,null,null,null,null,null,null,null,null,null,null,null,null,null,null,null,null,null,null,null,null,null,null,null,null,null,null,null,null,null,null,null,null,null,null,"",""]
[null,null,282,0,"",0,0,0,0,null,null,"","",null,null,null,null,null,null,null,null,null,null,null,null,null,null,null,null,null,null,null,null,null,null,null,null,null,null,null,null,null,null,null,null,null,null,null,null,null,null,null,null,null,null,null,null,null,null,null,null,null,null,null,null,null,null,null,null,null,null,null,null,null,null,null,null,"",""]
[null,null,283,0,"",0,0,0,0,null,null,"","",null,null,null,null,null,null,null,null,null,null,null,null,null,null,null,null,null,null,null,null,null,null,null,null,null,null,null,null,null,null,null,null,null,null,null,null,null,null,null,null,null,null,null,null,null,null,null,null,null,null,null,null,null,null,null,null,null,null,null,null,null,null,null,null,"",""]
[null,null,284,0,"",0,0,0,0,null,null,"","",null,null,null,null,null,null,null,null,null,null,null,null,null,null,null,null,null,null,null,null,null,null,null,null,null,null,null,null,null,null,null,null,null,null,null,null,null,null,null,null,null,null,null,null,null,null,null,null,null,null,null,null,null,null,null,null,null,null,null,null,null,null,null,null,"",""]
[null,null,285,0,"",0,0,0,0,null,null,"","",null,null,null,null,null,null,null,null,null,null,null,null,null,null,null,null,null,null,null,null,null,null,null,null,null,null,null,null,null,null,null,null,null,null,null,null,null,null,null,null,null,null,null,null,null,null,null,null,null,null,null,null,null,null,null,null,null,null,null,null,null,null,null,null,"",""]
[null,null,286,0,"",0,0,0,0,null,null,"","",null,null,null,null,null,null,null,null,null,null,null,null,null,null,null,null,null,null,null,null,null,null,null,null,null,null,null,null,null,null,null,null,null,null,null,null,null,null,null,null,null,null,null,null,null,null,null,null,null,null,null,null,null,null,null,null,null,null,null,null,null,null,null,null,"",""]
[null,null,287,0,"",0,0,0,0,null,null,"","",null,null,null,null,null,null,null,null,null,null,null,null,null,null,null,null,null,null,null,null,null,null,null,null,null,null,null,null,null,null,null,null,null,null,null,null,null,null,null,null,null,null,null,null,null,null,null,null,null,null,null,null,null,null,null,null,null,null,null,null,null,null,null,null,"",""]
[null,null,288,0,"",0,0,0,0,null,null,"","",null,null,null,null,null,null,null,null,null,null,null,null,null,null,null,null,null,null,null,null,null,null,null,null,null,null,null,null,null,null,null,null,null,null,null,null,null,null,null,null,null,null,null,null,null,null,null,null,null,null,null,null,null,null,null,null,null,null,null,null,null,null,null,null,"",""]
[null,null,289,0,"",0,0,0,0,null,null,"","",null,null,null,null,null,null,null,null,null,null,null,null,null,null,null,null,null,null,null,null,null,null,null,null,null,null,null,null,null,null,null,null,null,null,null,null,null,null,null,null,null,null,null,null,null,null,null,null,null,null,null,null,null,null,null,null,null,null,null,null,null,null,null,null,"",""]
[null,null,290,0,"",0,0,0,0,null,null,"","",null,null,null,null,null,null,null,null,null,null,null,null,null,null,null,null,null,null,null,null,null,null,null,null,null,null,null,null,null,null,null,null,null,null,null,null,null,null,null,null,null,null,null,null,null,null,null,null,null,null,null,null,null,null,null,null,null,null,null,null,null,null,null,null,"",""]
[null,null,291,0,"",0,0,0,0,null,null,"","",null,null,null,null,null,null,null,null,null,null,null,null,null,null,null,null,null,null,null,null,null,null,null,null,null,null,null,null,null,null,null,null,null,null,null,null,null,null,null,null,null,null,null,null,null,null,null,null,null,null,null,null,null,null,null,null,null,null,null,null,null,null,null,null,"",""]
[null,null,292,0,"",0,0,0,0,null,null,"","",null,null,null,null,null,null,null,null,null,null,null,null,null,null,null,null,null,null,null,null,null,null,null,null,null,null,null,null,null,null,null,null,null,null,null,null,null,null,null,null,null,null,null,null,null,null,null,null,null,null,null,null,null,null,null,null,null,null,null,null,null,null,null,null,"",""]
[null,null,293,0,"",0,0,0,0,null,null,"","",null,null,null,null,null,null,null,null,null,null,null,null,null,null,null,null,null,null,null,null,null,null,null,null,null,null,null,null,null,null,null,null,null,null,null,null,null,null,null,null,null,null,null,null,null,null,null,null,null,null,null,null,null,null,null,null,null,null,null,null,null,null,null,null,"",""]
[null,null,294,0,"",0,0,0,0,null,null,"","",null,null,null,null,null,null,null,null,null,null,null,null,null,null,null,null,null,null,null,null,null,null,null,null,null,null,null,null,null,null,null,null,null,null,null,null,null,null,null,null,null,null,null,null,null,null,null,null,null,null,null,null,null,null,null,null,null,null,null,null,null,null,null,null,"",""]
[null,null,295,0,"",0,0,0,0,null,null,"","",null,null,null,null,null,null,null,null,null,null,null,null,null,null,null,null,null,null,null,null,null,null,null,null,null,null,null,null,null,null,null,null,null,null,null,null,null,null,null,null,null,null,null,null,null,null,null,null,null,null,null,null,null,null,null,null,null,null,null,null,null,null,null,null,"",""]
[null,null,296,0,"",0,0,0,0,null,null,"","",null,null,null,null,null,null,null,null,null,null,null,null,null,null,null,null,null,null,null,null,null,null,null,null,null,null,null,null,null,null,null,null,null,null,null,null,null,null,null,null,null,null,null,null,null,null,null,null,null,null,null,null,null,null,null,null,null,null,null,null,null,null,null,null,"",""]
[null,null,297,0,"",0,0,0,0,null,null,"","",null,null,null,null,null,null,null,null,null,null,null,null,null,null,null,null,null,null,null,null,null,null,null,null,null,null,null,null,null,null,null,null,null,null,null,null,null,null,null,null,null,null,null,null,null,null,null,null,null,null,null,null,null,null,null,null,null,null,null,null,null,null,null,null,"",""]
[null,null,298,0,"",0,0,0,0,null,null,"","",null,null,null,null,null,null,null,null,null,null,null,null,null,null,null,null,null,null,null,null,null,null,null,null,null,null,null,null,null,null,null,null,null,null,null,null,null,null,null,null,null,null,null,null,null,null,null,null,null,null,null,null,null,null,null,null,null,null,null,null,null,null,null,null,"",""]
[null,null,299,0,"",0,0,0,0,null,null,"","",null,null,null,null,null,null,null,null,null,null,null,null,null,null,null,null,null,null,null,null,null,null,null,null,null,null,null,null,null,null,null,null,null,null,null,null,null,null,null,null,null,null,null,null,null,null,null,null,null,null,null,null,null,null,null,null,null,null,null,null,null,null,null,null,"",""]
[null,null,300,0,"",0,0,0,0,null,null,"","",null,null,null,null,null,null,null,null,null,null,null,null,null,null,null,null,null,null,null,null,null,null,null,null,null,null,null,null,null,null,null,null,null,null,null,null,null,null,null,null,null,null,null,null,null,null,null,null,null,null,null,null,null,null,null,null,null,null,null,null,null,null,null,null,"",""]
[null,null,301,0,"",0,0,0,0,null,null,"","",null,null,null,null,null,null,null,null,null,null,null,null,null,null,null,null,null,null,null,null,null,null,null,null,null,null,null,null,null,null,null,null,null,null,null,null,null,null,null,null,null,null,null,null,null,null,null,null,null,null,null,null,null,null,null,null,null,null,null,null,null,null,null,null,"",""]
[null,null,302,0,"",0,0,0,0,null,null,"","",null,null,null,null,null,null,null,null,null,null,null,null,null,null,null,null,null,null,null,null,null,null,null,null,null,null,null,null,null,null,null,null,null,null,null,null,null,null,null,null,null,null,null,null,null,null,null,null,null,null,null,null,null,null,null,null,null,null,null,null,null,null,null,null,"",""]
[null,null,303,0,"",0,0,0,0,null,null,"","",null,null,null,null,null,null,null,null,null,null,null,null,null,null,null,null,null,null,null,null,null,null,null,null,null,null,null,null,null,null,null,null,null,null,null,null,null,null,null,null,null,null,null,null,null,null,null,null,null,null,null,null,null,null,null,null,null,null,null,null,null,null,null,null,"",""]
[null,null,304,0,"",0,0,0,0,null,null,"","",null,null,null,null,null,null,null,null,null,null,null,null,null,null,null,null,null,null,null,null,null,null,null,null,null,null,null,null,null,null,null,null,null,null,null,null,null,null,null,null,null,null,null,null,null,null,null,null,null,null,null,null,null,null,null,null,null,null,null,null,null,null,null,null,"",""]
[null,null,305,0,"",0,0,0,0,null,null,"","",null,null,null,null,null,null,null,null,null,null,null,null,null,null,null,null,null,null,null,null,null,null,null,null,null,null,null,null,null,null,null,null,null,null,null,null,null,null,null,null,null,null,null,null,null,null,null,null,null,null,null,null,null,null,null,null,null,null,null,null,null,null,null,null,"",""]
[null,null,306,0,"",0,0,0,0,null,null,"","",null,null,null,null,null,null,null,null,null,null,null,null,null,null,null,null,null,null,null,null,null,null,null,null,null,null,null,null,null,null,null,null,null,null,null,null,null,null,null,null,null,null,null,null,null,null,null,null,null,null,null,null,null,null,null,null,null,null,null,null,null,null,null,null,"",""]
[null,null,307,0,"",0,0,0,0,null,null,"","",null,null,null,null,null,null,null,null,null,null,null,null,null,null,null,null,null,null,null,null,null,null,null,null,null,null,null,null,null,null,null,null,null,null,null,null,null,null,null,null,null,null,null,null,null,null,null,null,null,null,null,null,null,null,null,null,null,null,null,null,null,null,null,null,"",""]
[null,null,308,0,"",0,0,0,0,null,null,"","",null,null,null,null,null,null,null,null,null,null,null,null,null,null,null,null,null,null,null,null,null,null,null,null,null,null,null,null,null,null,null,null,null,null,null,null,null,null,null,null,null,null,null,null,null,null,null,null,null,null,null,null,null,null,null,null,null,null,null,null,null,null,null,null,"",""]
[null,null,309,0,"",0,0,0,0,null,null,"","",null,null,null,null,null,null,null,null,null,null,null,null,null,null,null,null,null,null,null,null,null,null,null,null,null,null,null,null,null,null,null,null,null,null,null,null,null,null,null,null,null,null,null,null,null,null,null,null,null,null,null,null,null,null,null,null,null,null,null,null,null,null,null,null,"",""]
[null,null,310,0,"",0,0,0,0,null,null,"","",null,null,null,null,null,null,null,null,null,null,null,null,null,null,null,null,null,null,null,null,null,null,null,null,null,null,null,null,null,null,null,null,null,null,null,null,null,null,null,null,null,null,null,null,null,null,null,null,null,null,null,null,null,null,null,null,null,null,null,null,null,null,null,null,"",""]
[null,null,311,0,"",0,0,0,0,null,null,"","",null,null,null,null,null,null,null,null,null,null,null,null,null,null,null,null,null,null,null,null,null,null,null,null,null,null,null,null,null,null,null,null,null,null,null,null,null,null,null,null,null,null,null,null,null,null,null,null,null,null,null,null,null,null,null,null,null,null,null,null,null,null,null,null,"",""]
[null,null,312,0,"",0,0,0,0,null,null,"","",null,null,null,null,null,null,null,null,null,null,null,null,null,null,null,null,null,null,null,null,null,null,null,null,null,null,null,null,null,null,null,null,null,null,null,null,null,null,null,null,null,null,null,null,null,null,null,null,null,null,null,null,null,null,null,null,null,null,null,null,null,null,null,null,"",""]
[null,null,313,0,"",0,0,0,0,null,null,"","",null,null,null,null,null,null,null,null,null,null,null,null,null,null,null,null,null,null,null,null,null,null,null,null,null,null,null,null,null,null,null,null,null,null,null,null,null,null,null,null,null,null,null,null,null,null,null,null,null,null,null,null,null,null,null,null,null,null,null,null,null,null,null,null,"",""]
[null,null,314,0,"",0,0,0,0,null,null,"","",null,null,null,null,null,null,null,null,null,null,null,null,null,null,null,null,null,null,null,null,null,null,null,null,null,null,null,null,null,null,null,null,null,null,null,null,null,null,null,null,null,null,null,null,null,null,null,null,null,null,null,null,null,null,null,null,null,null,null,null,null,null,null,null,"",""]
[null,null,315,0,"",0,0,0,0,null,null,"","",null,null,null,null,null,null,null,null,null,null,null,null,null,null,null,null,null,null,null,null,null,null,null,null,null,null,null,null,null,null,null,null,null,null,null,null,null,null,null,null,null,null,null,null,null,null,null,null,null,null,null,null,null,null,null,null,null,null,null,null,null,null,null,null,"",""]
[null,null,316,0,"",0,0,0,0,null,null,"","",null,null,null,null,null,null,null,null,null,null,null,null,null,null,null,null,null,null,null,null,null,null,null,null,null,null,null,null,null,null,null,null,null,null,null,null,null,null,null,null,null,null,null,null,null,null,null,null,null,null,null,null,null,null,null,null,null,null,null,null,null,null,null,null,"",""]
[null,null,317,0,"",0,0,0,0,null,null,"","",null,null,null,null,null,null,null,null,null,null,null,null,null,null,null,null,null,null,null,null,null,null,null,null,null,null,null,null,null,null,null,null,null,null,null,null,null,null,null,null,null,null,null,null,null,null,null,null,null,null,null,null,null,null,null,null,null,null,null,null,null,null,null,null,"",""]
[null,null,318,0,"",0,0,0,0,null,null,"","",null,null,null,null,null,null,null,null,null,null,null,null,null,null,null,null,null,null,null,null,null,null,null,null,null,null,null,null,null,null,null,null,null,null,null,null,null,null,null,null,null,null,null,null,null,null,null,null,null,null,null,null,null,null,null,null,null,null,null,null,null,null,null,null,"",""]
[null,null,319,0,"",0,0,0,0,null,null,"","",null,null,null,null,null,null,null,null,null,null,null,null,null,null,null,null,null,null,null,null,null,null,null,null,null,null,null,null,null,null,null,null,null,null,null,null,null,null,null,null,null,null,null,null,null,null,null,null,null,null,null,null,null,null,null,null,null,null,null,null,null,null,null,null,"",""]
[null,null,320,0,"",0,0,0,0,null,null,"","",null,null,null,null,null,null,null,null,null,null,null,null,null,null,null,null,null,null,null,null,null,null,null,null,null,null,null,null,null,null,null,null,null,null,null,null,null,null,null,null,null,null,null,null,null,null,null,null,null,null,null,null,null,null,null,null,null,null,null,null,null,null,null,null,"",""]
[null,null,321,{"$f":"IF(AND(LEFT(T339,2)=\"01\",LEFT(Z339,2)=\"01\",LEFT(AA339,2)=\"01\",E339=1),1,0)","v":0},"",0,0,0,0,null,null,"",{"$f":"IF(ISERROR(VLOOKUP(N339,Locales,2,FALSE)),\"\",VLOOKUP(N339,Locales,2,FALSE))","v":""},null,null,null,null,null,null,null,null,null,null,null,null,null,null,null,null,null,null,null,null,null,null,null,null,null,null,null,null,null,null,null,null,null,null,null,null,null,null,null,null,null,null,null,null,null,null,null,null,null,null,null,null,null,null,null,null,null,null,null,null,null,null,null,null,"",""]
[null,null,322,0,{"$f":"$B$16","v":""},{"$f":"COUNTIF(AR340:BA340,\"X\")","v":0},{"$f":"IF(T340<>\"\",VALUE(LEFT(T340,2)),0)","v":0},{"$f":"IF(S340<>\"\",COUNTIF($S$19:$S$1523,S340),0)","v":0},0,null,null,"","",null,null,null,null,null,null,null,null,null,null,null,null,null,null,null,null,null,null,null,null,null,null,null,null,null,null,null,null,null,null,null,null,null,null,null,null,null,null,null,null,null,null,null,null,null,null,null,null,null,null,null,null,null,null,null,null,null,null,null,null,null,null,null,null,{"$f":"IF($AC340<>\"\",IF(OR(LEFT($AC340,2)=\"01\",LEFT($AC340,2)=\"02\",LEFT($AC340,2)=\"04\",LEFT($AC340,2)=\"05\"),1,0),\"\")","v":""},""]
[null,null,323,0,"",0,0,0,0,null,null,{"$f":"IF(C341<=$B$5,C341,\"\")","v":""},"",null,null,null,null,null,null,null,null,null,null,null,null,null,null,null,null,null,null,null,null,null,null,null,null,null,null,null,null,null,null,null,null,null,null,null,null,null,null,null,null,null,null,null,null,null,null,null,null,null,null,null,null,null,null,null,null,null,null,null,null,null,null,null,null,"",""]
[null,null,324,0,"",0,0,0,0,null,null,"","",null,null,null,null,null,null,null,null,null,null,null,null,null,null,null,null,null,null,null,null,null,null,null,null,null,null,null,null,null,null,null,null,null,null,null,null,null,null,null,null,null,null,null,null,null,null,null,null,null,null,null,null,null,null,null,null,null,null,null,null,null,null,null,null,"",""]
[null,null,325,0,"",0,0,0,0,null,null,"","",null,null,null,null,null,null,null,null,null,null,null,null,null,null,null,null,null,null,null,null,null,null,null,null,null,null,null,null,null,null,null,null,null,null,null,null,null,null,null,null,null,null,null,null,null,null,null,null,null,null,null,null,null,null,null,null,null,null,null,null,null,null,null,null,"",""]
[null,null,326,0,"",0,0,0,0,null,null,"","",null,null,null,null,null,null,null,null,null,null,null,null,null,null,null,null,null,null,null,null,null,null,null,null,null,null,null,null,null,null,null,null,null,null,null,null,null,null,null,null,null,null,null,null,null,null,null,null,null,null,null,null,null,null,null,null,null,null,null,null,null,null,null,null,"",""]
[null,null,327,0,"",0,0,0,0,null,null,"","",null,null,null,null,null,null,null,null,null,null,null,null,null,null,null,null,null,null,null,null,null,null,null,null,null,null,null,null,null,null,null,null,null,null,null,null,null,null,null,null,null,null,null,null,null,null,null,null,null,null,null,null,null,null,null,null,null,null,null,null,null,null,null,null,"",""]
[null,null,328,0,"",0,0,0,0,null,null,"","",null,null,null,null,null,null,null,null,null,null,null,null,null,null,null,null,null,null,null,null,null,null,null,null,null,null,null,null,null,null,null,null,null,null,null,null,null,null,null,null,null,null,null,null,null,null,null,null,null,null,null,null,null,null,null,null,null,null,null,null,null,null,null,null,"",""]
[null,null,329,0,"",0,0,0,{"$f":"IF(L347<>\"\",1,0)","v":0},null,null,"","",null,null,null,null,null,null,null,null,null,null,null,null,null,null,null,null,null,null,null,null,null,null,null,null,null,null,null,null,null,null,null,null,null,null,null,null,null,null,null,null,null,null,null,null,null,null,null,null,null,null,null,null,null,null,null,null,null,null,null,null,null,null,null,null,"",""]
[null,null,330,0,"",0,0,0,0,null,null,"","",null,null,null,null,null,null,null,null,null,null,null,null,null,null,null,null,null,null,null,null,null,null,null,null,null,null,null,null,null,null,null,null,null,null,null,null,null,null,null,null,null,null,null,null,null,null,null,null,null,null,null,null,null,null,null,null,null,null,null,null,null,null,null,null,"",""]
[null,null,331,0,"",0,0,0,0,null,null,"","",null,null,null,null,null,null,null,null,null,null,null,null,null,null,null,null,null,null,null,null,null,null,null,null,null,null,null,null,null,null,null,null,null,null,null,null,null,null,null,null,null,null,null,null,null,null,null,null,null,null,null,null,null,null,null,null,null,null,null,null,null,null,null,null,"",""]
[null,null,332,0,"",0,0,0,0,null,null,"","",null,null,null,null,null,null,null,null,null,null,null,null,null,null,null,null,null,null,null,null,null,null,null,null,null,null,null,null,null,null,null,null,null,null,null,null,null,null,null,null,null,null,null,null,null,null,null,null,null,null,null,null,null,null,null,null,null,null,null,null,null,null,null,null,"",""]
[null,null,333,0,"",0,0,0,0,null,null,"","",null,null,null,null,null,null,null,null,null,null,null,null,null,null,null,null,null,null,null,null,null,null,null,null,null,null,null,null,null,null,null,null,null,null,null,null,null,null,null,null,null,null,null,null,null,null,null,null,null,null,null,null,null,null,null,null,null,null,null,null,null,null,null,null,"",""]
[null,null,334,0,"",0,0,0,0,null,null,"","",null,null,null,null,null,null,null,null,null,null,null,null,null,null,null,null,null,null,null,null,null,null,null,null,null,null,null,null,null,null,null,null,null,null,null,null,null,null,null,null,null,null,null,null,null,null,null,null,null,null,null,null,null,null,null,null,null,null,null,null,null,null,null,null,"",""]
[null,null,335,0,"",0,0,0,0,null,null,"","",null,null,null,null,null,null,null,null,null,null,null,null,null,null,null,null,null,null,null,null,null,null,null,null,null,null,null,null,null,null,null,null,null,null,null,null,null,null,null,null,null,null,null,null,null,null,null,null,null,null,null,null,null,null,null,null,null,null,null,null,null,null,null,null,"",""]
[null,null,336,0,"",0,0,0,0,null,null,"","",null,null,null,null,null,null,null,null,null,null,null,null,null,null,null,null,null,null,null,null,null,null,null,null,null,null,null,null,null,null,null,null,null,null,null,null,null,null,null,null,null,null,null,null,null,null,null,null,null,null,null,null,null,null,null,null,null,null,null,null,null,null,null,null,"",""]
[null,null,337,0,"",0,0,0,0,null,null,"","",null,null,null,null,null,null,null,null,null,null,null,null,null,null,null,null,null,null,null,null,null,null,null,null,null,null,null,null,null,null,null,null,null,null,null,null,null,null,null,null,null,null,null,null,null,null,null,null,null,null,null,null,null,null,null,null,null,null,null,null,null,null,null,null,"",""]
[null,null,338,0,"",0,0,0,0,null,null,"","",null,null,null,null,null,null,null,null,null,null,null,null,null,null,null,null,null,null,null,null,null,null,null,null,null,null,null,null,null,null,null,null,null,null,null,null,null,null,null,null,null,null,null,null,null,null,null,null,null,null,null,null,null,null,null,null,null,null,null,null,null,null,null,null,"",""]
[null,null,339,0,"",0,0,0,0,null,null,"","",null,null,null,null,null,null,null,null,null,null,null,null,null,null,null,null,null,null,null,null,null,null,null,null,null,null,null,null,null,null,null,null,null,null,null,null,null,null,null,null,null,null,null,null,null,null,null,null,null,null,null,null,null,null,null,null,null,null,null,null,null,null,null,null,"",""]
[null,null,340,0,"",0,0,0,0,null,null,"","",null,null,null,null,null,null,null,null,null,null,null,null,null,null,null,null,null,null,null,null,null,null,null,null,null,null,null,null,null,null,null,null,null,null,null,null,null,null,null,null,null,null,null,null,null,null,null,null,null,null,null,null,null,null,null,null,null,null,null,null,null,null,null,null,"",""]
[null,null,341,0,"",0,0,0,0,null,null,"","",null,null,null,null,null,null,null,null,null,null,null,null,null,null,null,null,null,null,null,null,null,null,null,null,null,null,null,null,null,null,null,null,null,null,null,null,null,null,null,null,null,null,null,null,null,null,null,null,null,null,null,null,null,null,null,null,null,null,null,null,null,null,null,null,"",""]
[null,null,342,0,"",0,0,0,0,null,null,"","",null,null,null,null,null,null,null,null,null,null,null,null,null,null,null,null,null,null,null,null,null,null,null,null,null,null,null,null,null,null,null,null,null,null,null,null,null,null,null,null,null,null,null,null,null,null,null,null,null,null,null,null,null,null,null,null,null,null,null,null,null,null,null,null,"",""]
[null,null,343,0,"",0,0,0,0,null,null,"","",null,null,null,null,null,null,null,null,null,null,null,null,null,null,null,null,null,null,null,null,null,null,null,null,null,null,null,null,null,null,null,null,null,null,null,null,null,null,null,null,null,null,null,null,null,null,null,null,null,null,null,null,null,null,null,null,null,null,null,null,null,null,null,null,"",""]
[null,null,344,0,"",0,0,0,0,null,null,"","",null,null,null,null,null,null,null,null,null,null,null,null,null,null,null,null,null,null,null,null,null,null,null,null,null,null,null,null,null,null,null,null,null,null,null,null,null,null,null,null,null,null,null,null,null,null,null,null,null,null,null,null,null,null,null,null,null,null,null,null,null,null,null,null,"",""]
[null,null,345,0,"",0,0,0,0,null,null,"","",null,null,null,null,null,null,null,null,null,null,null,null,null,null,null,null,null,null,null,null,null,null,null,null,null,null,null,null,null,null,null,null,null,null,null,null,null,null,null,null,null,null,null,null,null,null,null,null,null,null,null,null,null,null,null,null,null,null,null,null,null,null,null,null,"",""]
[null,null,346,0,"",0,0,0,0,null,null,"","",null,null,null,null,null,null,null,null,null,null,null,null,null,null,null,null,null,null,null,null,null,null,null,null,null,null,null,null,null,null,null,null,null,null,null,null,null,null,null,null,null,null,null,null,null,null,null,null,null,null,null,null,null,null,null,null,null,null,null,null,null,null,null,null,"",""]
[null,null,347,0,"",0,0,0,0,null,null,"","",null,null,null,null,null,null,null,null,null,null,null,null,null,null,null,null,null,null,null,null,null,null,null,null,null,null,null,null,null,null,null,null,null,null,null,null,null,null,null,null,null,null,null,null,null,null,null,null,null,null,null,null,null,null,null,null,null,null,null,null,null,null,null,null,"",""]
[null,null,348,0,"",0,0,0,0,null,null,"","",null,null,null,null,null,null,null,null,null,null,null,null,null,null,null,null,null,null,null,null,null,null,null,null,null,null,null,null,null,null,null,null,null,null,null,null,null,null,null,null,null,null,null,null,null,null,null,null,null,null,null,null,null,null,null,null,null,null,null,null,null,null,null,null,"",""]
[null,null,349,0,"",0,0,0,0,null,null,"","",null,null,null,null,null,null,null,null,null,null,null,null,null,null,null,null,null,null,null,null,null,null,null,null,null,null,null,null,null,null,null,null,null,null,null,null,null,null,null,null,null,null,null,null,null,null,null,null,null,null,null,null,null,null,null,null,null,null,null,null,null,null,null,null,"",""]
[null,null,350,0,"",0,0,0,0,null,null,"","",null,null,null,null,null,null,null,null,null,null,null,null,null,null,null,null,null,null,null,null,null,null,null,null,null,null,null,null,null,null,null,null,null,null,null,null,null,null,null,null,null,null,null,null,null,null,null,null,null,null,null,null,null,null,null,null,null,null,null,null,null,null,null,null,"",""]
[null,null,351,0,"",0,0,0,0,null,null,"","",null,null,null,null,null,null,null,null,null,null,null,null,null,null,null,null,null,null,null,null,null,null,null,null,null,null,null,null,null,null,null,null,null,null,null,null,null,null,null,null,null,null,null,null,null,null,null,null,null,null,null,null,null,null,null,null,null,null,null,null,null,null,null,null,"",""]
[null,null,352,0,"",0,0,0,0,null,null,"","",null,null,null,null,null,null,null,null,null,null,null,null,null,null,null,null,null,null,null,null,null,null,null,null,null,null,null,null,null,null,null,null,null,null,null,null,null,null,null,null,null,null,null,null,null,null,null,null,null,null,null,null,null,null,null,null,null,null,null,null,null,null,null,null,"",""]
[null,null,353,0,"",0,0,0,0,null,null,"","",null,null,null,null,null,null,null,null,null,null,null,null,null,null,null,null,null,null,null,null,null,null,null,null,null,null,null,null,null,null,null,null,null,null,null,null,null,null,null,null,null,null,null,null,null,null,null,null,null,null,null,null,null,null,null,null,null,null,null,null,null,null,null,null,"",""]
[null,null,354,0,"",0,0,0,0,null,null,"","",null,null,null,null,null,null,null,null,null,null,null,null,null,null,null,null,null,null,null,null,null,null,null,null,null,null,null,null,null,null,null,null,null,null,null,null,null,null,null,null,null,null,null,null,null,null,null,null,null,null,null,null,null,null,null,null,null,null,null,null,null,null,null,null,"",""]
[null,null,355,0,"",0,0,0,0,null,null,"","",null,null,null,null,null,null,null,null,null,null,null,null,null,null,null,null,null,null,null,null,null,null,null,null,null,null,null,null,null,null,null,null,null,null,null,null,null,null,null,null,null,null,null,null,null,null,null,null,null,null,null,null,null,null,null,null,null,null,null,null,null,null,null,null,"",""]
[null,null,356,0,"",0,0,0,0,null,null,"","",null,null,null,null,null,null,null,null,null,null,null,null,null,null,null,null,null,null,null,null,null,null,null,null,null,null,null,null,null,null,null,null,null,null,null,null,null,null,null,null,null,null,null,null,null,null,null,null,null,null,null,null,null,null,null,null,null,null,null,null,null,null,null,null,"",""]
[null,null,357,0,"",0,0,0,0,null,null,"","",null,null,null,null,null,null,null,null,null,null,null,null,null,null,null,null,null,null,null,null,null,null,null,null,null,null,null,null,null,null,null,null,null,null,null,null,null,null,null,null,null,null,null,null,null,null,null,null,null,null,null,null,null,null,null,null,null,null,null,null,null,null,null,null,"",""]
[null,null,358,0,"",0,0,0,0,null,null,"","",null,null,null,null,null,null,null,null,null,null,null,null,null,null,null,null,null,null,null,null,null,null,null,null,null,null,null,null,null,null,null,null,null,null,null,null,null,null,null,null,null,null,null,null,null,null,null,null,null,null,null,null,null,null,null,null,null,null,null,null,null,null,null,null,"",""]
[null,null,359,0,"",0,0,0,0,null,null,"","",null,null,null,null,null,null,null,null,null,null,null,null,null,null,null,null,null,null,null,null,null,null,null,null,null,null,null,null,null,null,null,null,null,null,null,null,null,null,null,null,null,null,null,null,null,null,null,null,null,null,null,null,null,null,null,null,null,null,null,null,null,null,null,null,"",""]
[null,null,360,0,"",0,0,0,0,null,null,"","",null,null,null,null,null,null,null,null,null,null,null,null,null,null,null,null,null,null,null,null,null,null,null,null,null,null,null,null,null,null,null,null,null,null,null,null,null,null,null,null,null,null,null,null,null,null,null,null,null,null,null,null,null,null,null,null,null,null,null,null,null,null,null,null,"",""]
[null,null,361,0,"",0,0,0,0,null,null,"","",null,null,null,null,null,null,null,null,null,null,null,null,null,null,null,null,null,null,null,null,null,null,null,null,null,null,null,null,null,null,null,null,null,null,null,null,null,null,null,null,null,null,null,null,null,null,null,null,null,null,null,null,null,null,null,null,null,null,null,null,null,null,null,null,"",""]
[null,null,362,0,"",0,0,0,0,null,null,"","",null,null,null,null,null,null,null,null,null,null,null,null,null,null,null,null,null,null,null,null,null,null,null,null,null,null,null,null,null,null,null,null,null,null,null,null,null,null,null,null,null,null,null,null,null,null,null,null,null,null,null,null,null,null,null,null,null,null,null,null,null,null,null,null,"",""]
[null,null,363,0,"",0,0,0,0,null,null,"","",null,null,null,null,null,null,null,null,null,null,null,null,null,null,null,null,null,null,null,null,null,null,null,null,null,null,null,null,null,null,null,null,null,null,null,null,null,null,null,null,null,null,null,null,null,null,null,null,null,null,null,null,null,null,null,null,null,null,null,null,null,null,null,null,"",""]
[null,null,364,0,"",0,0,0,0,null,null,"","",null,null,null,null,null,null,null,null,null,null,null,null,null,null,null,null,null,null,null,null,null,null,null,null,null,null,null,null,null,null,null,null,null,null,null,null,null,null,null,null,null,null,null,null,null,null,null,null,null,null,null,null,null,null,null,null,null,null,null,null,null,null,null,null,"",""]
[null,null,365,0,"",0,0,0,0,null,null,"","",null,null,null,null,null,null,null,null,null,null,null,null,null,null,null,null,null,null,null,null,null,null,null,null,null,null,null,null,null,null,null,null,null,null,null,null,null,null,null,null,null,null,null,null,null,null,null,null,null,null,null,null,null,null,null,null,null,null,null,null,null,null,null,null,"",""]
[null,null,366,0,"",0,0,0,0,null,null,"","",null,null,null,null,null,null,null,null,null,null,null,null,null,null,null,null,null,null,null,null,null,null,null,null,null,null,null,null,null,null,null,null,null,null,null,null,null,null,null,null,null,null,null,null,null,null,null,null,null,null,null,null,null,null,null,null,null,null,null,null,null,null,null,null,"",""]
[null,null,367,0,"",0,0,0,0,null,null,"","",null,null,null,null,null,null,null,null,null,null,null,null,null,null,null,null,null,null,null,null,null,null,null,null,null,null,null,null,null,null,null,null,null,null,null,null,null,null,null,null,null,null,null,null,null,null,null,null,null,null,null,null,null,null,null,null,null,null,null,null,null,null,null,null,"",""]
[null,null,368,0,"",0,0,0,0,null,null,"","",null,null,null,null,null,null,null,null,null,null,null,null,null,null,null,null,null,null,null,null,null,null,null,null,null,null,null,null,null,null,null,null,null,null,null,null,null,null,null,null,null,null,null,null,null,null,null,null,null,null,null,null,null,null,null,null,null,null,null,null,null,null,null,null,"",""]
[null,null,369,0,"",0,0,0,0,null,null,"","",null,null,null,null,null,null,null,null,null,null,null,null,null,null,null,null,null,null,null,null,null,null,null,null,null,null,null,null,null,null,null,null,null,null,null,null,null,null,null,null,null,null,null,null,null,null,null,null,null,null,null,null,null,null,null,null,null,null,null,null,null,null,null,null,"",""]
[null,null,370,0,"",0,0,0,0,null,null,"","",null,null,null,null,null,null,null,null,null,null,null,null,null,null,null,null,null,null,null,null,null,null,null,null,null,null,null,null,null,null,null,null,null,null,null,null,null,null,null,null,null,null,null,null,null,null,null,null,null,null,null,null,null,null,null,null,null,null,null,null,null,null,null,null,"",""]
[null,null,371,0,"",0,0,0,0,null,null,"","",null,null,null,null,null,null,null,null,null,null,null,null,null,null,null,null,null,null,null,null,null,null,null,null,null,null,null,null,null,null,null,null,null,null,null,null,null,null,null,null,null,null,null,null,null,null,null,null,null,null,null,null,null,null,null,null,null,null,null,null,null,null,null,null,"",""]
[null,null,372,0,"",0,0,0,0,null,null,"","",null,null,null,null,null,null,null,null,null,null,null,null,null,null,null,null,null,null,null,null,null,null,null,null,null,null,null,null,null,null,null,null,null,null,null,null,null,null,null,null,null,null,null,null,null,null,null,null,null,null,null,null,null,null,null,null,null,null,null,null,null,null,null,null,"",""]
[null,null,373,0,"",0,0,0,0,null,null,"","",null,null,null,null,null,null,null,null,null,null,null,null,null,null,null,null,null,null,null,null,null,null,null,null,null,null,null,null,null,null,null,null,null,null,null,null,null,null,null,null,null,null,null,null,null,null,null,null,null,null,null,null,null,null,null,null,null,null,null,null,null,null,null,null,"",""]
[null,null,374,0,"",0,0,0,0,null,null,"","",null,null,null,null,null,null,null,null,null,null,null,null,null,null,null,null,null,null,null,null,null,null,null,null,null,null,null,null,null,null,null,null,null,null,null,null,null,null,null,null,null,null,null,null,null,null,null,null,null,null,null,null,null,null,null,null,null,null,null,null,null,null,null,null,"",""]
[null,null,375,0,"",0,0,0,0,null,null,"","",null,null,null,null,null,null,null,null,null,null,null,null,null,null,null,null,null,null,null,null,null,null,null,null,null,null,null,null,null,null,null,null,null,null,null,null,null,null,null,null,null,null,null,null,null,null,null,null,null,null,null,null,null,null,null,null,null,null,null,null,null,null,null,null,"",""]
[null,null,376,0,"",0,0,0,0,null,null,"","",null,null,null,null,null,null,null,null,null,null,null,null,null,null,null,null,null,null,null,null,null,null,null,null,null,null,null,null,null,null,null,null,null,null,null,null,null,null,null,null,null,null,null,null,null,null,null,null,null,null,null,null,null,null,null,null,null,null,null,null,null,null,null,null,"",""]
[null,null,377,0,"",0,0,0,0,null,null,"","",null,null,null,null,null,null,null,null,null,null,null,null,null,null,null,null,null,null,null,null,null,null,null,null,null,null,null,null,null,null,null,null,null,null,null,null,null,null,null,null,null,null,null,null,null,null,null,null,null,null,null,null,null,null,null,null,null,null,null,null,null,null,null,null,"",""]
[null,null,378,0,"",0,0,0,0,null,null,"","",null,null,null,null,null,null,null,null,null,null,null,null,null,null,null,null,null,null,null,null,null,null,null,null,null,null,null,null,null,null,null,null,null,null,null,null,null,null,null,null,null,null,null,null,null,null,null,null,null,null,null,null,null,null,null,null,null,null,null,null,null,null,null,null,"",""]
[null,null,379,0,"",0,0,0,0,null,null,"","",null,null,null,null,null,null,null,null,null,null,null,null,null,null,null,null,null,null,null,null,null,null,null,null,null,null,null,null,null,null,null,null,null,null,null,null,null,null,null,null,null,null,null,null,null,null,null,null,null,null,null,null,null,null,null,null,null,null,null,null,null,null,null,null,"",""]
[null,null,380,0,"",0,0,0,0,null,null,"","",null,null,null,null,null,null,null,null,null,null,null,null,null,null,null,null,null,null,null,null,null,null,null,null,null,null,null,null,null,null,null,null,null,null,null,null,null,null,null,null,null,null,null,null,null,null,null,null,null,null,null,null,null,null,null,null,null,null,null,null,null,null,null,null,"",""]
[null,null,381,0,"",0,0,0,0,null,null,"","",null,null,null,null,null,null,null,null,null,null,null,null,null,null,null,null,null,null,null,null,null,null,null,null,null,null,null,null,null,null,null,null,null,null,null,null,null,null,null,null,null,null,null,null,null,null,null,null,null,null,null,null,null,null,null,null,null,null,null,null,null,null,null,null,"",""]
[null,null,382,0,"",0,0,0,0,null,null,"","",null,null,null,null,null,null,null,null,null,null,null,null,null,null,null,null,null,null,null,null,null,null,null,null,null,null,null,null,null,null,null,null,null,null,null,null,null,null,null,null,null,null,null,null,null,null,null,null,null,null,null,null,null,null,null,null,null,null,null,null,null,null,null,null,"",""]
[null,null,383,0,"",0,0,0,0,null,null,"","",null,null,null,null,null,null,null,null,null,null,null,null,null,null,null,null,null,null,null,null,null,null,null,null,null,null,null,null,null,null,null,null,null,null,null,null,null,null,null,null,null,null,null,null,null,null,null,null,null,null,null,null,null,null,null,null,null,null,null,null,null,null,null,null,"",""]
[null,null,384,0,"",0,0,0,0,null,null,"","",null,null,null,null,null,null,null,null,null,null,null,null,null,null,null,null,null,null,null,null,null,null,null,null,null,null,null,null,null,null,null,null,null,null,null,null,null,null,null,null,null,null,null,null,null,null,null,null,null,null,null,null,null,null,null,null,null,null,null,null,null,null,null,null,"",""]
[null,null,385,{"$f":"IF(AND(LEFT(T403,2)=\"01\",LEFT(Z403,2)=\"01\",LEFT(AA403,2)=\"01\",E403=1),1,0)","v":0},"",0,0,0,0,null,null,"",{"$f":"IF(ISERROR(VLOOKUP(N403,Locales,2,FALSE)),\"\",VLOOKUP(N403,Locales,2,FALSE))","v":""},null,null,null,null,null,null,null,null,null,null,null,null,null,null,null,null,null,null,null,null,null,null,null,null,null,null,null,null,null,null,null,null,null,null,null,null,null,null,null,null,null,null,null,null,null,null,null,null,null,null,null,null,null,null,null,null,null,null,null,null,null,null,null,null,"",""]
[null,null,386,0,{"$f":"$B$16","v":""},{"$f":"COUNTIF(AR404:BA404,\"X\")","v":0},{"$f":"IF(T404<>\"\",VALUE(LEFT(T404,2)),0)","v":0},{"$f":"IF(S404<>\"\",COUNTIF($S$19:$S$1523,S404),0)","v":0},0,null,null,"","",null,null,null,null,null,null,null,null,null,null,null,null,null,null,null,null,null,null,null,null,null,null,null,null,null,null,null,null,null,null,null,null,null,null,null,null,null,null,null,null,null,null,null,null,null,null,null,null,null,null,null,null,null,null,null,null,null,null,null,null,null,null,null,null,{"$f":"IF($AC404<>\"\",IF(OR(LEFT($AC404,2)=\"01\",LEFT($AC404,2)=\"02\",LEFT($AC404,2)=\"04\",LEFT($AC404,2)=\"05\"),1,0),\"\")","v":""},""]
[null,null,387,0,"",0,0,0,0,null,null,{"$f":"IF(C405<=$B$5,C405,\"\")","v":""},"",null,null,null,null,null,null,null,null,null,null,null,null,null,null,null,null,null,null,null,null,null,null,null,null,null,null,null,null,null,null,null,null,null,null,null,null,null,null,null,null,null,null,null,null,null,null,null,null,null,null,null,null,null,null,null,null,null,null,null,null,null,null,null,null,"",""]
[null,null,388,0,"",0,0,0,0,null,null,"","",null,null,null,null,null,null,null,null,null,null,null,null,null,null,null,null,null,null,null,null,null,null,null,null,null,null,null,null,null,null,null,null,null,null,null,null,null,null,null,null,null,null,null,null,null,null,null,null,null,null,null,null,null,null,null,null,null,null,null,null,null,null,null,null,"",""]
[null,null,389,0,"",0,0,0,0,null,null,"","",null,null,null,null,null,null,null,null,null,null,null,null,null,null,null,null,null,null,null,null,null,null,null,null,null,null,null,null,null,null,null,null,null,null,null,null,null,null,null,null,null,null,null,null,null,null,null,null,null,null,null,null,null,null,null,null,null,null,null,null,null,null,null,null,"",""]
[null,null,390,0,"",0,0,0,0,null,null,"","",null,null,null,null,null,null,null,null,null,null,null,null,null,null,null,null,null,null,null,null,null,null,null,null,null,null,null,null,null,null,null,null,null,null,null,null,null,null,null,null,null,null,null,null,null,null,null,null,null,null,null,null,null,null,null,null,null,null,null,null,null,null,null,null,"",""]
[null,null,391,0,"",0,0,0,0,null,null,"","",null,null,null,null,null,null,null,null,null,null,null,null,null,null,null,null,null,null,null,null,null,null,null,null,null,null,null,null,null,null,null,null,null,null,null,null,null,null,null,null,null,null,null,null,null,null,null,null,null,null,null,null,null,null,null,null,null,null,null,null,null,null,null,null,"",""]
[null,null,392,0,"",0,0,0,0,null,null,"","",null,null,null,null,null,null,null,null,null,null,null,null,null,null,null,null,null,null,null,null,null,null,null,null,null,null,null,null,null,null,null,null,null,null,null,null,null,null,null,null,null,null,null,null,null,null,null,null,null,null,null,null,null,null,null,null,null,null,null,null,null,null,null,null,"",""]
[null,null,393,0,"",0,0,0,{"$f":"IF(L411<>\"\",1,0)","v":0},null,null,"","",null,null,null,null,null,null,null,null,null,null,null,null,null,null,null,null,null,null,null,null,null,null,null,null,null,null,null,null,null,null,null,null,null,null,null,null,null,null,null,null,null,null,null,null,null,null,null,null,null,null,null,null,null,null,null,null,null,null,null,null,null,null,null,null,"",""]
[null,null,394,0,"",0,0,0,0,null,null,"","",null,null,null,null,null,null,null,null,null,null,null,null,null,null,null,null,null,null,null,null,null,null,null,null,null,null,null,null,null,null,null,null,null,null,null,null,null,null,null,null,null,null,null,null,null,null,null,null,null,null,null,null,null,null,null,null,null,null,null,null,null,null,null,null,"",""]
[null,null,395,0,"",0,0,0,0,null,null,"","",null,null,null,null,null,null,null,null,null,null,null,null,null,null,null,null,null,null,null,null,null,null,null,null,null,null,null,null,null,null,null,null,null,null,null,null,null,null,null,null,null,null,null,null,null,null,null,null,null,null,null,null,null,null,null,null,null,null,null,null,null,null,null,null,"",""]
[null,null,396,0,"",0,0,0,0,null,null,"","",null,null,null,null,null,null,null,null,null,null,null,null,null,null,null,null,null,null,null,null,null,null,null,null,null,null,null,null,null,null,null,null,null,null,null,null,null,null,null,null,null,null,null,null,null,null,null,null,null,null,null,null,null,null,null,null,null,null,null,null,null,null,null,null,"",""]
[null,null,397,0,"",0,0,0,0,null,null,"","",null,null,null,null,null,null,null,null,null,null,null,null,null,null,null,null,null,null,null,null,null,null,null,null,null,null,null,null,null,null,null,null,null,null,null,null,null,null,null,null,null,null,null,null,null,null,null,null,null,null,null,null,null,null,null,null,null,null,null,null,null,null,null,null,"",""]
[null,null,398,0,"",0,0,0,0,null,null,"","",null,null,null,null,null,null,null,null,null,null,null,null,null,null,null,null,null,null,null,null,null,null,null,null,null,null,null,null,null,null,null,null,null,null,null,null,null,null,null,null,null,null,null,null,null,null,null,null,null,null,null,null,null,null,null,null,null,null,null,null,null,null,null,null,"",""]
[null,null,399,0,"",0,0,0,0,null,null,"","",null,null,null,null,null,null,null,null,null,null,null,null,null,null,null,null,null,null,null,null,null,null,null,null,null,null,null,null,null,null,null,null,null,null,null,null,null,null,null,null,null,null,null,null,null,null,null,null,null,null,null,null,null,null,null,null,null,null,null,null,null,null,null,null,"",""]
[null,null,400,0,"",0,0,0,0,null,null,"","",null,null,null,null,null,null,null,null,null,null,null,null,null,null,null,null,null,null,null,null,null,null,null,null,null,null,null,null,null,null,null,null,null,null,null,null,null,null,null,null,null,null,null,null,null,null,null,null,null,null,null,null,null,null,null,null,null,null,null,null,null,null,null,null,"",""]
[null,null,401,0,"",0,0,0,0,null,null,"","",null,null,null,null,null,null,null,null,null,null,null,null,null,null,null,null,null,null,null,null,null,null,null,null,null,null,null,null,null,null,null,null,null,null,null,null,null,null,null,null,null,null,null,null,null,null,null,null,null,null,null,null,null,null,null,null,null,null,null,null,null,null,null,null,"",""]
[null,null,402,0,"",0,0,0,0,null,null,"","",null,null,null,null,null,null,null,null,null,null,null,null,null,null,null,null,null,null,null,null,null,null,null,null,null,null,null,null,null,null,null,null,null,null,null,null,null,null,null,null,null,null,null,null,null,null,null,null,null,null,null,null,null,null,null,null,null,null,null,null,null,null,null,null,"",""]
[null,null,403,0,"",0,0,0,0,null,null,"","",null,null,null,null,null,null,null,null,null,null,null,null,null,null,null,null,null,null,null,null,null,null,null,null,null,null,null,null,null,null,null,null,null,null,null,null,null,null,null,null,null,null,null,null,null,null,null,null,null,null,null,null,null,null,null,null,null,null,null,null,null,null,null,null,"",""]
[null,null,404,0,"",0,0,0,0,null,null,"","",null,null,null,null,null,null,null,null,null,null,null,null,null,null,null,null,null,null,null,null,null,null,null,null,null,null,null,null,null,null,null,null,null,null,null,null,null,null,null,null,null,null,null,null,null,null,null,null,null,null,null,null,null,null,null,null,null,null,null,null,null,null,null,null,"",""]
[null,null,405,0,"",0,0,0,0,null,null,"","",null,null,null,null,null,null,null,null,null,null,null,null,null,null,null,null,null,null,null,null,null,null,null,null,null,null,null,null,null,null,null,null,null,null,null,null,null,null,null,null,null,null,null,null,null,null,null,null,null,null,null,null,null,null,null,null,null,null,null,null,null,null,null,null,"",""]
[null,null,406,0,"",0,0,0,0,null,null,"","",null,null,null,null,null,null,null,null,null,null,null,null,null,null,null,null,null,null,null,null,null,null,null,null,null,null,null,null,null,null,null,null,null,null,null,null,null,null,null,null,null,null,null,null,null,null,null,null,null,null,null,null,null,null,null,null,null,null,null,null,null,null,null,null,"",""]
[null,null,407,0,"",0,0,0,0,null,null,"","",null,null,null,null,null,null,null,null,null,null,null,null,null,null,null,null,null,null,null,null,null,null,null,null,null,null,null,null,null,null,null,null,null,null,null,null,null,null,null,null,null,null,null,null,null,null,null,null,null,null,null,null,null,null,null,null,null,null,null,null,null,null,null,null,"",""]
[null,null,408,0,"",0,0,0,0,null,null,"","",null,null,null,null,null,null,null,null,null,null,null,null,null,null,null,null,null,null,null,null,null,null,null,null,null,null,null,null,null,null,null,null,null,null,null,null,null,null,null,null,null,null,null,null,null,null,null,null,null,null,null,null,null,null,null,null,null,null,null,null,null,null,null,null,"",""]
[null,null,409,0,"",0,0,0,0,null,null,"","",null,null,null,null,null,null,null,null,null,null,null,null,null,null,null,null,null,null,null,null,null,null,null,null,null,null,null,null,null,null,null,null,null,null,null,null,null,null,null,null,null,null,null,null,null,null,null,null,null,null,null,null,null,null,null,null,null,null,null,null,null,null,null,null,"",""]
[null,null,410,0,"",0,0,0,0,null,null,"","",null,null,null,null,null,null,null,null,null,null,null,null,null,null,null,null,null,null,null,null,null,null,null,null,null,null,null,null,null,null,null,null,null,null,null,null,null,null,null,null,null,null,null,null,null,null,null,null,null,null,null,null,null,null,null,null,null,null,null,null,null,null,null,null,"",""]
[null,null,411,0,"",0,0,0,0,null,null,"","",null,null,null,null,null,null,null,null,null,null,null,null,null,null,null,null,null,null,null,null,null,null,null,null,null,null,null,null,null,null,null,null,null,null,null,null,null,null,null,null,null,null,null,null,null,null,null,null,null,null,null,null,null,null,null,null,null,null,null,null,null,null,null,null,"",""]
[null,null,412,0,"",0,0,0,0,null,null,"","",null,null,null,null,null,null,null,null,null,null,null,null,null,null,null,null,null,null,null,null,null,null,null,null,null,null,null,null,null,null,null,null,null,null,null,null,null,null,null,null,null,null,null,null,null,null,null,null,null,null,null,null,null,null,null,null,null,null,null,null,null,null,null,null,"",""]
[null,null,413,0,"",0,0,0,0,null,null,"","",null,null,null,null,null,null,null,null,null,null,null,null,null,null,null,null,null,null,null,null,null,null,null,null,null,null,null,null,null,null,null,null,null,null,null,null,null,null,null,null,null,null,null,null,null,null,null,null,null,null,null,null,null,null,null,null,null,null,null,null,null,null,null,null,"",""]
[null,null,414,0,"",0,0,0,0,null,null,"","",null,null,null,null,null,null,null,null,null,null,null,null,null,null,null,null,null,null,null,null,null,null,null,null,null,null,null,null,null,null,null,null,null,null,null,null,null,null,null,null,null,null,null,null,null,null,null,null,null,null,null,null,null,null,null,null,null,null,null,null,null,null,null,null,"",""]
[null,null,415,0,"",0,0,0,0,null,null,"","",null,null,null,null,null,null,null,null,null,null,null,null,null,null,null,null,null,null,null,null,null,null,null,null,null,null,null,null,null,null,null,null,null,null,null,null,null,null,null,null,null,null,null,null,null,null,null,null,null,null,null,null,null,null,null,null,null,null,null,null,null,null,null,null,"",""]
[null,null,416,0,"",0,0,0,0,null,null,"","",null,null,null,null,null,null,null,null,null,null,null,null,null,null,null,null,null,null,null,null,null,null,null,null,null,null,null,null,null,null,null,null,null,null,null,null,null,null,null,null,null,null,null,null,null,null,null,null,null,null,null,null,null,null,null,null,null,null,null,null,null,null,null,null,"",""]
[null,null,417,0,"",0,0,0,0,null,null,"","",null,null,null,null,null,null,null,null,null,null,null,null,null,null,null,null,null,null,null,null,null,null,null,null,null,null,null,null,null,null,null,null,null,null,null,null,null,null,null,null,null,null,null,null,null,null,null,null,null,null,null,null,null,null,null,null,null,null,null,null,null,null,null,null,"",""]
[null,null,418,0,"",0,0,0,0,null,null,"","",null,null,null,null,null,null,null,null,null,null,null,null,null,null,null,null,null,null,null,null,null,null,null,null,null,null,null,null,null,null,null,null,null,null,null,null,null,null,null,null,null,null,null,null,null,null,null,null,null,null,null,null,null,null,null,null,null,null,null,null,null,null,null,null,"",""]
[null,null,419,0,"",0,0,0,0,null,null,"","",null,null,null,null,null,null,null,null,null,null,null,null,null,null,null,null,null,null,null,null,null,null,null,null,null,null,null,null,null,null,null,null,null,null,null,null,null,null,null,null,null,null,null,null,null,null,null,null,null,null,null,null,null,null,null,null,null,null,null,null,null,null,null,null,"",""]
[null,null,420,0,"",0,0,0,0,null,null,"","",null,null,null,null,null,null,null,null,null,null,null,null,null,null,null,null,null,null,null,null,null,null,null,null,null,null,null,null,null,null,null,null,null,null,null,null,null,null,null,null,null,null,null,null,null,null,null,null,null,null,null,null,null,null,null,null,null,null,null,null,null,null,null,null,"",""]
[null,null,421,0,"",0,0,0,0,null,null,"","",null,null,null,null,null,null,null,null,null,null,null,null,null,null,null,null,null,null,null,null,null,null,null,null,null,null,null,null,null,null,null,null,null,null,null,null,null,null,null,null,null,null,null,null,null,null,null,null,null,null,null,null,null,null,null,null,null,null,null,null,null,null,null,null,"",""]
[null,null,422,0,"",0,0,0,0,null,null,"","",null,null,null,null,null,null,null,null,null,null,null,null,null,null,null,null,null,null,null,null,null,null,null,null,null,null,null,null,null,null,null,null,null,null,null,null,null,null,null,null,null,null,null,null,null,null,null,null,null,null,null,null,null,null,null,null,null,null,null,null,null,null,null,null,"",""]
[null,null,423,0,"",0,0,0,0,null,null,"","",null,null,null,null,null,null,null,null,null,null,null,null,null,null,null,null,null,null,null,null,null,null,null,null,null,null,null,null,null,null,null,null,null,null,null,null,null,null,null,null,null,null,null,null,null,null,null,null,null,null,null,null,null,null,null,null,null,null,null,null,null,null,null,null,"",""]
[null,null,424,0,"",0,0,0,0,null,null,"","",null,null,null,null,null,null,null,null,null,null,null,null,null,null,null,null,null,null,null,null,null,null,null,null,null,null,null,null,null,null,null,null,null,null,null,null,null,null,null,null,null,null,null,null,null,null,null,null,null,null,null,null,null,null,null,null,null,null,null,null,null,null,null,null,"",""]
[null,null,425,0,"",0,0,0,0,null,null,"","",null,null,null,null,null,null,null,null,null,null,null,null,null,null,null,null,null,null,null,null,null,null,null,null,null,null,null,null,null,null,null,null,null,null,null,null,null,null,null,null,null,null,null,null,null,null,null,null,null,null,null,null,null,null,null,null,null,null,null,null,null,null,null,null,"",""]
[null,null,426,0,"",0,0,0,0,null,null,"","",null,null,null,null,null,null,null,null,null,null,null,null,null,null,null,null,null,null,null,null,null,null,null,null,null,null,null,null,null,null,null,null,null,null,null,null,null,null,null,null,null,null,null,null,null,null,null,null,null,null,null,null,null,null,null,null,null,null,null,null,null,null,null,null,"",""]
[null,null,427,0,"",0,0,0,0,null,null,"","",null,null,null,null,null,null,null,null,null,null,null,null,null,null,null,null,null,null,null,null,null,null,null,null,null,null,null,null,null,null,null,null,null,null,null,null,null,null,null,null,null,null,null,null,null,null,null,null,null,null,null,null,null,null,null,null,null,null,null,null,null,null,null,null,"",""]
[null,null,428,0,"",0,0,0,0,null,null,"","",null,null,null,null,null,null,null,null,null,null,null,null,null,null,null,null,null,null,null,null,null,null,null,null,null,null,null,null,null,null,null,null,null,null,null,null,null,null,null,null,null,null,null,null,null,null,null,null,null,null,null,null,null,null,null,null,null,null,null,null,null,null,null,null,"",""]
[null,null,429,0,"",0,0,0,0,null,null,"","",null,null,null,null,null,null,null,null,null,null,null,null,null,null,null,null,null,null,null,null,null,null,null,null,null,null,null,null,null,null,null,null,null,null,null,null,null,null,null,null,null,null,null,null,null,null,null,null,null,null,null,null,null,null,null,null,null,null,null,null,null,null,null,null,"",""]
[null,null,430,0,"",0,0,0,0,null,null,"","",null,null,null,null,null,null,null,null,null,null,null,null,null,null,null,null,null,null,null,null,null,null,null,null,null,null,null,null,null,null,null,null,null,null,null,null,null,null,null,null,null,null,null,null,null,null,null,null,null,null,null,null,null,null,null,null,null,null,null,null,null,null,null,null,"",""]
[null,null,431,0,"",0,0,0,0,null,null,"","",null,null,null,null,null,null,null,null,null,null,null,null,null,null,null,null,null,null,null,null,null,null,null,null,null,null,null,null,null,null,null,null,null,null,null,null,null,null,null,null,null,null,null,null,null,null,null,null,null,null,null,null,null,null,null,null,null,null,null,null,null,null,null,null,"",""]
[null,null,432,0,"",0,0,0,0,null,null,"","",null,null,null,null,null,null,null,null,null,null,null,null,null,null,null,null,null,null,null,null,null,null,null,null,null,null,null,null,null,null,null,null,null,null,null,null,null,null,null,null,null,null,null,null,null,null,null,null,null,null,null,null,null,null,null,null,null,null,null,null,null,null,null,null,"",""]
[null,null,433,0,"",0,0,0,0,null,null,"","",null,null,null,null,null,null,null,null,null,null,null,null,null,null,null,null,null,null,null,null,null,null,null,null,null,null,null,null,null,null,null,null,null,null,null,null,null,null,null,null,null,null,null,null,null,null,null,null,null,null,null,null,null,null,null,null,null,null,null,null,null,null,null,null,"",""]
[null,null,434,0,"",0,0,0,0,null,null,"","",null,null,null,null,null,null,null,null,null,null,null,null,null,null,null,null,null,null,null,null,null,null,null,null,null,null,null,null,null,null,null,null,null,null,null,null,null,null,null,null,null,null,null,null,null,null,null,null,null,null,null,null,null,null,null,null,null,null,null,null,null,null,null,null,"",""]
[null,null,435,0,"",0,0,0,0,null,null,"","",null,null,null,null,null,null,null,null,null,null,null,null,null,null,null,null,null,null,null,null,null,null,null,null,null,null,null,null,null,null,null,null,null,null,null,null,null,null,null,null,null,null,null,null,null,null,null,null,null,null,null,null,null,null,null,null,null,null,null,null,null,null,null,null,"",""]
[null,null,436,0,"",0,0,0,0,null,null,"","",null,null,null,null,null,null,null,null,null,null,null,null,null,null,null,null,null,null,null,null,null,null,null,null,null,null,null,null,null,null,null,null,null,null,null,null,null,null,null,null,null,null,null,null,null,null,null,null,null,null,null,null,null,null,null,null,null,null,null,null,null,null,null,null,"",""]
[null,null,437,0,"",0,0,0,0,null,null,"","",null,null,null,null,null,null,null,null,null,null,null,null,null,null,null,null,null,null,null,null,null,null,null,null,null,null,null,null,null,null,null,null,null,null,null,null,null,null,null,null,null,null,null,null,null,null,null,null,null,null,null,null,null,null,null,null,null,null,null,null,null,null,null,null,"",""]
[null,null,438,0,"",0,0,0,0,null,null,"","",null,null,null,null,null,null,null,null,null,null,null,null,null,null,null,null,null,null,null,null,null,null,null,null,null,null,null,null,null,null,null,null,null,null,null,null,null,null,null,null,null,null,null,null,null,null,null,null,null,null,null,null,null,null,null,null,null,null,null,null,null,null,null,null,"",""]
[null,null,439,0,"",0,0,0,0,null,null,"","",null,null,null,null,null,null,null,null,null,null,null,null,null,null,null,null,null,null,null,null,null,null,null,null,null,null,null,null,null,null,null,null,null,null,null,null,null,null,null,null,null,null,null,null,null,null,null,null,null,null,null,null,null,null,null,null,null,null,null,null,null,null,null,null,"",""]
[null,null,440,0,"",0,0,0,0,null,null,"","",null,null,null,null,null,null,null,null,null,null,null,null,null,null,null,null,null,null,null,null,null,null,null,null,null,null,null,null,null,null,null,null,null,null,null,null,null,null,null,null,null,null,null,null,null,null,null,null,null,null,null,null,null,null,null,null,null,null,null,null,null,null,null,null,"",""]
[null,null,441,0,"",0,0,0,0,null,null,"","",null,null,null,null,null,null,null,null,null,null,null,null,null,null,null,null,null,null,null,null,null,null,null,null,null,null,null,null,null,null,null,null,null,null,null,null,null,null,null,null,null,null,null,null,null,null,null,null,null,null,null,null,null,null,null,null,null,null,null,null,null,null,null,null,"",""]
[null,null,442,0,"",0,0,0,0,null,null,"","",null,null,null,null,null,null,null,null,null,null,null,null,null,null,null,null,null,null,null,null,null,null,null,null,null,null,null,null,null,null,null,null,null,null,null,null,null,null,null,null,null,null,null,null,null,null,null,null,null,null,null,null,null,null,null,null,null,null,null,null,null,null,null,null,"",""]
[null,null,443,0,"",0,0,0,0,null,null,"","",null,null,null,null,null,null,null,null,null,null,null,null,null,null,null,null,null,null,null,null,null,null,null,null,null,null,null,null,null,null,null,null,null,null,null,null,null,null,null,null,null,null,null,null,null,null,null,null,null,null,null,null,null,null,null,null,null,null,null,null,null,null,null,null,"",""]
[null,null,444,0,"",0,0,0,0,null,null,"","",null,null,null,null,null,null,null,null,null,null,null,null,null,null,null,null,null,null,null,null,null,null,null,null,null,null,null,null,null,null,null,null,null,null,null,null,null,null,null,null,null,null,null,null,null,null,null,null,null,null,null,null,null,null,null,null,null,null,null,null,null,null,null,null,"",""]
[null,null,445,0,"",0,0,0,0,null,null,"","",null,null,null,null,null,null,null,null,null,null,null,null,null,null,null,null,null,null,null,null,null,null,null,null,null,null,null,null,null,null,null,null,null,null,null,null,null,null,null,null,null,null,null,null,null,null,null,null,null,null,null,null,null,null,null,null,null,null,null,null,null,null,null,null,"",""]
[null,null,446,0,"",0,0,0,0,null,null,"","",null,null,null,null,null,null,null,null,null,null,null,null,null,null,null,null,null,null,null,null,null,null,null,null,null,null,null,null,null,null,null,null,null,null,null,null,null,null,null,null,null,null,null,null,null,null,null,null,null,null,null,null,null,null,null,null,null,null,null,null,null,null,null,null,"",""]
[null,null,447,0,"",0,0,0,0,null,null,"","",null,null,null,null,null,null,null,null,null,null,null,null,null,null,null,null,null,null,null,null,null,null,null,null,null,null,null,null,null,null,null,null,null,null,null,null,null,null,null,null,null,null,null,null,null,null,null,null,null,null,null,null,null,null,null,null,null,null,null,null,null,null,null,null,"",""]
[null,null,448,0,"",0,0,0,0,null,null,"","",null,null,null,null,null,null,null,null,null,null,null,null,null,null,null,null,null,null,null,null,null,null,null,null,null,null,null,null,null,null,null,null,null,null,null,null,null,null,null,null,null,null,null,null,null,null,null,null,null,null,null,null,null,null,null,null,null,null,null,null,null,null,null,null,"",""]
[null,null,449,{"$f":"IF(AND(LEFT(T467,2)=\"01\",LEFT(Z467,2)=\"01\",LEFT(AA467,2)=\"01\",E467=1),1,0)","v":0},"",0,0,0,0,null,null,"",{"$f":"IF(ISERROR(VLOOKUP(N467,Locales,2,FALSE)),\"\",VLOOKUP(N467,Locales,2,FALSE))","v":""},null,null,null,null,null,null,null,null,null,null,null,null,null,null,null,null,null,null,null,null,null,null,null,null,null,null,null,null,null,null,null,null,null,null,null,null,null,null,null,null,null,null,null,null,null,null,null,null,null,null,null,null,null,null,null,null,null,null,null,null,null,null,null,null,"",""]
[null,null,450,0,{"$f":"$B$16","v":""},{"$f":"COUNTIF(AR468:BA468,\"X\")","v":0},{"$f":"IF(T468<>\"\",VALUE(LEFT(T468,2)),0)","v":0},{"$f":"IF(S468<>\"\",COUNTIF($S$19:$S$1523,S468),0)","v":0},0,null,null,"","",null,null,null,null,null,null,null,null,null,null,null,null,null,null,null,null,null,null,null,null,null,null,null,null,null,null,null,null,null,null,null,null,null,null,null,null,null,null,null,null,null,null,null,null,null,null,null,null,null,null,null,null,null,null,null,null,null,null,null,null,null,null,null,null,{"$f":"IF($AC468<>\"\",IF(OR(LEFT($AC468,2)=\"01\",LEFT($AC468,2)=\"02\",LEFT($AC468,2)=\"04\",LEFT($AC468,2)=\"05\"),1,0),\"\")","v":""},""]
[null,null,451,0,"",0,0,0,0,null,null,{"$f":"IF(C469<=$B$5,C469,\"\")","v":""},"",null,null,null,null,null,null,null,null,null,null,null,null,null,null,null,null,null,null,null,null,null,null,null,null,null,null,null,null,null,null,null,null,null,null,null,null,null,null,null,null,null,null,null,null,null,null,null,null,null,null,null,null,null,null,null,null,null,null,null,null,null,null,null,null,"",""]
[null,null,452,0,"",0,0,0,0,null,null,"","",null,null,null,null,null,null,null,null,null,null,null,null,null,null,null,null,null,null,null,null,null,null,null,null,null,null,null,null,null,null,null,null,null,null,null,null,null,null,null,null,null,null,null,null,null,null,null,null,null,null,null,null,null,null,null,null,null,null,null,null,null,null,null,null,"",""]
[null,null,453,0,"",0,0,0,0,null,null,"","",null,null,null,null,null,null,null,null,null,null,null,null,null,null,null,null,null,null,null,null,null,null,null,null,null,null,null,null,null,null,null,null,null,null,null,null,null,null,null,null,null,null,null,null,null,null,null,null,null,null,null,null,null,null,null,null,null,null,null,null,null,null,null,null,"",""]
[null,null,454,0,"",0,0,0,0,null,null,"","",null,null,null,null,null,null,null,null,null,null,null,null,null,null,null,null,null,null,null,null,null,null,null,null,null,null,null,null,null,null,null,null,null,null,null,null,null,null,null,null,null,null,null,null,null,null,null,null,null,null,null,null,null,null,null,null,null,null,null,null,null,null,null,null,"",""]
[null,null,455,0,"",0,0,0,0,null,null,"","",null,null,null,null,null,null,null,null,null,null,null,null,null,null,null,null,null,null,null,null,null,null,null,null,null,null,null,null,null,null,null,null,null,null,null,null,null,null,null,null,null,null,null,null,null,null,null,null,null,null,null,null,null,null,null,null,null,null,null,null,null,null,null,null,"",""]
[null,null,456,0,"",0,0,0,0,null,null,"","",null,null,null,null,null,null,null,null,null,null,null,null,null,null,null,null,null,null,null,null,null,null,null,null,null,null,null,null,null,null,null,null,null,null,null,null,null,null,null,null,null,null,null,null,null,null,null,null,null,null,null,null,null,null,null,null,null,null,null,null,null,null,null,null,"",""]
[null,null,457,0,"",0,0,0,{"$f":"IF(L475<>\"\",1,0)","v":0},null,null,"","",null,null,null,null,null,null,null,null,null,null,null,null,null,null,null,null,null,null,null,null,null,null,null,null,null,null,null,null,null,null,null,null,null,null,null,null,null,null,null,null,null,null,null,null,null,null,null,null,null,null,null,null,null,null,null,null,null,null,null,null,null,null,null,null,"",""]
[null,null,458,0,"",0,0,0,0,null,null,"","",null,null,null,null,null,null,null,null,null,null,null,null,null,null,null,null,null,null,null,null,null,null,null,null,null,null,null,null,null,null,null,null,null,null,null,null,null,null,null,null,null,null,null,null,null,null,null,null,null,null,null,null,null,null,null,null,null,null,null,null,null,null,null,null,"",""]
[null,null,459,0,"",0,0,0,0,null,null,"","",null,null,null,null,null,null,null,null,null,null,null,null,null,null,null,null,null,null,null,null,null,null,null,null,null,null,null,null,null,null,null,null,null,null,null,null,null,null,null,null,null,null,null,null,null,null,null,null,null,null,null,null,null,null,null,null,null,null,null,null,null,null,null,null,"",""]
[null,null,460,0,"",0,0,0,0,null,null,"","",null,null,null,null,null,null,null,null,null,null,null,null,null,null,null,null,null,null,null,null,null,null,null,null,null,null,null,null,null,null,null,null,null,null,null,null,null,null,null,null,null,null,null,null,null,null,null,null,null,null,null,null,null,null,null,null,null,null,null,null,null,null,null,null,"",""]
[null,null,461,0,"",0,0,0,0,null,null,"","",null,null,null,null,null,null,null,null,null,null,null,null,null,null,null,null,null,null,null,null,null,null,null,null,null,null,null,null,null,null,null,null,null,null,null,null,null,null,null,null,null,null,null,null,null,null,null,null,null,null,null,null,null,null,null,null,null,null,null,null,null,null,null,null,"",""]
[null,null,462,0,"",0,0,0,0,null,null,"","",null,null,null,null,null,null,null,null,null,null,null,null,null,null,null,null,null,null,null,null,null,null,null,null,null,null,null,null,null,null,null,null,null,null,null,null,null,null,null,null,null,null,null,null,null,null,null,null,null,null,null,null,null,null,null,null,null,null,null,null,null,null,null,null,"",""]
[null,null,463,0,"",0,0,0,0,null,null,"","",null,null,null,null,null,null,null,null,null,null,null,null,null,null,null,null,null,null,null,null,null,null,null,null,null,null,null,null,null,null,null,null,null,null,null,null,null,null,null,null,null,null,null,null,null,null,null,null,null,null,null,null,null,null,null,null,null,null,null,null,null,null,null,null,"",""]
[null,null,464,0,"",0,0,0,0,null,null,"","",null,null,null,null,null,null,null,null,null,null,null,null,null,null,null,null,null,null,null,null,null,null,null,null,null,null,null,null,null,null,null,null,null,null,null,null,null,null,null,null,null,null,null,null,null,null,null,null,null,null,null,null,null,null,null,null,null,null,null,null,null,null,null,null,"",""]
[null,null,465,0,"",0,0,0,0,null,null,"","",null,null,null,null,null,null,null,null,null,null,null,null,null,null,null,null,null,null,null,null,null,null,null,null,null,null,null,null,null,null,null,null,null,null,null,null,null,null,null,null,null,null,null,null,null,null,null,null,null,null,null,null,null,null,null,null,null,null,null,null,null,null,null,null,"",""]
[null,null,466,0,"",0,0,0,0,null,null,"","",null,null,null,null,null,null,null,null,null,null,null,null,null,null,null,null,null,null,null,null,null,null,null,null,null,null,null,null,null,null,null,null,null,null,null,null,null,null,null,null,null,null,null,null,null,null,null,null,null,null,null,null,null,null,null,null,null,null,null,null,null,null,null,null,"",""]
[null,null,467,0,"",0,0,0,0,null,null,"","",null,null,null,null,null,null,null,null,null,null,null,null,null,null,null,null,null,null,null,null,null,null,null,null,null,null,null,null,null,null,null,null,null,null,null,null,null,null,null,null,null,null,null,null,null,null,null,null,null,null,null,null,null,null,null,null,null,null,null,null,null,null,null,null,"",""]
[null,null,468,0,"",0,0,0,0,null,null,"","",null,null,null,null,null,null,null,null,null,null,null,null,null,null,null,null,null,null,null,null,null,null,null,null,null,null,null,null,null,null,null,null,null,null,null,null,null,null,null,null,null,null,null,null,null,null,null,null,null,null,null,null,null,null,null,null,null,null,null,null,null,null,null,null,"",""]
[null,null,469,0,"",0,0,0,0,null,null,"","",null,null,null,null,null,null,null,null,null,null,null,null,null,null,null,null,null,null,null,null,null,null,null,null,null,null,null,null,null,null,null,null,null,null,null,null,null,null,null,null,null,null,null,null,null,null,null,null,null,null,null,null,null,null,null,null,null,null,null,null,null,null,null,null,"",""]
[null,null,470,0,"",0,0,0,0,null,null,"","",null,null,null,null,null,null,null,null,null,null,null,null,null,null,null,null,null,null,null,null,null,null,null,null,null,null,null,null,null,null,null,null,null,null,null,null,null,null,null,null,null,null,null,null,null,null,null,null,null,null,null,null,null,null,null,null,null,null,null,null,null,null,null,null,"",""]
[null,null,471,0,"",0,0,0,0,null,null,"","",null,null,null,null,null,null,null,null,null,null,null,null,null,null,null,null,null,null,null,null,null,null,null,null,null,null,null,null,null,null,null,null,null,null,null,null,null,null,null,null,null,null,null,null,null,null,null,null,null,null,null,null,null,null,null,null,null,null,null,null,null,null,null,null,"",""]
[null,null,472,0,"",0,0,0,0,null,null,"","",null,null,null,null,null,null,null,null,null,null,null,null,null,null,null,null,null,null,null,null,null,null,null,null,null,null,null,null,null,null,null,null,null,null,null,null,null,null,null,null,null,null,null,null,null,null,null,null,null,null,null,null,null,null,null,null,null,null,null,null,null,null,null,null,"",""]
[null,null,473,0,"",0,0,0,0,null,null,"","",null,null,null,null,null,null,null,null,null,null,null,null,null,null,null,null,null,null,null,null,null,null,null,null,null,null,null,null,null,null,null,null,null,null,null,null,null,null,null,null,null,null,null,null,null,null,null,null,null,null,null,null,null,null,null,null,null,null,null,null,null,null,null,null,"",""]
[null,null,474,0,"",0,0,0,0,null,null,"","",null,null,null,null,null,null,null,null,null,null,null,null,null,null,null,null,null,null,null,null,null,null,null,null,null,null,null,null,null,null,null,null,null,null,null,null,null,null,null,null,null,null,null,null,null,null,null,null,null,null,null,null,null,null,null,null,null,null,null,null,null,null,null,null,"",""]
[null,null,475,0,"",0,0,0,0,null,null,"","",null,null,null,null,null,null,null,null,null,null,null,null,null,null,null,null,null,null,null,null,null,null,null,null,null,null,null,null,null,null,null,null,null,null,null,null,null,null,null,null,null,null,null,null,null,null,null,null,null,null,null,null,null,null,null,null,null,null,null,null,null,null,null,null,"",""]
[null,null,476,0,"",0,0,0,0,null,null,"","",null,null,null,null,null,null,null,null,null,null,null,null,null,null,null,null,null,null,null,null,null,null,null,null,null,null,null,null,null,null,null,null,null,null,null,null,null,null,null,null,null,null,null,null,null,null,null,null,null,null,null,null,null,null,null,null,null,null,null,null,null,null,null,null,"",""]
[null,null,477,0,"",0,0,0,0,null,null,"","",null,null,null,null,null,null,null,null,null,null,null,null,null,null,null,null,null,null,null,null,null,null,null,null,null,null,null,null,null,null,null,null,null,null,null,null,null,null,null,null,null,null,null,null,null,null,null,null,null,null,null,null,null,null,null,null,null,null,null,null,null,null,null,null,"",""]
[null,null,478,0,"",0,0,0,0,null,null,"","",null,null,null,null,null,null,null,null,null,null,null,null,null,null,null,null,null,null,null,null,null,null,null,null,null,null,null,null,null,null,null,null,null,null,null,null,null,null,null,null,null,null,null,null,null,null,null,null,null,null,null,null,null,null,null,null,null,null,null,null,null,null,null,null,"",""]
[null,null,479,0,"",0,0,0,0,null,null,"","",null,null,null,null,null,null,null,null,null,null,null,null,null,null,null,null,null,null,null,null,null,null,null,null,null,null,null,null,null,null,null,null,null,null,null,null,null,null,null,null,null,null,null,null,null,null,null,null,null,null,null,null,null,null,null,null,null,null,null,null,null,null,null,null,"",""]
[null,null,480,0,"",0,0,0,0,null,null,"","",null,null,null,null,null,null,null,null,null,null,null,null,null,null,null,null,null,null,null,null,null,null,null,null,null,null,null,null,null,null,null,null,null,null,null,null,null,null,null,null,null,null,null,null,null,null,null,null,null,null,null,null,null,null,null,null,null,null,null,null,null,null,null,null,"",""]
[null,null,481,0,"",0,0,0,0,null,null,"","",null,null,null,null,null,null,null,null,null,null,null,null,null,null,null,null,null,null,null,null,null,null,null,null,null,null,null,null,null,null,null,null,null,null,null,null,null,null,null,null,null,null,null,null,null,null,null,null,null,null,null,null,null,null,null,null,null,null,null,null,null,null,null,null,"",""]
[null,null,482,0,"",0,0,0,0,null,null,"","",null,null,null,null,null,null,null,null,null,null,null,null,null,null,null,null,null,null,null,null,null,null,null,null,null,null,null,null,null,null,null,null,null,null,null,null,null,null,null,null,null,null,null,null,null,null,null,null,null,null,null,null,null,null,null,null,null,null,null,null,null,null,null,null,"",""]
[null,null,483,0,"",0,0,0,0,null,null,"","",null,null,null,null,null,null,null,null,null,null,null,null,null,null,null,null,null,null,null,null,null,null,null,null,null,null,null,null,null,null,null,null,null,null,null,null,null,null,null,null,null,null,null,null,null,null,null,null,null,null,null,null,null,null,null,null,null,null,null,null,null,null,null,null,"",""]
[null,null,484,0,"",0,0,0,0,null,null,"","",null,null,null,null,null,null,null,null,null,null,null,null,null,null,null,null,null,null,null,null,null,null,null,null,null,null,null,null,null,null,null,null,null,null,null,null,null,null,null,null,null,null,null,null,null,null,null,null,null,null,null,null,null,null,null,null,null,null,null,null,null,null,null,null,"",""]
[null,null,487,0,"",0,0,0,0,null,null,"","",null,null,null,null,null,null,null,null,null,null,null,null,null,null,null,null,null,null,null,null,null,null,null,null,null,null,null,null,null,null,null,null,null,null,null,null,null,null,null,null,null,null,null,null,null,null,null,null,null,null,null,null,null,null,null,null,null,null,null,null,null,null,null,null,"",""]
[null,null,488,0,"",0,0,0,0,null,null,"","",null,null,null,null,null,null,null,null,null,null,null,null,null,null,null,null,null,null,null,null,null,null,null,null,null,null,null,null,null,null,null,null,null,null,null,null,null,null,null,null,null,null,null,null,null,null,null,null,null,null,null,null,null,null,null,null,null,null,null,null,null,null,null,null,"",""]
[null,null,491,0,"",0,0,0,0,null,null,"","",null,null,null,null,null,null,null,null,null,null,null,null,null,null,null,null,null,null,null,null,null,null,null,null,null,null,null,null,null,null,null,null,null,null,null,null,null,null,null,null,null,null,null,null,null,null,null,null,null,null,null,null,null,null,null,null,null,null,null,null,null,null,null,null,"",""]
[null,null,492,0,"",0,0,0,0,null,null,"","",null,null,null,null,null,null,null,null,null,null,null,null,null,null,null,null,null,null,null,null,null,null,null,null,null,null,null,null,null,null,null,null,null,null,null,null,null,null,null,null,null,null,null,null,null,null,null,null,null,null,null,null,null,null,null,null,null,null,null,null,null,null,null,null,"",""]
[null,null,494,0,"",0,0,0,0,null,null,"","",null,null,null,null,null,null,null,null,null,null,null,null,null,null,null,null,null,null,null,null,null,null,null,null,null,null,null,null,null,null,null,null,null,null,null,null,null,null,null,null,null,null,null,null,null,null,null,null,null,null,null,null,null,null,null,null,null,null,null,null,null,null,null,null,"",""]
[null,null,495,0,"",0,0,0,0,null,null,"","",null,null,null,null,null,null,null,null,null,null,null,null,null,null,null,null,null,null,null,null,null,null,null,null,null,null,null,null,null,null,null,null,null,null,null,null,null,null,null,null,null,null,null,null,null,null,null,null,null,null,null,null,null,null,null,null,null,null,null,null,null,null,null,null,"",""]
[null,null,498,0,"",0,0,0,0,null,null,"","",null,null,null,null,null,null,null,null,null,null,null,null,null,null,null,null,null,null,null,null,null,null,null,null,null,null,null,null,null,null,null,null,null,null,null,null,null,null,null,null,null,null,null,null,null,null,null,null,null,null,null,null,null,null,null,null,null,null,null,null,null,null,null,null,"",""]
[null,null,499,0,"",0,0,0,0,null,null,"","",null,null,null,null,null,null,null,null,null,null,null,null,null,null,null,null,null,null,null,null,null,null,null,null,null,null,null,null,null,null,null,null,null,null,null,null,null,null,null,null,null,null,null,null,null,null,null,null,null,null,null,null,null,null,null,null,null,null,null,null,null,null,null,null,"",""]
[null,null,501,0,"",0,0,0,{"$f":"IF(L519<>\"\",1,0)","v":0},null,null,"","",null,null,null,null,null,null,null,null,null,null,null,null,null,null,null,null,null,null,null,null,null,null,null,null,null,null,null,null,null,null,null,null,null,null,null,null,null,null,null,null,null,null,null,null,null,null,null,null,null,null,null,null,null,null,null,null,null,null,null,null,null,null,null,null,"",""]
[null,null,502,0,"",0,0,0,0,null,null,"","",null,null,null,null,null,null,null,null,null,null,null,null,null,null,null,null,null,null,null,null,null,null,null,null,null,null,null,null,null,null,null,null,null,null,null,null,null,null,null,null,null,null,null,null,null,null,null,null,null,null,null,null,null,null,null,null,null,null,null,null,null,null,null,null,"",""]
[null,null,505,0,"",0,0,0,0,null,null,"","",null,null,null,null,null,null,null,null,null,null,null,null,null,null,null,null,null,null,null,null,null,null,null,null,null,null,null,null,null,null,null,null,null,null,null,null,null,null,null,null,null,null,null,null,null,null,null,null,null,null,null,null,null,null,null,null,null,null,null,null,null,null,null,null,"",""]
[null,null,506,0,"",0,0,0,0,null,null,"","",null,null,null,null,null,null,null,null,null,null,null,null,null,null,null,null,null,null,null,null,null,null,null,null,null,null,null,null,null,null,null,null,null,null,null,null,null,null,null,null,null,null,null,null,null,null,null,null,null,null,null,null,null,null,null,null,null,null,null,null,null,null,null,null,"",""]
[null,null,509,0,"",0,0,0,0,null,null,"","",null,null,null,null,null,null,null,null,null,null,null,null,null,null,null,null,null,null,null,null,null,null,null,null,null,null,null,null,null,null,null,null,null,null,null,null,null,null,null,null,null,null,null,null,null,null,null,null,null,null,null,null,null,null,null,null,null,null,null,null,null,null,null,null,"",""]
[null,null,510,0,"",0,0,0,0,null,null,"","",null,null,null,null,null,null,null,null,null,null,null,null,null,null,null,null,null,null,null,null,null,null,null,null,null,null,null,null,null,null,null,null,null,null,null,null,null,null,null,null,null,null,null,null,null,null,null,null,null,null,null,null,null,null,null,null,null,null,null,null,null,null,null,null,"",""]
[null,null,512,0,"",0,0,0,0,null,null,"","",null,null,null,null,null,null,null,null,null,null,null,null,null,null,null,null,null,null,null,null,null,null,null,null,null,null,null,null,null,null,null,null,null,null,null,null,null,null,null,null,null,null,null,null,null,null,null,null,null,null,null,null,null,null,null,null,null,null,null,null,null,null,null,null,"",""]
[null,null,513,{"$f":"IF(AND(LEFT(T531,2)=\"01\",LEFT(Z531,2)=\"01\",LEFT(AA531,2)=\"01\",E531=1),1,0)","v":0},"",0,0,0,0,null,null,"",{"$f":"IF(ISERROR(VLOOKUP(N531,Locales,2,FALSE)),\"\",VLOOKUP(N531,Locales,2,FALSE))","v":""},null,null,null,null,null,null,null,null,null,null,null,null,null,null,null,null,null,null,null,null,null,null,null,null,null,null,null,null,null,null,null,null,null,null,null,null,null,null,null,null,null,null,null,null,null,null,null,null,null,null,null,null,null,null,null,null,null,null,null,null,null,null,null,null,"",""]
[null,null,516,0,"",0,0,0,0,null,null,"","",null,null,null,null,null,null,null,null,null,null,null,null,null,null,null,null,null,null,null,null,null,null,null,null,null,null,null,null,null,null,null,null,null,null,null,null,null,null,null,null,null,null,null,null,null,null,null,null,null,null,null,null,null,null,null,null,null,null,null,null,null,null,null,null,"",""]
[null,null,517,0,"",0,0,0,0,null,null,"","",null,null,null,null,null,null,null,null,null,null,null,null,null,null,null,null,null,null,null,null,null,null,null,null,null,null,null,null,null,null,null,null,null,null,null,null,null,null,null,null,null,null,null,null,null,null,null,null,null,null,null,null,null,null,null,null,null,null,null,null,null,null,null,null,"",""]
[null,null,519,0,"",0,0,0,0,null,null,"","",null,null,null,null,null,null,null,null,null,null,null,null,null,null,null,null,null,null,null,null,null,null,null,null,null,null,null,null,null,null,null,null,null,null,null,null,null,null,null,null,null,null,null,null,null,null,null,null,null,null,null,null,null,null,null,null,null,null,null,null,null,null,null,null,"",""]
[null,null,520,0,"",0,0,0,0,null,null,"","",null,null,null,null,null,null,null,null,null,null,null,null,null,null,null,null,null,null,null,null,null,null,null,null,null,null,null,null,null,null,null,null,null,null,null,null,null,null,null,null,null,null,null,null,null,null,null,null,null,null,null,null,null,null,null,null,null,null,null,null,null,null,null,null,"",""]
[null,null,523,0,"",0,0,0,0,null,null,"","",null,null,null,null,null,null,null,null,null,null,null,null,null,null,null,null,null,null,null,null,null,null,null,null,null,null,null,null,null,null,null,null,null,null,null,null,null,null,null,null,null,null,null,null,null,null,null,null,null,null,null,null,null,null,null,null,null,null,null,null,null,null,null,null,"",""]
[null,null,524,0,"",0,0,0,0,null,null,"","",null,null,null,null,null,null,null,null,null,null,null,null,null,null,null,null,null,null,null,null,null,null,null,null,null,null,null,null,null,null,null,null,null,null,null,null,null,null,null,null,null,null,null,null,null,null,null,null,null,null,null,null,null,null,null,null,null,null,null,null,null,null,null,null,"",""]
[null,null,527,0,"",0,0,0,0,null,null,"","",null,null,null,null,null,null,null,null,null,null,null,null,null,null,null,null,null,null,null,null,null,null,null,null,null,null,null,null,null,null,null,null,null,null,null,null,null,null,null,null,null,null,null,null,null,null,null,null,null,null,null,null,null,null,null,null,null,null,null,null,null,null,null,null,"",""]
[null,null,528,0,"",0,0,0,0,null,null,"","",null,null,null,null,null,null,null,null,null,null,null,null,null,null,null,null,null,null,null,null,null,null,null,null,null,null,null,null,null,null,null,null,null,null,null,null,null,null,null,null,null,null,null,null,null,null,null,null,null,null,null,null,null,null,null,null,null,null,null,null,null,null,null,null,"",""]
[null,null,530,0,"",0,0,0,0,null,null,"","",null,null,null,null,null,null,null,null,null,null,null,null,null,null,null,null,null,null,null,null,null,null,null,null,null,null,null,null,null,null,null,null,null,null,null,null,null,null,null,null,null,null,null,null,null,null,null,null,null,null,null,null,null,null,null,null,null,null,null,null,null,null,null,null,"",""]
[null,null,531,0,"",0,0,0,0,null,null,"","",null,null,null,null,null,null,null,null,null,null,null,null,null,null,null,null,null,null,null,null,null,null,null,null,null,null,null,null,null,null,null,null,null,null,null,null,null,null,null,null,null,null,null,null,null,null,null,null,null,null,null,null,null,null,null,null,null,null,null,null,null,null,null,null,"",""]
[null,null,534,0,"",0,0,0,0,null,null,"","",null,null,null,null,null,null,null,null,null,null,null,null,null,null,null,null,null,null,null,null,null,null,null,null,null,null,null,null,null,null,null,null,null,null,null,null,null,null,null,null,null,null,null,null,null,null,null,null,null,null,null,null,null,null,null,null,null,null,null,null,null,null,null,null,"",""]
[null,null,535,0,"",0,0,0,0,null,null,"","",null,null,null,null,null,null,null,null,null,null,null,null,null,null,null,null,null,null,null,null,null,null,null,null,null,null,null,null,null,null,null,null,null,null,null,null,null,null,null,null,null,null,null,null,null,null,null,null,null,null,null,null,null,null,null,null,null,null,null,null,null,null,null,null,"",""]
[null,null,537,0,"",0,0,0,0,null,null,"","",null,null,null,null,null,null,null,null,null,null,null,null,null,null,null,null,null,null,null,null,null,null,null,null,null,null,null,null,null,null,null,null,null,null,null,null,null,null,null,null,null,null,null,null,null,null,null,null,null,null,null,null,null,null,null,null,null,null,null,null,null,null,null,null,"",""]
[null,null,538,0,"",0,0,0,0,null,null,"","",null,null,null,null,null,null,null,null,null,null,null,null,null,null,null,null,null,null,null,null,null,null,null,null,null,null,null,null,null,null,null,null,null,null,null,null,null,null,null,null,null,null,null,null,null,null,null,null,null,null,null,null,null,null,null,null,null,null,null,null,null,null,null,null,"",""]
[null,null,541,0,"",0,0,0,0,null,null,"","",null,null,null,null,null,null,null,null,null,null,null,null,null,null,null,null,null,null,null,null,null,null,null,null,null,null,null,null,null,null,null,null,null,null,null,null,null,null,null,null,null,null,null,null,null,null,null,null,null,null,null,null,null,null,null,null,null,null,null,null,null,null,null,null,"",""]
[null,null,542,0,"",0,0,0,0,null,null,"","",null,null,null,null,null,null,null,null,null,null,null,null,null,null,null,null,null,null,null,null,null,null,null,null,null,null,null,null,null,null,null,null,null,null,null,null,null,null,null,null,null,null,null,null,null,null,null,null,null,null,null,null,null,null,null,null,null,null,null,null,null,null,null,null,"",""]
[null,null,545,0,"",0,0,0,0,null,null,"","",null,null,null,null,null,null,null,null,null,null,null,null,null,null,null,null,null,null,null,null,null,null,null,null,null,null,null,null,null,null,null,null,null,null,null,null,null,null,null,null,null,null,null,null,null,null,null,null,null,null,null,null,null,null,null,null,null,null,null,null,null,null,null,null,"",""]
[null,null,546,0,"",0,0,0,0,null,null,"","",null,null,null,null,null,null,null,null,null,null,null,null,null,null,null,null,null,null,null,null,null,null,null,null,null,null,null,null,null,null,null,null,null,null,null,null,null,null,null,null,null,null,null,null,null,null,null,null,null,null,null,null,null,null,null,null,null,null,null,null,null,null,null,null,"",""]
[null,null,548,0,"",0,0,0,0,null,null,"","",null,null,null,null,null,null,null,null,null,null,null,null,null,null,null,null,null,null,null,null,null,null,null,null,null,null,null,null,null,null,null,null,null,null,null,null,null,null,null,null,null,null,null,null,null,null,null,null,null,null,null,null,null,null,null,null,null,null,null,null,null,null,null,null,"",""]
[null,null,549,0,"",0,0,0,0,null,null,"","",null,null,null,null,null,null,null,null,null,null,null,null,null,null,null,null,null,null,null,null,null,null,null,null,null,null,null,null,null,null,null,null,null,null,null,null,null,null,null,null,null,null,null,null,null,null,null,null,null,null,null,null,null,null,null,null,null,null,null,null,null,null,null,null,"",""]
[null,null,552,0,"",0,0,0,0,null,null,"","",null,null,null,null,null,null,null,null,null,null,null,null,null,null,null,null,null,null,null,null,null,null,null,null,null,null,null,null,null,null,null,null,null,null,null,null,null,null,null,null,null,null,null,null,null,null,null,null,null,null,null,null,null,null,null,null,null,null,null,null,null,null,null,null,"",""]
[null,null,553,0,"",0,0,0,0,null,null,"","",null,null,null,null,null,null,null,null,null,null,null,null,null,null,null,null,null,null,null,null,null,null,null,null,null,null,null,null,null,null,null,null,null,null,null,null,null,null,null,null,null,null,null,null,null,null,null,null,null,null,null,null,null,null,null,null,null,null,null,null,null,null,null,null,"",""]
[null,null,555,0,"",0,0,0,0,null,null,"","",null,null,null,null,null,null,null,null,null,null,null,null,null,null,null,null,null,null,null,null,null,null,null,null,null,null,null,null,null,null,null,null,null,null,null,null,null,null,null,null,null,null,null,null,null,null,null,null,null,null,null,null,null,null,null,null,null,null,null,null,null,null,null,null,"",""]
[null,null,556,0,"",0,0,0,0,null,null,"","",null,null,null,null,null,null,null,null,null,null,null,null,null,null,null,null,null,null,null,null,null,null,null,null,null,null,null,null,null,null,null,null,null,null,null,null,null,null,null,null,null,null,null,null,null,null,null,null,null,null,null,null,null,null,null,null,null,null,null,null,null,null,null,null,"",""]
[null,null,559,0,"",0,0,0,0,null,null,"","",null,null,null,null,null,null,null,null,null,null,null,null,null,null,null,null,null,null,null,null,null,null,null,null,null,null,null,null,null,null,null,null,null,null,null,null,null,null,null,null,null,null,null,null,null,null,null,null,null,null,null,null,null,null,null,null,null,null,null,null,null,null,null,null,"",""]
[null,null,560,0,"",0,0,0,0,null,null,"","",null,null,null,null,null,null,null,null,null,null,null,null,null,null,null,null,null,null,null,null,null,null,null,null,null,null,null,null,null,null,null,null,null,null,null,null,null,null,null,null,null,null,null,null,null,null,null,null,null,null,null,null,null,null,null,null,null,null,null,null,null,null,null,null,"",""]
[null,null,563,0,"",0,0,0,0,null,null,"","",null,null,null,null,null,null,null,null,null,null,null,null,null,null,null,null,null,null,null,null,null,null,null,null,null,null,null,null,null,null,null,null,null,null,null,null,null,null,null,null,null,null,null,null,null,null,null,null,null,null,null,null,null,null,null,null,null,null,null,null,null,null,null,null,"",""]
[null,null,564,0,"",0,0,0,0,null,null,"","",null,null,null,null,null,null,null,null,null,null,null,null,null,null,null,null,null,null,null,null,null,null,null,null,null,null,null,null,null,null,null,null,null,null,null,null,null,null,null,null,null,null,null,null,null,null,null,null,null,null,null,null,null,null,null,null,null,null,null,null,null,null,null,null,"",""]
[null,null,566,0,"",0,0,0,0,null,null,"","",null,null,null,null,null,null,null,null,null,null,null,null,null,null,null,null,null,null,null,null,null,null,null,null,null,null,null,null,null,null,null,null,null,null,null,null,null,null,null,null,null,null,null,null,null,null,null,null,null,null,null,null,null,null,null,null,null,null,null,null,null,null,null,null,"",""]
[null,null,567,0,"",0,0,0,0,null,null,"","",null,null,null,null,null,null,null,null,null,null,null,null,null,null,null,null,null,null,null,null,null,null,null,null,null,null,null,null,null,null,null,null,null,null,null,null,null,null,null,null,null,null,null,null,null,null,null,null,null,null,null,null,null,null,null,null,null,null,null,null,null,null,null,null,"",""]
[null,null,570,0,"",0,0,0,0,null,null,"","",null,null,null,null,null,null,null,null,null,null,null,null,null,null,null,null,null,null,null,null,null,null,null,null,null,null,null,null,null,null,null,null,null,null,null,null,null,null,null,null,null,null,null,null,null,null,null,null,null,null,null,null,null,null,null,null,null,null,null,null,null,null,null,null,"",""]
[null,null,571,0,"",0,0,0,0,null,null,"","",null,null,null,null,null,null,null,null,null,null,null,null,null,null,null,null,null,null,null,null,null,null,null,null,null,null,null,null,null,null,null,null,null,null,null,null,null,null,null,null,null,null,null,null,null,null,null,null,null,null,null,null,null,null,null,null,null,null,null,null,null,null,null,null,"",""]
[null,null,573,0,"",0,0,0,0,null,null,"","",null,null,null,null,null,null,null,null,null,null,null,null,null,null,null,null,null,null,null,null,null,null,null,null,null,null,null,null,null,null,null,null,null,null,null,null,null,null,null,null,null,null,null,null,null,null,null,null,null,null,null,null,null,null,null,null,null,null,null,null,null,null,null,null,"",""]
[null,null,574,0,"",0,0,0,0,null,null,"","",null,null,null,null,null,null,null,null,null,null,null,null,null,null,null,null,null,null,null,null,null,null,null,null,null,null,null,null,null,null,null,null,null,null,null,null,null,null,null,null,null,null,null,null,null,null,null,null,null,null,null,null,null,null,null,null,null,null,null,null,null,null,null,null,"",""]
[null,null,577,{"$f":"IF(AND(LEFT(T595,2)=\"01\",LEFT(Z595,2)=\"01\",LEFT(AA595,2)=\"01\",E595=1),1,0)","v":0},"",0,0,0,0,null,null,"",{"$f":"IF(ISERROR(VLOOKUP(N595,Locales,2,FALSE)),\"\",VLOOKUP(N595,Locales,2,FALSE))","v":""},null,null,null,null,null,null,null,null,null,null,null,null,null,null,null,null,null,null,null,null,null,null,null,null,null,null,null,null,null,null,null,null,null,null,null,null,null,null,null,null,null,null,null,null,null,null,null,null,null,null,null,null,null,null,null,null,null,null,null,null,null,null,null,null,"",""]
[null,null,578,0,{"$f":"$B$16","v":""},{"$f":"COUNTIF(AR596:BA596,\"X\")","v":0},{"$f":"IF(T596<>\"\",VALUE(LEFT(T596,2)),0)","v":0},{"$f":"IF(S596<>\"\",COUNTIF($S$19:$S$1523,S596),0)","v":0},0,null,null,"","",null,null,null,null,null,null,null,null,null,null,null,null,null,null,null,null,null,null,null,null,null,null,null,null,null,null,null,null,null,null,null,null,null,null,null,null,null,null,null,null,null,null,null,null,null,null,null,null,null,null,null,null,null,null,null,null,null,null,null,null,null,null,null,null,{"$f":"IF($AC596<>\"\",IF(OR(LEFT($AC596,2)=\"01\",LEFT($AC596,2)=\"02\",LEFT($AC596,2)=\"04\",LEFT($AC596,2)=\"05\"),1,0),\"\")","v":""},""]
[null,null,581,0,"",0,0,0,0,null,null,"","",null,null,null,null,null,null,null,null,null,null,null,null,null,null,null,null,null,null,null,null,null,null,null,null,null,null,null,null,null,null,null,null,null,null,null,null,null,null,null,null,null,null,null,null,null,null,null,null,null,null,null,null,null,null,null,null,null,null,null,null,null,null,null,null,"",""]
[null,null,582,0,"",0,0,0,0,null,null,"","",null,null,null,null,null,null,null,null,null,null,null,null,null,null,null,null,null,null,null,null,null,null,null,null,null,null,null,null,null,null,null,null,null,null,null,null,null,null,null,null,null,null,null,null,null,null,null,null,null,null,null,null,null,null,null,null,null,null,null,null,null,null,null,null,"",""]
[null,null,584,0,"",0,0,0,0,null,null,"","",null,null,null,null,null,null,null,null,null,null,null,null,null,null,null,null,null,null,null,null,null,null,null,null,null,null,null,null,null,null,null,null,null,null,null,null,null,null,null,null,null,null,null,null,null,null,null,null,null,null,null,null,null,null,null,null,null,null,null,null,null,null,null,null,"",""]
[null,null,585,0,"",0,0,0,0,null,null,"","",null,null,null,null,null,null,null,null,null,null,null,null,null,null,null,null,null,null,null,null,null,null,null,null,null,null,null,null,null,null,null,null,null,null,null,null,null,null,null,null,null,null,null,null,null,null,null,null,null,null,null,null,null,null,null,null,null,null,null,null,null,null,null,null,"",""]
[null,null,588,0,"",0,0,0,0,null,null,"","",null,null,null,null,null,null,null,null,null,null,null,null,null,null,null,null,null,null,null,null,null,null,null,null,null,null,null,null,null,null,null,null,null,null,null,null,null,null,null,null,null,null,null,null,null,null,null,null,null,null,null,null,null,null,null,null,null,null,null,null,null,null,null,null,"",""]
[null,null,589,0,"",0,0,0,0,null,null,"","",null,null,null,null,null,null,null,null,null,null,null,null,null,null,null,null,null,null,null,null,null,null,null,null,null,null,null,null,null,null,null,null,null,null,null,null,null,null,null,null,null,null,null,null,null,null,null,null,null,null,null,null,null,null,null,null,null,null,null,null,null,null,null,null,"",""]
[null,null,591,0,"",0,0,0,0,null,null,"","",null,null,null,null,null,null,null,null,null,null,null,null,null,null,null,null,null,null,null,null,null,null,null,null,null,null,null,null,null,null,null,null,null,null,null,null,null,null,null,null,null,null,null,null,null,null,null,null,null,null,null,null,null,null,null,null,null,null,null,null,null,null,null,null,"",""]
[null,null,592,0,"",0,0,0,0,null,null,"","",null,null,null,null,null,null,null,null,null,null,null,null,null,null,null,null,null,null,null,null,null,null,null,null,null,null,null,null,null,null,null,null,null,null,null,null,null,null,null,null,null,null,null,null,null,null,null,null,null,null,null,null,null,null,null,null,null,null,null,null,null,null,null,null,"",""]
[null,null,595,0,"",0,0,0,0,null,null,"","",null,null,null,null,null,null,null,null,null,null,null,null,null,null,null,null,null,null,null,null,null,null,null,null,null,null,null,null,null,null,null,null,null,null,null,null,null,null,null,null,null,null,null,null,null,null,null,null,null,null,null,null,null,null,null,null,null,null,null,null,null,null,null,null,"",""]
[null,null,596,0,"",0,0,0,0,null,null,"","",null,null,null,null,null,null,null,null,null,null,null,null,null,null,null,null,null,null,null,null,null,null,null,null,null,null,null,null,null,null,null,null,null,null,null,null,null,null,null,null,null,null,null,null,null,null,null,null,null,null,null,null,null,null,null,null,null,null,null,null,null,null,null,null,"",""]
[null,null,599,0,"",0,0,0,0,null,null,"","",null,null,null,null,null,null,null,null,null,null,null,null,null,null,null,null,null,null,null,null,null,null,null,null,null,null,null,null,null,null,null,null,null,null,null,null,null,null,null,null,null,null,null,null,null,null,null,null,null,null,null,null,null,null,null,null,null,null,null,null,null,null,null,null,"",""]
[null,null,600,0,"",0,0,0,0,null,null,"","",null,null,null,null,null,null,null,null,null,null,null,null,null,null,null,null,null,null,null,null,null,null,null,null,null,null,null,null,null,null,null,null,null,null,null,null,null,null,null,null,null,null,null,null,null,null,null,null,null,null,null,null,null,null,null,null,null,null,null,null,null,null,null,null,"",""]
[null,null,602,0,"",0,0,0,0,null,null,"","",null,null,null,null,null,null,null,null,null,null,null,null,null,null,null,null,null,null,null,null,null,null,null,null,null,null,null,null,null,null,null,null,null,null,null,null,null,null,null,null,null,null,null,null,null,null,null,null,null,null,null,null,null,null,null,null,null,null,null,null,null,null,null,null,"",""]
[null,null,603,0,"",0,0,0,0,null,null,"","",null,null,null,null,null,null,null,null,null,null,null,null,null,null,null,null,null,null,null,null,null,null,null,null,null,null,null,null,null,null,null,null,null,null,null,null,null,null,null,null,null,null,null,null,null,null,null,null,null,null,null,null,null,null,null,null,null,null,null,null,null,null,null,null,"",""]
[null,null,606,0,"",0,0,0,0,null,null,"","",null,null,null,null,null,null,null,null,null,null,null,null,null,null,null,null,null,null,null,null,null,null,null,null,null,null,null,null,null,null,null,null,null,null,null,null,null,null,null,null,null,null,null,null,null,null,null,null,null,null,null,null,null,null,null,null,null,null,null,null,null,null,null,null,"",""]
[null,null,607,0,"",0,0,0,0,null,null,"","",null,null,null,null,null,null,null,null,null,null,null,null,null,null,null,null,null,null,null,null,null,null,null,null,null,null,null,null,null,null,null,null,null,null,null,null,null,null,null,null,null,null,null,null,null,null,null,null,null,null,null,null,null,null,null,null,null,null,null,null,null,null,null,null,"",""]
[null,null,609,0,"",0,0,0,0,null,null,"","",null,null,null,null,null,null,null,null,null,null,null,null,null,null,null,null,null,null,null,null,null,null,null,null,null,null,null,null,null,null,null,null,null,null,null,null,null,null,null,null,null,null,null,null,null,null,null,null,null,null,null,null,null,null,null,null,null,null,null,null,null,null,null,null,"",""]
[null,null,610,0,"",0,0,0,0,null,null,"","",null,null,null,null,null,null,null,null,null,null,null,null,null,null,null,null,null,null,null,null,null,null,null,null,null,null,null,null,null,null,null,null,null,null,null,null,null,null,null,null,null,null,null,null,null,null,null,null,null,null,null,null,null,null,null,null,null,null,null,null,null,null,null,null,"",""]
[null,null,613,0,"",0,0,0,0,null,null,"","",null,null,null,null,null,null,null,null,null,null,null,null,null,null,null,null,null,null,null,null,null,null,null,null,null,null,null,null,null,null,null,null,null,null,null,null,null,null,null,null,null,null,null,null,null,null,null,null,null,null,null,null,null,null,null,null,null,null,null,null,null,null,null,null,"",""]
[null,null,614,0,"",0,0,0,0,null,null,"","",null,null,null,null,null,null,null,null,null,null,null,null,null,null,null,null,null,null,null,null,null,null,null,null,null,null,null,null,null,null,null,null,null,null,null,null,null,null,null,null,null,null,null,null,null,null,null,null,null,null,null,null,null,null,null,null,null,null,null,null,null,null,null,null,"",""]
[null,null,617,0,"",0,0,0,0,null,null,"","",null,null,null,null,null,null,null,null,null,null,null,null,null,null,null,null,null,null,null,null,null,null,null,null,null,null,null,null,null,null,null,null,null,null,null,null,null,null,null,null,null,null,null,null,null,null,null,null,null,null,null,null,null,null,null,null,null,null,null,null,null,null,null,null,"",""]
[null,null,618,0,"",0,0,0,0,null,null,"","",null,null,null,null,null,null,null,null,null,null,null,null,null,null,null,null,null,null,null,null,null,null,null,null,null,null,null,null,null,null,null,null,null,null,null,null,null,null,null,null,null,null,null,null,null,null,null,null,null,null,null,null,null,null,null,null,null,null,null,null,null,null,null,null,"",""]
[null,null,620,0,"",0,0,0,0,null,null,"","",null,null,null,null,null,null,null,null,null,null,null,null,null,null,null,null,null,null,null,null,null,null,null,null,null,null,null,null,null,null,null,null,null,null,null,null,null,null,null,null,null,null,null,null,null,null,null,null,null,null,null,null,null,null,null,null,null,null,null,null,null,null,null,null,"",""]
[null,null,621,0,"",0,0,0,0,null,null,"","",null,null,null,null,null,null,null,null,null,null,null,null,null,null,null,null,null,null,null,null,null,null,null,null,null,null,null,null,null,null,null,null,null,null,null,null,null,null,null,null,null,null,null,null,null,null,null,null,null,null,null,null,null,null,null,null,null,null,null,null,null,null,null,null,"",""]
[null,null,624,0,"",0,0,0,0,null,null,"","",null,null,null,null,null,null,null,null,null,null,null,null,null,null,null,null,null,null,null,null,null,null,null,null,null,null,null,null,null,null,null,null,null,null,null,null,null,null,null,null,null,null,null,null,null,null,null,null,null,null,null,null,null,null,null,null,null,null,null,null,null,null,null,null,"",""]
[null,null,625,0,"",0,0,0,0,null,null,"","",null,null,null,null,null,null,null,null,null,null,null,null,null,null,null,null,null,null,null,null,null,null,null,null,null,null,null,null,null,null,null,null,null,null,null,null,null,null,null,null,null,null,null,null,null,null,null,null,null,null,null,null,null,null,null,null,null,null,null,null,null,null,null,null,"",""]
[null,null,627,0,"",0,0,0,0,null,null,"","",null,null,null,null,null,null,null,null,null,null,null,null,null,null,null,null,null,null,null,null,null,null,null,null,null,null,null,null,null,null,null,null,null,null,null,null,null,null,null,null,null,null,null,null,null,null,null,null,null,null,null,null,null,null,null,null,null,null,null,null,null,null,null,null,"",""]
[null,null,628,0,"",0,0,0,0,null,null,"","",null,null,null,null,null,null,null,null,null,null,null,null,null,null,null,null,null,null,null,null,null,null,null,null,null,null,null,null,null,null,null,null,null,null,null,null,null,null,null,null,null,null,null,null,null,null,null,null,null,null,null,null,null,null,null,null,null,null,null,null,null,null,null,null,"",""]
[null,null,631,0,"",0,0,0,0,null,null,"","",null,null,null,null,null,null,null,null,null,null,null,null,null,null,null,null,null,null,null,null,null,null,null,null,null,null,null,null,null,null,null,null,null,null,null,null,null,null,null,null,null,null,null,null,null,null,null,null,null,null,null,null,null,null,null,null,null,null,null,null,null,null,null,null,"",""]
[null,null,632,0,"",0,0,0,0,null,null,"","",null,null,null,null,null,null,null,null,null,null,null,null,null,null,null,null,null,null,null,null,null,null,null,null,null,null,null,null,null,null,null,null,null,null,null,null,null,null,null,null,null,null,null,null,null,null,null,null,null,null,null,null,null,null,null,null,null,null,null,null,null,null,null,null,"",""]
[null,null,635,0,"",0,0,0,0,null,null,"","",null,null,null,null,null,null,null,null,null,null,null,null,null,null,null,null,null,null,null,null,null,null,null,null,null,null,null,null,null,null,null,null,null,null,null,null,null,null,null,null,null,null,null,null,null,null,null,null,null,null,null,null,null,null,null,null,null,null,null,null,null,null,null,null,"",""]
[null,null,636,0,"",0,0,0,0,null,null,"","",null,null,null,null,null,null,null,null,null,null,null,null,null,null,null,null,null,null,null,null,null,null,null,null,null,null,null,null,null,null,null,null,null,null,null,null,null,null,null,null,null,null,null,null,null,null,null,null,null,null,null,null,null,null,null,null,null,null,null,null,null,null,null,null,"",""]
[null,null,638,0,"",0,0,0,0,null,null,"","",null,null,null,null,null,null,null,null,null,null,null,null,null,null,null,null,null,null,null,null,null,null,null,null,null,null,null,null,null,null,null,null,null,null,null,null,null,null,null,null,null,null,null,null,null,null,null,null,null,null,null,null,null,null,null,null,null,null,null,null,null,null,null,null,"",""]
[null,null,639,0,"",0,0,0,0,null,null,"","",null,null,null,null,null,null,null,null,null,null,null,null,null,null,null,null,null,null,null,null,null,null,null,null,null,null,null,null,null,null,null,null,null,null,null,null,null,null,null,null,null,null,null,null,null,null,null,null,null,null,null,null,null,null,null,null,null,null,null,null,null,null,null,null,"",""]
[null,null,642,0,{"$f":"$B$16","v":""},{"$f":"COUNTIF(AR660:BA660,\"X\")","v":0},{"$f":"IF(T660<>\"\",VALUE(LEFT(T660,2)),0)","v":0},{"$f":"IF(S660<>\"\",COUNTIF($S$19:$S$1523,S660),0)","v":0},0,null,null,"","",null,null,null,null,null,null,null,null,null,null,null,null,null,null,null,null,null,null,null,null,null,null,null,null,null,null,null,null,null,null,null,null,null,null,null,null,null,null,null,null,null,null,null,null,null,null,null,null,null,null,null,null,null,null,null,null,null,null,null,null,null,null,null,null,{"$f":"IF($AC660<>\"\",IF(OR(LEFT($AC660,2)=\"01\",LEFT($AC660,2)=\"02\",LEFT($AC660,2)=\"04\",LEFT($AC660,2)=\"05\"),1,0),\"\")","v":""},""]
[null,null,643,0,"",0,0,0,0,null,null,{"$f":"IF(C661<=$B$5,C661,\"\")","v":""},"",null,null,null,null,null,null,null,null,null,null,null,null,null,null,null,null,null,null,null,null,null,null,null,null,null,null,null,null,null,null,null,null,null,null,null,null,null,null,null,null,null,null,null,null,null,null,null,null,null,null,null,null,null,null,null,null,null,null,null,null,null,null,null,null,"",""]
[null,null,645,0,"",0,0,0,0,null,null,"","",null,null,null,null,null,null,null,null,null,null,null,null,null,null,null,null,null,null,null,null,null,null,null,null,null,null,null,null,null,null,null,null,null,null,null,null,null,null,null,null,null,null,null,null,null,null,null,null,null,null,null,null,null,null,null,null,null,null,null,null,null,null,null,null,"",""]
[null,null,646,0,"",0,0,0,0,null,null,"","",null,null,null,null,null,null,null,null,null,null,null,null,null,null,null,null,null,null,null,null,null,null,null,null,null,null,null,null,null,null,null,null,null,null,null,null,null,null,null,null,null,null,null,null,null,null,null,null,null,null,null,null,null,null,null,null,null,null,null,null,null,null,null,null,"",""]
[null,null,649,0,"",0,0,0,0,null,null,"","",null,null,null,null,null,null,null,null,null,null,null,null,null,null,null,null,null,null,null,null,null,null,null,null,null,null,null,null,null,null,null,null,null,null,null,null,null,null,null,null,null,null,null,null,null,null,null,null,null,null,null,null,null,null,null,null,null,null,null,null,null,null,null,null,"",""]
[null,null,650,0,"",0,0,0,0,null,null,"","",null,null,null,null,null,null,null,null,null,null,null,null,null,null,null,null,null,null,null,null,null,null,null,null,null,null,null,null,null,null,null,null,null,null,null,null,null,null,null,null,null,null,null,null,null,null,null,null,null,null,null,null,null,null,null,null,null,null,null,null,null,null,null,null,"",""]
[null,null,653,0,"",0,0,0,0,null,null,"","",null,null,null,null,null,null,null,null,null,null,null,null,null,null,null,null,null,null,null,null,null,null,null,null,null,null,null,null,null,null,null,null,null,null,null,null,null,null,null,null,null,null,null,null,null,null,null,null,null,null,null,null,null,null,null,null,null,null,null,null,null,null,null,null,"",""]
[null,null,654,0,"",0,0,0,0,null,null,"","",null,null,null,null,null,null,null,null,null,null,null,null,null,null,null,null,null,null,null,null,null,null,null,null,null,null,null,null,null,null,null,null,null,null,null,null,null,null,null,null,null,null,null,null,null,null,null,null,null,null,null,null,null,null,null,null,null,null,null,null,null,null,null,null,"",""]
[null,null,656,0,"",0,0,0,0,null,null,"","",null,null,null,null,null,null,null,null,null,null,null,null,null,null,null,null,null,null,null,null,null,null,null,null,null,null,null,null,null,null,null,null,null,null,null,null,null,null,null,null,null,null,null,null,null,null,null,null,null,null,null,null,null,null,null,null,null,null,null,null,null,null,null,null,"",""]
[null,null,657,0,"",0,0,0,0,null,null,"","",null,null,null,null,null,null,null,null,null,null,null,null,null,null,null,null,null,null,null,null,null,null,null,null,null,null,null,null,null,null,null,null,null,null,null,null,null,null,null,null,null,null,null,null,null,null,null,null,null,null,null,null,null,null,null,null,null,null,null,null,null,null,null,null,"",""]
[null,null,660,0,"",0,0,0,0,null,null,"","",null,null,null,null,null,null,null,null,null,null,null,null,null,null,null,null,null,null,null,null,null,null,null,null,null,null,null,null,null,null,null,null,null,null,null,null,null,null,null,null,null,null,null,null,null,null,null,null,null,null,null,null,null,null,null,null,null,null,null,null,null,null,null,null,"",""]
[null,null,661,0,"",0,0,0,0,null,null,"","",null,null,null,null,null,null,null,null,null,null,null,null,null,null,null,null,null,null,null,null,null,null,null,null,null,null,null,null,null,null,null,null,null,null,null,null,null,null,null,null,null,null,null,null,null,null,null,null,null,null,null,null,null,null,null,null,null,null,null,null,null,null,null,null,"",""]
[null,null,663,0,"",0,0,0,0,null,null,"","",null,null,null,null,null,null,null,null,null,null,null,null,null,null,null,null,null,null,null,null,null,null,null,null,null,null,null,null,null,null,null,null,null,null,null,null,null,null,null,null,null,null,null,null,null,null,null,null,null,null,null,null,null,null,null,null,null,null,null,null,null,null,null,null,"",""]
[null,null,664,0,"",0,0,0,0,null,null,"","",null,null,null,null,null,null,null,null,null,null,null,null,null,null,null,null,null,null,null,null,null,null,null,null,null,null,null,null,null,null,null,null,null,null,null,null,null,null,null,null,null,null,null,null,null,null,null,null,null,null,null,null,null,null,null,null,null,null,null,null,null,null,null,null,"",""]
[null,null,667,0,"",0,0,0,0,null,null,"","",null,null,null,null,null,null,null,null,null,null,null,null,null,null,null,null,null,null,null,null,null,null,null,null,null,null,null,null,null,null,null,null,null,null,null,null,null,null,null,null,null,null,null,null,null,null,null,null,null,null,null,null,null,null,null,null,null,null,null,null,null,null,null,null,"",""]
[null,null,668,0,"",0,0,0,0,null,null,"","",null,null,null,null,null,null,null,null,null,null,null,null,null,null,null,null,null,null,null,null,null,null,null,null,null,null,null,null,null,null,null,null,null,null,null,null,null,null,null,null,null,null,null,null,null,null,null,null,null,null,null,null,null,null,null,null,null,null,null,null,null,null,null,null,"",""]
[null,null,671,0,"",0,0,0,0,null,null,"","",null,null,null,null,null,null,null,null,null,null,null,null,null,null,null,null,null,null,null,null,null,null,null,null,null,null,null,null,null,null,null,null,null,null,null,null,null,null,null,null,null,null,null,null,null,null,null,null,null,null,null,null,null,null,null,null,null,null,null,null,null,null,null,null,"",""]
[null,null,672,0,"",0,0,0,0,null,null,"","",null,null,null,null,null,null,null,null,null,null,null,null,null,null,null,null,null,null,null,null,null,null,null,null,null,null,null,null,null,null,null,null,null,null,null,null,null,null,null,null,null,null,null,null,null,null,null,null,null,null,null,null,null,null,null,null,null,null,null,null,null,null,null,null,"",""]
[null,null,674,0,"",0,0,0,0,null,null,"","",null,null,null,null,null,null,null,null,null,null,null,null,null,null,null,null,null,null,null,null,null,null,null,null,null,null,null,null,null,null,null,null,null,null,null,null,null,null,null,null,null,null,null,null,null,null,null,null,null,null,null,null,null,null,null,null,null,null,null,null,null,null,null,null,"",""]
[null,null,675,0,"",0,0,0,0,null,null,"","",null,null,null,null,null,null,null,null,null,null,null,null,null,null,null,null,null,null,null,null,null,null,null,null,null,null,null,null,null,null,null,null,null,null,null,null,null,null,null,null,null,null,null,null,null,null,null,null,null,null,null,null,null,null,null,null,null,null,null,null,null,null,null,null,"",""]
[null,null,678,0,"",0,0,0,0,null,null,"","",null,null,null,null,null,null,null,null,null,null,null,null,null,null,null,null,null,null,null,null,null,null,null,null,null,null,null,null,null,null,null,null,null,null,null,null,null,null,null,null,null,null,null,null,null,null,null,null,null,null,null,null,null,null,null,null,null,null,null,null,null,null,null,null,"",""]
[null,null,679,0,"",0,0,0,0,null,null,"","",null,null,null,null,null,null,null,null,null,null,null,null,null,null,null,null,null,null,null,null,null,null,null,null,null,null,null,null,null,null,null,null,null,null,null,null,null,null,null,null,null,null,null,null,null,null,null,null,null,null,null,null,null,null,null,null,null,null,null,null,null,null,null,null,"",""]
[null,null,681,0,"",0,0,0,0,null,null,"","",null,null,null,null,null,null,null,null,null,null,null,null,null,null,null,null,null,null,null,null,null,null,null,null,null,null,null,null,null,null,null,null,null,null,null,null,null,null,null,null,null,null,null,null,null,null,null,null,null,null,null,null,null,null,null,null,null,null,null,null,null,null,null,null,"",""]
[null,null,682,0,"",0,0,0,0,null,null,"","",null,null,null,null,null,null,null,null,null,null,null,null,null,null,null,null,null,null,null,null,null,null,null,null,null,null,null,null,null,null,null,null,null,null,null,null,null,null,null,null,null,null,null,null,null,null,null,null,null,null,null,null,null,null,null,null,null,null,null,null,null,null,null,null,"",""]
[null,null,685,0,"",0,0,0,0,null,null,"","",null,null,null,null,null,null,null,null,null,null,null,null,null,null,null,null,null,null,null,null,null,null,null,null,null,null,null,null,null,null,null,null,null,null,null,null,null,null,null,null,null,null,null,null,null,null,null,null,null,null,null,null,null,null,null,null,null,null,null,null,null,null,null,null,"",""]
[null,null,686,0,"",0,0,0,0,null,null,"","",null,null,null,null,null,null,null,null,null,null,null,null,null,null,null,null,null,null,null,null,null,null,null,null,null,null,null,null,null,null,null,null,null,null,null,null,null,null,null,null,null,null,null,null,null,null,null,null,null,null,null,null,null,null,null,null,null,null,null,null,null,null,null,null,"",""]
[null,null,689,0,"",0,0,0,0,null,null,"","",null,null,null,null,null,null,null,null,null,null,null,null,null,null,null,null,null,null,null,null,null,null,null,null,null,null,null,null,null,null,null,null,null,null,null,null,null,null,null,null,null,null,null,null,null,null,null,null,null,null,null,null,null,null,null,null,null,null,null,null,null,null,null,null,"",""]
[null,null,690,0,"",0,0,0,0,null,null,"","",null,null,null,null,null,null,null,null,null,null,null,null,null,null,null,null,null,null,null,null,null,null,null,null,null,null,null,null,null,null,null,null,null,null,null,null,null,null,null,null,null,null,null,null,null,null,null,null,null,null,null,null,null,null,null,null,null,null,null,null,null,null,null,null,"",""]
[null,null,692,0,"",0,0,0,0,null,null,"","",null,null,null,null,null,null,null,null,null,null,null,null,null,null,null,null,null,null,null,null,null,null,null,null,null,null,null,null,null,null,null,null,null,null,null,null,null,null,null,null,null,null,null,null,null,null,null,null,null,null,null,null,null,null,null,null,null,null,null,null,null,null,null,null,"",""]
[null,null,693,0,"",0,0,0,{"$f":"IF(L711<>\"\",1,0)","v":0},null,null,"","",null,null,null,null,null,null,null,null,null,null,null,null,null,null,null,null,null,null,null,null,null,null,null,null,null,null,null,null,null,null,null,null,null,null,null,null,null,null,null,null,null,null,null,null,null,null,null,null,null,null,null,null,null,null,null,null,null,null,null,null,null,null,null,null,"",""]
[null,null,696,0,"",0,0,0,0,null,null,"","",null,null,null,null,null,null,null,null,null,null,null,null,null,null,null,null,null,null,null,null,null,null,null,null,null,null,null,null,null,null,null,null,null,null,null,null,null,null,null,null,null,null,null,null,null,null,null,null,null,null,null,null,null,null,null,null,null,null,null,null,null,null,null,null,"",""]
[null,null,697,0,"",0,0,0,0,null,null,"","",null,null,null,null,null,null,null,null,null,null,null,null,null,null,null,null,null,null,null,null,null,null,null,null,null,null,null,null,null,null,null,null,null,null,null,null,null,null,null,null,null,null,null,null,null,null,null,null,null,null,null,null,null,null,null,null,null,null,null,null,null,null,null,null,"",""]
[null,null,699,0,"",0,0,0,0,null,null,"","",null,null,null,null,null,null,null,null,null,null,null,null,null,null,null,null,null,null,null,null,null,null,null,null,null,null,null,null,null,null,null,null,null,null,null,null,null,null,null,null,null,null,null,null,null,null,null,null,null,null,null,null,null,null,null,null,null,null,null,null,null,null,null,null,"",""]
[null,null,700,0,"",0,0,0,0,null,null,"","",null,null,null,null,null,null,null,null,null,null,null,null,null,null,null,null,null,null,null,null,null,null,null,null,null,null,null,null,null,null,null,null,null,null,null,null,null,null,null,null,null,null,null,null,null,null,null,null,null,null,null,null,null,null,null,null,null,null,null,null,null,null,null,null,"",""]
[null,null,703,0,"",0,0,0,0,null,null,"","",null,null,null,null,null,null,null,null,null,null,null,null,null,null,null,null,null,null,null,null,null,null,null,null,null,null,null,null,null,null,null,null,null,null,null,null,null,null,null,null,null,null,null,null,null,null,null,null,null,null,null,null,null,null,null,null,null,null,null,null,null,null,null,null,"",""]
[null,null,704,0,"",0,0,0,0,null,null,"","",null,null,null,null,null,null,null,null,null,null,null,null,null,null,null,null,null,null,null,null,null,null,null,null,null,null,null,null,null,null,null,null,null,null,null,null,null,null,null,null,null,null,null,null,null,null,null,null,null,null,null,null,null,null,null,null,null,null,null,null,null,null,null,null,"",""]
[null,null,707,0,"",0,0,0,0,null,null,{"$f":"IF(C725<=$B$5,C725,\"\")","v":""},"",null,null,null,null,null,null,null,null,null,null,null,null,null,null,null,null,null,null,null,null,null,null,null,null,null,null,null,null,null,null,null,null,null,null,null,null,null,null,null,null,null,null,null,null,null,null,null,null,null,null,null,null,null,null,null,null,null,null,null,null,null,null,null,null,"",""]
[null,null,708,0,"",0,0,0,0,null,null,"","",null,null,null,null,null,null,null,null,null,null,null,null,null,null,null,null,null,null,null,null,null,null,null,null,null,null,null,null,null,null,null,null,null,null,null,null,null,null,null,null,null,null,null,null,null,null,null,null,null,null,null,null,null,null,null,null,null,null,null,null,null,null,null,null,"",""]
[null,null,710,0,"",0,0,0,0,null,null,"","",null,null,null,null,null,null,null,null,null,null,null,null,null,null,null,null,null,null,null,null,null,null,null,null,null,null,null,null,null,null,null,null,null,null,null,null,null,null,null,null,null,null,null,null,null,null,null,null,null,null,null,null,null,null,null,null,null,null,null,null,null,null,null,null,"",""]
[null,null,711,0,"",0,0,0,0,null,null,"","",null,null,null,null,null,null,null,null,null,null,null,null,null,null,null,null,null,null,null,null,null,null,null,null,null,null,null,null,null,null,null,null,null,null,null,null,null,null,null,null,null,null,null,null,null,null,null,null,null,null,null,null,null,null,null,null,null,null,null,null,null,null,null,null,"",""]
[null,null,714,0,"",0,0,0,0,null,null,"","",null,null,null,null,null,null,null,null,null,null,null,null,null,null,null,null,null,null,null,null,null,null,null,null,null,null,null,null,null,null,null,null,null,null,null,null,null,null,null,null,null,null,null,null,null,null,null,null,null,null,null,null,null,null,null,null,null,null,null,null,null,null,null,null,"",""]
[null,null,715,0,"",0,0,0,0,null,null,"","",null,null,null,null,null,null,null,null,null,null,null,null,null,null,null,null,null,null,null,null,null,null,null,null,null,null,null,null,null,null,null,null,null,null,null,null,null,null,null,null,null,null,null,null,null,null,null,null,null,null,null,null,null,null,null,null,null,null,null,null,null,null,null,null,"",""]
[null,null,717,0,"",0,0,0,0,null,null,"","",null,null,null,null,null,null,null,null,null,null,null,null,null,null,null,null,null,null,null,null,null,null,null,null,null,null,null,null,null,null,null,null,null,null,null,null,null,null,null,null,null,null,null,null,null,null,null,null,null,null,null,null,null,null,null,null,null,null,null,null,null,null,null,null,"",""]
[null,null,718,0,"",0,0,0,0,null,null,"","",null,null,null,null,null,null,null,null,null,null,null,null,null,null,null,null,null,null,null,null,null,null,null,null,null,null,null,null,null,null,null,null,null,null,null,null,null,null,null,null,null,null,null,null,null,null,null,null,null,null,null,null,null,null,null,null,null,null,null,null,null,null,null,null,"",""]
[null,null,721,0,"",0,0,0,0,null,null,"","",null,null,null,null,null,null,null,null,null,null,null,null,null,null,null,null,null,null,null,null,null,null,null,null,null,null,null,null,null,null,null,null,null,null,null,null,null,null,null,null,null,null,null,null,null,null,null,null,null,null,null,null,null,null,null,null,null,null,null,null,null,null,null,null,"",""]
[null,null,722,0,"",0,0,0,0,null,null,"","",null,null,null,null,null,null,null,null,null,null,null,null,null,null,null,null,null,null,null,null,null,null,null,null,null,null,null,null,null,null,null,null,null,null,null,null,null,null,null,null,null,null,null,null,null,null,null,null,null,null,null,null,null,null,null,null,null,null,null,null,null,null,null,null,"",""]
[null,null,725,0,"",0,0,0,0,null,null,"","",null,null,null,null,null,null,null,null,null,null,null,null,null,null,null,null,null,null,null,null,null,null,null,null,null,null,null,null,null,null,null,null,null,null,null,null,null,null,null,null,null,null,null,null,null,null,null,null,null,null,null,null,null,null,null,null,null,null,null,null,null,null,null,null,"",""]
[null,null,726,0,"",0,0,0,0,null,null,"","",null,null,null,null,null,null,null,null,null,null,null,null,null,null,null,null,null,null,null,null,null,null,null,null,null,null,null,null,null,null,null,null,null,null,null,null,null,null,null,null,null,null,null,null,null,null,null,null,null,null,null,null,null,null,null,null,null,null,null,null,null,null,null,null,"",""]
[null,null,728,0,"",0,0,0,0,null,null,"","",null,null,null,null,null,null,null,null,null,null,null,null,null,null,null,null,null,null,null,null,null,null,null,null,null,null,null,null,null,null,null,null,null,null,null,null,null,null,null,null,null,null,null,null,null,null,null,null,null,null,null,null,null,null,null,null,null,null,null,null,null,null,null,null,"",""]
[null,null,729,0,"",0,0,0,0,null,null,"","",null,null,null,null,null,null,null,null,null,null,null,null,null,null,null,null,null,null,null,null,null,null,null,null,null,null,null,null,null,null,null,null,null,null,null,null,null,null,null,null,null,null,null,null,null,null,null,null,null,null,null,null,null,null,null,null,null,null,null,null,null,null,null,null,"",""]
[null,null,732,0,"",0,0,0,0,null,null,"","",null,null,null,null,null,null,null,null,null,null,null,null,null,null,null,null,null,null,null,null,null,null,null,null,null,null,null,null,null,null,null,null,null,null,null,null,null,null,null,null,null,null,null,null,null,null,null,null,null,null,null,null,null,null,null,null,null,null,null,null,null,null,null,null,"",""]
[null,null,733,0,"",0,0,0,0,null,null,"","",null,null,null,null,null,null,null,null,null,null,null,null,null,null,null,null,null,null,null,null,null,null,null,null,null,null,null,null,null,null,null,null,null,null,null,null,null,null,null,null,null,null,null,null,null,null,null,null,null,null,null,null,null,null,null,null,null,null,null,null,null,null,null,null,"",""]
[null,null,735,0,"",0,0,0,0,null,null,"","",null,null,null,null,null,null,null,null,null,null,null,null,null,null,null,null,null,null,null,null,null,null,null,null,null,null,null,null,null,null,null,null,null,null,null,null,null,null,null,null,null,null,null,null,null,null,null,null,null,null,null,null,null,null,null,null,null,null,null,null,null,null,null,null,"",""]
[null,null,736,0,"",0,0,0,0,null,null,"","",null,null,null,null,null,null,null,null,null,null,null,null,null,null,null,null,null,null,null,null,null,null,null,null,null,null,null,null,null,null,null,null,null,null,null,null,null,null,null,null,null,null,null,null,null,null,null,null,null,null,null,null,null,null,null,null,null,null,null,null,null,null,null,null,"",""]
[null,null,739,0,"",0,0,0,0,null,null,"","",null,null,null,null,null,null,null,null,null,null,null,null,null,null,null,null,null,null,null,null,null,null,null,null,null,null,null,null,null,null,null,null,null,null,null,null,null,null,null,null,null,null,null,null,null,null,null,null,null,null,null,null,null,null,null,null,null,null,null,null,null,null,null,null,"",""]
[null,null,740,0,"",0,0,0,0,null,null,"","",null,null,null,null,null,null,null,null,null,null,null,null,null,null,null,null,null,null,null,null,null,null,null,null,null,null,null,null,null,null,null,null,null,null,null,null,null,null,null,null,null,null,null,null,null,null,null,null,null,null,null,null,null,null,null,null,null,null,null,null,null,null,null,null,"",""]
[null,null,743,0,"",0,0,0,0,null,null,"","",null,null,null,null,null,null,null,null,null,null,null,null,null,null,null,null,null,null,null,null,null,null,null,null,null,null,null,null,null,null,null,null,null,null,null,null,null,null,null,null,null,null,null,null,null,null,null,null,null,null,null,null,null,null,null,null,null,null,null,null,null,null,null,null,"",""]
[null,null,744,0,"",0,0,0,0,null,null,"","",null,null,null,null,null,null,null,null,null,null,null,null,null,null,null,null,null,null,null,null,null,null,null,null,null,null,null,null,null,null,null,null,null,null,null,null,null,null,null,null,null,null,null,null,null,null,null,null,null,null,null,null,null,null,null,null,null,null,null,null,null,null,null,null,"",""]
[null,null,746,0,"",0,0,0,0,null,null,"","",null,null,null,null,null,null,null,null,null,null,null,null,null,null,null,null,null,null,null,null,null,null,null,null,null,null,null,null,null,null,null,null,null,null,null,null,null,null,null,null,null,null,null,null,null,null,null,null,null,null,null,null,null,null,null,null,null,null,null,null,null,null,null,null,"",""]
[null,null,747,0,"",0,0,0,0,null,null,"","",null,null,null,null,null,null,null,null,null,null,null,null,null,null,null,null,null,null,null,null,null,null,null,null,null,null,null,null,null,null,null,null,null,null,null,null,null,null,null,null,null,null,null,null,null,null,null,null,null,null,null,null,null,null,null,null,null,null,null,null,null,null,null,null,"",""]
[null,null,750,0,"",0,0,0,0,null,null,"","",null,null,null,null,null,null,null,null,null,null,null,null,null,null,null,null,null,null,null,null,null,null,null,null,null,null,null,null,null,null,null,null,null,null,null,null,null,null,null,null,null,null,null,null,null,null,null,null,null,null,null,null,null,null,null,null,null,null,null,null,null,null,null,null,"",""]
[null,null,751,0,"",0,0,0,0,null,null,"","",null,null,null,null,null,null,null,null,null,null,null,null,null,null,null,null,null,null,null,null,null,null,null,null,null,null,null,null,null,null,null,null,null,null,null,null,null,null,null,null,null,null,null,null,null,null,null,null,null,null,null,null,null,null,null,null,null,null,null,null,null,null,null,null,"",""]
[null,null,753,0,"",0,0,0,0,null,null,"","",null,null,null,null,null,null,null,null,null,null,null,null,null,null,null,null,null,null,null,null,null,null,null,null,null,null,null,null,null,null,null,null,null,null,null,null,null,null,null,null,null,null,null,null,null,null,null,null,null,null,null,null,null,null,null,null,null,null,null,null,null,null,null,null,"",""]
[null,null,754,0,"",0,0,0,0,null,null,"","",null,null,null,null,null,null,null,null,null,null,null,null,null,null,null,null,null,null,null,null,null,null,null,null,null,null,null,null,null,null,null,null,null,null,null,null,null,null,null,null,null,null,null,null,null,null,null,null,null,null,null,null,null,null,null,null,null,null,null,null,null,null,null,null,"",""]
[null,null,757,0,"",0,0,0,{"$f":"IF(L775<>\"\",1,0)","v":0},null,null,"","",null,null,null,null,null,null,null,null,null,null,null,null,null,null,null,null,null,null,null,null,null,null,null,null,null,null,null,null,null,null,null,null,null,null,null,null,null,null,null,null,null,null,null,null,null,null,null,null,null,null,null,null,null,null,null,null,null,null,null,null,null,null,null,null,"",""]
[null,null,758,0,"",0,0,0,0,null,null,"","",null,null,null,null,null,null,null,null,null,null,null,null,null,null,null,null,null,null,null,null,null,null,null,null,null,null,null,null,null,null,null,null,null,null,null,null,null,null,null,null,null,null,null,null,null,null,null,null,null,null,null,null,null,null,null,null,null,null,null,null,null,null,null,null,"",""]
[null,null,761,0,"",0,0,0,0,null,null,"","",null,null,null,null,null,null,null,null,null,null,null,null,null,null,null,null,null,null,null,null,null,null,null,null,null,null,null,null,null,null,null,null,null,null,null,null,null,null,null,null,null,null,null,null,null,null,null,null,null,null,null,null,null,null,null,null,null,null,null,null,null,null,null,null,"",""]
[null,null,762,0,"",0,0,0,0,null,null,"","",null,null,null,null,null,null,null,null,null,null,null,null,null,null,null,null,null,null,null,null,null,null,null,null,null,null,null,null,null,null,null,null,null,null,null,null,null,null,null,null,null,null,null,null,null,null,null,null,null,null,null,null,null,null,null,null,null,null,null,null,null,null,null,null,"",""]
[null,null,764,0,"",0,0,0,0,null,null,"","",null,null,null,null,null,null,null,null,null,null,null,null,null,null,null,null,null,null,null,null,null,null,null,null,null,null,null,null,null,null,null,null,null,null,null,null,null,null,null,null,null,null,null,null,null,null,null,null,null,null,null,null,null,null,null,null,null,null,null,null,null,null,null,null,"",""]
[null,null,765,0,"",0,0,0,0,null,null,"","",null,null,null,null,null,null,null,null,null,null,null,null,null,null,null,null,null,null,null,null,null,null,null,null,null,null,null,null,null,null,null,null,null,null,null,null,null,null,null,null,null,null,null,null,null,null,null,null,null,null,null,null,null,null,null,null,null,null,null,null,null,null,null,null,"",""]
[null,null,768,0,"",0,0,0,0,null,null,"","",null,null,null,null,null,null,null,null,null,null,null,null,null,null,null,null,null,null,null,null,null,null,null,null,null,null,null,null,null,null,null,null,null,null,null,null,null,null,null,null,null,null,null,null,null,null,null,null,null,null,null,null,null,null,null,null,null,null,null,null,null,null,null,null,"",""]
[null,null,769,{"$f":"IF(AND(LEFT(T787,2)=\"01\",LEFT(Z787,2)=\"01\",LEFT(AA787,2)=\"01\",E787=1),1,0)","v":0},"",0,0,0,0,null,null,"",{"$f":"IF(ISERROR(VLOOKUP(N787,Locales,2,FALSE)),\"\",VLOOKUP(N787,Locales,2,FALSE))","v":""},null,null,null,null,null,null,null,null,null,null,null,null,null,null,null,null,null,null,null,null,null,null,null,null,null,null,null,null,null,null,null,null,null,null,null,null,null,null,null,null,null,null,null,null,null,null,null,null,null,null,null,null,null,null,null,null,null,null,null,null,null,null,null,null,"",""]
[null,null,771,0,"",0,0,0,0,null,null,{"$f":"IF(C789<=$B$5,C789,\"\")","v":""},"",null,null,null,null,null,null,null,null,null,null,null,null,null,null,null,null,null,null,null,null,null,null,null,null,null,null,null,null,null,null,null,null,null,null,null,null,null,null,null,null,null,null,null,null,null,null,null,null,null,null,null,null,null,null,null,null,null,null,null,null,null,null,null,null,"",""]
[null,null,772,0,"",0,0,0,0,null,null,"","",null,null,null,null,null,null,null,null,null,null,null,null,null,null,null,null,null,null,null,null,null,null,null,null,null,null,null,null,null,null,null,null,null,null,null,null,null,null,null,null,null,null,null,null,null,null,null,null,null,null,null,null,null,null,null,null,null,null,null,null,null,null,null,null,"",""]
[null,null,775,0,"",0,0,0,0,null,null,"","",null,null,null,null,null,null,null,null,null,null,null,null,null,null,null,null,null,null,null,null,null,null,null,null,null,null,null,null,null,null,null,null,null,null,null,null,null,null,null,null,null,null,null,null,null,null,null,null,null,null,null,null,null,null,null,null,null,null,null,null,null,null,null,null,"",""]
[null,null,776,0,"",0,0,0,0,null,null,"","",null,null,null,null,null,null,null,null,null,null,null,null,null,null,null,null,null,null,null,null,null,null,null,null,null,null,null,null,null,null,null,null,null,null,null,null,null,null,null,null,null,null,null,null,null,null,null,null,null,null,null,null,null,null,null,null,null,null,null,null,null,null,null,null,"",""]
[null,null,779,0,"",0,0,0,0,null,null,"","",null,null,null,null,null,null,null,null,null,null,null,null,null,null,null,null,null,null,null,null,null,null,null,null,null,null,null,null,null,null,null,null,null,null,null,null,null,null,null,null,null,null,null,null,null,null,null,null,null,null,null,null,null,null,null,null,null,null,null,null,null,null,null,null,"",""]
[null,null,780,0,"",0,0,0,0,null,null,"","",null,null,null,null,null,null,null,null,null,null,null,null,null,null,null,null,null,null,null,null,null,null,null,null,null,null,null,null,null,null,null,null,null,null,null,null,null,null,null,null,null,null,null,null,null,null,null,null,null,null,null,null,null,null,null,null,null,null,null,null,null,null,null,null,"",""]
[null,null,782,0,"",0,0,0,0,null,null,"","",null,null,null,null,null,null,null,null,null,null,null,null,null,null,null,null,null,null,null,null,null,null,null,null,null,null,null,null,null,null,null,null,null,null,null,null,null,null,null,null,null,null,null,null,null,null,null,null,null,null,null,null,null,null,null,null,null,null,null,null,null,null,null,null,"",""]
[null,null,783,0,"",0,0,0,0,null,null,"","",null,null,null,null,null,null,null,null,null,null,null,null,null,null,null,null,null,null,null,null,null,null,null,null,null,null,null,null,null,null,null,null,null,null,null,null,null,null,null,null,null,null,null,null,null,null,null,null,null,null,null,null,null,null,null,null,null,null,null,null,null,null,null,null,"",""]
[null,null,786,0,"",0,0,0,0,null,null,"","",null,null,null,null,null,null,null,null,null,null,null,null,null,null,null,null,null,null,null,null,null,null,null,null,null,null,null,null,null,null,null,null,null,null,null,null,null,null,null,null,null,null,null,null,null,null,null,null,null,null,null,null,null,null,null,null,null,null,null,null,null,null,null,null,"",""]
[null,null,787,0,"",0,0,0,0,null,null,"","",null,null,null,null,null,null,null,null,null,null,null,null,null,null,null,null,null,null,null,null,null,null,null,null,null,null,null,null,null,null,null,null,null,null,null,null,null,null,null,null,null,null,null,null,null,null,null,null,null,null,null,null,null,null,null,null,null,null,null,null,null,null,null,null,"",""]
[null,null,789,0,"",0,0,0,0,null,null,"","",null,null,null,null,null,null,null,null,null,null,null,null,null,null,null,null,null,null,null,null,null,null,null,null,null,null,null,null,null,null,null,null,null,null,null,null,null,null,null,null,null,null,null,null,null,null,null,null,null,null,null,null,null,null,null,null,null,null,null,null,null,null,null,null,"",""]
[null,null,790,0,"",0,0,0,0,null,null,"","",null,null,null,null,null,null,null,null,null,null,null,null,null,null,null,null,null,null,null,null,null,null,null,null,null,null,null,null,null,null,null,null,null,null,null,null,null,null,null,null,null,null,null,null,null,null,null,null,null,null,null,null,null,null,null,null,null,null,null,null,null,null,null,null,"",""]
[null,null,793,0,"",0,0,0,0,null,null,"","",null,null,null,null,null,null,null,null,null,null,null,null,null,null,null,null,null,null,null,null,null,null,null,null,null,null,null,null,null,null,null,null,null,null,null,null,null,null,null,null,null,null,null,null,null,null,null,null,null,null,null,null,null,null,null,null,null,null,null,null,null,null,null,null,"",""]
[null,null,794,0,"",0,0,0,0,null,null,"","",null,null,null,null,null,null,null,null,null,null,null,null,null,null,null,null,null,null,null,null,null,null,null,null,null,null,null,null,null,null,null,null,null,null,null,null,null,null,null,null,null,null,null,null,null,null,null,null,null,null,null,null,null,null,null,null,null,null,null,null,null,null,null,null,"",""]
[null,null,797,0,"",0,0,0,0,null,null,"","",null,null,null,null,null,null,null,null,null,null,null,null,null,null,null,null,null,null,null,null,null,null,null,null,null,null,null,null,null,null,null,null,null,null,null,null,null,null,null,null,null,null,null,null,null,null,null,null,null,null,null,null,null,null,null,null,null,null,null,null,null,null,null,null,"",""]
[null,null,798,0,"",0,0,0,0,null,null,"","",null,null,null,null,null,null,null,null,null,null,null,null,null,null,null,null,null,null,null,null,null,null,null,null,null,null,null,null,null,null,null,null,null,null,null,null,null,null,null,null,null,null,null,null,null,null,null,null,null,null,null,null,null,null,null,null,null,null,null,null,null,null,null,null,"",""]
[null,null,800,0,"",0,0,0,0,null,null,"","",null,null,null,null,null,null,null,null,null,null,null,null,null,null,null,null,null,null,null,null,null,null,null,null,null,null,null,null,null,null,null,null,null,null,null,null,null,null,null,null,null,null,null,null,null,null,null,null,null,null,null,null,null,null,null,null,null,null,null,null,null,null,null,null,"",""]
[null,null,801,0,"",0,0,0,0,null,null,"","",null,null,null,null,null,null,null,null,null,null,null,null,null,null,null,null,null,null,null,null,null,null,null,null,null,null,null,null,null,null,null,null,null,null,null,null,null,null,null,null,null,null,null,null,null,null,null,null,null,null,null,null,null,null,null,null,null,null,null,null,null,null,null,null,"",""]
[null,null,804,0,"",0,0,0,0,null,null,"","",null,null,null,null,null,null,null,null,null,null,null,null,null,null,null,null,null,null,null,null,null,null,null,null,null,null,null,null,null,null,null,null,null,null,null,null,null,null,null,null,null,null,null,null,null,null,null,null,null,null,null,null,null,null,null,null,null,null,null,null,null,null,null,null,"",""]
[null,null,805,0,"",0,0,0,0,null,null,"","",null,null,null,null,null,null,null,null,null,null,null,null,null,null,null,null,null,null,null,null,null,null,null,null,null,null,null,null,null,null,null,null,null,null,null,null,null,null,null,null,null,null,null,null,null,null,null,null,null,null,null,null,null,null,null,null,null,null,null,null,null,null,null,null,"",""]
[null,null,807,0,"",0,0,0,0,null,null,"","",null,null,null,null,null,null,null,null,null,null,null,null,null,null,null,null,null,null,null,null,null,null,null,null,null,null,null,null,null,null,null,null,null,null,null,null,null,null,null,null,null,null,null,null,null,null,null,null,null,null,null,null,null,null,null,null,null,null,null,null,null,null,null,null,"",""]
[null,null,808,0,"",0,0,0,0,null,null,"","",null,null,null,null,null,null,null,null,null,null,null,null,null,null,null,null,null,null,null,null,null,null,null,null,null,null,null,null,null,null,null,null,null,null,null,null,null,null,null,null,null,null,null,null,null,null,null,null,null,null,null,null,null,null,null,null,null,null,null,null,null,null,null,null,"",""]
[null,null,811,0,"",0,0,0,0,null,null,"","",null,null,null,null,null,null,null,null,null,null,null,null,null,null,null,null,null,null,null,null,null,null,null,null,null,null,null,null,null,null,null,null,null,null,null,null,null,null,null,null,null,null,null,null,null,null,null,null,null,null,null,null,null,null,null,null,null,null,null,null,null,null,null,null,"",""]
[null,null,812,0,"",0,0,0,0,null,null,"","",null,null,null,null,null,null,null,null,null,null,null,null,null,null,null,null,null,null,null,null,null,null,null,null,null,null,null,null,null,null,null,null,null,null,null,null,null,null,null,null,null,null,null,null,null,null,null,null,null,null,null,null,null,null,null,null,null,null,null,null,null,null,null,null,"",""]
[null,null,815,0,"",0,0,0,0,null,null,"","",null,null,null,null,null,null,null,null,null,null,null,null,null,null,null,null,null,null,null,null,null,null,null,null,null,null,null,null,null,null,null,null,null,null,null,null,null,null,null,null,null,null,null,null,null,null,null,null,null,null,null,null,null,null,null,null,null,null,null,null,null,null,null,null,"",""]
[null,null,816,0,"",0,0,0,0,null,null,"","",null,null,null,null,null,null,null,null,null,null,null,null,null,null,null,null,null,null,null,null,null,null,null,null,null,null,null,null,null,null,null,null,null,null,null,null,null,null,null,null,null,null,null,null,null,null,null,null,null,null,null,null,null,null,null,null,null,null,null,null,null,null,null,null,"",""]
[null,null,818,0,"",0,0,0,0,null,null,"","",null,null,null,null,null,null,null,null,null,null,null,null,null,null,null,null,null,null,null,null,null,null,null,null,null,null,null,null,null,null,null,null,null,null,null,null,null,null,null,null,null,null,null,null,null,null,null,null,null,null,null,null,null,null,null,null,null,null,null,null,null,null,null,null,"",""]
[null,null,819,0,"",0,0,0,0,null,null,"","",null,null,null,null,null,null,null,null,null,null,null,null,null,null,null,null,null,null,null,null,null,null,null,null,null,null,null,null,null,null,null,null,null,null,null,null,null,null,null,null,null,null,null,null,null,null,null,null,null,null,null,null,null,null,null,null,null,null,null,null,null,null,null,null,"",""]
[null,null,822,0,"",0,0,0,0,null,null,"","",null,null,null,null,null,null,null,null,null,null,null,null,null,null,null,null,null,null,null,null,null,null,null,null,null,null,null,null,null,null,null,null,null,null,null,null,null,null,null,null,null,null,null,null,null,null,null,null,null,null,null,null,null,null,null,null,null,null,null,null,null,null,null,null,"",""]
[null,null,823,0,"",0,0,0,0,null,null,"","",null,null,null,null,null,null,null,null,null,null,null,null,null,null,null,null,null,null,null,null,null,null,null,null,null,null,null,null,null,null,null,null,null,null,null,null,null,null,null,null,null,null,null,null,null,null,null,null,null,null,null,null,null,null,null,null,null,null,null,null,null,null,null,null,"",""]
[null,null,825,0,"",0,0,0,0,null,null,"","",null,null,null,null,null,null,null,null,null,null,null,null,null,null,null,null,null,null,null,null,null,null,null,null,null,null,null,null,null,null,null,null,null,null,null,null,null,null,null,null,null,null,null,null,null,null,null,null,null,null,null,null,null,null,null,null,null,null,null,null,null,null,null,null,"",""]
[null,null,826,0,"",0,0,0,0,null,null,"","",null,null,null,null,null,null,null,null,null,null,null,null,null,null,null,null,null,null,null,null,null,null,null,null,null,null,null,null,null,null,null,null,null,null,null,null,null,null,null,null,null,null,null,null,null,null,null,null,null,null,null,null,null,null,null,null,null,null,null,null,null,null,null,null,"",""]
[null,null,829,0,"",0,0,0,0,null,null,"","",null,null,null,null,null,null,null,null,null,null,null,null,null,null,null,null,null,null,null,null,null,null,null,null,null,null,null,null,null,null,null,null,null,null,null,null,null,null,null,null,null,null,null,null,null,null,null,null,null,null,null,null,null,null,null,null,null,null,null,null,null,null,null,null,"",""]
[null,null,830,0,"",0,0,0,0,null,null,"","",null,null,null,null,null,null,null,null,null,null,null,null,null,null,null,null,null,null,null,null,null,null,null,null,null,null,null,null,null,null,null,null,null,null,null,null,null,null,null,null,null,null,null,null,null,null,null,null,null,null,null,null,null,null,null,null,null,null,null,null,null,null,null,null,"",""]
[null,null,833,{"$f":"IF(AND(LEFT(T851,2)=\"01\",LEFT(Z851,2)=\"01\",LEFT(AA851,2)=\"01\",E851=1),1,0)","v":0},"",0,0,0,0,null,null,"",{"$f":"IF(ISERROR(VLOOKUP(N851,Locales,2,FALSE)),\"\",VLOOKUP(N851,Locales,2,FALSE))","v":""},null,null,null,null,null,null,null,null,null,null,null,null,null,null,null,null,null,null,null,null,null,null,null,null,null,null,null,null,null,null,null,null,null,null,null,null,null,null,null,null,null,null,null,null,null,null,null,null,null,null,null,null,null,null,null,null,null,null,null,null,null,null,null,null,"",""]
[null,null,834,0,{"$f":"$B$16","v":""},{"$f":"COUNTIF(AR852:BA852,\"X\")","v":0},{"$f":"IF(T852<>\"\",VALUE(LEFT(T852,2)),0)","v":0},{"$f":"IF(S852<>\"\",COUNTIF($S$19:$S$1523,S852),0)","v":0},0,null,null,"","",null,null,null,null,null,null,null,null,null,null,null,null,null,null,null,null,null,null,null,null,null,null,null,null,null,null,null,null,null,null,null,null,null,null,null,null,null,null,null,null,null,null,null,null,null,null,null,null,null,null,null,null,null,null,null,null,null,null,null,null,null,null,null,null,{"$f":"IF($AC852<>\"\",IF(OR(LEFT($AC852,2)=\"01\",LEFT($AC852,2)=\"02\",LEFT($AC852,2)=\"04\",LEFT($AC852,2)=\"05\"),1,0),\"\")","v":""},""]
[null,null,836,0,"",0,0,0,0,null,null,"","",null,null,null,null,null,null,null,null,null,null,null,null,null,null,null,null,null,null,null,null,null,null,null,null,null,null,null,null,null,null,null,null,null,null,null,null,null,null,null,null,null,null,null,null,null,null,null,null,null,null,null,null,null,null,null,null,null,null,null,null,null,null,null,null,"",""]
[null,null,837,0,"",0,0,0,0,null,null,"","",null,null,null,null,null,null,null,null,null,null,null,null,null,null,null,null,null,null,null,null,null,null,null,null,null,null,null,null,null,null,null,null,null,null,null,null,null,null,null,null,null,null,null,null,null,null,null,null,null,null,null,null,null,null,null,null,null,null,null,null,null,null,null,null,"",""]
[null,null,840,0,"",0,0,0,0,null,null,"","",null,null,null,null,null,null,null,null,null,null,null,null,null,null,null,null,null,null,null,null,null,null,null,null,null,null,null,null,null,null,null,null,null,null,null,null,null,null,null,null,null,null,null,null,null,null,null,null,null,null,null,null,null,null,null,null,null,null,null,null,null,null,null,null,"",""]
[null,null,841,0,"",0,0,0,0,null,null,"","",null,null,null,null,null,null,null,null,null,null,null,null,null,null,null,null,null,null,null,null,null,null,null,null,null,null,null,null,null,null,null,null,null,null,null,null,null,null,null,null,null,null,null,null,null,null,null,null,null,null,null,null,null,null,null,null,null,null,null,null,null,null,null,null,"",""]
[null,null,843,0,"",0,0,0,0,null,null,"","",null,null,null,null,null,null,null,null,null,null,null,null,null,null,null,null,null,null,null,null,null,null,null,null,null,null,null,null,null,null,null,null,null,null,null,null,null,null,null,null,null,null,null,null,null,null,null,null,null,null,null,null,null,null,null,null,null,null,null,null,null,null,null,null,"",""]
[null,null,844,0,"",0,0,0,0,null,null,"","",null,null,null,null,null,null,null,null,null,null,null,null,null,null,null,null,null,null,null,null,null,null,null,null,null,null,null,null,null,null,null,null,null,null,null,null,null,null,null,null,null,null,null,null,null,null,null,null,null,null,null,null,null,null,null,null,null,null,null,null,null,null,null,null,"",""]
[null,null,847,0,"",0,0,0,0,null,null,"","",null,null,null,null,null,null,null,null,null,null,null,null,null,null,null,null,null,null,null,null,null,null,null,null,null,null,null,null,null,null,null,null,null,null,null,null,null,null,null,null,null,null,null,null,null,null,null,null,null,null,null,null,null,null,null,null,null,null,null,null,null,null,null,null,"",""]
[null,null,848,0,"",0,0,0,0,null,null,"","",null,null,null,null,null,null,null,null,null,null,null,null,null,null,null,null,null,null,null,null,null,null,null,null,null,null,null,null,null,null,null,null,null,null,null,null,null,null,null,null,null,null,null,null,null,null,null,null,null,null,null,null,null,null,null,null,null,null,null,null,null,null,null,null,"",""]
[null,null,851,0,"",0,0,0,0,null,null,"","",null,null,null,null,null,null,null,null,null,null,null,null,null,null,null,null,null,null,null,null,null,null,null,null,null,null,null,null,null,null,null,null,null,null,null,null,null,null,null,null,null,null,null,null,null,null,null,null,null,null,null,null,null,null,null,null,null,null,null,null,null,null,null,null,"",""]
[null,null,852,0,"",0,0,0,0,null,null,"","",null,null,null,null,null,null,null,null,null,null,null,null,null,null,null,null,null,null,null,null,null,null,null,null,null,null,null,null,null,null,null,null,null,null,null,null,null,null,null,null,null,null,null,null,null,null,null,null,null,null,null,null,null,null,null,null,null,null,null,null,null,null,null,null,"",""]
[null,null,854,0,"",0,0,0,0,null,null,"","",null,null,null,null,null,null,null,null,null,null,null,null,null,null,null,null,null,null,null,null,null,null,null,null,null,null,null,null,null,null,null,null,null,null,null,null,null,null,null,null,null,null,null,null,null,null,null,null,null,null,null,null,null,null,null,null,null,null,null,null,null,null,null,null,"",""]
[null,null,855,0,"",0,0,0,0,null,null,"","",null,null,null,null,null,null,null,null,null,null,null,null,null,null,null,null,null,null,null,null,null,null,null,null,null,null,null,null,null,null,null,null,null,null,null,null,null,null,null,null,null,null,null,null,null,null,null,null,null,null,null,null,null,null,null,null,null,null,null,null,null,null,null,null,"",""]
[null,null,858,0,"",0,0,0,0,null,null,"","",null,null,null,null,null,null,null,null,null,null,null,null,null,null,null,null,null,null,null,null,null,null,null,null,null,null,null,null,null,null,null,null,null,null,null,null,null,null,null,null,null,null,null,null,null,null,null,null,null,null,null,null,null,null,null,null,null,null,null,null,null,null,null,null,"",""]
[null,null,859,0,"",0,0,0,0,null,null,"","",null,null,null,null,null,null,null,null,null,null,null,null,null,null,null,null,null,null,null,null,null,null,null,null,null,null,null,null,null,null,null,null,null,null,null,null,null,null,null,null,null,null,null,null,null,null,null,null,null,null,null,null,null,null,null,null,null,null,null,null,null,null,null,null,"",""]
[null,null,861,0,"",0,0,0,0,null,null,"","",null,null,null,null,null,null,null,null,null,null,null,null,null,null,null,null,null,null,null,null,null,null,null,null,null,null,null,null,null,null,null,null,null,null,null,null,null,null,null,null,null,null,null,null,null,null,null,null,null,null,null,null,null,null,null,null,null,null,null,null,null,null,null,null,"",""]
[null,null,862,0,"",0,0,0,0,null,null,"","",null,null,null,null,null,null,null,null,null,null,null,null,null,null,null,null,null,null,null,null,null,null,null,null,null,null,null,null,null,null,null,null,null,null,null,null,null,null,null,null,null,null,null,null,null,null,null,null,null,null,null,null,null,null,null,null,null,null,null,null,null,null,null,null,"",""]
[null,null,865,0,"",0,0,0,0,null,null,"","",null,null,null,null,null,null,null,null,null,null,null,null,null,null,null,null,null,null,null,null,null,null,null,null,null,null,null,null,null,null,null,null,null,null,null,null,null,null,null,null,null,null,null,null,null,null,null,null,null,null,null,null,null,null,null,null,null,null,null,null,null,null,null,null,"",""]
[null,null,866,0,"",0,0,0,0,null,null,"","",null,null,null,null,null,null,null,null,null,null,null,null,null,null,null,null,null,null,null,null,null,null,null,null,null,null,null,null,null,null,null,null,null,null,null,null,null,null,null,null,null,null,null,null,null,null,null,null,null,null,null,null,null,null,null,null,null,null,null,null,null,null,null,null,"",""]
[null,null,869,0,"",0,0,0,0,null,null,"","",null,null,null,null,null,null,null,null,null,null,null,null,null,null,null,null,null,null,null,null,null,null,null,null,null,null,null,null,null,null,null,null,null,null,null,null,null,null,null,null,null,null,null,null,null,null,null,null,null,null,null,null,null,null,null,null,null,null,null,null,null,null,null,null,"",""]
[null,null,870,0,"",0,0,0,0,null,null,"","",null,null,null,null,null,null,null,null,null,null,null,null,null,null,null,null,null,null,null,null,null,null,null,null,null,null,null,null,null,null,null,null,null,null,null,null,null,null,null,null,null,null,null,null,null,null,null,null,null,null,null,null,null,null,null,null,null,null,null,null,null,null,null,null,"",""]
[null,null,872,0,"",0,0,0,0,null,null,"","",null,null,null,null,null,null,null,null,null,null,null,null,null,null,null,null,null,null,null,null,null,null,null,null,null,null,null,null,null,null,null,null,null,null,null,null,null,null,null,null,null,null,null,null,null,null,null,null,null,null,null,null,null,null,null,null,null,null,null,null,null,null,null,null,"",""]
[null,null,873,0,"",0,0,0,0,null,null,"","",null,null,null,null,null,null,null,null,null,null,null,null,null,null,null,null,null,null,null,null,null,null,null,null,null,null,null,null,null,null,null,null,null,null,null,null,null,null,null,null,null,null,null,null,null,null,null,null,null,null,null,null,null,null,null,null,null,null,null,null,null,null,null,null,"",""]
[null,null,876,0,"",0,0,0,0,null,null,"","",null,null,null,null,null,null,null,null,null,null,null,null,null,null,null,null,null,null,null,null,null,null,null,null,null,null,null,null,null,null,null,null,null,null,null,null,null,null,null,null,null,null,null,null,null,null,null,null,null,null,null,null,null,null,null,null,null,null,null,null,null,null,null,null,"",""]
[null,null,877,0,"",0,0,0,0,null,null,"","",null,null,null,null,null,null,null,null,null,null,null,null,null,null,null,null,null,null,null,null,null,null,null,null,null,null,null,null,null,null,null,null,null,null,null,null,null,null,null,null,null,null,null,null,null,null,null,null,null,null,null,null,null,null,null,null,null,null,null,null,null,null,null,null,"",""]
[null,null,879,0,"",0,0,0,0,null,null,"","",null,null,null,null,null,null,null,null,null,null,null,null,null,null,null,null,null,null,null,null,null,null,null,null,null,null,null,null,null,null,null,null,null,null,null,null,null,null,null,null,null,null,null,null,null,null,null,null,null,null,null,null,null,null,null,null,null,null,null,null,null,null,null,null,"",""]
[null,null,880,0,"",0,0,0,0,null,null,"","",null,null,null,null,null,null,null,null,null,null,null,null,null,null,null,null,null,null,null,null,null,null,null,null,null,null,null,null,null,null,null,null,null,null,null,null,null,null,null,null,null,null,null,null,null,null,null,null,null,null,null,null,null,null,null,null,null,null,null,null,null,null,null,null,"",""]
[null,null,883,0,"",0,0,0,0,null,null,"","",null,null,null,null,null,null,null,null,null,null,null,null,null,null,null,null,null,null,null,null,null,null,null,null,null,null,null,null,null,null,null,null,null,null,null,null,null,null,null,null,null,null,null,null,null,null,null,null,null,null,null,null,null,null,null,null,null,null,null,null,null,null,null,null,"",""]
[null,null,884,0,"",0,0,0,0,null,null,"","",null,null,null,null,null,null,null,null,null,null,null,null,null,null,null,null,null,null,null,null,null,null,null,null,null,null,null,null,null,null,null,null,null,null,null,null,null,null,null,null,null,null,null,null,null,null,null,null,null,null,null,null,null,null,null,null,null,null,null,null,null,null,null,null,"",""]
[null,null,887,0,"",0,0,0,0,null,null,"","",null,null,null,null,null,null,null,null,null,null,null,null,null,null,null,null,null,null,null,null,null,null,null,null,null,null,null,null,null,null,null,null,null,null,null,null,null,null,null,null,null,null,null,null,null,null,null,null,null,null,null,null,null,null,null,null,null,null,null,null,null,null,null,null,"",""]
[null,null,888,0,"",0,0,0,0,null,null,"","",null,null,null,null,null,null,null,null,null,null,null,null,null,null,null,null,null,null,null,null,null,null,null,null,null,null,null,null,null,null,null,null,null,null,null,null,null,null,null,null,null,null,null,null,null,null,null,null,null,null,null,null,null,null,null,null,null,null,null,null,null,null,null,null,"",""]
[null,null,890,0,"",0,0,0,0,null,null,"","",null,null,null,null,null,null,null,null,null,null,null,null,null,null,null,null,null,null,null,null,null,null,null,null,null,null,null,null,null,null,null,null,null,null,null,null,null,null,null,null,null,null,null,null,null,null,null,null,null,null,null,null,null,null,null,null,null,null,null,null,null,null,null,null,"",""]
[null,null,891,0,"",0,0,0,0,null,null,"","",null,null,null,null,null,null,null,null,null,null,null,null,null,null,null,null,null,null,null,null,null,null,null,null,null,null,null,null,null,null,null,null,null,null,null,null,null,null,null,null,null,null,null,null,null,null,null,null,null,null,null,null,null,null,null,null,null,null,null,null,null,null,null,null,"",""]
[null,null,894,0,"",0,0,0,0,null,null,"","",null,null,null,null,null,null,null,null,null,null,null,null,null,null,null,null,null,null,null,null,null,null,null,null,null,null,null,null,null,null,null,null,null,null,null,null,null,null,null,null,null,null,null,null,null,null,null,null,null,null,null,null,null,null,null,null,null,null,null,null,null,null,null,null,"",""]
[null,null,895,0,"",0,0,0,0,null,null,"","",null,null,null,null,null,null,null,null,null,null,null,null,null,null,null,null,null,null,null,null,null,null,null,null,null,null,null,null,null,null,null,null,null,null,null,null,null,null,null,null,null,null,null,null,null,null,null,null,null,null,null,null,null,null,null,null,null,null,null,null,null,null,null,null,"",""]
[null,null,897,{"$f":"IF(AND(LEFT(T915,2)=\"01\",LEFT(Z915,2)=\"01\",LEFT(AA915,2)=\"01\",E915=1),1,0)","v":0},"",0,0,0,0,null,null,"",{"$f":"IF(ISERROR(VLOOKUP(N915,Locales,2,FALSE)),\"\",VLOOKUP(N915,Locales,2,FALSE))","v":""},null,null,null,null,null,null,null,null,null,null,null,null,null,null,null,null,null,null,null,null,null,null,null,null,null,null,null,null,null,null,null,null,null,null,null,null,null,null,null,null,null,null,null,null,null,null,null,null,null,null,null,null,null,null,null,null,null,null,null,null,null,null,null,null,"",""]
[null,null,898,0,{"$f":"$B$16","v":""},{"$f":"COUNTIF(AR916:BA916,\"X\")","v":0},{"$f":"IF(T916<>\"\",VALUE(LEFT(T916,2)),0)","v":0},{"$f":"IF(S916<>\"\",COUNTIF($S$19:$S$1523,S916),0)","v":0},0,null,null,"","",null,null,null,null,null,null,null,null,null,null,null,null,null,null,null,null,null,null,null,null,null,null,null,null,null,null,null,null,null,null,null,null,null,null,null,null,null,null,null,null,null,null,null,null,null,null,null,null,null,null,null,null,null,null,null,null,null,null,null,null,null,null,null,null,{"$f":"IF($AC916<>\"\",IF(OR(LEFT($AC916,2)=\"01\",LEFT($AC916,2)=\"02\",LEFT($AC916,2)=\"04\",LEFT($AC916,2)=\"05\"),1,0),\"\")","v":""},""]
[null,null,901,0,"",0,0,0,0,null,null,"","",null,null,null,null,null,null,null,null,null,null,null,null,null,null,null,null,null,null,null,null,null,null,null,null,null,null,null,null,null,null,null,null,null,null,null,null,null,null,null,null,null,null,null,null,null,null,null,null,null,null,null,null,null,null,null,null,null,null,null,null,null,null,null,null,"",""]
[null,null,902,0,"",0,0,0,0,null,null,"","",null,null,null,null,null,null,null,null,null,null,null,null,null,null,null,null,null,null,null,null,null,null,null,null,null,null,null,null,null,null,null,null,null,null,null,null,null,null,null,null,null,null,null,null,null,null,null,null,null,null,null,null,null,null,null,null,null,null,null,null,null,null,null,null,"",""]
[null,null,905,0,"",0,0,0,0,null,null,"","",null,null,null,null,null,null,null,null,null,null,null,null,null,null,null,null,null,null,null,null,null,null,null,null,null,null,null,null,null,null,null,null,null,null,null,null,null,null,null,null,null,null,null,null,null,null,null,null,null,null,null,null,null,null,null,null,null,null,null,null,null,null,null,null,"",""]
[null,null,906,0,"",0,0,0,0,null,null,"","",null,null,null,null,null,null,null,null,null,null,null,null,null,null,null,null,null,null,null,null,null,null,null,null,null,null,null,null,null,null,null,null,null,null,null,null,null,null,null,null,null,null,null,null,null,null,null,null,null,null,null,null,null,null,null,null,null,null,null,null,null,null,null,null,"",""]
[null,null,908,0,"",0,0,0,0,null,null,"","",null,null,null,null,null,null,null,null,null,null,null,null,null,null,null,null,null,null,null,null,null,null,null,null,null,null,null,null,null,null,null,null,null,null,null,null,null,null,null,null,null,null,null,null,null,null,null,null,null,null,null,null,null,null,null,null,null,null,null,null,null,null,null,null,"",""]
[null,null,909,0,"",0,0,0,0,null,null,"","",null,null,null,null,null,null,null,null,null,null,null,null,null,null,null,null,null,null,null,null,null,null,null,null,null,null,null,null,null,null,null,null,null,null,null,null,null,null,null,null,null,null,null,null,null,null,null,null,null,null,null,null,null,null,null,null,null,null,null,null,null,null,null,null,"",""]
[null,null,912,0,"",0,0,0,0,null,null,"","",null,null,null,null,null,null,null,null,null,null,null,null,null,null,null,null,null,null,null,null,null,null,null,null,null,null,null,null,null,null,null,null,null,null,null,null,null,null,null,null,null,null,null,null,null,null,null,null,null,null,null,null,null,null,null,null,null,null,null,null,null,null,null,null,"",""]
[null,null,913,0,"",0,0,0,0,null,null,"","",null,null,null,null,null,null,null,null,null,null,null,null,null,null,null,null,null,null,null,null,null,null,null,null,null,null,null,null,null,null,null,null,null,null,null,null,null,null,null,null,null,null,null,null,null,null,null,null,null,null,null,null,null,null,null,null,null,null,null,null,null,null,null,null,"",""]
[null,null,915,0,"",0,0,0,0,null,null,"","",null,null,null,null,null,null,null,null,null,null,null,null,null,null,null,null,null,null,null,null,null,null,null,null,null,null,null,null,null,null,null,null,null,null,null,null,null,null,null,null,null,null,null,null,null,null,null,null,null,null,null,null,null,null,null,null,null,null,null,null,null,null,null,null,"",""]
[null,null,916,0,"",0,0,0,0,null,null,"","",null,null,null,null,null,null,null,null,null,null,null,null,null,null,null,null,null,null,null,null,null,null,null,null,null,null,null,null,null,null,null,null,null,null,null,null,null,null,null,null,null,null,null,null,null,null,null,null,null,null,null,null,null,null,null,null,null,null,null,null,null,null,null,null,"",""]
[null,null,919,0,"",0,0,0,0,null,null,"","",null,null,null,null,null,null,null,null,null,null,null,null,null,null,null,null,null,null,null,null,null,null,null,null,null,null,null,null,null,null,null,null,null,null,null,null,null,null,null,null,null,null,null,null,null,null,null,null,null,null,null,null,null,null,null,null,null,null,null,null,null,null,null,null,"",""]
[null,null,920,0,"",0,0,0,0,null,null,"","",null,null,null,null,null,null,null,null,null,null,null,null,null,null,null,null,null,null,null,null,null,null,null,null,null,null,null,null,null,null,null,null,null,null,null,null,null,null,null,null,null,null,null,null,null,null,null,null,null,null,null,null,null,null,null,null,null,null,null,null,null,null,null,null,"",""]
[null,null,923,0,"",0,0,0,0,null,null,"","",null,null,null,null,null,null,null,null,null,null,null,null,null,null,null,null,null,null,null,null,null,null,null,null,null,null,null,null,null,null,null,null,null,null,null,null,null,null,null,null,null,null,null,null,null,null,null,null,null,null,null,null,null,null,null,null,null,null,null,null,null,null,null,null,"",""]
[null,null,924,0,"",0,0,0,0,null,null,"","",null,null,null,null,null,null,null,null,null,null,null,null,null,null,null,null,null,null,null,null,null,null,null,null,null,null,null,null,null,null,null,null,null,null,null,null,null,null,null,null,null,null,null,null,null,null,null,null,null,null,null,null,null,null,null,null,null,null,null,null,null,null,null,null,"",""]
[null,null,926,0,"",0,0,0,0,null,null,"","",null,null,null,null,null,null,null,null,null,null,null,null,null,null,null,null,null,null,null,null,null,null,null,null,null,null,null,null,null,null,null,null,null,null,null,null,null,null,null,null,null,null,null,null,null,null,null,null,null,null,null,null,null,null,null,null,null,null,null,null,null,null,null,null,"",""]
[null,null,927,0,"",0,0,0,0,null,null,"","",null,null,null,null,null,null,null,null,null,null,null,null,null,null,null,null,null,null,null,null,null,null,null,null,null,null,null,null,null,null,null,null,null,null,null,null,null,null,null,null,null,null,null,null,null,null,null,null,null,null,null,null,null,null,null,null,null,null,null,null,null,null,null,null,"",""]
[null,null,930,0,"",0,0,0,0,null,null,"","",null,null,null,null,null,null,null,null,null,null,null,null,null,null,null,null,null,null,null,null,null,null,null,null,null,null,null,null,null,null,null,null,null,null,null,null,null,null,null,null,null,null,null,null,null,null,null,null,null,null,null,null,null,null,null,null,null,null,null,null,null,null,null,null,"",""]
[null,null,931,0,"",0,0,0,0,null,null,"","",null,null,null,null,null,null,null,null,null,null,null,null,null,null,null,null,null,null,null,null,null,null,null,null,null,null,null,null,null,null,null,null,null,null,null,null,null,null,null,null,null,null,null,null,null,null,null,null,null,null,null,null,null,null,null,null,null,null,null,null,null,null,null,null,"",""]
[null,null,933,0,"",0,0,0,0,null,null,"","",null,null,null,null,null,null,null,null,null,null,null,null,null,null,null,null,null,null,null,null,null,null,null,null,null,null,null,null,null,null,null,null,null,null,null,null,null,null,null,null,null,null,null,null,null,null,null,null,null,null,null,null,null,null,null,null,null,null,null,null,null,null,null,null,"",""]
[null,null,934,0,"",0,0,0,0,null,null,"","",null,null,null,null,null,null,null,null,null,null,null,null,null,null,null,null,null,null,null,null,null,null,null,null,null,null,null,null,null,null,null,null,null,null,null,null,null,null,null,null,null,null,null,null,null,null,null,null,null,null,null,null,null,null,null,null,null,null,null,null,null,null,null,null,"",""]
[null,null,937,0,"",0,0,0,0,null,null,"","",null,null,null,null,null,null,null,null,null,null,null,null,null,null,null,null,null,null,null,null,null,null,null,null,null,null,null,null,null,null,null,null,null,null,null,null,null,null,null,null,null,null,null,null,null,null,null,null,null,null,null,null,null,null,null,null,null,null,null,null,null,null,null,null,"",""]
[null,null,938,0,"",0,0,0,0,null,null,"","",null,null,null,null,null,null,null,null,null,null,null,null,null,null,null,null,null,null,null,null,null,null,null,null,null,null,null,null,null,null,null,null,null,null,null,null,null,null,null,null,null,null,null,null,null,null,null,null,null,null,null,null,null,null,null,null,null,null,null,null,null,null,null,null,"",""]
[null,null,941,0,"",0,0,0,0,null,null,"","",null,null,null,null,null,null,null,null,null,null,null,null,null,null,null,null,null,null,null,null,null,null,null,null,null,null,null,null,null,null,null,null,null,null,null,null,null,null,null,null,null,null,null,null,null,null,null,null,null,null,null,null,null,null,null,null,null,null,null,null,null,null,null,null,"",""]
[null,null,942,0,"",0,0,0,0,null,null,"","",null,null,null,null,null,null,null,null,null,null,null,null,null,null,null,null,null,null,null,null,null,null,null,null,null,null,null,null,null,null,null,null,null,null,null,null,null,null,null,null,null,null,null,null,null,null,null,null,null,null,null,null,null,null,null,null,null,null,null,null,null,null,null,null,"",""]
[null,null,944,0,"",0,0,0,0,null,null,"","",null,null,null,null,null,null,null,null,null,null,null,null,null,null,null,null,null,null,null,null,null,null,null,null,null,null,null,null,null,null,null,null,null,null,null,null,null,null,null,null,null,null,null,null,null,null,null,null,null,null,null,null,null,null,null,null,null,null,null,null,null,null,null,null,"",""]
[null,null,945,0,"",0,0,0,0,null,null,"","",null,null,null,null,null,null,null,null,null,null,null,null,null,null,null,null,null,null,null,null,null,null,null,null,null,null,null,null,null,null,null,null,null,null,null,null,null,null,null,null,null,null,null,null,null,null,null,null,null,null,null,null,null,null,null,null,null,null,null,null,null,null,null,null,"",""]
[null,null,948,0,"",0,0,0,0,null,null,"","",null,null,null,null,null,null,null,null,null,null,null,null,null,null,null,null,null,null,null,null,null,null,null,null,null,null,null,null,null,null,null,null,null,null,null,null,null,null,null,null,null,null,null,null,null,null,null,null,null,null,null,null,null,null,null,null,null,null,null,null,null,null,null,null,"",""]
[null,null,949,0,"",0,0,0,{"$f":"IF(L967<>\"\",1,0)","v":0},null,null,"","",null,null,null,null,null,null,null,null,null,null,null,null,null,null,null,null,null,null,null,null,null,null,null,null,null,null,null,null,null,null,null,null,null,null,null,null,null,null,null,null,null,null,null,null,null,null,null,null,null,null,null,null,null,null,null,null,null,null,null,null,null,null,null,null,"",""]
[null,null,951,0,"",0,0,0,0,null,null,"","",null,null,null,null,null,null,null,null,null,null,null,null,null,null,null,null,null,null,null,null,null,null,null,null,null,null,null,null,null,null,null,null,null,null,null,null,null,null,null,null,null,null,null,null,null,null,null,null,null,null,null,null,null,null,null,null,null,null,null,null,null,null,null,null,"",""]
[null,null,952,0,"",0,0,0,0,null,null,"","",null,null,null,null,null,null,null,null,null,null,null,null,null,null,null,null,null,null,null,null,null,null,null,null,null,null,null,null,null,null,null,null,null,null,null,null,null,null,null,null,null,null,null,null,null,null,null,null,null,null,null,null,null,null,null,null,null,null,null,null,null,null,null,null,"",""]
[null,null,955,0,"",0,0,0,0,null,null,"","",null,null,null,null,null,null,null,null,null,null,null,null,null,null,null,null,null,null,null,null,null,null,null,null,null,null,null,null,null,null,null,null,null,null,null,null,null,null,null,null,null,null,null,null,null,null,null,null,null,null,null,null,null,null,null,null,null,null,null,null,null,null,null,null,"",""]
[null,null,956,0,"",0,0,0,0,null,null,"","",null,null,null,null,null,null,null,null,null,null,null,null,null,null,null,null,null,null,null,null,null,null,null,null,null,null,null,null,null,null,null,null,null,null,null,null,null,null,null,null,null,null,null,null,null,null,null,null,null,null,null,null,null,null,null,null,null,null,null,null,null,null,null,null,"",""]
[null,null,959,0,"",0,0,0,0,null,null,"","",null,null,null,null,null,null,null,null,null,null,null,null,null,null,null,null,null,null,null,null,null,null,null,null,null,null,null,null,null,null,null,null,null,null,null,null,null,null,null,null,null,null,null,null,null,null,null,null,null,null,null,null,null,null,null,null,null,null,null,null,null,null,null,null,"",""]
[null,null,960,0,"",0,0,0,0,null,null,"","",null,null,null,null,null,null,null,null,null,null,null,null,null,null,null,null,null,null,null,null,null,null,null,null,null,null,null,null,null,null,null,null,null,null,null,null,null,null,null,null,null,null,null,null,null,null,null,null,null,null,null,null,null,null,null,null,null,null,null,null,null,null,null,null,"",""]
[null,null,962,0,{"$f":"$B$16","v":""},{"$f":"COUNTIF(AR980:BA980,\"X\")","v":0},{"$f":"IF(T980<>\"\",VALUE(LEFT(T980,2)),0)","v":0},{"$f":"IF(S980<>\"\",COUNTIF($S$19:$S$1523,S980),0)","v":0},0,null,null,"","",null,null,null,null,null,null,null,null,null,null,null,null,null,null,null,null,null,null,null,null,null,null,null,null,null,null,null,null,null,null,null,null,null,null,null,null,null,null,null,null,null,null,null,null,null,null,null,null,null,null,null,null,null,null,null,null,null,null,null,null,null,null,null,null,{"$f":"IF($AC980<>\"\",IF(OR(LEFT($AC980,2)=\"01\",LEFT($AC980,2)=\"02\",LEFT($AC980,2)=\"04\",LEFT($AC980,2)=\"05\"),1,0),\"\")","v":""},""]
[null,null,963,0,"",0,0,0,0,null,null,{"$f":"IF(C981<=$B$5,C981,\"\")","v":""},"",null,null,null,null,null,null,null,null,null,null,null,null,null,null,null,null,null,null,null,null,null,null,null,null,null,null,null,null,null,null,null,null,null,null,null,null,null,null,null,null,null,null,null,null,null,null,null,null,null,null,null,null,null,null,null,null,null,null,null,null,null,null,null,null,"",""]
[null,null,966,0,"",0,0,0,0,null,null,"","",null,null,null,null,null,null,null,null,null,null,null,null,null,null,null,null,null,null,null,null,null,null,null,null,null,null,null,null,null,null,null,null,null,null,null,null,null,null,null,null,null,null,null,null,null,null,null,null,null,null,null,null,null,null,null,null,null,null,null,null,null,null,null,null,"",""]
[null,null,967,0,"",0,0,0,0,null,null,"","",null,null,null,null,null,null,null,null,null,null,null,null,null,null,null,null,null,null,null,null,null,null,null,null,null,null,null,null,null,null,null,null,null,null,null,null,null,null,null,null,null,null,null,null,null,null,null,null,null,null,null,null,null,null,null,null,null,null,null,null,null,null,null,null,"",""]
[null,null,969,0,"",0,0,0,0,null,null,"","",null,null,null,null,null,null,null,null,null,null,null,null,null,null,null,null,null,null,null,null,null,null,null,null,null,null,null,null,null,null,null,null,null,null,null,null,null,null,null,null,null,null,null,null,null,null,null,null,null,null,null,null,null,null,null,null,null,null,null,null,null,null,null,null,"",""]
[null,null,970,0,"",0,0,0,0,null,null,"","",null,null,null,null,null,null,null,null,null,null,null,null,null,null,null,null,null,null,null,null,null,null,null,null,null,null,null,null,null,null,null,null,null,null,null,null,null,null,null,null,null,null,null,null,null,null,null,null,null,null,null,null,null,null,null,null,null,null,null,null,null,null,null,null,"",""]
[null,null,973,0,"",0,0,0,0,null,null,"","",null,null,null,null,null,null,null,null,null,null,null,null,null,null,null,null,null,null,null,null,null,null,null,null,null,null,null,null,null,null,null,null,null,null,null,null,null,null,null,null,null,null,null,null,null,null,null,null,null,null,null,null,null,null,null,null,null,null,null,null,null,null,null,null,"",""]
[null,null,974,0,"",0,0,0,0,null,null,"","",null,null,null,null,null,null,null,null,null,null,null,null,null,null,null,null,null,null,null,null,null,null,null,null,null,null,null,null,null,null,null,null,null,null,null,null,null,null,null,null,null,null,null,null,null,null,null,null,null,null,null,null,null,null,null,null,null,null,null,null,null,null,null,null,"",""]
[null,null,977,0,"",0,0,0,0,null,null,"","",null,null,null,null,null,null,null,null,null,null,null,null,null,null,null,null,null,null,null,null,null,null,null,null,null,null,null,null,null,null,null,null,null,null,null,null,null,null,null,null,null,null,null,null,null,null,null,null,null,null,null,null,null,null,null,null,null,null,null,null,null,null,null,null,"",""]
[null,null,978,0,"",0,0,0,0,null,null,"","",null,null,null,null,null,null,null,null,null,null,null,null,null,null,null,null,null,null,null,null,null,null,null,null,null,null,null,null,null,null,null,null,null,null,null,null,null,null,null,null,null,null,null,null,null,null,null,null,null,null,null,null,null,null,null,null,null,null,null,null,null,null,null,null,"",""]
[null,null,980,0,"",0,0,0,0,null,null,"","",null,null,null,null,null,null,null,null,null,null,null,null,null,null,null,null,null,null,null,null,null,null,null,null,null,null,null,null,null,null,null,null,null,null,null,null,null,null,null,null,null,null,null,null,null,null,null,null,null,null,null,null,null,null,null,null,null,null,null,null,null,null,null,null,"",""]
[null,null,981,0,"",0,0,0,0,null,null,"","",null,null,null,null,null,null,null,null,null,null,null,null,null,null,null,null,null,null,null,null,null,null,null,null,null,null,null,null,null,null,null,null,null,null,null,null,null,null,null,null,null,null,null,null,null,null,null,null,null,null,null,null,null,null,null,null,null,null,null,null,null,null,null,null,"",""]
[null,null,984,0,"",0,0,0,0,null,null,"","",null,null,null,null,null,null,null,null,null,null,null,null,null,null,null,null,null,null,null,null,null,null,null,null,null,null,null,null,null,null,null,null,null,null,null,null,null,null,null,null,null,null,null,null,null,null,null,null,null,null,null,null,null,null,null,null,null,null,null,null,null,null,null,null,"",""]
[null,null,985,0,"",0,0,0,0,null,null,"","",null,null,null,null,null,null,null,null,null,null,null,null,null,null,null,null,null,null,null,null,null,null,null,null,null,null,null,null,null,null,null,null,null,null,null,null,null,null,null,null,null,null,null,null,null,null,null,null,null,null,null,null,null,null,null,null,null,null,null,null,null,null,null,null,"",""]
[null,null,987,0,"",0,0,0,0,null,null,"","",null,null,null,null,null,null,null,null,null,null,null,null,null,null,null,null,null,null,null,null,null,null,null,null,null,null,null,null,null,null,null,null,null,null,null,null,null,null,null,null,null,null,null,null,null,null,null,null,null,null,null,null,null,null,null,null,null,null,null,null,null,null,null,null,"",""]
[null,null,988,0,"",0,0,0,0,null,null,"","",null,null,null,null,null,null,null,null,null,null,null,null,null,null,null,null,null,null,null,null,null,null,null,null,null,null,null,null,null,null,null,null,null,null,null,null,null,null,null,null,null,null,null,null,null,null,null,null,null,null,null,null,null,null,null,null,null,null,null,null,null,null,null,null,"",""]
[null,null,991,0,"",0,0,0,0,null,null,"","",null,null,null,null,null,null,null,null,null,null,null,null,null,null,null,null,null,null,null,null,null,null,null,null,null,null,null,null,null,null,null,null,null,null,null,null,null,null,null,null,null,null,null,null,null,null,null,null,null,null,null,null,null,null,null,null,null,null,null,null,null,null,null,null,"",""]
[null,null,992,0,"",0,0,0,0,null,null,"","",null,null,null,null,null,null,null,null,null,null,null,null,null,null,null,null,null,null,null,null,null,null,null,null,null,null,null,null,null,null,null,null,null,null,null,null,null,null,null,null,null,null,null,null,null,null,null,null,null,null,null,null,null,null,null,null,null,null,null,null,null,null,null,null,"",""]
[null,null,995,0,"",0,0,0,0,null,null,"","",null,null,null,null,null,null,null,null,null,null,null,null,null,null,null,null,null,null,null,null,null,null,null,null,null,null,null,null,null,null,null,null,null,null,null,null,null,null,null,null,null,null,null,null,null,null,null,null,null,null,null,null,null,null,null,null,null,null,null,null,null,null,null,null,"",""]
[null,null,996,0,"",0,0,0,0,null,null,"","",null,null,null,null,null,null,null,null,null,null,null,null,null,null,null,null,null,null,null,null,null,null,null,null,null,null,null,null,null,null,null,null,null,null,null,null,null,null,null,null,null,null,null,null,null,null,null,null,null,null,null,null,null,null,null,null,null,null,null,null,null,null,null,null,"",""]
[null,null,998,0,"",0,0,0,0,null,null,"","",null,null,null,null,null,null,null,null,null,null,null,null,null,null,null,null,null,null,null,null,null,null,null,null,null,null,null,null,null,null,null,null,null,null,null,null,null,null,null,null,null,null,null,null,null,null,null,null,null,null,null,null,null,null,null,null,null,null,null,null,null,null,null,null,"",""]
[null,null,999,0,"",0,0,0,0,null,null,"","",null,null,null,null,null,null,null,null,null,null,null,null,null,null,null,null,null,null,null,null,null,null,null,null,null,null,null,null,null,null,null,null,null,null,null,null,null,null,null,null,null,null,null,null,null,null,null,null,null,null,null,null,null,null,null,null,null,null,null,null,null,null,null,null,"",""]
[null,null,1002,0,"",0,0,0,0,null,null,"","",null,null,null,null,null,null,null,null,null,null,null,null,null,null,null,null,null,null,null,null,null,null,null,null,null,null,null,null,null,null,null,null,null,null,null,null,null,null,null,null,null,null,null,null,null,null,null,null,null,null,null,null,null,null,null,null,null,null,null,null,null,null,null,null,"",""]
[null,null,1003,0,"",0,0,0,0,null,null,"","",null,null,null,null,null,null,null,null,null,null,null,null,null,null,null,null,null,null,null,null,null,null,null,null,null,null,null,null,null,null,null,null,null,null,null,null,null,null,null,null,null,null,null,null,null,null,null,null,null,null,null,null,null,null,null,null,null,null,null,null,null,null,null,null,"",""]
[null,null,1005,0,"",0,0,0,0,null,null,"","",null,null,null,null,null,null,null,null,null,null,null,null,null,null,null,null,null,null,null,null,null,null,null,null,null,null,null,null,null,null,null,null,null,null,null,null,null,null,null,null,null,null,null,null,null,null,null,null,null,null,null,null,null,null,null,null,null,null,null,null,null,null,null,null,"",""]
[null,null,1006,0,"",0,0,0,0,null,null,"","",null,null,null,null,null,null,null,null,null,null,null,null,null,null,null,null,null,null,null,null,null,null,null,null,null,null,null,null,null,null,null,null,null,null,null,null,null,null,null,null,null,null,null,null,null,null,null,null,null,null,null,null,null,null,null,null,null,null,null,null,null,null,null,null,"",""]
[null,null,1009,0,"",0,0,0,0,null,null,"","",null,null,null,null,null,null,null,null,null,null,null,null,null,null,null,null,null,null,null,null,null,null,null,null,null,null,null,null,null,null,null,null,null,null,null,null,null,null,null,null,null,null,null,null,null,null,null,null,null,null,null,null,null,null,null,null,null,null,null,null,null,null,null,null,"",""]
[null,null,1010,0,"",0,0,0,0,null,null,"","",null,null,null,null,null,null,null,null,null,null,null,null,null,null,null,null,null,null,null,null,null,null,null,null,null,null,null,null,null,null,null,null,null,null,null,null,null,null,null,null,null,null,null,null,null,null,null,null,null,null,null,null,null,null,null,null,null,null,null,null,null,null,null,null,"",""]
[null,null,1013,0,"",0,0,0,{"$f":"IF(L1031<>\"\",1,0)","v":0},null,null,"","",null,null,null,null,null,null,null,null,null,null,null,null,null,null,null,null,null,null,null,null,null,null,null,null,null,null,null,null,null,null,null,null,null,null,null,null,null,null,null,null,null,null,null,null,null,null,null,null,null,null,null,null,null,null,null,null,null,null,null,null,null,null,null,null,"",""]
[null,null,1014,0,"",0,0,0,0,null,null,"","",null,null,null,null,null,null,null,null,null,null,null,null,null,null,null,null,null,null,null,null,null,null,null,null,null,null,null,null,null,null,null,null,null,null,null,null,null,null,null,null,null,null,null,null,null,null,null,null,null,null,null,null,null,null,null,null,null,null,null,null,null,null,null,null,"",""]
[null,null,1016,0,"",0,0,0,0,null,null,"","",null,null,null,null,null,null,null,null,null,null,null,null,null,null,null,null,null,null,null,null,null,null,null,null,null,null,null,null,null,null,null,null,null,null,null,null,null,null,null,null,null,null,null,null,null,null,null,null,null,null,null,null,null,null,null,null,null,null,null,null,null,null,null,null,"",""]
[null,null,1017,0,"",0,0,0,0,null,null,"","",null,null,null,null,null,null,null,null,null,null,null,null,null,null,null,null,null,null,null,null,null,null,null,null,null,null,null,null,null,null,null,null,null,null,null,null,null,null,null,null,null,null,null,null,null,null,null,null,null,null,null,null,null,null,null,null,null,null,null,null,null,null,null,null,"",""]
[null,null,1020,0,"",0,0,0,0,null,null,"","",null,null,null,null,null,null,null,null,null,null,null,null,null,null,null,null,null,null,null,null,null,null,null,null,null,null,null,null,null,null,null,null,null,null,null,null,null,null,null,null,null,null,null,null,null,null,null,null,null,null,null,null,null,null,null,null,null,null,null,null,null,null,null,null,"",""]
[null,null,1021,0,"",0,0,0,0,null,null,"","",null,null,null,null,null,null,null,null,null,null,null,null,null,null,null,null,null,null,null,null,null,null,null,null,null,null,null,null,null,null,null,null,null,null,null,null,null,null,null,null,null,null,null,null,null,null,null,null,null,null,null,null,null,null,null,null,null,null,null,null,null,null,null,null,"",""]
[null,null,1023,0,"",0,0,0,0,null,null,"","",null,null,null,null,null,null,null,null,null,null,null,null,null,null,null,null,null,null,null,null,null,null,null,null,null,null,null,null,null,null,null,null,null,null,null,null,null,null,null,null,null,null,null,null,null,null,null,null,null,null,null,null,null,null,null,null,null,null,null,null,null,null,null,null,"",""]
[null,null,1024,0,"",0,0,0,0,null,null,"","",null,null,null,null,null,null,null,null,null,null,null,null,null,null,null,null,null,null,null,null,null,null,null,null,null,null,null,null,null,null,null,null,null,null,null,null,null,null,null,null,null,null,null,null,null,null,null,null,null,null,null,null,null,null,null,null,null,null,null,null,null,null,null,null,"",""]
[null,null,1027,0,"",0,0,0,0,null,null,{"$f":"IF(C1045<=$B$5,C1045,\"\")","v":""},"",null,null,null,null,null,null,null,null,null,null,null,null,null,null,null,null,null,null,null,null,null,null,null,null,null,null,null,null,null,null,null,null,null,null,null,null,null,null,null,null,null,null,null,null,null,null,null,null,null,null,null,null,null,null,null,null,null,null,null,null,null,null,null,null,"",""]
[null,null,1028,0,"",0,0,0,0,null,null,"","",null,null,null,null,null,null,null,null,null,null,null,null,null,null,null,null,null,null,null,null,null,null,null,null,null,null,null,null,null,null,null,null,null,null,null,null,null,null,null,null,null,null,null,null,null,null,null,null,null,null,null,null,null,null,null,null,null,null,null,null,null,null,null,null,"",""]
[null,null,1031,0,"",0,0,0,0,null,null,"","",null,null,null,null,null,null,null,null,null,null,null,null,null,null,null,null,null,null,null,null,null,null,null,null,null,null,null,null,null,null,null,null,null,null,null,null,null,null,null,null,null,null,null,null,null,null,null,null,null,null,null,null,null,null,null,null,null,null,null,null,null,null,null,null,"",""]
[null,null,1032,0,"",0,0,0,0,null,null,"","",null,null,null,null,null,null,null,null,null,null,null,null,null,null,null,null,null,null,null,null,null,null,null,null,null,null,null,null,null,null,null,null,null,null,null,null,null,null,null,null,null,null,null,null,null,null,null,null,null,null,null,null,null,null,null,null,null,null,null,null,null,null,null,null,"",""]
[null,null,1034,0,"",0,0,0,0,null,null,"","",null,null,null,null,null,null,null,null,null,null,null,null,null,null,null,null,null,null,null,null,null,null,null,null,null,null,null,null,null,null,null,null,null,null,null,null,null,null,null,null,null,null,null,null,null,null,null,null,null,null,null,null,null,null,null,null,null,null,null,null,null,null,null,null,"",""]
[null,null,1035,0,"",0,0,0,0,null,null,"","",null,null,null,null,null,null,null,null,null,null,null,null,null,null,null,null,null,null,null,null,null,null,null,null,null,null,null,null,null,null,null,null,null,null,null,null,null,null,null,null,null,null,null,null,null,null,null,null,null,null,null,null,null,null,null,null,null,null,null,null,null,null,null,null,"",""]
[null,null,1038,0,"",0,0,0,0,null,null,"","",null,null,null,null,null,null,null,null,null,null,null,null,null,null,null,null,null,null,null,null,null,null,null,null,null,null,null,null,null,null,null,null,null,null,null,null,null,null,null,null,null,null,null,null,null,null,null,null,null,null,null,null,null,null,null,null,null,null,null,null,null,null,null,null,"",""]
[null,null,1039,0,"",0,0,0,0,null,null,"","",null,null,null,null,null,null,null,null,null,null,null,null,null,null,null,null,null,null,null,null,null,null,null,null,null,null,null,null,null,null,null,null,null,null,null,null,null,null,null,null,null,null,null,null,null,null,null,null,null,null,null,null,null,null,null,null,null,null,null,null,null,null,null,null,"",""]
[null,null,1041,0,"",0,0,0,0,null,null,"","",null,null,null,null,null,null,null,null,null,null,null,null,null,null,null,null,null,null,null,null,null,null,null,null,null,null,null,null,null,null,null,null,null,null,null,null,null,null,null,null,null,null,null,null,null,null,null,null,null,null,null,null,null,null,null,null,null,null,null,null,null,null,null,null,"",""]
[null,null,1042,0,"",0,0,0,0,null,null,"","",null,null,null,null,null,null,null,null,null,null,null,null,null,null,null,null,null,null,null,null,null,null,null,null,null,null,null,null,null,null,null,null,null,null,null,null,null,null,null,null,null,null,null,null,null,null,null,null,null,null,null,null,null,null,null,null,null,null,null,null,null,null,null,null,"",""]
[null,null,1045,0,"",0,0,0,0,null,null,"","",null,null,null,null,null,null,null,null,null,null,null,null,null,null,null,null,null,null,null,null,null,null,null,null,null,null,null,null,null,null,null,null,null,null,null,null,null,null,null,null,null,null,null,null,null,null,null,null,null,null,null,null,null,null,null,null,null,null,null,null,null,null,null,null,"",""]
[null,null,1046,0,"",0,0,0,0,null,null,"","",null,null,null,null,null,null,null,null,null,null,null,null,null,null,null,null,null,null,null,null,null,null,null,null,null,null,null,null,null,null,null,null,null,null,null,null,null,null,null,null,null,null,null,null,null,null,null,null,null,null,null,null,null,null,null,null,null,null,null,null,null,null,null,null,"",""]
[null,null,1049,0,"",0,0,0,0,null,null,"","",null,null,null,null,null,null,null,null,null,null,null,null,null,null,null,null,null,null,null,null,null,null,null,null,null,null,null,null,null,null,null,null,null,null,null,null,null,null,null,null,null,null,null,null,null,null,null,null,null,null,null,null,null,null,null,null,null,null,null,null,null,null,null,null,"",""]
[null,null,1050,0,"",0,0,0,0,null,null,"","",null,null,null,null,null,null,null,null,null,null,null,null,null,null,null,null,null,null,null,null,null,null,null,null,null,null,null,null,null,null,null,null,null,null,null,null,null,null,null,null,null,null,null,null,null,null,null,null,null,null,null,null,null,null,null,null,null,null,null,null,null,null,null,null,"",""]
[null,null,1052,0,"",0,0,0,0,null,null,"","",null,null,null,null,null,null,null,null,null,null,null,null,null,null,null,null,null,null,null,null,null,null,null,null,null,null,null,null,null,null,null,null,null,null,null,null,null,null,null,null,null,null,null,null,null,null,null,null,null,null,null,null,null,null,null,null,null,null,null,null,null,null,null,null,"",""]
[null,null,1053,0,"",0,0,0,0,null,null,"","",null,null,null,null,null,null,null,null,null,null,null,null,null,null,null,null,null,null,null,null,null,null,null,null,null,null,null,null,null,null,null,null,null,null,null,null,null,null,null,null,null,null,null,null,null,null,null,null,null,null,null,null,null,null,null,null,null,null,null,null,null,null,null,null,"",""]
[null,null,1056,0,"",0,0,0,0,null,null,"","",null,null,null,null,null,null,null,null,null,null,null,null,null,null,null,null,null,null,null,null,null,null,null,null,null,null,null,null,null,null,null,null,null,null,null,null,null,null,null,null,null,null,null,null,null,null,null,null,null,null,null,null,null,null,null,null,null,null,null,null,null,null,null,null,"",""]
[null,null,1057,0,"",0,0,0,0,null,null,"","",null,null,null,null,null,null,null,null,null,null,null,null,null,null,null,null,null,null,null,null,null,null,null,null,null,null,null,null,null,null,null,null,null,null,null,null,null,null,null,null,null,null,null,null,null,null,null,null,null,null,null,null,null,null,null,null,null,null,null,null,null,null,null,null,"",""]
[null,null,1059,0,"",0,0,0,0,null,null,"","",null,null,null,null,null,null,null,null,null,null,null,null,null,null,null,null,null,null,null,null,null,null,null,null,null,null,null,null,null,null,null,null,null,null,null,null,null,null,null,null,null,null,null,null,null,null,null,null,null,null,null,null,null,null,null,null,null,null,null,null,null,null,null,null,"",""]
[null,null,1060,0,"",0,0,0,0,null,null,"","",null,null,null,null,null,null,null,null,null,null,null,null,null,null,null,null,null,null,null,null,null,null,null,null,null,null,null,null,null,null,null,null,null,null,null,null,null,null,null,null,null,null,null,null,null,null,null,null,null,null,null,null,null,null,null,null,null,null,null,null,null,null,null,null,"",""]
[null,null,1063,0,"",0,0,0,0,null,null,"","",null,null,null,null,null,null,null,null,null,null,null,null,null,null,null,null,null,null,null,null,null,null,null,null,null,null,null,null,null,null,null,null,null,null,null,null,null,null,null,null,null,null,null,null,null,null,null,null,null,null,null,null,null,null,null,null,null,null,null,null,null,null,null,null,"",""]
[null,null,1064,0,"",0,0,0,0,null,null,"","",null,null,null,null,null,null,null,null,null,null,null,null,null,null,null,null,null,null,null,null,null,null,null,null,null,null,null,null,null,null,null,null,null,null,null,null,null,null,null,null,null,null,null,null,null,null,null,null,null,null,null,null,null,null,null,null,null,null,null,null,null,null,null,null,"",""]
[null,null,1067,0,"",0,0,0,0,null,null,"","",null,null,null,null,null,null,null,null,null,null,null,null,null,null,null,null,null,null,null,null,null,null,null,null,null,null,null,null,null,null,null,null,null,null,null,null,null,null,null,null,null,null,null,null,null,null,null,null,null,null,null,null,null,null,null,null,null,null,null,null,null,null,null,null,"",""]
[null,null,1068,0,"",0,0,0,0,null,null,"","",null,null,null,null,null,null,null,null,null,null,null,null,null,null,null,null,null,null,null,null,null,null,null,null,null,null,null,null,null,null,null,null,null,null,null,null,null,null,null,null,null,null,null,null,null,null,null,null,null,null,null,null,null,null,null,null,null,null,null,null,null,null,null,null,"",""]
[null,null,1070,0,"",0,0,0,0,null,null,"","",null,null,null,null,null,null,null,null,null,null,null,null,null,null,null,null,null,null,null,null,null,null,null,null,null,null,null,null,null,null,null,null,null,null,null,null,null,null,null,null,null,null,null,null,null,null,null,null,null,null,null,null,null,null,null,null,null,null,null,null,null,null,null,null,"",""]
[null,null,1071,0,"",0,0,0,0,null,null,"","",null,null,null,null,null,null,null,null,null,null,null,null,null,null,null,null,null,null,null,null,null,null,null,null,null,null,null,null,null,null,null,null,null,null,null,null,null,null,null,null,null,null,null,null,null,null,null,null,null,null,null,null,null,null,null,null,null,null,null,null,null,null,null,null,"",""]
[null,null,1074,0,"",0,0,0,0,null,null,"","",null,null,null,null,null,null,null,null,null,null,null,null,null,null,null,null,null,null,null,null,null,null,null,null,null,null,null,null,null,null,null,null,null,null,null,null,null,null,null,null,null,null,null,null,null,null,null,null,null,null,null,null,null,null,null,null,null,null,null,null,null,null,null,null,"",""]
[null,null,1075,0,"",0,0,0,0,null,null,"","",null,null,null,null,null,null,null,null,null,null,null,null,null,null,null,null,null,null,null,null,null,null,null,null,null,null,null,null,null,null,null,null,null,null,null,null,null,null,null,null,null,null,null,null,null,null,null,null,null,null,null,null,null,null,null,null,null,null,null,null,null,null,null,null,"",""]
[null,null,1077,0,"",0,0,0,{"$f":"IF(L1095<>\"\",1,0)","v":0},null,null,"","",null,null,null,null,null,null,null,null,null,null,null,null,null,null,null,null,null,null,null,null,null,null,null,null,null,null,null,null,null,null,null,null,null,null,null,null,null,null,null,null,null,null,null,null,null,null,null,null,null,null,null,null,null,null,null,null,null,null,null,null,null,null,null,null,"",""]
[null,null,1078,0,"",0,0,0,0,null,null,"","",null,null,null,null,null,null,null,null,null,null,null,null,null,null,null,null,null,null,null,null,null,null,null,null,null,null,null,null,null,null,null,null,null,null,null,null,null,null,null,null,null,null,null,null,null,null,null,null,null,null,null,null,null,null,null,null,null,null,null,null,null,null,null,null,"",""]
[null,null,1081,0,"",0,0,0,0,null,null,"","",null,null,null,null,null,null,null,null,null,null,null,null,null,null,null,null,null,null,null,null,null,null,null,null,null,null,null,null,null,null,null,null,null,null,null,null,null,null,null,null,null,null,null,null,null,null,null,null,null,null,null,null,null,null,null,null,null,null,null,null,null,null,null,null,"",""]
[null,null,1082,0,"",0,0,0,0,null,null,"","",null,null,null,null,null,null,null,null,null,null,null,null,null,null,null,null,null,null,null,null,null,null,null,null,null,null,null,null,null,null,null,null,null,null,null,null,null,null,null,null,null,null,null,null,null,null,null,null,null,null,null,null,null,null,null,null,null,null,null,null,null,null,null,null,"",""]
[null,null,1085,0,"",0,0,0,0,null,null,"","",null,null,null,null,null,null,null,null,null,null,null,null,null,null,null,null,null,null,null,null,null,null,null,null,null,null,null,null,null,null,null,null,null,null,null,null,null,null,null,null,null,null,null,null,null,null,null,null,null,null,null,null,null,null,null,null,null,null,null,null,null,null,null,null,"",""]
[null,null,1086,0,"",0,0,0,0,null,null,"","",null,null,null,null,null,null,null,null,null,null,null,null,null,null,null,null,null,null,null,null,null,null,null,null,null,null,null,null,null,null,null,null,null,null,null,null,null,null,null,null,null,null,null,null,null,null,null,null,null,null,null,null,null,null,null,null,null,null,null,null,null,null,null,null,"",""]
[null,null,1088,0,"",0,0,0,0,null,null,"","",null,null,null,null,null,null,null,null,null,null,null,null,null,null,null,null,null,null,null,null,null,null,null,null,null,null,null,null,null,null,null,null,null,null,null,null,null,null,null,null,null,null,null,null,null,null,null,null,null,null,null,null,null,null,null,null,null,null,null,null,null,null,null,null,"",""]
[null,null,1089,{"$f":"IF(AND(LEFT(T1107,2)=\"01\",LEFT(Z1107,2)=\"01\",LEFT(AA1107,2)=\"01\",E1107=1),1,0)","v":0},"",0,0,0,0,null,null,"",{"$f":"IF(ISERROR(VLOOKUP(N1107,Locales,2,FALSE)),\"\",VLOOKUP(N1107,Locales,2,FALSE))","v":""},null,null,null,null,null,null,null,null,null,null,null,null,null,null,null,null,null,null,null,null,null,null,null,null,null,null,null,null,null,null,null,null,null,null,null,null,null,null,null,null,null,null,null,null,null,null,null,null,null,null,null,null,null,null,null,null,null,null,null,null,null,null,null,null,"",""]
[null,null,1092,0,"",0,0,0,0,null,null,"","",null,null,null,null,null,null,null,null,null,null,null,null,null,null,null,null,null,null,null,null,null,null,null,null,null,null,null,null,null,null,null,null,null,null,null,null,null,null,null,null,null,null,null,null,null,null,null,null,null,null,null,null,null,null,null,null,null,null,null,null,null,null,null,null,"",""]
[null,null,1093,0,"",0,0,0,0,null,null,"","",null,null,null,null,null,null,null,null,null,null,null,null,null,null,null,null,null,null,null,null,null,null,null,null,null,null,null,null,null,null,null,null,null,null,null,null,null,null,null,null,null,null,null,null,null,null,null,null,null,null,null,null,null,null,null,null,null,null,null,null,null,null,null,null,"",""]
[null,null,1095,0,"",0,0,0,0,null,null,"","",null,null,null,null,null,null,null,null,null,null,null,null,null,null,null,null,null,null,null,null,null,null,null,null,null,null,null,null,null,null,null,null,null,null,null,null,null,null,null,null,null,null,null,null,null,null,null,null,null,null,null,null,null,null,null,null,null,null,null,null,null,null,null,null,"",""]
[null,null,1096,0,"",0,0,0,0,null,null,"","",null,null,null,null,null,null,null,null,null,null,null,null,null,null,null,null,null,null,null,null,null,null,null,null,null,null,null,null,null,null,null,null,null,null,null,null,null,null,null,null,null,null,null,null,null,null,null,null,null,null,null,null,null,null,null,null,null,null,null,null,null,null,null,null,"",""]
[null,null,1099,0,"",0,0,0,0,null,null,"","",null,null,null,null,null,null,null,null,null,null,null,null,null,null,null,null,null,null,null,null,null,null,null,null,null,null,null,null,null,null,null,null,null,null,null,null,null,null,null,null,null,null,null,null,null,null,null,null,null,null,null,null,null,null,null,null,null,null,null,null,null,null,null,null,"",""]
[null,null,1100,0,"",0,0,0,{"$f":"IF(L1118<>\"\",1,0)","v":0},null,null,{"$f":"IF(C1118<=$B$5,C1118,\"\")","v":""},"",null,null,null,null,null,null,null,null,null,null,null,null,null,null,null,null,null,null,null,null,null,null,null,null,null,null,null,null,null,null,null,null,null,null,null,null,null,null,null,null,null,null,null,null,null,null,null,null,null,null,null,null,null,null,null,null,null,null,null,null,null,null,null,null,"",""]
[null,null,1103,0,"",0,0,0,0,null,null,"","",null,null,null,null,null,null,null,null,null,null,null,null,null,null,null,null,null,null,null,null,null,null,null,null,null,null,null,null,null,null,null,null,null,null,null,null,null,null,null,null,null,null,null,null,null,null,null,null,null,null,null,null,null,null,null,null,null,null,null,null,null,null,null,null,"",""]
[null,null,1104,0,"",0,0,0,0,null,null,"","",null,null,null,null,null,null,null,null,null,null,null,null,null,null,null,null,null,null,null,null,null,null,null,null,null,null,null,null,null,null,null,null,null,null,null,null,null,null,null,null,null,null,null,null,null,null,null,null,null,null,null,null,null,null,null,null,null,null,null,null,null,null,null,null,"",""]
[null,null,1106,0,"",0,0,0,0,null,null,"","",null,null,null,null,null,null,null,null,null,null,null,null,null,null,null,null,null,null,null,null,null,null,null,null,null,null,null,null,null,null,null,null,null,null,null,null,null,null,null,null,null,null,null,null,null,null,null,null,null,null,null,null,null,null,null,null,null,null,null,null,null,null,null,null,"",""]
[null,null,1107,0,"",0,0,0,0,null,null,"","",null,null,null,null,null,null,null,null,null,null,null,null,null,null,null,null,null,null,null,null,null,null,null,null,null,null,null,null,null,null,null,null,null,null,null,null,null,null,null,null,null,null,null,null,null,null,null,null,null,null,null,null,null,null,null,null,null,null,null,null,null,null,null,null,"",""]
[null,null,1110,0,"",0,0,0,0,null,null,"","",null,null,null,null,null,null,null,null,null,null,null,null,null,null,null,null,null,null,null,null,null,null,null,null,null,null,null,null,null,null,null,null,null,null,null,null,null,null,null,null,null,null,null,null,null,null,null,null,null,null,null,null,null,null,null,null,null,null,null,null,null,null,null,null,"",""]
[null,null,1111,0,"",0,0,0,0,null,null,"","",null,null,null,null,null,null,null,null,null,null,null,null,null,null,null,null,null,null,null,null,null,null,null,null,null,null,null,null,null,null,null,null,null,null,null,null,null,null,null,null,null,null,null,null,null,null,null,null,null,null,null,null,null,null,null,null,null,null,null,null,null,null,null,null,"",""]
[null,null,1113,0,"",0,0,0,0,null,null,"","",null,null,null,null,null,null,null,null,null,null,null,null,null,null,null,null,null,null,null,null,null,null,null,null,null,null,null,null,null,null,null,null,null,null,null,null,null,null,null,null,null,null,null,null,null,null,null,null,null,null,null,null,null,null,null,null,null,null,null,null,null,null,null,null,"",""]
[null,null,1114,0,"",0,0,0,0,null,null,"","",null,null,null,null,null,null,null,null,null,null,null,null,null,null,null,null,null,null,null,null,null,null,null,null,null,null,null,null,null,null,null,null,null,null,null,null,null,null,null,null,null,null,null,null,null,null,null,null,null,null,null,null,null,null,null,null,null,null,null,null,null,null,null,null,"",""]
[null,null,1117,0,"",0,0,0,0,null,null,"","",null,null,null,null,null,null,null,null,null,null,null,null,null,null,null,null,null,null,null,null,null,null,null,null,null,null,null,null,null,null,null,null,null,null,null,null,null,null,null,null,null,null,null,null,null,null,null,null,null,null,null,null,null,null,null,null,null,null,null,null,null,null,null,null,"",""]
[null,null,1118,0,"",0,0,0,0,null,null,"","",null,null,null,null,null,null,null,null,null,null,null,null,null,null,null,null,null,null,null,null,null,null,null,null,null,null,null,null,null,null,null,null,null,null,null,null,null,null,null,null,null,null,null,null,null,null,null,null,null,null,null,null,null,null,null,null,null,null,null,null,null,null,null,null,"",""]
[null,null,1121,0,"",0,0,0,0,null,null,"","",null,null,null,null,null,null,null,null,null,null,null,null,null,null,null,null,null,null,null,null,null,null,null,null,null,null,null,null,null,null,null,null,null,null,null,null,null,null,null,null,null,null,null,null,null,null,null,null,null,null,null,null,null,null,null,null,null,null,null,null,null,null,null,null,"",""]
[null,null,1122,0,"",0,0,0,0,null,null,"","",null,null,null,null,null,null,null,null,null,null,null,null,null,null,null,null,null,null,null,null,null,null,null,null,null,null,null,null,null,null,null,null,null,null,null,null,null,null,null,null,null,null,null,null,null,null,null,null,null,null,null,null,null,null,null,null,null,null,null,null,null,null,null,null,"",""]
[null,null,1124,0,"",0,0,0,0,null,null,"","",null,null,null,null,null,null,null,null,null,null,null,null,null,null,null,null,null,null,null,null,null,null,null,null,null,null,null,null,null,null,null,null,null,null,null,null,null,null,null,null,null,null,null,null,null,null,null,null,null,null,null,null,null,null,null,null,null,null,null,null,null,null,null,null,"",""]
[null,null,1125,0,"",0,0,0,0,null,null,"","",null,null,null,null,null,null,null,null,null,null,null,null,null,null,null,null,null,null,null,null,null,null,null,null,null,null,null,null,null,null,null,null,null,null,null,null,null,null,null,null,null,null,null,null,null,null,null,null,null,null,null,null,null,null,null,null,null,null,null,null,null,null,null,null,"",""]
[null,null,1128,0,"",0,0,0,0,null,null,"","",null,null,null,null,null,null,null,null,null,null,null,null,null,null,null,null,null,null,null,null,null,null,null,null,null,null,null,null,null,null,null,null,null,null,null,null,null,null,null,null,null,null,null,null,null,null,null,null,null,null,null,null,null,null,null,null,null,null,null,null,null,null,null,null,"",""]
[null,null,1129,0,"",0,0,0,0,null,null,"","",null,null,null,null,null,null,null,null,null,null,null,null,null,null,null,null,null,null,null,null,null,null,null,null,null,null,null,null,null,null,null,null,null,null,null,null,null,null,null,null,null,null,null,null,null,null,null,null,null,null,null,null,null,null,null,null,null,null,null,null,null,null,null,null,"",""]
[null,null,1131,0,"",0,0,0,0,null,null,"","",null,null,null,null,null,null,null,null,null,null,null,null,null,null,null,null,null,null,null,null,null,null,null,null,null,null,null,null,null,null,null,null,null,null,null,null,null,null,null,null,null,null,null,null,null,null,null,null,null,null,null,null,null,null,null,null,null,null,null,null,null,null,null,null,"",""]
[null,null,1132,0,"",0,0,0,0,null,null,"","",null,null,null,null,null,null,null,null,null,null,null,null,null,null,null,null,null,null,null,null,null,null,null,null,null,null,null,null,null,null,null,null,null,null,null,null,null,null,null,null,null,null,null,null,null,null,null,null,null,null,null,null,null,null,null,null,null,null,null,null,null,null,null,null,"",""]
[null,null,1135,0,"",0,0,0,0,null,null,"","",null,null,null,null,null,null,null,null,null,null,null,null,null,null,null,null,null,null,null,null,null,null,null,null,null,null,null,null,null,null,null,null,null,null,null,null,null,null,null,null,null,null,null,null,null,null,null,null,null,null,null,null,null,null,null,null,null,null,null,null,null,null,null,null,"",""]
[null,null,1136,0,"",0,0,0,0,null,null,"","",null,null,null,null,null,null,null,null,null,null,null,null,null,null,null,null,null,null,null,null,null,null,null,null,null,null,null,null,null,null,null,null,null,null,null,null,null,null,null,null,null,null,null,null,null,null,null,null,null,null,null,null,null,null,null,null,null,null,null,null,null,null,null,null,"",""]
[null,null,1139,0,"",0,0,0,0,null,null,"","",null,null,null,null,null,null,null,null,null,null,null,null,null,null,null,null,null,null,null,null,null,null,null,null,null,null,null,null,null,null,null,null,null,null,null,null,null,null,null,null,null,null,null,null,null,null,null,null,null,null,null,null,null,null,null,null,null,null,null,null,null,null,null,null,"",""]
[null,null,1140,0,"",0,0,0,0,null,null,"","",null,null,null,null,null,null,null,null,null,null,null,null,null,null,null,null,null,null,null,null,null,null,null,null,null,null,null,null,null,null,null,null,null,null,null,null,null,null,null,null,null,null,null,null,null,null,null,null,null,null,null,null,null,null,null,null,null,null,null,null,null,null,null,null,"",""]
[null,null,1142,0,"",0,0,0,0,null,null,"","",null,null,null,null,null,null,null,null,null,null,null,null,null,null,null,null,null,null,null,null,null,null,null,null,null,null,null,null,null,null,null,null,null,null,null,null,null,null,null,null,null,null,null,null,null,null,null,null,null,null,null,null,null,null,null,null,null,null,null,null,null,null,null,null,"",""]
[null,null,1143,0,"",0,0,0,0,null,null,"","",null,null,null,null,null,null,null,null,null,null,null,null,null,null,null,null,null,null,null,null,null,null,null,null,null,null,null,null,null,null,null,null,null,null,null,null,null,null,null,null,null,null,null,null,null,null,null,null,null,null,null,null,null,null,null,null,null,null,null,null,null,null,null,null,"",""]
[null,null,1146,0,"",0,0,0,0,null,null,"","",null,null,null,null,null,null,null,null,null,null,null,null,null,null,null,null,null,null,null,null,null,null,null,null,null,null,null,null,null,null,null,null,null,null,null,null,null,null,null,null,null,null,null,null,null,null,null,null,null,null,null,null,null,null,null,null,null,null,null,null,null,null,null,null,"",""]
[null,null,1147,0,"",0,0,0,0,null,null,"","",null,null,null,null,null,null,null,null,null,null,null,null,null,null,null,null,null,null,null,null,null,null,null,null,null,null,null,null,null,null,null,null,null,null,null,null,null,null,null,null,null,null,null,null,null,null,null,null,null,null,null,null,null,null,null,null,null,null,null,null,null,null,null,null,"",""]
[null,null,1149,0,"",0,0,0,0,null,null,"","",null,null,null,null,null,null,null,null,null,null,null,null,null,null,null,null,null,null,null,null,null,null,null,null,null,null,null,null,null,null,null,null,null,null,null,null,null,null,null,null,null,null,null,null,null,null,null,null,null,null,null,null,null,null,null,null,null,null,null,null,null,null,null,null,"",""]
[null,null,1150,0,"",0,0,0,0,null,null,"","",null,null,null,null,null,null,null,null,null,null,null,null,null,null,null,null,null,null,null,null,null,null,null,null,null,null,null,null,null,null,null,null,null,null,null,null,null,null,null,null,null,null,null,null,null,null,null,null,null,null,null,null,null,null,null,null,null,null,null,null,null,null,null,null,"",""]
[null,null,1153,{"$f":"IF(AND(LEFT(T1171,2)=\"01\",LEFT(Z1171,2)=\"01\",LEFT(AA1171,2)=\"01\",E1171=1),1,0)","v":0},"",0,0,0,0,null,null,"",{"$f":"IF(ISERROR(VLOOKUP(N1171,Locales,2,FALSE)),\"\",VLOOKUP(N1171,Locales,2,FALSE))","v":""},null,null,null,null,null,null,null,null,null,null,null,null,null,null,null,null,null,null,null,null,null,null,null,null,null,null,null,null,null,null,null,null,null,null,null,null,null,null,null,null,null,null,null,null,null,null,null,null,null,null,null,null,null,null,null,null,null,null,null,null,null,null,null,null,"",""]
[null,null,1154,0,{"$f":"$B$16","v":""},{"$f":"COUNTIF(AR1172:BA1172,\"X\")","v":0},{"$f":"IF(T1172<>\"\",VALUE(LEFT(T1172,2)),0)","v":0},{"$f":"IF(S1172<>\"\",COUNTIF($S$19:$S$1523,S1172),0)","v":0},0,null,null,"","",null,null,null,null,null,null,null,null,null,null,null,null,null,null,null,null,null,null,null,null,null,null,null,null,null,null,null,null,null,null,null,null,null,null,null,null,null,null,null,null,null,null,null,null,null,null,null,null,null,null,null,null,null,null,null,null,null,null,null,null,null,null,null,null,{"$f":"IF($AC1172<>\"\",IF(OR(LEFT($AC1172,2)=\"01\",LEFT($AC1172,2)=\"02\",LEFT($AC1172,2)=\"04\",LEFT($AC1172,2)=\"05\"),1,0),\"\")","v":""},""]
[null,null,1157,0,"",0,0,0,0,null,null,"","",null,null,null,null,null,null,null,null,null,null,null,null,null,null,null,null,null,null,null,null,null,null,null,null,null,null,null,null,null,null,null,null,null,null,null,null,null,null,null,null,null,null,null,null,null,null,null,null,null,null,null,null,null,null,null,null,null,null,null,null,null,null,null,null,"",""]
[null,null,1158,0,"",0,0,0,0,null,null,"","",null,null,null,null,null,null,null,null,null,null,null,null,null,null,null,null,null,null,null,null,null,null,null,null,null,null,null,null,null,null,null,null,null,null,null,null,null,null,null,null,null,null,null,null,null,null,null,null,null,null,null,null,null,null,null,null,null,null,null,null,null,null,null,null,"",""]
[null,null,1160,0,"",0,0,0,0,null,null,"","",null,null,null,null,null,null,null,null,null,null,null,null,null,null,null,null,null,null,null,null,null,null,null,null,null,null,null,null,null,null,null,null,null,null,null,null,null,null,null,null,null,null,null,null,null,null,null,null,null,null,null,null,null,null,null,null,null,null,null,null,null,null,null,null,"",""]
[null,null,1161,0,"",0,0,0,0,null,null,"","",null,null,null,null,null,null,null,null,null,null,null,null,null,null,null,null,null,null,null,null,null,null,null,null,null,null,null,null,null,null,null,null,null,null,null,null,null,null,null,null,null,null,null,null,null,null,null,null,null,null,null,null,null,null,null,null,null,null,null,null,null,null,null,null,"",""]
[null,null,1164,0,"",0,0,0,{"$f":"IF(L1182<>\"\",1,0)","v":0},null,null,{"$f":"IF(C1182<=$B$5,C1182,\"\")","v":""},"",null,null,null,null,null,null,null,null,null,null,null,null,null,null,null,null,null,null,null,null,null,null,null,null,null,null,null,null,null,null,null,null,null,null,null,null,null,null,null,null,null,null,null,null,null,null,null,null,null,null,null,null,null,null,null,null,null,null,null,null,null,null,null,null,"",""]
[null,null,1165,0,"",0,0,0,0,null,null,"","",null,null,null,null,null,null,null,null,null,null,null,null,null,null,null,null,null,null,null,null,null,null,null,null,null,null,null,null,null,null,null,null,null,null,null,null,null,null,null,null,null,null,null,null,null,null,null,null,null,null,null,null,null,null,null,null,null,null,null,null,null,null,null,null,"",""]
[null,null,1167,0,"",0,0,0,0,null,null,"","",null,null,null,null,null,null,null,null,null,null,null,null,null,null,null,null,null,null,null,null,null,null,null,null,null,null,null,null,null,null,null,null,null,null,null,null,null,null,null,null,null,null,null,null,null,null,null,null,null,null,null,null,null,null,null,null,null,null,null,null,null,null,null,null,"",""]
[null,null,1168,0,"",0,0,0,0,null,null,"","",null,null,null,null,null,null,null,null,null,null,null,null,null,null,null,null,null,null,null,null,null,null,null,null,null,null,null,null,null,null,null,null,null,null,null,null,null,null,null,null,null,null,null,null,null,null,null,null,null,null,null,null,null,null,null,null,null,null,null,null,null,null,null,null,"",""]
[null,null,1171,0,"",0,0,0,0,null,null,"","",null,null,null,null,null,null,null,null,null,null,null,null,null,null,null,null,null,null,null,null,null,null,null,null,null,null,null,null,null,null,null,null,null,null,null,null,null,null,null,null,null,null,null,null,null,null,null,null,null,null,null,null,null,null,null,null,null,null,null,null,null,null,null,null,"",""]
[null,null,1172,0,"",0,0,0,0,null,null,"","",null,null,null,null,null,null,null,null,null,null,null,null,null,null,null,null,null,null,null,null,null,null,null,null,null,null,null,null,null,null,null,null,null,null,null,null,null,null,null,null,null,null,null,null,null,null,null,null,null,null,null,null,null,null,null,null,null,null,null,null,null,null,null,null,"",""]
[null,null,1175,0,"",0,0,0,0,null,null,"","",null,null,null,null,null,null,null,null,null,null,null,null,null,null,null,null,null,null,null,null,null,null,null,null,null,null,null,null,null,null,null,null,null,null,null,null,null,null,null,null,null,null,null,null,null,null,null,null,null,null,null,null,null,null,null,null,null,null,null,null,null,null,null,null,"",""]
[null,null,1176,0,"",0,0,0,0,null,null,"","",null,null,null,null,null,null,null,null,null,null,null,null,null,null,null,null,null,null,null,null,null,null,null,null,null,null,null,null,null,null,null,null,null,null,null,null,null,null,null,null,null,null,null,null,null,null,null,null,null,null,null,null,null,null,null,null,null,null,null,null,null,null,null,null,"",""]
[null,null,1178,0,"",0,0,0,0,null,null,"","",null,null,null,null,null,null,null,null,null,null,null,null,null,null,null,null,null,null,null,null,null,null,null,null,null,null,null,null,null,null,null,null,null,null,null,null,null,null,null,null,null,null,null,null,null,null,null,null,null,null,null,null,null,null,null,null,null,null,null,null,null,null,null,null,"",""]
[null,null,1179,0,"",0,0,0,0,null,null,"","",null,null,null,null,null,null,null,null,null,null,null,null,null,null,null,null,null,null,null,null,null,null,null,null,null,null,null,null,null,null,null,null,null,null,null,null,null,null,null,null,null,null,null,null,null,null,null,null,null,null,null,null,null,null,null,null,null,null,null,null,null,null,null,null,"",""]
[null,null,1182,0,"",0,0,0,0,null,null,"","",null,null,null,null,null,null,null,null,null,null,null,null,null,null,null,null,null,null,null,null,null,null,null,null,null,null,null,null,null,null,null,null,null,null,null,null,null,null,null,null,null,null,null,null,null,null,null,null,null,null,null,null,null,null,null,null,null,null,null,null,null,null,null,null,"",""]
[null,null,1183,0,"",0,0,0,0,null,null,"","",null,null,null,null,null,null,null,null,null,null,null,null,null,null,null,null,null,null,null,null,null,null,null,null,null,null,null,null,null,null,null,null,null,null,null,null,null,null,null,null,null,null,null,null,null,null,null,null,null,null,null,null,null,null,null,null,null,null,null,null,null,null,null,null,"",""]
[null,null,1185,0,"",0,0,0,0,null,null,"","",null,null,null,null,null,null,null,null,null,null,null,null,null,null,null,null,null,null,null,null,null,null,null,null,null,null,null,null,null,null,null,null,null,null,null,null,null,null,null,null,null,null,null,null,null,null,null,null,null,null,null,null,null,null,null,null,null,null,null,null,null,null,null,null,"",""]
[null,null,1186,0,"",0,0,0,0,null,null,"","",null,null,null,null,null,null,null,null,null,null,null,null,null,null,null,null,null,null,null,null,null,null,null,null,null,null,null,null,null,null,null,null,null,null,null,null,null,null,null,null,null,null,null,null,null,null,null,null,null,null,null,null,null,null,null,null,null,null,null,null,null,null,null,null,"",""]
[null,null,1189,0,"",0,0,0,0,null,null,"","",null,null,null,null,null,null,null,null,null,null,null,null,null,null,null,null,null,null,null,null,null,null,null,null,null,null,null,null,null,null,null,null,null,null,null,null,null,null,null,null,null,null,null,null,null,null,null,null,null,null,null,null,null,null,null,null,null,null,null,null,null,null,null,null,"",""]
[null,null,1190,0,"",0,0,0,0,null,null,"","",null,null,null,null,null,null,null,null,null,null,null,null,null,null,null,null,null,null,null,null,null,null,null,null,null,null,null,null,null,null,null,null,null,null,null,null,null,null,null,null,null,null,null,null,null,null,null,null,null,null,null,null,null,null,null,null,null,null,null,null,null,null,null,null,"",""]
[null,null,1193,0,"",0,0,0,0,null,null,"","",null,null,null,null,null,null,null,null,null,null,null,null,null,null,null,null,null,null,null,null,null,null,null,null,null,null,null,null,null,null,null,null,null,null,null,null,null,null,null,null,null,null,null,null,null,null,null,null,null,null,null,null,null,null,null,null,null,null,null,null,null,null,null,null,"",""]
[null,null,1194,0,"",0,0,0,0,null,null,"","",null,null,null,null,null,null,null,null,null,null,null,null,null,null,null,null,null,null,null,null,null,null,null,null,null,null,null,null,null,null,null,null,null,null,null,null,null,null,null,null,null,null,null,null,null,null,null,null,null,null,null,null,null,null,null,null,null,null,null,null,null,null,null,null,"",""]
[null,null,1196,0,"",0,0,0,0,null,null,"","",null,null,null,null,null,null,null,null,null,null,null,null,null,null,null,null,null,null,null,null,null,null,null,null,null,null,null,null,null,null,null,null,null,null,null,null,null,null,null,null,null,null,null,null,null,null,null,null,null,null,null,null,null,null,null,null,null,null,null,null,null,null,null,null,"",""]
[null,null,1197,0,"",0,0,0,0,null,null,"","",null,null,null,null,null,null,null,null,null,null,null,null,null,null,null,null,null,null,null,null,null,null,null,null,null,null,null,null,null,null,null,null,null,null,null,null,null,null,null,null,null,null,null,null,null,null,null,null,null,null,null,null,null,null,null,null,null,null,null,null,null,null,null,null,"",""]
[null,null,1200,0,"",0,0,0,0,null,null,"","",null,null,null,null,null,null,null,null,null,null,null,null,null,null,null,null,null,null,null,null,null,null,null,null,null,null,null,null,null,null,null,null,null,null,null,null,null,null,null,null,null,null,null,null,null,null,null,null,null,null,null,null,null,null,null,null,null,null,null,null,null,null,null,null,"",""]
[null,null,1201,0,"",0,0,0,0,null,null,"","",null,null,null,null,null,null,null,null,null,null,null,null,null,null,null,null,null,null,null,null,null,null,null,null,null,null,null,null,null,null,null,null,null,null,null,null,null,null,null,null,null,null,null,null,null,null,null,null,null,null,null,null,null,null,null,null,null,null,null,null,null,null,null,null,"",""]
[null,null,1203,0,"",0,0,0,0,null,null,"","",null,null,null,null,null,null,null,null,null,null,null,null,null,null,null,null,null,null,null,null,null,null,null,null,null,null,null,null,null,null,null,null,null,null,null,null,null,null,null,null,null,null,null,null,null,null,null,null,null,null,null,null,null,null,null,null,null,null,null,null,null,null,null,null,"",""]
[null,null,1204,0,"",0,0,0,0,null,null,"","",null,null,null,null,null,null,null,null,null,null,null,null,null,null,null,null,null,null,null,null,null,null,null,null,null,null,null,null,null,null,null,null,null,null,null,null,null,null,null,null,null,null,null,null,null,null,null,null,null,null,null,null,null,null,null,null,null,null,null,null,null,null,null,null,"",""]
[null,null,1207,0,"",0,0,0,0,null,null,"","",null,null,null,null,null,null,null,null,null,null,null,null,null,null,null,null,null,null,null,null,null,null,null,null,null,null,null,null,null,null,null,null,null,null,null,null,null,null,null,null,null,null,null,null,null,null,null,null,null,null,null,null,null,null,null,null,null,null,null,null,null,null,null,null,"",""]
[null,null,1208,0,"",0,0,0,0,null,null,"","",null,null,null,null,null,null,null,null,null,null,null,null,null,null,null,null,null,null,null,null,null,null,null,null,null,null,null,null,null,null,null,null,null,null,null,null,null,null,null,null,null,null,null,null,null,null,null,null,null,null,null,null,null,null,null,null,null,null,null,null,null,null,null,null,"",""]
[null,null,1211,0,"",0,0,0,0,null,null,"","",null,null,null,null,null,null,null,null,null,null,null,null,null,null,null,null,null,null,null,null,null,null,null,null,null,null,null,null,null,null,null,null,null,null,null,null,null,null,null,null,null,null,null,null,null,null,null,null,null,null,null,null,null,null,null,null,null,null,null,null,null,null,null,null,"",""]
[null,null,1212,0,"",0,0,0,0,null,null,"","",null,null,null,null,null,null,null,null,null,null,null,null,null,null,null,null,null,null,null,null,null,null,null,null,null,null,null,null,null,null,null,null,null,null,null,null,null,null,null,null,null,null,null,null,null,null,null,null,null,null,null,null,null,null,null,null,null,null,null,null,null,null,null,null,"",""]
[null,null,1214,0,"",0,0,0,0,null,null,"","",null,null,null,null,null,null,null,null,null,null,null,null,null,null,null,null,null,null,null,null,null,null,null,null,null,null,null,null,null,null,null,null,null,null,null,null,null,null,null,null,null,null,null,null,null,null,null,null,null,null,null,null,null,null,null,null,null,null,null,null,null,null,null,null,"",""]
[null,null,1215,0,"",0,0,0,0,null,null,"","",null,null,null,null,null,null,null,null,null,null,null,null,null,null,null,null,null,null,null,null,null,null,null,null,null,null,null,null,null,null,null,null,null,null,null,null,null,null,null,null,null,null,null,null,null,null,null,null,null,null,null,null,null,null,null,null,null,null,null,null,null,null,null,null,"",""]
[null,null,1218,0,{"$f":"$B$16","v":""},{"$f":"COUNTIF(AR1236:BA1236,\"X\")","v":0},{"$f":"IF(T1236<>\"\",VALUE(LEFT(T1236,2)),0)","v":0},{"$f":"IF(S1236<>\"\",COUNTIF($S$19:$S$1523,S1236),0)","v":0},0,null,null,"","",null,null,null,null,null,null,null,null,null,null,null,null,null,null,null,null,null,null,null,null,null,null,null,null,null,null,null,null,null,null,null,null,null,null,null,null,null,null,null,null,null,null,null,null,null,null,null,null,null,null,null,null,null,null,null,null,null,null,null,null,null,null,null,null,{"$f":"IF($AC1236<>\"\",IF(OR(LEFT($AC1236,2)=\"01\",LEFT($AC1236,2)=\"02\",LEFT($AC1236,2)=\"04\",LEFT($AC1236,2)=\"05\"),1,0),\"\")","v":""},""]
[null,null,1219,0,"",0,0,0,0,null,null,"","",null,null,null,null,null,null,null,null,null,null,null,null,null,null,null,null,null,null,null,null,null,null,null,null,null,null,null,null,null,null,null,null,null,null,null,null,null,null,null,null,null,null,null,null,null,null,null,null,null,null,null,null,null,null,null,null,null,null,null,null,null,null,null,null,"",""]
[null,null,1221,0,"",0,0,0,0,null,null,"","",null,null,null,null,null,null,null,null,null,null,null,null,null,null,null,null,null,null,null,null,null,null,null,null,null,null,null,null,null,null,null,null,null,null,null,null,null,null,null,null,null,null,null,null,null,null,null,null,null,null,null,null,null,null,null,null,null,null,null,null,null,null,null,null,"",""]
[null,null,1222,0,"",0,0,0,0,null,null,"","",null,null,null,null,null,null,null,null,null,null,null,null,null,null,null,null,null,null,null,null,null,null,null,null,null,null,null,null,null,null,null,null,null,null,null,null,null,null,null,null,null,null,null,null,null,null,null,null,null,null,null,null,null,null,null,null,null,null,null,null,null,null,null,null,"",""]
[null,null,1225,0,"",0,0,0,0,null,null,"","",null,null,null,null,null,null,null,null,null,null,null,null,null,null,null,null,null,null,null,null,null,null,null,null,null,null,null,null,null,null,null,null,null,null,null,null,null,null,null,null,null,null,null,null,null,null,null,null,null,null,null,null,null,null,null,null,null,null,null,null,null,null,null,null,"",""]
[null,null,1226,0,"",0,0,0,0,null,null,"","",null,null,null,null,null,null,null,null,null,null,null,null,null,null,null,null,null,null,null,null,null,null,null,null,null,null,null,null,null,null,null,null,null,null,null,null,null,null,null,null,null,null,null,null,null,null,null,null,null,null,null,null,null,null,null,null,null,null,null,null,null,null,null,null,"",""]
[null,null,1229,0,"",0,0,0,0,null,null,"","",null,null,null,null,null,null,null,null,null,null,null,null,null,null,null,null,null,null,null,null,null,null,null,null,null,null,null,null,null,null,null,null,null,null,null,null,null,null,null,null,null,null,null,null,null,null,null,null,null,null,null,null,null,null,null,null,null,null,null,null,null,null,null,null,"",""]
[null,null,1230,0,"",0,0,0,0,null,null,"","",null,null,null,null,null,null,null,null,null,null,null,null,null,null,null,null,null,null,null,null,null,null,null,null,null,null,null,null,null,null,null,null,null,null,null,null,null,null,null,null,null,null,null,null,null,null,null,null,null,null,null,null,null,null,null,null,null,null,null,null,null,null,null,null,"",""]
[null,null,1232,0,"",0,0,0,0,null,null,"","",null,null,null,null,null,null,null,null,null,null,null,null,null,null,null,null,null,null,null,null,null,null,null,null,null,null,null,null,null,null,null,null,null,null,null,null,null,null,null,null,null,null,null,null,null,null,null,null,null,null,null,null,null,null,null,null,null,null,null,null,null,null,null,null,"",""]
[null,null,1233,0,"",0,0,0,0,null,null,"","",null,null,null,null,null,null,null,null,null,null,null,null,null,null,null,null,null,null,null,null,null,null,null,null,null,null,null,null,null,null,null,null,null,null,null,null,null,null,null,null,null,null,null,null,null,null,null,null,null,null,null,null,null,null,null,null,null,null,null,null,null,null,null,null,"",""]
[null,null,1236,0,"",0,0,0,0,null,null,"","",null,null,null,null,null,null,null,null,null,null,null,null,null,null,null,null,null,null,null,null,null,null,null,null,null,null,null,null,null,null,null,null,null,null,null,null,null,null,null,null,null,null,null,null,null,null,null,null,null,null,null,null,null,null,null,null,null,null,null,null,null,null,null,null,"",""]
[null,null,1237,0,"",0,0,0,0,null,null,"","",null,null,null,null,null,null,null,null,null,null,null,null,null,null,null,null,null,null,null,null,null,null,null,null,null,null,null,null,null,null,null,null,null,null,null,null,null,null,null,null,null,null,null,null,null,null,null,null,null,null,null,null,null,null,null,null,null,null,null,null,null,null,null,null,"",""]
[null,null,1239,0,"",0,0,0,0,null,null,"","",null,null,null,null,null,null,null,null,null,null,null,null,null,null,null,null,null,null,null,null,null,null,null,null,null,null,null,null,null,null,null,null,null,null,null,null,null,null,null,null,null,null,null,null,null,null,null,null,null,null,null,null,null,null,null,null,null,null,null,null,null,null,null,null,"",""]
[null,null,1240,0,"",0,0,0,0,null,null,"","",null,null,null,null,null,null,null,null,null,null,null,null,null,null,null,null,null,null,null,null,null,null,null,null,null,null,null,null,null,null,null,null,null,null,null,null,null,null,null,null,null,null,null,null,null,null,null,null,null,null,null,null,null,null,null,null,null,null,null,null,null,null,null,null,"",""]
[null,null,1243,0,"",0,0,0,0,null,null,"","",null,null,null,null,null,null,null,null,null,null,null,null,null,null,null,null,null,null,null,null,null,null,null,null,null,null,null,null,null,null,null,null,null,null,null,null,null,null,null,null,null,null,null,null,null,null,null,null,null,null,null,null,null,null,null,null,null,null,null,null,null,null,null,null,"",""]
[null,null,1244,0,"",0,0,0,0,null,null,"","",null,null,null,null,null,null,null,null,null,null,null,null,null,null,null,null,null,null,null,null,null,null,null,null,null,null,null,null,null,null,null,null,null,null,null,null,null,null,null,null,null,null,null,null,null,null,null,null,null,null,null,null,null,null,null,null,null,null,null,null,null,null,null,null,"",""]
[null,null,1247,0,"",0,0,0,0,null,null,"","",null,null,null,null,null,null,null,null,null,null,null,null,null,null,null,null,null,null,null,null,null,null,null,null,null,null,null,null,null,null,null,null,null,null,null,null,null,null,null,null,null,null,null,null,null,null,null,null,null,null,null,null,null,null,null,null,null,null,null,null,null,null,null,null,"",""]
[null,null,1248,0,"",0,0,0,0,null,null,"","",null,null,null,null,null,null,null,null,null,null,null,null,null,null,null,null,null,null,null,null,null,null,null,null,null,null,null,null,null,null,null,null,null,null,null,null,null,null,null,null,null,null,null,null,null,null,null,null,null,null,null,null,null,null,null,null,null,null,null,null,null,null,null,null,"",""]
[null,null,1250,0,"",0,0,0,0,null,null,"","",null,null,null,null,null,null,null,null,null,null,null,null,null,null,null,null,null,null,null,null,null,null,null,null,null,null,null,null,null,null,null,null,null,null,null,null,null,null,null,null,null,null,null,null,null,null,null,null,null,null,null,null,null,null,null,null,null,null,null,null,null,null,null,null,"",""]
[null,null,1251,0,"",0,0,0,0,null,null,"","",null,null,null,null,null,null,null,null,null,null,null,null,null,null,null,null,null,null,null,null,null,null,null,null,null,null,null,null,null,null,null,null,null,null,null,null,null,null,null,null,null,null,null,null,null,null,null,null,null,null,null,null,null,null,null,null,null,null,null,null,null,null,null,null,"",""]
[null,null,1254,0,"",0,0,0,0,null,null,"","",null,null,null,null,null,null,null,null,null,null,null,null,null,null,null,null,null,null,null,null,null,null,null,null,null,null,null,null,null,null,null,null,null,null,null,null,null,null,null,null,null,null,null,null,null,null,null,null,null,null,null,null,null,null,null,null,null,null,null,null,null,null,null,null,"",""]
[null,null,1255,0,"",0,0,0,0,null,null,"","",null,null,null,null,null,null,null,null,null,null,null,null,null,null,null,null,null,null,null,null,null,null,null,null,null,null,null,null,null,null,null,null,null,null,null,null,null,null,null,null,null,null,null,null,null,null,null,null,null,null,null,null,null,null,null,null,null,null,null,null,null,null,null,null,"",""]
[null,null,1257,0,"",0,0,0,0,null,null,"","",null,null,null,null,null,null,null,null,null,null,null,null,null,null,null,null,null,null,null,null,null,null,null,null,null,null,null,null,null,null,null,null,null,null,null,null,null,null,null,null,null,null,null,null,null,null,null,null,null,null,null,null,null,null,null,null,null,null,null,null,null,null,null,null,"",""]
[null,null,1258,0,"",0,0,0,0,null,null,"","",null,null,null,null,null,null,null,null,null,null,null,null,null,null,null,null,null,null,null,null,null,null,null,null,null,null,null,null,null,null,null,null,null,null,null,null,null,null,null,null,null,null,null,null,null,null,null,null,null,null,null,null,null,null,null,null,null,null,null,null,null,null,null,null,"",""]
[null,null,1261,0,"",0,0,0,0,null,null,"","",null,null,null,null,null,null,null,null,null,null,null,null,null,null,null,null,null,null,null,null,null,null,null,null,null,null,null,null,null,null,null,null,null,null,null,null,null,null,null,null,null,null,null,null,null,null,null,null,null,null,null,null,null,null,null,null,null,null,null,null,null,null,null,null,"",""]
[null,null,1262,0,"",0,0,0,0,null,null,"","",null,null,null,null,null,null,null,null,null,null,null,null,null,null,null,null,null,null,null,null,null,null,null,null,null,null,null,null,null,null,null,null,null,null,null,null,null,null,null,null,null,null,null,null,null,null,null,null,null,null,null,null,null,null,null,null,null,null,null,null,null,null,null,null,"",""]
[null,null,1265,0,"",0,0,0,0,null,null,"","",null,null,null,null,null,null,null,null,null,null,null,null,null,null,null,null,null,null,null,null,null,null,null,null,null,null,null,null,null,null,null,null,null,null,null,null,null,null,null,null,null,null,null,null,null,null,null,null,null,null,null,null,null,null,null,null,null,null,null,null,null,null,null,null,"",""]
[null,null,1266,0,"",0,0,0,0,null,null,"","",null,null,null,null,null,null,null,null,null,null,null,null,null,null,null,null,null,null,null,null,null,null,null,null,null,null,null,null,null,null,null,null,null,null,null,null,null,null,null,null,null,null,null,null,null,null,null,null,null,null,null,null,null,null,null,null,null,null,null,null,null,null,null,null,"",""]
[null,null,1268,0,"",0,0,0,0,null,null,"","",null,null,null,null,null,null,null,null,null,null,null,null,null,null,null,null,null,null,null,null,null,null,null,null,null,null,null,null,null,null,null,null,null,null,null,null,null,null,null,null,null,null,null,null,null,null,null,null,null,null,null,null,null,null,null,null,null,null,null,null,null,null,null,null,"",""]
[null,null,1269,0,"",0,0,0,0,null,null,"","",null,null,null,null,null,null,null,null,null,null,null,null,null,null,null,null,null,null,null,null,null,null,null,null,null,null,null,null,null,null,null,null,null,null,null,null,null,null,null,null,null,null,null,null,null,null,null,null,null,null,null,null,null,null,null,null,null,null,null,null,null,null,null,null,"",""]
[null,null,1272,0,"",0,0,0,0,null,null,"","",null,null,null,null,null,null,null,null,null,null,null,null,null,null,null,null,null,null,null,null,null,null,null,null,null,null,null,null,null,null,null,null,null,null,null,null,null,null,null,null,null,null,null,null,null,null,null,null,null,null,null,null,null,null,null,null,null,null,null,null,null,null,null,null,"",""]
[null,null,1273,0,"",0,0,0,0,null,null,"","",null,null,null,null,null,null,null,null,null,null,null,null,null,null,null,null,null,null,null,null,null,null,null,null,null,null,null,null,null,null,null,null,null,null,null,null,null,null,null,null,null,null,null,null,null,null,null,null,null,null,null,null,null,null,null,null,null,null,null,null,null,null,null,null,"",""]
[null,null,1275,0,"",0,0,0,0,null,null,"","",null,null,null,null,null,null,null,null,null,null,null,null,null,null,null,null,null,null,null,null,null,null,null,null,null,null,null,null,null,null,null,null,null,null,null,null,null,null,null,null,null,null,null,null,null,null,null,null,null,null,null,null,null,null,null,null,null,null,null,null,null,null,null,null,"",""]
[null,null,1276,0,"",0,0,0,0,null,null,"","",null,null,null,null,null,null,null,null,null,null,null,null,null,null,null,null,null,null,null,null,null,null,null,null,null,null,null,null,null,null,null,null,null,null,null,null,null,null,null,null,null,null,null,null,null,null,null,null,null,null,null,null,null,null,null,null,null,null,null,null,null,null,null,null,"",""]
[null,null,1279,0,"",0,0,0,0,null,null,"","",null,null,null,null,null,null,null,null,null,null,null,null,null,null,null,null,null,null,null,null,null,null,null,null,null,null,null,null,null,null,null,null,null,null,null,null,null,null,null,null,null,null,null,null,null,null,null,null,null,null,null,null,null,null,null,null,null,null,null,null,null,null,null,null,"",""]
[null,null,1280,0,"",0,0,0,0,null,null,"","",null,null,null,null,null,null,null,null,null,null,null,null,null,null,null,null,null,null,null,null,null,null,null,null,null,null,null,null,null,null,null,null,null,null,null,null,null,null,null,null,null,null,null,null,null,null,null,null,null,null,null,null,null,null,null,null,null,null,null,null,null,null,null,null,"",""]
[null,null,1283,0,"",0,0,0,0,null,null,"","",null,null,null,null,null,null,null,null,null,null,null,null,null,null,null,null,null,null,null,null,null,null,null,null,null,null,null,null,null,null,null,null,null,null,null,null,null,null,null,null,null,null,null,null,null,null,null,null,null,null,null,null,null,null,null,null,null,null,null,null,null,null,null,null,"",""]
[null,null,1284,0,"",0,0,0,0,null,null,"","",null,null,null,null,null,null,null,null,null,null,null,null,null,null,null,null,null,null,null,null,null,null,null,null,null,null,null,null,null,null,null,null,null,null,null,null,null,null,null,null,null,null,null,null,null,null,null,null,null,null,null,null,null,null,null,null,null,null,null,null,null,null,null,null,"",""]
[null,null,1286,0,"",0,0,0,0,null,null,"","",null,null,null,null,null,null,null,null,null,null,null,null,null,null,null,null,null,null,null,null,null,null,null,null,null,null,null,null,null,null,null,null,null,null,null,null,null,null,null,null,null,null,null,null,null,null,null,null,null,null,null,null,null,null,null,null,null,null,null,null,null,null,null,null,"",""]
[null,null,1287,0,"",0,0,0,0,null,null,"","",null,null,null,null,null,null,null,null,null,null,null,null,null,null,null,null,null,null,null,null,null,null,null,null,null,null,null,null,null,null,null,null,null,null,null,null,null,null,null,null,null,null,null,null,null,null,null,null,null,null,null,null,null,null,null,null,null,null,null,null,null,null,null,null,"",""]
[null,null,1290,0,"",0,0,0,0,null,null,"","",null,null,null,null,null,null,null,null,null,null,null,null,null,null,null,null,null,null,null,null,null,null,null,null,null,null,null,null,null,null,null,null,null,null,null,null,null,null,null,null,null,null,null,null,null,null,null,null,null,null,null,null,null,null,null,null,null,null,null,null,null,null,null,null,"",""]
[null,null,1291,0,"",0,0,0,0,null,null,"","",null,null,null,null,null,null,null,null,null,null,null,null,null,null,null,null,null,null,null,null,null,null,null,null,null,null,null,null,null,null,null,null,null,null,null,null,null,null,null,null,null,null,null,null,null,null,null,null,null,null,null,null,null,null,null,null,null,null,null,null,null,null,null,null,"",""]
[null,null,1293,0,"",0,0,0,0,null,null,"","",null,null,null,null,null,null,null,null,null,null,null,null,null,null,null,null,null,null,null,null,null,null,null,null,null,null,null,null,null,null,null,null,null,null,null,null,null,null,null,null,null,null,null,null,null,null,null,null,null,null,null,null,null,null,null,null,null,null,null,null,null,null,null,null,"",""]
[null,null,1294,0,"",0,0,0,0,null,null,"","",null,null,null,null,null,null,null,null,null,null,null,null,null,null,null,null,null,null,null,null,null,null,null,null,null,null,null,null,null,null,null,null,null,null,null,null,null,null,null,null,null,null,null,null,null,null,null,null,null,null,null,null,null,null,null,null,null,null,null,null,null,null,null,null,"",""]
[null,null,1297,0,"",0,0,0,0,null,null,"","",null,null,null,null,null,null,null,null,null,null,null,null,null,null,null,null,null,null,null,null,null,null,null,null,null,null,null,null,null,null,null,null,null,null,null,null,null,null,null,null,null,null,null,null,null,null,null,null,null,null,null,null,null,null,null,null,null,null,null,null,null,null,null,null,"",""]
[null,null,1298,0,"",0,0,0,0,null,null,"","",null,null,null,null,null,null,null,null,null,null,null,null,null,null,null,null,null,null,null,null,null,null,null,null,null,null,null,null,null,null,null,null,null,null,null,null,null,null,null,null,null,null,null,null,null,null,null,null,null,null,null,null,null,null,null,null,null,null,null,null,null,null,null,null,"",""]
[null,null,1301,0,"",0,0,0,0,null,null,"","",null,null,null,null,null,null,null,null,null,null,null,null,null,null,null,null,null,null,null,null,null,null,null,null,null,null,null,null,null,null,null,null,null,null,null,null,null,null,null,null,null,null,null,null,null,null,null,null,null,null,null,null,null,null,null,null,null,null,null,null,null,null,null,null,"",""]
[null,null,1302,0,"",0,0,0,0,null,null,"","",null,null,null,null,null,null,null,null,null,null,null,null,null,null,null,null,null,null,null,null,null,null,null,null,null,null,null,null,null,null,null,null,null,null,null,null,null,null,null,null,null,null,null,null,null,null,null,null,null,null,null,null,null,null,null,null,null,null,null,null,null,null,null,null,"",""]
[null,null,1304,0,"",0,0,0,0,null,null,"","",null,null,null,null,null,null,null,null,null,null,null,null,null,null,null,null,null,null,null,null,null,null,null,null,null,null,null,null,null,null,null,null,null,null,null,null,null,null,null,null,null,null,null,null,null,null,null,null,null,null,null,null,null,null,null,null,null,null,null,null,null,null,null,null,"",""]
[null,null,1305,0,"",0,0,0,0,null,null,"","",null,null,null,null,null,null,null,null,null,null,null,null,null,null,null,null,null,null,null,null,null,null,null,null,null,null,null,null,null,null,null,null,null,null,null,null,null,null,null,null,null,null,null,null,null,null,null,null,null,null,null,null,null,null,null,null,null,null,null,null,null,null,null,null,"",""]
[null,null,1308,0,"",0,0,0,0,null,null,"","",null,null,null,null,null,null,null,null,null,null,null,null,null,null,null,null,null,null,null,null,null,null,null,null,null,null,null,null,null,null,null,null,null,null,null,null,null,null,null,null,null,null,null,null,null,null,null,null,null,null,null,null,null,null,null,null,null,null,null,null,null,null,null,null,"",""]
[null,null,1309,0,"",0,0,0,0,null,null,"","",null,null,null,null,null,null,null,null,null,null,null,null,null,null,null,null,null,null,null,null,null,null,null,null,null,null,null,null,null,null,null,null,null,null,null,null,null,null,null,null,null,null,null,null,null,null,null,null,null,null,null,null,null,null,null,null,null,null,null,null,null,null,null,null,"",""]
[null,null,1311,0,"",0,0,0,0,null,null,"","",null,null,null,null,null,null,null,null,null,null,null,null,null,null,null,null,null,null,null,null,null,null,null,null,null,null,null,null,null,null,null,null,null,null,null,null,null,null,null,null,null,null,null,null,null,null,null,null,null,null,null,null,null,null,null,null,null,null,null,null,null,null,null,null,"",""]
[null,null,1312,0,"",0,0,0,0,null,null,"","",null,null,null,null,null,null,null,null,null,null,null,null,null,null,null,null,null,null,null,null,null,null,null,null,null,null,null,null,null,null,null,null,null,null,null,null,null,null,null,null,null,null,null,null,null,null,null,null,null,null,null,null,null,null,null,null,null,null,null,null,null,null,null,null,"",""]
[null,null,1315,0,"",0,0,0,0,null,null,"","",null,null,null,null,null,null,null,null,null,null,null,null,null,null,null,null,null,null,null,null,null,null,null,null,null,null,null,null,null,null,null,null,null,null,null,null,null,null,null,null,null,null,null,null,null,null,null,null,null,null,null,null,null,null,null,null,null,null,null,null,null,null,null,null,"",""]
[null,null,1316,0,"",0,0,0,0,null,null,"","",null,null,null,null,null,null,null,null,null,null,null,null,null,null,null,null,null,null,null,null,null,null,null,null,null,null,null,null,null,null,null,null,null,null,null,null,null,null,null,null,null,null,null,null,null,null,null,null,null,null,null,null,null,null,null,null,null,null,null,null,null,null,null,null,"",""]
[null,null,1319,0,"",0,0,0,0,null,null,"","",null,null,null,null,null,null,null,null,null,null,null,null,null,null,null,null,null,null,null,null,null,null,null,null,null,null,null,null,null,null,null,null,null,null,null,null,null,null,null,null,null,null,null,null,null,null,null,null,null,null,null,null,null,null,null,null,null,null,null,null,null,null,null,null,"",""]
[null,null,1320,0,"",0,0,0,0,null,null,"","",null,null,null,null,null,null,null,null,null,null,null,null,null,null,null,null,null,null,null,null,null,null,null,null,null,null,null,null,null,null,null,null,null,null,null,null,null,null,null,null,null,null,null,null,null,null,null,null,null,null,null,null,null,null,null,null,null,null,null,null,null,null,null,null,"",""]
[null,null,1322,0,"",0,0,0,0,null,null,"","",null,null,null,null,null,null,null,null,null,null,null,null,null,null,null,null,null,null,null,null,null,null,null,null,null,null,null,null,null,null,null,null,null,null,null,null,null,null,null,null,null,null,null,null,null,null,null,null,null,null,null,null,null,null,null,null,null,null,null,null,null,null,null,null,"",""]
[null,null,1323,0,"",0,0,0,0,null,null,"","",null,null,null,null,null,null,null,null,null,null,null,null,null,null,null,null,null,null,null,null,null,null,null,null,null,null,null,null,null,null,null,null,null,null,null,null,null,null,null,null,null,null,null,null,null,null,null,null,null,null,null,null,null,null,null,null,null,null,null,null,null,null,null,null,"",""]
[null,null,1326,0,"",0,0,0,0,null,null,"","",null,null,null,null,null,null,null,null,null,null,null,null,null,null,null,null,null,null,null,null,null,null,null,null,null,null,null,null,null,null,null,null,null,null,null,null,null,null,null,null,null,null,null,null,null,null,null,null,null,null,null,null,null,null,null,null,null,null,null,null,null,null,null,null,"",""]
[null,null,1327,0,"",0,0,0,0,null,null,"","",null,null,null,null,null,null,null,null,null,null,null,null,null,null,null,null,null,null,null,null,null,null,null,null,null,null,null,null,null,null,null,null,null,null,null,null,null,null,null,null,null,null,null,null,null,null,null,null,null,null,null,null,null,null,null,null,null,null,null,null,null,null,null,null,"",""]
[null,null,1329,0,"",0,0,0,0,null,null,"","",null,null,null,null,null,null,null,null,null,null,null,null,null,null,null,null,null,null,null,null,null,null,null,null,null,null,null,null,null,null,null,null,null,null,null,null,null,null,null,null,null,null,null,null,null,null,null,null,null,null,null,null,null,null,null,null,null,null,null,null,null,null,null,null,"",""]
[null,null,1330,0,"",0,0,0,0,null,null,"","",null,null,null,null,null,null,null,null,null,null,null,null,null,null,null,null,null,null,null,null,null,null,null,null,null,null,null,null,null,null,null,null,null,null,null,null,null,null,null,null,null,null,null,null,null,null,null,null,null,null,null,null,null,null,null,null,null,null,null,null,null,null,null,null,"",""]
[null,null,1333,0,"",0,0,0,0,null,null,"","",null,null,null,null,null,null,null,null,null,null,null,null,null,null,null,null,null,null,null,null,null,null,null,null,null,null,null,null,null,null,null,null,null,null,null,null,null,null,null,null,null,null,null,null,null,null,null,null,null,null,null,null,null,null,null,null,null,null,null,null,null,null,null,null,"",""]
[null,null,1334,0,"",0,0,0,0,null,null,"","",null,null,null,null,null,null,null,null,null,null,null,null,null,null,null,null,null,null,null,null,null,null,null,null,null,null,null,null,null,null,null,null,null,null,null,null,null,null,null,null,null,null,null,null,null,null,null,null,null,null,null,null,null,null,null,null,null,null,null,null,null,null,null,null,"",""]
[null,null,1337,0,"",0,0,0,0,null,null,"","",null,null,null,null,null,null,null,null,null,null,null,null,null,null,null,null,null,null,null,null,null,null,null,null,null,null,null,null,null,null,null,null,null,null,null,null,null,null,null,null,null,null,null,null,null,null,null,null,null,null,null,null,null,null,null,null,null,null,null,null,null,null,null,null,"",""]
[null,null,1338,0,"",0,0,0,0,null,null,"","",null,null,null,null,null,null,null,null,null,null,null,null,null,null,null,null,null,null,null,null,null,null,null,null,null,null,null,null,null,null,null,null,null,null,null,null,null,null,null,null,null,null,null,null,null,null,null,null,null,null,null,null,null,null,null,null,null,null,null,null,null,null,null,null,"",""]
[null,null,1340,0,"",0,0,0,0,null,null,"","",null,null,null,null,null,null,null,null,null,null,null,null,null,null,null,null,null,null,null,null,null,null,null,null,null,null,null,null,null,null,null,null,null,null,null,null,null,null,null,null,null,null,null,null,null,null,null,null,null,null,null,null,null,null,null,null,null,null,null,null,null,null,null,null,"",""]
[null,null,1341,0,"",0,0,0,0,null,null,"","",null,null,null,null,null,null,null,null,null,null,null,null,null,null,null,null,null,null,null,null,null,null,null,null,null,null,null,null,null,null,null,null,null,null,null,null,null,null,null,null,null,null,null,null,null,null,null,null,null,null,null,null,null,null,null,null,null,null,null,null,null,null,null,null,"",""]
[null,null,1344,0,"",0,0,0,0,null,null,"","",null,null,null,null,null,null,null,null,null,null,null,null,null,null,null,null,null,null,null,null,null,null,null,null,null,null,null,null,null,null,null,null,null,null,null,null,null,null,null,null,null,null,null,null,null,null,null,null,null,null,null,null,null,null,null,null,null,null,null,null,null,null,null,null,"",""]
[null,null,1345,{"$f":"IF(AND(LEFT(T1363,2)=\"01\",LEFT(Z1363,2)=\"01\",LEFT(AA1363,2)=\"01\",E1363=1),1,0)","v":0},"",0,0,0,0,null,null,"",{"$f":"IF(ISERROR(VLOOKUP(N1363,Locales,2,FALSE)),\"\",VLOOKUP(N1363,Locales,2,FALSE))","v":""},null,null,null,null,null,null,null,null,null,null,null,null,null,null,null,null,null,null,null,null,null,null,null,null,null,null,null,null,null,null,null,null,null,null,null,null,null,null,null,null,null,null,null,null,null,null,null,null,null,null,null,null,null,null,null,null,null,null,null,null,null,null,null,null,"",""]
[null,null,1347,0,"",0,0,0,0,null,null,"","",null,null,null,null,null,null,null,null,null,null,null,null,null,null,null,null,null,null,null,null,null,null,null,null,null,null,null,null,null,null,null,null,null,null,null,null,null,null,null,null,null,null,null,null,null,null,null,null,null,null,null,null,null,null,null,null,null,null,null,null,null,null,null,null,"",""]
[null,null,1348,0,"",0,0,0,0,null,null,"","",null,null,null,null,null,null,null,null,null,null,null,null,null,null,null,null,null,null,null,null,null,null,null,null,null,null,null,null,null,null,null,null,null,null,null,null,null,null,null,null,null,null,null,null,null,null,null,null,null,null,null,null,null,null,null,null,null,null,null,null,null,null,null,null,"",""]
[null,null,1351,0,"",0,0,0,0,null,null,"","",null,null,null,null,null,null,null,null,null,null,null,null,null,null,null,null,null,null,null,null,null,null,null,null,null,null,null,null,null,null,null,null,null,null,null,null,null,null,null,null,null,null,null,null,null,null,null,null,null,null,null,null,null,null,null,null,null,null,null,null,null,null,null,null,"",""]
[null,null,1352,0,"",0,0,0,0,null,null,"","",null,null,null,null,null,null,null,null,null,null,null,null,null,null,null,null,null,null,null,null,null,null,null,null,null,null,null,null,null,null,null,null,null,null,null,null,null,null,null,null,null,null,null,null,null,null,null,null,null,null,null,null,null,null,null,null,null,null,null,null,null,null,null,null,"",""]
[null,null,1355,0,"",0,0,0,0,null,null,"","",null,null,null,null,null,null,null,null,null,null,null,null,null,null,null,null,null,null,null,null,null,null,null,null,null,null,null,null,null,null,null,null,null,null,null,null,null,null,null,null,null,null,null,null,null,null,null,null,null,null,null,null,null,null,null,null,null,null,null,null,null,null,null,null,"",""]
[null,null,1356,0,"",0,0,0,{"$f":"IF(L1374<>\"\",1,0)","v":0},null,null,{"$f":"IF(C1374<=$B$5,C1374,\"\")","v":""},"",null,null,null,null,null,null,null,null,null,null,null,null,null,null,null,null,null,null,null,null,null,null,null,null,null,null,null,null,null,null,null,null,null,null,null,null,null,null,null,null,null,null,null,null,null,null,null,null,null,null,null,null,null,null,null,null,null,null,null,null,null,null,null,null,"",""]
[null,null,1358,0,"",0,0,0,0,null,null,"","",null,null,null,null,null,null,null,null,null,null,null,null,null,null,null,null,null,null,null,null,null,null,null,null,null,null,null,null,null,null,null,null,null,null,null,null,null,null,null,null,null,null,null,null,null,null,null,null,null,null,null,null,null,null,null,null,null,null,null,null,null,null,null,null,"",""]
[null,null,1359,0,"",0,0,0,0,null,null,"","",null,null,null,null,null,null,null,null,null,null,null,null,null,null,null,null,null,null,null,null,null,null,null,null,null,null,null,null,null,null,null,null,null,null,null,null,null,null,null,null,null,null,null,null,null,null,null,null,null,null,null,null,null,null,null,null,null,null,null,null,null,null,null,null,"",""]
[null,null,1362,0,"",0,0,0,0,null,null,"","",null,null,null,null,null,null,null,null,null,null,null,null,null,null,null,null,null,null,null,null,null,null,null,null,null,null,null,null,null,null,null,null,null,null,null,null,null,null,null,null,null,null,null,null,null,null,null,null,null,null,null,null,null,null,null,null,null,null,null,null,null,null,null,null,"",""]
[null,null,1363,0,"",0,0,0,0,null,null,"","",null,null,null,null,null,null,null,null,null,null,null,null,null,null,null,null,null,null,null,null,null,null,null,null,null,null,null,null,null,null,null,null,null,null,null,null,null,null,null,null,null,null,null,null,null,null,null,null,null,null,null,null,null,null,null,null,null,null,null,null,null,null,null,null,"",""]
[null,null,1365,0,"",0,0,0,0,null,null,"","",null,null,null,null,null,null,null,null,null,null,null,null,null,null,null,null,null,null,null,null,null,null,null,null,null,null,null,null,null,null,null,null,null,null,null,null,null,null,null,null,null,null,null,null,null,null,null,null,null,null,null,null,null,null,null,null,null,null,null,null,null,null,null,null,"",""]
[null,null,1366,0,"",0,0,0,0,null,null,"","",null,null,null,null,null,null,null,null,null,null,null,null,null,null,null,null,null,null,null,null,null,null,null,null,null,null,null,null,null,null,null,null,null,null,null,null,null,null,null,null,null,null,null,null,null,null,null,null,null,null,null,null,null,null,null,null,null,null,null,null,null,null,null,null,"",""]
[null,null,1369,0,"",0,0,0,0,null,null,"","",null,null,null,null,null,null,null,null,null,null,null,null,null,null,null,null,null,null,null,null,null,null,null,null,null,null,null,null,null,null,null,null,null,null,null,null,null,null,null,null,null,null,null,null,null,null,null,null,null,null,null,null,null,null,null,null,null,null,null,null,null,null,null,null,"",""]
[null,null,1370,0,"",0,0,0,0,null,null,"","",null,null,null,null,null,null,null,null,null,null,null,null,null,null,null,null,null,null,null,null,null,null,null,null,null,null,null,null,null,null,null,null,null,null,null,null,null,null,null,null,null,null,null,null,null,null,null,null,null,null,null,null,null,null,null,null,null,null,null,null,null,null,null,null,"",""]
[null,null,1373,0,"",0,0,0,0,null,null,"","",null,null,null,null,null,null,null,null,null,null,null,null,null,null,null,null,null,null,null,null,null,null,null,null,null,null,null,null,null,null,null,null,null,null,null,null,null,null,null,null,null,null,null,null,null,null,null,null,null,null,null,null,null,null,null,null,null,null,null,null,null,null,null,null,"",""]
[null,null,1374,0,"",0,0,0,0,null,null,"","",null,null,null,null,null,null,null,null,null,null,null,null,null,null,null,null,null,null,null,null,null,null,null,null,null,null,null,null,null,null,null,null,null,null,null,null,null,null,null,null,null,null,null,null,null,null,null,null,null,null,null,null,null,null,null,null,null,null,null,null,null,null,null,null,"",""]
[null,null,1376,0,"",0,0,0,0,null,null,"","",null,null,null,null,null,null,null,null,null,null,null,null,null,null,null,null,null,null,null,null,null,null,null,null,null,null,null,null,null,null,null,null,null,null,null,null,null,null,null,null,null,null,null,null,null,null,null,null,null,null,null,null,null,null,null,null,null,null,null,null,null,null,null,null,"",""]
[null,null,1377,0,"",0,0,0,0,null,null,"","",null,null,null,null,null,null,null,null,null,null,null,null,null,null,null,null,null,null,null,null,null,null,null,null,null,null,null,null,null,null,null,null,null,null,null,null,null,null,null,null,null,null,null,null,null,null,null,null,null,null,null,null,null,null,null,null,null,null,null,null,null,null,null,null,"",""]
[null,null,1380,0,"",0,0,0,0,null,null,"","",null,null,null,null,null,null,null,null,null,null,null,null,null,null,null,null,null,null,null,null,null,null,null,null,null,null,null,null,null,null,null,null,null,null,null,null,null,null,null,null,null,null,null,null,null,null,null,null,null,null,null,null,null,null,null,null,null,null,null,null,null,null,null,null,"",""]
[null,null,1381,0,"",0,0,0,0,null,null,"","",null,null,null,null,null,null,null,null,null,null,null,null,null,null,null,null,null,null,null,null,null,null,null,null,null,null,null,null,null,null,null,null,null,null,null,null,null,null,null,null,null,null,null,null,null,null,null,null,null,null,null,null,null,null,null,null,null,null,null,null,null,null,null,null,"",""]
[null,null,1383,0,"",0,0,0,0,null,null,"","",null,null,null,null,null,null,null,null,null,null,null,null,null,null,null,null,null,null,null,null,null,null,null,null,null,null,null,null,null,null,null,null,null,null,null,null,null,null,null,null,null,null,null,null,null,null,null,null,null,null,null,null,null,null,null,null,null,null,null,null,null,null,null,null,"",""]
[null,null,1384,0,"",0,0,0,0,null,null,"","",null,null,null,null,null,null,null,null,null,null,null,null,null,null,null,null,null,null,null,null,null,null,null,null,null,null,null,null,null,null,null,null,null,null,null,null,null,null,null,null,null,null,null,null,null,null,null,null,null,null,null,null,null,null,null,null,null,null,null,null,null,null,null,null,"",""]
[null,null,1385,0,"",0,0,0,0,null,null,"","",null,null,null,null,null,null,null,null,null,null,null,null,null,null,null,null,null,null,null,null,null,null,null,null,null,null,null,null,null,null,null,null,null,null,null,null,null,null,null,null,null,null,null,null,null,null,null,null,null,null,null,null,null,null,null,null,null,null,null,null,null,null,null,null,"",""]
[null,null,1386,0,"",0,0,0,0,null,null,"","",null,null,null,null,null,null,null,null,null,null,null,null,null,null,null,null,null,null,null,null,null,null,null,null,null,null,null,null,null,null,null,null,null,null,null,null,null,null,null,null,null,null,null,null,null,null,null,null,null,null,null,null,null,null,null,null,null,null,null,null,null,null,null,null,"",""]
[null,null,1387,0,"",0,0,0,0,null,null,"","",null,null,null,null,null,null,null,null,null,null,null,null,null,null,null,null,null,null,null,null,null,null,null,null,null,null,null,null,null,null,null,null,null,null,null,null,null,null,null,null,null,null,null,null,null,null,null,null,null,null,null,null,null,null,null,null,null,null,null,null,null,null,null,null,"",""]
[null,null,1388,0,"",0,0,0,0,null,null,"","",null,null,null,null,null,null,null,null,null,null,null,null,null,null,null,null,null,null,null,null,null,null,null,null,null,null,null,null,null,null,null,null,null,null,null,null,null,null,null,null,null,null,null,null,null,null,null,null,null,null,null,null,null,null,null,null,null,null,null,null,null,null,null,null,"",""]
[null,null,1389,0,"",0,0,0,0,null,null,"","",null,null,null,null,null,null,null,null,null,null,null,null,null,null,null,null,null,null,null,null,null,null,null,null,null,null,null,null,null,null,null,null,null,null,null,null,null,null,null,null,null,null,null,null,null,null,null,null,null,null,null,null,null,null,null,null,null,null,null,null,null,null,null,null,"",""]
[null,null,1390,0,"",0,0,0,0,null,null,"","",null,null,null,null,null,null,null,null,null,null,null,null,null,null,null,null,null,null,null,null,null,null,null,null,null,null,null,null,null,null,null,null,null,null,null,null,null,null,null,null,null,null,null,null,null,null,null,null,null,null,null,null,null,null,null,null,null,null,null,null,null,null,null,null,"",""]
[null,null,1391,0,"",0,0,0,0,null,null,"","",null,null,null,null,null,null,null,null,null,null,null,null,null,null,null,null,null,null,null,null,null,null,null,null,null,null,null,null,null,null,null,null,null,null,null,null,null,null,null,null,null,null,null,null,null,null,null,null,null,null,null,null,null,null,null,null,null,null,null,null,null,null,null,null,"",""]
[null,null,1392,0,"",0,0,0,0,null,null,"","",null,null,null,null,null,null,null,null,null,null,null,null,null,null,null,null,null,null,null,null,null,null,null,null,null,null,null,null,null,null,null,null,null,null,null,null,null,null,null,null,null,null,null,null,null,null,null,null,null,null,null,null,null,null,null,null,null,null,null,null,null,null,null,null,"",""]
[null,null,1393,0,"",0,0,0,0,null,null,"","",null,null,null,null,null,null,null,null,null,null,null,null,null,null,null,null,null,null,null,null,null,null,null,null,null,null,null,null,null,null,null,null,null,null,null,null,null,null,null,null,null,null,null,null,null,null,null,null,null,null,null,null,null,null,null,null,null,null,null,null,null,null,null,null,"",""]
[null,null,1394,0,"",0,0,0,0,null,null,"","",null,null,null,null,null,null,null,null,null,null,null,null,null,null,null,null,null,null,null,null,null,null,null,null,null,null,null,null,null,null,null,null,null,null,null,null,null,null,null,null,null,null,null,null,null,null,null,null,null,null,null,null,null,null,null,null,null,null,null,null,null,null,null,null,"",""]
[null,null,1395,0,"",0,0,0,0,null,null,"","",null,null,null,null,null,null,null,null,null,null,null,null,null,null,null,null,null,null,null,null,null,null,null,null,null,null,null,null,null,null,null,null,null,null,null,null,null,null,null,null,null,null,null,null,null,null,null,null,null,null,null,null,null,null,null,null,null,null,null,null,null,null,null,null,"",""]
[null,null,1396,0,"",0,0,0,0,null,null,"","",null,null,null,null,null,null,null,null,null,null,null,null,null,null,null,null,null,null,null,null,null,null,null,null,null,null,null,null,null,null,null,null,null,null,null,null,null,null,null,null,null,null,null,null,null,null,null,null,null,null,null,null,null,null,null,null,null,null,null,null,null,null,null,null,"",""]
[null,null,1397,0,"",0,0,0,0,null,null,"","",null,null,null,null,null,null,null,null,null,null,null,null,null,null,null,null,null,null,null,null,null,null,null,null,null,null,null,null,null,null,null,null,null,null,null,null,null,null,null,null,null,null,null,null,null,null,null,null,null,null,null,null,null,null,null,null,null,null,null,null,null,null,null,null,"",""]
[null,null,1398,0,"",0,0,0,0,null,null,"","",null,null,null,null,null,null,null,null,null,null,null,null,null,null,null,null,null,null,null,null,null,null,null,null,null,null,null,null,null,null,null,null,null,null,null,null,null,null,null,null,null,null,null,null,null,null,null,null,null,null,null,null,null,null,null,null,null,null,null,null,null,null,null,null,"",""]
[null,null,1399,0,"",0,0,0,0,null,null,"","",null,null,null,null,null,null,null,null,null,null,null,null,null,null,null,null,null,null,null,null,null,null,null,null,null,null,null,null,null,null,null,null,null,null,null,null,null,null,null,null,null,null,null,null,null,null,null,null,null,null,null,null,null,null,null,null,null,null,null,null,null,null,null,null,"",""]
[null,null,1400,0,"",0,0,0,0,null,null,"","",null,null,null,null,null,null,null,null,null,null,null,null,null,null,null,null,null,null,null,null,null,null,null,null,null,null,null,null,null,null,null,null,null,null,null,null,null,null,null,null,null,null,null,null,null,null,null,null,null,null,null,null,null,null,null,null,null,null,null,null,null,null,null,null,"",""]
[null,null,1401,0,"",0,0,0,0,null,null,"","",null,null,null,null,null,null,null,null,null,null,null,null,null,null,null,null,null,null,null,null,null,null,null,null,null,null,null,null,null,null,null,null,null,null,null,null,null,null,null,null,null,null,null,null,null,null,null,null,null,null,null,null,null,null,null,null,null,null,null,null,null,null,null,null,"",""]
[null,null,1402,0,"",0,0,0,0,null,null,"","",null,null,null,null,null,null,null,null,null,null,null,null,null,null,null,null,null,null,null,null,null,null,null,null,null,null,null,null,null,null,null,null,null,null,null,null,null,null,null,null,null,null,null,null,null,null,null,null,null,null,null,null,null,null,null,null,null,null,null,null,null,null,null,null,"",""]
[null,null,1403,0,"",0,0,0,0,null,null,"","",null,null,null,null,null,null,null,null,null,null,null,null,null,null,null,null,null,null,null,null,null,null,null,null,null,null,null,null,null,null,null,null,null,null,null,null,null,null,null,null,null,null,null,null,null,null,null,null,null,null,null,null,null,null,null,null,null,null,null,null,null,null,null,null,"",""]
[null,null,1404,0,"",0,0,0,0,null,null,"","",null,null,null,null,null,null,null,null,null,null,null,null,null,null,null,null,null,null,null,null,null,null,null,null,null,null,null,null,null,null,null,null,null,null,null,null,null,null,null,null,null,null,null,null,null,null,null,null,null,null,null,null,null,null,null,null,null,null,null,null,null,null,null,null,"",""]
[null,null,1405,0,"",0,0,0,0,null,null,"","",null,null,null,null,null,null,null,null,null,null,null,null,null,null,null,null,null,null,null,null,null,null,null,null,null,null,null,null,null,null,null,null,null,null,null,null,null,null,null,null,null,null,null,null,null,null,null,null,null,null,null,null,null,null,null,null,null,null,null,null,null,null,null,null,"",""]
[null,null,1406,0,"",0,0,0,0,null,null,"","",null,null,null,null,null,null,null,null,null,null,null,null,null,null,null,null,null,null,null,null,null,null,null,null,null,null,null,null,null,null,null,null,null,null,null,null,null,null,null,null,null,null,null,null,null,null,null,null,null,null,null,null,null,null,null,null,null,null,null,null,null,null,null,null,"",""]
[null,null,1407,0,"",0,0,0,0,null,null,"","",null,null,null,null,null,null,null,null,null,null,null,null,null,null,null,null,null,null,null,null,null,null,null,null,null,null,null,null,null,null,null,null,null,null,null,null,null,null,null,null,null,null,null,null,null,null,null,null,null,null,null,null,null,null,null,null,null,null,null,null,null,null,null,null,"",""]
[null,null,1408,0,"",0,0,0,0,null,null,"","",null,null,null,null,null,null,null,null,null,null,null,null,null,null,null,null,null,null,null,null,null,null,null,null,null,null,null,null,null,null,null,null,null,null,null,null,null,null,null,null,null,null,null,null,null,null,null,null,null,null,null,null,null,null,null,null,null,null,null,null,null,null,null,null,"",""]
[null,null,1409,{"$f":"IF(AND(LEFT(T1427,2)=\"01\",LEFT(Z1427,2)=\"01\",LEFT(AA1427,2)=\"01\",E1427=1),1,0)","v":0},"",0,0,0,0,null,null,"",{"$f":"IF(ISERROR(VLOOKUP(N1427,Locales,2,FALSE)),\"\",VLOOKUP(N1427,Locales,2,FALSE))","v":""},null,null,null,null,null,null,null,null,null,null,null,null,null,null,null,null,null,null,null,null,null,null,null,null,null,null,null,null,null,null,null,null,null,null,null,null,null,null,null,null,null,null,null,null,null,null,null,null,null,null,null,null,null,null,null,null,null,null,null,null,null,null,null,null,"",""]
[null,null,1410,0,{"$f":"$B$16","v":""},{"$f":"COUNTIF(AR1428:BA1428,\"X\")","v":0},{"$f":"IF(T1428<>\"\",VALUE(LEFT(T1428,2)),0)","v":0},{"$f":"IF(S1428<>\"\",COUNTIF($S$19:$S$1523,S1428),0)","v":0},0,null,null,"","",null,null,null,null,null,null,null,null,null,null,null,null,null,null,null,null,null,null,null,null,null,null,null,null,null,null,null,null,null,null,null,null,null,null,null,null,null,null,null,null,null,null,null,null,null,null,null,null,null,null,null,null,null,null,null,null,null,null,null,null,null,null,null,null,{"$f":"IF($AC1428<>\"\",IF(OR(LEFT($AC1428,2)=\"01\",LEFT($AC1428,2)=\"02\",LEFT($AC1428,2)=\"04\",LEFT($AC1428,2)=\"05\"),1,0),\"\")","v":""},""]
[null,null,1411,0,"",0,0,0,0,null,null,"","",null,null,null,null,null,null,null,null,null,null,null,null,null,null,null,null,null,null,null,null,null,null,null,null,null,null,null,null,null,null,null,null,null,null,null,null,null,null,null,null,null,null,null,null,null,null,null,null,null,null,null,null,null,null,null,null,null,null,null,null,null,null,null,null,"",""]
[null,null,1412,0,"",0,0,0,0,null,null,"","",null,null,null,null,null,null,null,null,null,null,null,null,null,null,null,null,null,null,null,null,null,null,null,null,null,null,null,null,null,null,null,null,null,null,null,null,null,null,null,null,null,null,null,null,null,null,null,null,null,null,null,null,null,null,null,null,null,null,null,null,null,null,null,null,"",""]
[null,null,1413,0,"",0,0,0,0,null,null,"","",null,null,null,null,null,null,null,null,null,null,null,null,null,null,null,null,null,null,null,null,null,null,null,null,null,null,null,null,null,null,null,null,null,null,null,null,null,null,null,null,null,null,null,null,null,null,null,null,null,null,null,null,null,null,null,null,null,null,null,null,null,null,null,null,"",""]
[null,null,1414,0,"",0,0,0,0,null,null,"","",null,null,null,null,null,null,null,null,null,null,null,null,null,null,null,null,null,null,null,null,null,null,null,null,null,null,null,null,null,null,null,null,null,null,null,null,null,null,null,null,null,null,null,null,null,null,null,null,null,null,null,null,null,null,null,null,null,null,null,null,null,null,null,null,"",""]
[null,null,1415,0,"",0,0,0,0,null,null,"","",null,null,null,null,null,null,null,null,null,null,null,null,null,null,null,null,null,null,null,null,null,null,null,null,null,null,null,null,null,null,null,null,null,null,null,null,null,null,null,null,null,null,null,null,null,null,null,null,null,null,null,null,null,null,null,null,null,null,null,null,null,null,null,null,"",""]
[null,null,1416,0,"",0,0,0,0,null,null,"","",null,null,null,null,null,null,null,null,null,null,null,null,null,null,null,null,null,null,null,null,null,null,null,null,null,null,null,null,null,null,null,null,null,null,null,null,null,null,null,null,null,null,null,null,null,null,null,null,null,null,null,null,null,null,null,null,null,null,null,null,null,null,null,null,"",""]
[null,null,1417,0,"",0,0,0,0,null,null,"","",null,null,null,null,null,null,null,null,null,null,null,null,null,null,null,null,null,null,null,null,null,null,null,null,null,null,null,null,null,null,null,null,null,null,null,null,null,null,null,null,null,null,null,null,null,null,null,null,null,null,null,null,null,null,null,null,null,null,null,null,null,null,null,null,"",""]
[null,null,1418,0,"",0,0,0,0,null,null,"","",null,null,null,null,null,null,null,null,null,null,null,null,null,null,null,null,null,null,null,null,null,null,null,null,null,null,null,null,null,null,null,null,null,null,null,null,null,null,null,null,null,null,null,null,null,null,null,null,null,null,null,null,null,null,null,null,null,null,null,null,null,null,null,null,"",""]
[null,null,1419,0,"",0,0,0,0,null,null,"","",null,null,null,null,null,null,null,null,null,null,null,null,null,null,null,null,null,null,null,null,null,null,null,null,null,null,null,null,null,null,null,null,null,null,null,null,null,null,null,null,null,null,null,null,null,null,null,null,null,null,null,null,null,null,null,null,null,null,null,null,null,null,null,null,"",""]
[null,null,1420,0,"",0,0,0,{"$f":"IF(L1438<>\"\",1,0)","v":0},null,null,{"$f":"IF(C1438<=$B$5,C1438,\"\")","v":""},"",null,null,null,null,null,null,null,null,null,null,null,null,null,null,null,null,null,null,null,null,null,null,null,null,null,null,null,null,null,null,null,null,null,null,null,null,null,null,null,null,null,null,null,null,null,null,null,null,null,null,null,null,null,null,null,null,null,null,null,null,null,null,null,null,"",""]
[null,null,1421,0,"",0,0,0,0,null,null,"","",null,null,null,null,null,null,null,null,null,null,null,null,null,null,null,null,null,null,null,null,null,null,null,null,null,null,null,null,null,null,null,null,null,null,null,null,null,null,null,null,null,null,null,null,null,null,null,null,null,null,null,null,null,null,null,null,null,null,null,null,null,null,null,null,"",""]
[null,null,1422,0,"",0,0,0,0,null,null,"","",null,null,null,null,null,null,null,null,null,null,null,null,null,null,null,null,null,null,null,null,null,null,null,null,null,null,null,null,null,null,null,null,null,null,null,null,null,null,null,null,null,null,null,null,null,null,null,null,null,null,null,null,null,null,null,null,null,null,null,null,null,null,null,null,"",""]
[null,null,1423,0,"",0,0,0,0,null,null,"","",null,null,null,null,null,null,null,null,null,null,null,null,null,null,null,null,null,null,null,null,null,null,null,null,null,null,null,null,null,null,null,null,null,null,null,null,null,null,null,null,null,null,null,null,null,null,null,null,null,null,null,null,null,null,null,null,null,null,null,null,null,null,null,null,"",""]
[null,null,1424,0,"",0,0,0,0,null,null,"","",null,null,null,null,null,null,null,null,null,null,null,null,null,null,null,null,null,null,null,null,null,null,null,null,null,null,null,null,null,null,null,null,null,null,null,null,null,null,null,null,null,null,null,null,null,null,null,null,null,null,null,null,null,null,null,null,null,null,null,null,null,null,null,null,"",""]
[null,null,1425,0,"",0,0,0,0,null,null,"","",null,null,null,null,null,null,null,null,null,null,null,null,null,null,null,null,null,null,null,null,null,null,null,null,null,null,null,null,null,null,null,null,null,null,null,null,null,null,null,null,null,null,null,null,null,null,null,null,null,null,null,null,null,null,null,null,null,null,null,null,null,null,null,null,"",""]
[null,null,1426,0,"",0,0,0,0,null,null,"","",null,null,null,null,null,null,null,null,null,null,null,null,null,null,null,null,null,null,null,null,null,null,null,null,null,null,null,null,null,null,null,null,null,null,null,null,null,null,null,null,null,null,null,null,null,null,null,null,null,null,null,null,null,null,null,null,null,null,null,null,null,null,null,null,"",""]
[null,null,1427,0,"",0,0,0,0,null,null,"","",null,null,null,null,null,null,null,null,null,null,null,null,null,null,null,null,null,null,null,null,null,null,null,null,null,null,null,null,null,null,null,null,null,null,null,null,null,null,null,null,null,null,null,null,null,null,null,null,null,null,null,null,null,null,null,null,null,null,null,null,null,null,null,null,"",""]
[null,null,1428,0,"",0,0,0,0,null,null,"","",null,null,null,null,null,null,null,null,null,null,null,null,null,null,null,null,null,null,null,null,null,null,null,null,null,null,null,null,null,null,null,null,null,null,null,null,null,null,null,null,null,null,null,null,null,null,null,null,null,null,null,null,null,null,null,null,null,null,null,null,null,null,null,null,"",""]
[null,null,1429,0,"",0,0,0,0,null,null,"","",null,null,null,null,null,null,null,null,null,null,null,null,null,null,null,null,null,null,null,null,null,null,null,null,null,null,null,null,null,null,null,null,null,null,null,null,null,null,null,null,null,null,null,null,null,null,null,null,null,null,null,null,null,null,null,null,null,null,null,null,null,null,null,null,"",""]
[null,null,1430,0,"",0,0,0,0,null,null,"","",null,null,null,null,null,null,null,null,null,null,null,null,null,null,null,null,null,null,null,null,null,null,null,null,null,null,null,null,null,null,null,null,null,null,null,null,null,null,null,null,null,null,null,null,null,null,null,null,null,null,null,null,null,null,null,null,null,null,null,null,null,null,null,null,"",""]
[null,null,1431,0,"",0,0,0,0,null,null,"","",null,null,null,null,null,null,null,null,null,null,null,null,null,null,null,null,null,null,null,null,null,null,null,null,null,null,null,null,null,null,null,null,null,null,null,null,null,null,null,null,null,null,null,null,null,null,null,null,null,null,null,null,null,null,null,null,null,null,null,null,null,null,null,null,"",""]
[null,null,1432,0,"",0,0,0,0,null,null,"","",null,null,null,null,null,null,null,null,null,null,null,null,null,null,null,null,null,null,null,null,null,null,null,null,null,null,null,null,null,null,null,null,null,null,null,null,null,null,null,null,null,null,null,null,null,null,null,null,null,null,null,null,null,null,null,null,null,null,null,null,null,null,null,null,"",""]
[null,null,1433,0,"",0,0,0,0,null,null,"","",null,null,null,null,null,null,null,null,null,null,null,null,null,null,null,null,null,null,null,null,null,null,null,null,null,null,null,null,null,null,null,null,null,null,null,null,null,null,null,null,null,null,null,null,null,null,null,null,null,null,null,null,null,null,null,null,null,null,null,null,null,null,null,null,"",""]
[null,null,1434,0,"",0,0,0,0,null,null,"","",null,null,null,null,null,null,null,null,null,null,null,null,null,null,null,null,null,null,null,null,null,null,null,null,null,null,null,null,null,null,null,null,null,null,null,null,null,null,null,null,null,null,null,null,null,null,null,null,null,null,null,null,null,null,null,null,null,null,null,null,null,null,null,null,"",""]
[null,null,1435,0,"",0,0,0,0,null,null,"","",null,null,null,null,null,null,null,null,null,null,null,null,null,null,null,null,null,null,null,null,null,null,null,null,null,null,null,null,null,null,null,null,null,null,null,null,null,null,null,null,null,null,null,null,null,null,null,null,null,null,null,null,null,null,null,null,null,null,null,null,null,null,null,null,"",""]
[null,null,1436,0,"",0,0,0,0,null,null,"","",null,null,null,null,null,null,null,null,null,null,null,null,null,null,null,null,null,null,null,null,null,null,null,null,null,null,null,null,null,null,null,null,null,null,null,null,null,null,null,null,null,null,null,null,null,null,null,null,null,null,null,null,null,null,null,null,null,null,null,null,null,null,null,null,"",""]
[null,null,1437,0,"",0,0,0,0,null,null,"","",null,null,null,null,null,null,null,null,null,null,null,null,null,null,null,null,null,null,null,null,null,null,null,null,null,null,null,null,null,null,null,null,null,null,null,null,null,null,null,null,null,null,null,null,null,null,null,null,null,null,null,null,null,null,null,null,null,null,null,null,null,null,null,null,"",""]
[null,null,1438,0,"",0,0,0,0,null,null,"","",null,null,null,null,null,null,null,null,null,null,null,null,null,null,null,null,null,null,null,null,null,null,null,null,null,null,null,null,null,null,null,null,null,null,null,null,null,null,null,null,null,null,null,null,null,null,null,null,null,null,null,null,null,null,null,null,null,null,null,null,null,null,null,null,"",""]
[null,null,1439,0,"",0,0,0,0,null,null,"","",null,null,null,null,null,null,null,null,null,null,null,null,null,null,null,null,null,null,null,null,null,null,null,null,null,null,null,null,null,null,null,null,null,null,null,null,null,null,null,null,null,null,null,null,null,null,null,null,null,null,null,null,null,null,null,null,null,null,null,null,null,null,null,null,"",""]
[null,null,1440,0,"",0,0,0,0,null,null,"","",null,null,null,null,null,null,null,null,null,null,null,null,null,null,null,null,null,null,null,null,null,null,null,null,null,null,null,null,null,null,null,null,null,null,null,null,null,null,null,null,null,null,null,null,null,null,null,null,null,null,null,null,null,null,null,null,null,null,null,null,null,null,null,null,"",""]
[null,null,1441,0,"",0,0,0,0,null,null,"","",null,null,null,null,null,null,null,null,null,null,null,null,null,null,null,null,null,null,null,null,null,null,null,null,null,null,null,null,null,null,null,null,null,null,null,null,null,null,null,null,null,null,null,null,null,null,null,null,null,null,null,null,null,null,null,null,null,null,null,null,null,null,null,null,"",""]
[null,null,1442,0,"",0,0,0,0,null,null,"","",null,null,null,null,null,null,null,null,null,null,null,null,null,null,null,null,null,null,null,null,null,null,null,null,null,null,null,null,null,null,null,null,null,null,null,null,null,null,null,null,null,null,null,null,null,null,null,null,null,null,null,null,null,null,null,null,null,null,null,null,null,null,null,null,"",""]
[null,null,1443,0,"",0,0,0,0,null,null,"","",null,null,null,null,null,null,null,null,null,null,null,null,null,null,null,null,null,null,null,null,null,null,null,null,null,null,null,null,null,null,null,null,null,null,null,null,null,null,null,null,null,null,null,null,null,null,null,null,null,null,null,null,null,null,null,null,null,null,null,null,null,null,null,null,"",""]
[null,null,1444,0,"",0,0,0,0,null,null,"","",null,null,null,null,null,null,null,null,null,null,null,null,null,null,null,null,null,null,null,null,null,null,null,null,null,null,null,null,null,null,null,null,null,null,null,null,null,null,null,null,null,null,null,null,null,null,null,null,null,null,null,null,null,null,null,null,null,null,null,null,null,null,null,null,"",""]
[null,null,1445,0,"",0,0,0,0,null,null,"","",null,null,null,null,null,null,null,null,null,null,null,null,null,null,null,null,null,null,null,null,null,null,null,null,null,null,null,null,null,null,null,null,null,null,null,null,null,null,null,null,null,null,null,null,null,null,null,null,null,null,null,null,null,null,null,null,null,null,null,null,null,null,null,null,"",""]
[null,null,1446,0,"",0,0,0,0,null,null,"","",null,null,null,null,null,null,null,null,null,null,null,null,null,null,null,null,null,null,null,null,null,null,null,null,null,null,null,null,null,null,null,null,null,null,null,null,null,null,null,null,null,null,null,null,null,null,null,null,null,null,null,null,null,null,null,null,null,null,null,null,null,null,null,null,"",""]
[null,null,1447,0,"",0,0,0,0,null,null,"","",null,null,null,null,null,null,null,null,null,null,null,null,null,null,null,null,null,null,null,null,null,null,null,null,null,null,null,null,null,null,null,null,null,null,null,null,null,null,null,null,null,null,null,null,null,null,null,null,null,null,null,null,null,null,null,null,null,null,null,null,null,null,null,null,"",""]
[null,null,1448,0,"",0,0,0,0,null,null,"","",null,null,null,null,null,null,null,null,null,null,null,null,null,null,null,null,null,null,null,null,null,null,null,null,null,null,null,null,null,null,null,null,null,null,null,null,null,null,null,null,null,null,null,null,null,null,null,null,null,null,null,null,null,null,null,null,null,null,null,null,null,null,null,null,"",""]
[null,null,1449,0,"",0,0,0,0,null,null,"","",null,null,null,null,null,null,null,null,null,null,null,null,null,null,null,null,null,null,null,null,null,null,null,null,null,null,null,null,null,null,null,null,null,null,null,null,null,null,null,null,null,null,null,null,null,null,null,null,null,null,null,null,null,null,null,null,null,null,null,null,null,null,null,null,"",""]
[null,null,1450,0,"",0,0,0,0,null,null,"","",null,null,null,null,null,null,null,null,null,null,null,null,null,null,null,null,null,null,null,null,null,null,null,null,null,null,null,null,null,null,null,null,null,null,null,null,null,null,null,null,null,null,null,null,null,null,null,null,null,null,null,null,null,null,null,null,null,null,null,null,null,null,null,null,"",""]
[null,null,1451,0,"",0,0,0,0,null,null,"","",null,null,null,null,null,null,null,null,null,null,null,null,null,null,null,null,null,null,null,null,null,null,null,null,null,null,null,null,null,null,null,null,null,null,null,null,null,null,null,null,null,null,null,null,null,null,null,null,null,null,null,null,null,null,null,null,null,null,null,null,null,null,null,null,"",""]
[null,null,1452,0,"",0,0,0,0,null,null,"","",null,null,null,null,null,null,null,null,null,null,null,null,null,null,null,null,null,null,null,null,null,null,null,null,null,null,null,null,null,null,null,null,null,null,null,null,null,null,null,null,null,null,null,null,null,null,null,null,null,null,null,null,null,null,null,null,null,null,null,null,null,null,null,null,"",""]
[null,null,1453,0,"",0,0,0,0,null,null,"","",null,null,null,null,null,null,null,null,null,null,null,null,null,null,null,null,null,null,null,null,null,null,null,null,null,null,null,null,null,null,null,null,null,null,null,null,null,null,null,null,null,null,null,null,null,null,null,null,null,null,null,null,null,null,null,null,null,null,null,null,null,null,null,null,"",""]
[null,null,1454,0,"",0,0,0,0,null,null,"","",null,null,null,null,null,null,null,null,null,null,null,null,null,null,null,null,null,null,null,null,null,null,null,null,null,null,null,null,null,null,null,null,null,null,null,null,null,null,null,null,null,null,null,null,null,null,null,null,null,null,null,null,null,null,null,null,null,null,null,null,null,null,null,null,"",""]
[null,null,1455,0,"",0,0,0,0,null,null,"","",null,null,null,null,null,null,null,null,null,null,null,null,null,null,null,null,null,null,null,null,null,null,null,null,null,null,null,null,null,null,null,null,null,null,null,null,null,null,null,null,null,null,null,null,null,null,null,null,null,null,null,null,null,null,null,null,null,null,null,null,null,null,null,null,"",""]
[null,null,1456,0,"",0,0,0,0,null,null,"","",null,null,null,null,null,null,null,null,null,null,null,null,null,null,null,null,null,null,null,null,null,null,null,null,null,null,null,null,null,null,null,null,null,null,null,null,null,null,null,null,null,null,null,null,null,null,null,null,null,null,null,null,null,null,null,null,null,null,null,null,null,null,null,null,"",""]
[null,null,1457,0,"",0,0,0,0,null,null,"","",null,null,null,null,null,null,null,null,null,null,null,null,null,null,null,null,null,null,null,null,null,null,null,null,null,null,null,null,null,null,null,null,null,null,null,null,null,null,null,null,null,null,null,null,null,null,null,null,null,null,null,null,null,null,null,null,null,null,null,null,null,null,null,null,"",""]
[null,null,1458,0,"",0,0,0,0,null,null,"","",null,null,null,null,null,null,null,null,null,null,null,null,null,null,null,null,null,null,null,null,null,null,null,null,null,null,null,null,null,null,null,null,null,null,null,null,null,null,null,null,null,null,null,null,null,null,null,null,null,null,null,null,null,null,null,null,null,null,null,null,null,null,null,null,"",""]
[null,null,1459,0,"",0,0,0,0,null,null,"","",null,null,null,null,null,null,null,null,null,null,null,null,null,null,null,null,null,null,null,null,null,null,null,null,null,null,null,null,null,null,null,null,null,null,null,null,null,null,null,null,null,null,null,null,null,null,null,null,null,null,null,null,null,null,null,null,null,null,null,null,null,null,null,null,"",""]
[null,null,1460,0,"",0,0,0,0,null,null,"","",null,null,null,null,null,null,null,null,null,null,null,null,null,null,null,null,null,null,null,null,null,null,null,null,null,null,null,null,null,null,null,null,null,null,null,null,null,null,null,null,null,null,null,null,null,null,null,null,null,null,null,null,null,null,null,null,null,null,null,null,null,null,null,null,"",""]
[null,null,1461,0,"",0,0,0,0,null,null,"","",null,null,null,null,null,null,null,null,null,null,null,null,null,null,null,null,null,null,null,null,null,null,null,null,null,null,null,null,null,null,null,null,null,null,null,null,null,null,null,null,null,null,null,null,null,null,null,null,null,null,null,null,null,null,null,null,null,null,null,null,null,null,null,null,"",""]
[null,null,1462,0,"",0,0,0,0,null,null,"","",null,null,null,null,null,null,null,null,null,null,null,null,null,null,null,null,null,null,null,null,null,null,null,null,null,null,null,null,null,null,null,null,null,null,null,null,null,null,null,null,null,null,null,null,null,null,null,null,null,null,null,null,null,null,null,null,null,null,null,null,null,null,null,null,"",""]
[null,null,1463,0,"",0,0,0,0,null,null,"","",null,null,null,null,null,null,null,null,null,null,null,null,null,null,null,null,null,null,null,null,null,null,null,null,null,null,null,null,null,null,null,null,null,null,null,null,null,null,null,null,null,null,null,null,null,null,null,null,null,null,null,null,null,null,null,null,null,null,null,null,null,null,null,null,"",""]
[null,null,1464,0,"",0,0,0,0,null,null,"","",null,null,null,null,null,null,null,null,null,null,null,null,null,null,null,null,null,null,null,null,null,null,null,null,null,null,null,null,null,null,null,null,null,null,null,null,null,null,null,null,null,null,null,null,null,null,null,null,null,null,null,null,null,null,null,null,null,null,null,null,null,null,null,null,"",""]
[null,null,1465,0,"",0,0,0,0,null,null,"","",null,null,null,null,null,null,null,null,null,null,null,null,null,null,null,null,null,null,null,null,null,null,null,null,null,null,null,null,null,null,null,null,null,null,null,null,null,null,null,null,null,null,null,null,null,null,null,null,null,null,null,null,null,null,null,null,null,null,null,null,null,null,null,null,"",""]
[null,null,1466,0,"",0,0,0,0,null,null,"","",null,null,null,null,null,null,null,null,null,null,null,null,null,null,null,null,null,null,null,null,null,null,null,null,null,null,null,null,null,null,null,null,null,null,null,null,null,null,null,null,null,null,null,null,null,null,null,null,null,null,null,null,null,null,null,null,null,null,null,null,null,null,null,null,"",""]
[null,null,1467,0,"",0,0,0,0,null,null,"","",null,null,null,null,null,null,null,null,null,null,null,null,null,null,null,null,null,null,null,null,null,null,null,null,null,null,null,null,null,null,null,null,null,null,null,null,null,null,null,null,null,null,null,null,null,null,null,null,null,null,null,null,null,null,null,null,null,null,null,null,null,null,null,null,"",""]
[null,null,1468,0,"",0,0,0,0,null,null,"","",null,null,null,null,null,null,null,null,null,null,null,null,null,null,null,null,null,null,null,null,null,null,null,null,null,null,null,null,null,null,null,null,null,null,null,null,null,null,null,null,null,null,null,null,null,null,null,null,null,null,null,null,null,null,null,null,null,null,null,null,null,null,null,null,"",""]
[null,null,1469,0,"",0,0,0,0,null,null,"","",null,null,null,null,null,null,null,null,null,null,null,null,null,null,null,null,null,null,null,null,null,null,null,null,null,null,null,null,null,null,null,null,null,null,null,null,null,null,null,null,null,null,null,null,null,null,null,null,null,null,null,null,null,null,null,null,null,null,null,null,null,null,null,null,"",""]
[null,null,1470,0,"",0,0,0,0,null,null,"","",null,null,null,null,null,null,null,null,null,null,null,null,null,null,null,null,null,null,null,null,null,null,null,null,null,null,null,null,null,null,null,null,null,null,null,null,null,null,null,null,null,null,null,null,null,null,null,null,null,null,null,null,null,null,null,null,null,null,null,null,null,null,null,null,"",""]
[null,null,1471,0,"",0,0,0,0,null,null,"","",null,null,null,null,null,null,null,null,null,null,null,null,null,null,null,null,null,null,null,null,null,null,null,null,null,null,null,null,null,null,null,null,null,null,null,null,null,null,null,null,null,null,null,null,null,null,null,null,null,null,null,null,null,null,null,null,null,null,null,null,null,null,null,null,"",""]
[null,null,1472,0,"",0,0,0,0,null,null,"","",null,null,null,null,null,null,null,null,null,null,null,null,null,null,null,null,null,null,null,null,null,null,null,null,null,null,null,null,null,null,null,null,null,null,null,null,null,null,null,null,null,null,null,null,null,null,null,null,null,null,null,null,null,null,null,null,null,null,null,null,null,null,null,null,"",""]
[null,null,1473,{"$f":"IF(AND(LEFT(T1491,2)=\"01\",LEFT(Z1491,2)=\"01\",LEFT(AA1491,2)=\"01\",E1491=1),1,0)","v":0},"",0,0,0,0,null,null,"",{"$f":"IF(ISERROR(VLOOKUP(N1491,Locales,2,FALSE)),\"\",VLOOKUP(N1491,Locales,2,FALSE))","v":""},null,null,null,null,null,null,null,null,null,null,null,null,null,null,null,null,null,null,null,null,null,null,null,null,null,null,null,null,null,null,null,null,null,null,null,null,null,null,null,null,null,null,null,null,null,null,null,null,null,null,null,null,null,null,null,null,null,null,null,null,null,null,null,null,"",""]
[null,null,1474,0,{"$f":"$B$16","v":""},{"$f":"COUNTIF(AR1492:BA1492,\"X\")","v":0},{"$f":"IF(T1492<>\"\",VALUE(LEFT(T1492,2)),0)","v":0},{"$f":"IF(S1492<>\"\",COUNTIF($S$19:$S$1523,S1492),0)","v":0},0,null,null,"","",null,null,null,null,null,null,null,null,null,null,null,null,null,null,null,null,null,null,null,null,null,null,null,null,null,null,null,null,null,null,null,null,null,null,null,null,null,null,null,null,null,null,null,null,null,null,null,null,null,null,null,null,null,null,null,null,null,null,null,null,null,null,null,null,{"$f":"IF($AC1492<>\"\",IF(OR(LEFT($AC1492,2)=\"01\",LEFT($AC1492,2)=\"02\",LEFT($AC1492,2)=\"04\",LEFT($AC1492,2)=\"05\"),1,0),\"\")","v":""},""]
[null,null,1475,0,"",0,0,0,0,null,null,"","",null,null,null,null,null,null,null,null,null,null,null,null,null,null,null,null,null,null,null,null,null,null,null,null,null,null,null,null,null,null,null,null,null,null,null,null,null,null,null,null,null,null,null,null,null,null,null,null,null,null,null,null,null,null,null,null,null,null,null,null,null,null,null,null,"",""]
[null,null,1476,0,"",0,0,0,0,null,null,"","",null,null,null,null,null,null,null,null,null,null,null,null,null,null,null,null,null,null,null,null,null,null,null,null,null,null,null,null,null,null,null,null,null,null,null,null,null,null,null,null,null,null,null,null,null,null,null,null,null,null,null,null,null,null,null,null,null,null,null,null,null,null,null,null,"",""]
[null,null,1477,0,"",0,0,0,0,null,null,"","",null,null,null,null,null,null,null,null,null,null,null,null,null,null,null,null,null,null,null,null,null,null,null,null,null,null,null,null,null,null,null,null,null,null,null,null,null,null,null,null,null,null,null,null,null,null,null,null,null,null,null,null,null,null,null,null,null,null,null,null,null,null,null,null,"",""]
[null,null,1478,0,"",0,0,0,0,null,null,"","",null,null,null,null,null,null,null,null,null,null,null,null,null,null,null,null,null,null,null,null,null,null,null,null,null,null,null,null,null,null,null,null,null,null,null,null,null,null,null,null,null,null,null,null,null,null,null,null,null,null,null,null,null,null,null,null,null,null,null,null,null,null,null,null,"",""]
[null,null,1479,0,"",0,0,0,0,null,null,"","",null,null,null,null,null,null,null,null,null,null,null,null,null,null,null,null,null,null,null,null,null,null,null,null,null,null,null,null,null,null,null,null,null,null,null,null,null,null,null,null,null,null,null,null,null,null,null,null,null,null,null,null,null,null,null,null,null,null,null,null,null,null,null,null,"",""]
[null,null,1480,0,"",0,0,0,0,null,null,"","",null,null,null,null,null,null,null,null,null,null,null,null,null,null,null,null,null,null,null,null,null,null,null,null,null,null,null,null,null,null,null,null,null,null,null,null,null,null,null,null,null,null,null,null,null,null,null,null,null,null,null,null,null,null,null,null,null,null,null,null,null,null,null,null,"",""]
[null,null,1481,0,"",0,0,0,0,null,null,"","",null,null,null,null,null,null,null,null,null,null,null,null,null,null,null,null,null,null,null,null,null,null,null,null,null,null,null,null,null,null,null,null,null,null,null,null,null,null,null,null,null,null,null,null,null,null,null,null,null,null,null,null,null,null,null,null,null,null,null,null,null,null,null,null,"",""]
[null,null,1482,0,"",0,0,0,0,null,null,"","",null,null,null,null,null,null,null,null,null,null,null,null,null,null,null,null,null,null,null,null,null,null,null,null,null,null,null,null,null,null,null,null,null,null,null,null,null,null,null,null,null,null,null,null,null,null,null,null,null,null,null,null,null,null,null,null,null,null,null,null,null,null,null,null,"",""]
[null,null,1483,0,"",0,0,0,0,null,null,"","",null,null,null,null,null,null,null,null,null,null,null,null,null,null,null,null,null,null,null,null,null,null,null,null,null,null,null,null,null,null,null,null,null,null,null,null,null,null,null,null,null,null,null,null,null,null,null,null,null,null,null,null,null,null,null,null,null,null,null,null,null,null,null,null,"",""]
[null,null,1484,0,"",0,0,0,{"$f":"IF(L1502<>\"\",1,0)","v":0},null,null,{"$f":"IF(C1502<=$B$5,C1502,\"\")","v":""},"",null,null,null,null,null,null,null,null,null,null,null,null,null,null,null,null,null,null,null,null,null,null,null,null,null,null,null,null,null,null,null,null,null,null,null,null,null,null,null,null,null,null,null,null,null,null,null,null,null,null,null,null,null,null,null,null,null,null,null,null,null,null,null,null,"",""]
[null,null,1485,0,"",0,0,0,0,null,null,"","",null,null,null,null,null,null,null,null,null,null,null,null,null,null,null,null,null,null,null,null,null,null,null,null,null,null,null,null,null,null,null,null,null,null,null,null,null,null,null,null,null,null,null,null,null,null,null,null,null,null,null,null,null,null,null,null,null,null,null,null,null,null,null,null,"",""]
[null,null,1486,0,"",0,0,0,0,null,null,"","",null,null,null,null,null,null,null,null,null,null,null,null,null,null,null,null,null,null,null,null,null,null,null,null,null,null,null,null,null,null,null,null,null,null,null,null,null,null,null,null,null,null,null,null,null,null,null,null,null,null,null,null,null,null,null,null,null,null,null,null,null,null,null,null,"",""]
[null,null,1487,0,"",0,0,0,0,null,null,"","",null,null,null,null,null,null,null,null,null,null,null,null,null,null,null,null,null,null,null,null,null,null,null,null,null,null,null,null,null,null,null,null,null,null,null,null,null,null,null,null,null,null,null,null,null,null,null,null,null,null,null,null,null,null,null,null,null,null,null,null,null,null,null,null,"",""]
[null,null,1488,0,"",0,0,0,0,null,null,"","",null,null,null,null,null,null,null,null,null,null,null,null,null,null,null,null,null,null,null,null,null,null,null,null,null,null,null,null,null,null,null,null,null,null,null,null,null,null,null,null,null,null,null,null,null,null,null,null,null,null,null,null,null,null,null,null,null,null,null,null,null,null,null,null,"",""]
[null,null,1489,0,"",0,0,0,0,null,null,"","",null,null,null,null,null,null,null,null,null,null,null,null,null,null,null,null,null,null,null,null,null,null,null,null,null,null,null,null,null,null,null,null,null,null,null,null,null,null,null,null,null,null,null,null,null,null,null,null,null,null,null,null,null,null,null,null,null,null,null,null,null,null,null,null,"",""]
[null,null,1490,0,"",0,0,0,0,null,null,"","",null,null,null,null,null,null,null,null,null,null,null,null,null,null,null,null,null,null,null,null,null,null,null,null,null,null,null,null,null,null,null,null,null,null,null,null,null,null,null,null,null,null,null,null,null,null,null,null,null,null,null,null,null,null,null,null,null,null,null,null,null,null,null,null,"",""]
[null,null,1491,0,"",0,0,0,0,null,null,"","",null,null,null,null,null,null,null,null,null,null,null,null,null,null,null,null,null,null,null,null,null,null,null,null,null,null,null,null,null,null,null,null,null,null,null,null,null,null,null,null,null,null,null,null,null,null,null,null,null,null,null,null,null,null,null,null,null,null,null,null,null,null,null,null,"",""]
[null,null,1492,0,"",0,0,0,0,null,null,"","",null,null,null,null,null,null,null,null,null,null,null,null,null,null,null,null,null,null,null,null,null,null,null,null,null,null,null,null,null,null,null,null,null,null,null,null,null,null,null,null,null,null,null,null,null,null,null,null,null,null,null,null,null,null,null,null,null,null,null,null,null,null,null,null,"",""]
[null,null,1493,0,"",0,0,0,0,null,null,"","",null,null,null,null,null,null,null,null,null,null,null,null,null,null,null,null,null,null,null,null,null,null,null,null,null,null,null,null,null,null,null,null,null,null,null,null,null,null,null,null,null,null,null,null,null,null,null,null,null,null,null,null,null,null,null,null,null,null,null,null,null,null,null,null,"",""]
[null,null,1494,0,"",0,0,0,0,null,null,"","",null,null,null,null,null,null,null,null,null,null,null,null,null,null,null,null,null,null,null,null,null,null,null,null,null,null,null,null,null,null,null,null,null,null,null,null,null,null,null,null,null,null,null,null,null,null,null,null,null,null,null,null,null,null,null,null,null,null,null,null,null,null,null,null,"",""]
[null,null,1495,0,"",0,0,0,0,null,null,"","",null,null,null,null,null,null,null,null,null,null,null,null,null,null,null,null,null,null,null,null,null,null,null,null,null,null,null,null,null,null,null,null,null,null,null,null,null,null,null,null,null,null,null,null,null,null,null,null,null,null,null,null,null,null,null,null,null,null,null,null,null,null,null,null,"",""]
[null,null,1496,0,"",0,0,0,0,null,null,"","",null,null,null,null,null,null,null,null,null,null,null,null,null,null,null,null,null,null,null,null,null,null,null,null,null,null,null,null,null,null,null,null,null,null,null,null,null,null,null,null,null,null,null,null,null,null,null,null,null,null,null,null,null,null,null,null,null,null,null,null,null,null,null,null,"",""]
[null,null,1497,0,"",0,0,0,0,null,null,"","",null,null,null,null,null,null,null,null,null,null,null,null,null,null,null,null,null,null,null,null,null,null,null,null,null,null,null,null,null,null,null,null,null,null,null,null,null,null,null,null,null,null,null,null,null,null,null,null,null,null,null,null,null,null,null,null,null,null,null,null,null,null,null,null,"",""]
[null,null,1498,0,"",0,0,0,0,null,null,"","",null,null,null,null,null,null,null,null,null,null,null,null,null,null,null,null,null,null,null,null,null,null,null,null,null,null,null,null,null,null,null,null,null,null,null,null,null,null,null,null,null,null,null,null,null,null,null,null,null,null,null,null,null,null,null,null,null,null,null,null,null,null,null,null,"",""]
[null,null,1499,0,"",0,0,0,0,null,null,"","",null,null,null,null,null,null,null,null,null,null,null,null,null,null,null,null,null,null,null,null,null,null,null,null,null,null,null,null,null,null,null,null,null,null,null,null,null,null,null,null,null,null,null,null,null,null,null,null,null,null,null,null,null,null,null,null,null,null,null,null,null,null,null,null,"",""]
[null,null,1500,0,"",0,0,0,0,null,null,"","",null,null,null,null,null,null,null,null,null,null,null,null,null,null,null,null,null,null,null,null,null,null,null,null,null,null,null,null,null,null,null,null,null,null,null,null,null,null,null,null,null,null,null,null,null,null,null,null,null,null,null,null,null,null,null,null,null,null,null,null,null,null,null,null,"",""]
[null,null,1501,0,"",0,0,0,0,null,null,"","",null,null,null,null,null,null,null,null,null,null,null,null,null,null,null,null,null,null,null,null,null,null,null,null,null,null,null,null,null,null,null,null,null,null,null,null,null,null,null,null,null,null,null,null,null,null,null,null,null,null,null,null,null,null,null,null,null,null,null,null,null,null,null,null,"",""]
[null,null,1502,0,"",0,0,0,0,null,null,"","",null,null,null,null,null,null,null,null,null,null,null,null,null,null,null,null,null,null,null,null,null,null,null,null,null,null,null,null,null,null,null,null,null,null,null,null,null,null,null,null,null,null,null,null,null,null,null,null,null,null,null,null,null,null,null,null,null,null,null,null,null,null,null,null,"",""]
[null,null,1503,0,"",0,0,0,0,null,null,"","",null,null,null,null,null,null,null,null,null,null,null,null,null,null,null,null,null,null,null,null,null,null,null,null,null,null,null,null,null,null,null,null,null,null,null,null,null,null,null,null,null,null,null,null,null,null,null,null,null,null,null,null,null,null,null,null,null,null,null,null,null,null,null,null,"",""]
[null,null,1504,0,"",0,0,0,0,null,null,"","",null,null,null,null,null,null,null,null,null,null,null,null,null,null,null,null,null,null,null,null,null,null,null,null,null,null,null,null,null,null,null,null,null,null,null,null,null,null,null,null,null,null,null,null,null,null,null,null,null,null,null,null,null,null,null,null,null,null,null,null,null,null,null,null,"",""]
[null,null,1505,0,"",0,0,0,{"$f":"IF(L1523<>\"\",1,0)","v":0},null,null,{"$f":"IF(C1523<=$B$5,C1523,\"\")","v":""},"",null,null,null,null,null,null,null,null,null,null,null,null,null,null,null,null,null,null,null,null,null,null,null,null,null,null,null,null,null,null,null,null,null,null,null,null,null,null,null,null,null,null,null,null,null,null,null,null,null,null,null,null,null,null,null,null,null,null,null,null,null,null,null,null,"",""]
[null,null,null,null,null,null,null,null,null,null," "," ",null,null,null,null,null,null,"","","","","","","","","","","","","","","","","","","","","","","","","","","","","","","",null,null,"","","","","","","","","","","","","","","","","","","","","",null,null,null,null," "]
[null,null,null,null,null,null,null,null,null,null,null,"…","…","…","…","…","…","…","…","…","…","…","…","…","…","…","…","…","…","…","…","…","…","…","…","…","…","…","…","…","…","…","…","…","…","…","…","…","…","…","…","…","…","…","…","…","…","…","…","…","…","…","…","…","…","…","…","…","…","…","…","…","…","…","…","…"]

{"sheet":"C400","index":4,"n_rows":45,"n_cols":19,"rows_kept":45,"cut":false,"hidden":false,"merged":[[2,5,2,16],[1,5,1,16],[15,14,15,17],[43,16,43,17],[35,14,35,17],[39,12,40,13],[40,16,40,17],[41,16,41,17],[42,16,42,17]]}
[]
[null,null,null,null,null,"CENSO EDUCATIVO 2024"]
[null,null,null,null,null,"MATRÍCULA, DOCENTES Y RECURSOS"]
[]
[]
[]
[null,"342. ÁREA DE PSICOLOGÍA"]
[null,"342.1 DURANTE EL PRESENTE AÑO, ¿SE CUENTA CON ALGÚN PROFESIONAL DE PSICOLOGÍA",null,null,null,null,null,null,null,null,"342.2. ¿A TRAVÉS DE QUÉ MECANISMO SE INCORPORÓ AL PROFESIONAL DE PSICOLOGÍA?"]
[null,null,"INCORPORADO AL INSTITUTO O ESCUELA O PROGRAMA EDUCATIVO?",null,null,null,null,null,null,null,null,"Marque con una “X”, una opción"]
[]
[null,null,null,null,null,null,null,null,null,null,null,null,null,"Contratación a través de UGEL (pe. JEC, Convivencia Escolar, etc.)"]
[null,null,"Sí",null,null,"No",null,null,null,"Pase a la Sección 400",null,null,null,"Contratación a través de UGEL (por identificación de necesidad)"]
[null,null,null,null,null,null,null,null,null,null,null,null,null,"Prácticas profesionales"]
[null,null,null,null,null,null,null,null,null,null,null,null,null,"Servicio Rural y Urbano Marginal de Salud (Serums)"]
[null,null,null,null,null,null,null,null,null,null,null,null,null,"Pasantías"]
[null,null,null,null,null,null,null,null,null,null,null,null,null,"Otro"]
[]
[]
[null,"400. FORTALECIMIENTO DE LA GESTIÓN"]
[]
[null,"401. ¿CUÁLES SON LAS DOS PRINCIPALES TEMÁTICAS QUE CONSIDERA USTED QUE",null,null,null,null,null,null,null,null,"403. ¿SE HA INCORPORADO ALGÚN OBJETIVO O ACCIÓN REFERIDA A LA PREVENCIÓN,"]
[null,null,"EL PERSONAL ADMINISTRATIVO DE ESTE INSTITUTO O ESCUELA PODRÍA SER  CAPACITADO?",null,null,null,null,null,null,null,null,"PROMOCIÓN Y ATENCIÓN DE LA SALUD (FÍSICA, MENTAL O EMOCIONAL)"]
[null,null,"Marque con una “X”, solamente dos opciones",null,null,null,null,null,null,null,null,"O ALGUNA OTRA SIMILAR DIRIGIDA A PERSONAL DOCENTE, DIRECTIVO, JERÁRQUICO"]
[null,null,null,null,null,null,null,null,null,null,null,"O ADMINISTRATIVO EN LOS INSTRUMENTOS DE GESTIÓN DEL DEL INSTITUTO O ESCUELA? "]
[null,null,{"$f":"COUNTIF(D25:D32,\"X\")","v":0},null,"Seguridad de control de accesos y de control interno de la IE."]
[null,null,null,null,"Gestión de limpieza y/o mantenimiento de la IE",null,null,null,null,null,null,"Sí",null,null,"No",null,null,null,"Pase a la pregunta 405"]
[null,null,null,null,"Manejo de habilidades interpersonales (atención de usuarios)."]
[null,null,null,null,"Técnicas de archivo y despacho de documentos."]
[null,null,null,null,"Manejo de los sistemas informáticos del Minedu.",null,null,null,null,null,"404. ¿A TRAVÉS DE QUÉ INSTRUMENTOS DE GESTIÓN SE HA INCORPORADO?"]
[null,null,null,null,"Administración y control de recursos propios (financieros).",null,null,null,null,null,null,"Marque con una “X”, una opción"]
[null,null,null,null,"Manejo de herramientas TIC y ofimática."]
[null,null,null,null,"La gestión de riesgo de desastres priorizando la prevención y reducción",null,null,null,null,null,null,null,null,"Proyecto Educativo Institucional (PEI)"]
[null,null,null,null,null,null,null,null,null,null,null,null,null,"Plan Anual de Trabajo (PAT)"]
[null,"402.  CON RESPECTO A LAS LABORES DEL PERSONAL ADMINISTRATIVO DURANTE EL",null,null,null,null,null,null,null,null,null,null,null,"Proyecto Curricular de la IE (PCI)"]
[null,null,"AÑO 2023, ¿EN QUÉ ÁMBITO(S) IDENTIFICÓ MAYOR CARGA DE ACTIVIDADES",null,null,null,null,null,null,null,null,null,null,"Reglamento Interno (RI)"]
[null,null,"OPERATIVAS ADMINISTRATIVAS?",null,null,null,null,null,null,null,null,null,null,"Otro"]
[null,null,"Marque con una “X”, hasta dos opciones"]
[null,null,null,null,null,null,null,null,null,null,"405. ¿QUÉ COMITÉS DE GESTIÓN ESCOLAR HA IMPLEMENTADO EN ESTE INSTITUTO O ESCUELA?"]
[null,null,{"$f":"COUNTIF(D39:D44,\"X\")","v":0},null,"Gestión de recursos financieros, bienes, servicios e infraestructura"]
[null,null,null,null,"Gestión de información de la IE (registro en sistemas administrativos)",null,null,null,null,null,null,null,"Comités",null,null,null,null,null,"Fecha de resolución"]
[null,null,null,null,"Gestión y seguimiento del uso de los recursos educativos.",null,null,null,null,null,null,null,null,null,null,"SI - NO","N° de RD",null,"DD/MM/AAAA"]
[null,null,null,null,"Limpieza y mantenimiento",null,null,null,null,null,"01","Comité de Condiciones Operativas"]
[null,null,null,null,"La gestión de riesgo de desastres priorizando la prevención y reducción",null,null,null,null,null,"02","Comité de Gestión del Bienestar"]
[null,null,null,null,"Vigilancia y guardianía",null,null,null,null,null,"03","Comité de Gestión Pedagógica"]
[null,null,null,null,null,null,null,null,null,null,null,null,null,null,null,{"$f":"COUNTIF(P42:P44,\"SI\")+COUNTIF(P42:P44,\"NO\")","v":0}]

{"sheet":"C500","index":5,"n_rows":148,"n_cols":23,"rows_kept":148,"cut":false,"hidden":false,"merged":[[102,3,102,7],[102,8,102,10],[102,11,102,18],[102,19,102,21],[100,3,100,7],[100,8,100,10],[100,11,100,18],[100,19,100,21],[101,3,101,7],[101,8,101,10],[101,11,101,18],[101,19,101,21],[81,14,81,16],[62,18,62,19],[62,20,62,21],[64,3,64,8],[68,4,68,8],[73,13,77,15],[73,17,73,19],[73,20,73,22],[74,16,76,16],[74,17,76,17],[74,18,77,18],[74,19,76,19],[74,20,76,20],[74,21,77,21],[74,22,76,22],[79,5,79,8],[56,20,56,21],[58,18,58,19],[60,18,60,19],[60,20,60,21],[61,18,61,19],[61,20,61,21],[46,4,46,6],[46,8,46,9],[46,11,46,13],[46,14,46,15],[46,16,46,17],[46,18,46,19],[44,8,44,9],[44,11,44,13],[44,14,44,15],[44,16,44,17],[44,18,44,19],[45,8,45,9],[45,11,45,13],[45,14,45,15],[45,16,45,17],[45,18,45,19],[42,8,42,9],[42,11,42,13],[42,14,42,15],[42,16,42,17],[42,18,42,19],[43,8,43,9],[43,11,43,13],[43,14,43,15],[43,16,43,17],[43,18,43,19],[38,20,40,20],[38,21,40,21],[39,8,39,9],[39,16,39,17],[39,18,39,19],[41,8,41,9],[41,11,41,13],[41,14,41,15],[41,16,41,17],[41,18,41,19],[37,7,38,7],[38,3,39,6],[38,11,40,13],[38,14,40,15],[13,15,14,18],[15,4,16,7],[15,9,17,9],[15,10,17,10],[22,5,22,7]]}
[]
[null,null,null,null,null,"CENSO EDUCATIVO 2024"]
["SI",null,null,null,null,"MATRÍCULA, DOCENTES Y MATERIALES EDUCATIVOS"]
["NO"]
[]
[]
[null,"500. GESTIÓN DEL RIESGO DE DESASTRES"]
[]
[null,null,"501. EN EL PRESENTE AÑO, ESTE SERVICIO/NIVEL EDUCATIVO, ¿HA INCORPORADO LA DEFENSA",null,null,null,null,null,null,null,null,null,null,"502. SOBRE LA DEFENSA NACIONAL Y LA GESTIÓN DEL RIESGO DE DESASTRES EN ESTE"]
[null,null,null,"NACIONAL Y GESTIÓN DEL RIESGO DE DESASTRES EN SUS INSTRUMENTOS DE GESTIÓN VIGENTES?",null,null,null,null,null,null,null,null,null,null,"SERVICIO/NIVEL EDUCATIVO, ATIENDA LAS SIGUIENTES PREGUNTAS:"]
[]
[null,null,null,"Sí  ",null,null,null,"No  ",null,null,null,null,null,null,"Seleccione “Si” o “No” según corresponda en atención a cada pregunta."]
[]
[null,null,null,null,null,null,null,null,null,null,null,null,null,null,null,"Documentos de Gestión",null,null,null,null,null,"Respuesta"]
[null,null,null,"Precise los documentos de gestión"]
[null,null,null,null,"Documentos de Gestión",null,null,null,null,"Gestión de Riesgo de Desastres","Seguridad y Defensa Nacional",null,null,null,null,null,null,null,null,null,null,"SI - NO"]
[null,null,null,null,null,null,null,null,null,null,null,null,null,null,"¿La IE cuenta con un croquis con rutas de evacuación?"]
[null,null,{"$f":"COUNTIF(J19:J23,\"X\") + COUNTIF(K19:K23,\"X\")","v":0},null,null,null,null,null,null,null,null,null,null,null,"¿La IE cuenta con planos de señalización con rutas de evacuación?"]
[null,null,"01","Proyecto Educativo Institucional (PEI)",null,null,null,null,{"$f":"COUNTIF(J19:K19,\"X\")","v":0}]
[null,null,"02","Plan Anual de Trabajo (PAT)",null,null,null,null,{"$f":"COUNTIF(J20:K20,\"X\")","v":0}]
[null,null,"03","Proyecto Currícular Institucional (PCI)",null,null,null,null,{"$f":"COUNTIF(J21:K21,\"X\")","v":0}]
[null,null,"04","Reglamento Interno (RI)",null,null,null,null,{"$f":"COUNTIF(J22:K22,\"X\")","v":0}]
[null,null,"05","Otros",{"$f":"CONCATENATE(J23,K23)","v":""},null,null,null,{"$f":"COUNTIF(J23:K23,\"X\")","v":0}]
[null,null,null,null,null,null,null,null,null,{"$f":"COUNTIF(J11:J23,\"X\")","v":0},{"$f":"COUNTIF(K11:K23,\"X\")","v":0}]
[null,null,"503. EN EL PRESENTE AÑO, LOS MIEMBROS DE ESTE SERVICIO/NIVEL EDUCATIVO, ¿HAN SIDO CAPACITADOS Y CERTIFICADOS EN MATERIA DE GESTIÓN INTEGRAL \nDEL RIESGO DE DESASTRES?"]
[]
[null,null,null,"Sí  ",null,null,null,"No  "]
[]
[]
[null,null,null,null,null,"Alguna de ellos fue desarrollada por:"]
[]
[null,null,null,null,null,null,null,"SI - NO"]
[null,null,null,null,null,"DRE/GRE"]
[null,null,null,null,null,"UGEL"]
[]
[null,null,null,"Complete la tabla"]
[]
[null,null,null,null,null,null,null,"¿Se realizó?","Cantidad de personas capacitadas",null,null,null,null,null,null,null,"Cantidad de personas certificadas"]
[null,null,null,"Tipo de Capacitación",null,null,null,null,null,null,null,"Adminis-  trativos",null,null,"Integrantes\nque pertenecen a la brigada de EA y GRD",null,null,null,null,null,"Adminis-  trativos","Integrantes brigada EA y GRD"]
[null,null,null,null,null,null,null,null,"Directores",null,"Docentes",null,null,null,null,null,"Directores",null,"Docentes"]
[null,null,null,null,null,null,null,"SI - NO"]
[null,null,"01","Curso",null,null,null,null,null,null,null,null,null,null,null,null,null,null,null,null,null,null,{"$f":"SUM(I42:V42)","v":0}]
[null,null,"02","Taller de capacitación",null,null,null,null,null,null,null,null,null,null,null,null,null,null,null,null,null,null,{"$f":"SUM(I43:V43)","v":0}]
[null,null,"03","Reuniones de trabajo institucionales",null,null,null,null,null,null,null,null,null,null,null,null,null,null,null,null,null,null,0]
[null,null,"04","Foro",null,null,null,null,null,null,null,null,null,null,null,null,null,null,null,null,null,null,0]
[null,null,"05","Webinar",null,null,null,null,null,null,null,null,null,null,null,null,null,null,null,null,null,null,0]
[null,null,"06","Otros",null,null,null,null,null,null,null,null,null,null,null,null,null,null,null,null,null,null,0]
[null,null,null,null,null,null,null,{"$f":"COUNTIF(H42:H47,\"SI\") + COUNTIF(H42:H47,\"NO\")","v":0}]
[]
[null,null,"504. EN EL AÑO 2023, ANTE LA DETECCIÓN DEL PELIGRO INMINENTE, EMERGENCIA O DESASTRE,",null,null,null,null,null,null,null,null,null,null,"506. EL SERVICIO/NIVEL EDUCATIVO, ¿CUENTA CON LA BRIGADA DE EDUCACIÓN AMBIENTAL Y"]
[null,null,null,"¿ESTE SERVICIO/NIVEL EDUCATIVO REPORTA AL ESPACIO DE MONITOREO Y SEGUIMIENTO",null,null,null,null,null,null,null,null,null,null,"GESTIÓN DE RIESGO DE DESASTRES?"]
[null,null,null,"SECTORIAL (EMSS) DE LA UGEL?"]
[null,null,null,null,null,null,null,null,null,null,null,null,null,null,"Sí",null,null,null,"No  "]
[null,null,null,"Sí  ",null,null,"¿Ha sido capacitado sobre el proceso a seguir para reportar?"]
[]
[null,null,null,null,null,null,null,"Sí  ",null,null,null,null,null,null,null,"Documento",null,null,null,"Resolución"]
[null,null,null,null,null,null,null,null,null,null,null,null,null,null,null,null,null,null,null,"Otro",""]
[null,null,null,null,null,null,null,"No  "]
[null,null,null,null,null,null,null,null,null,null,null,null,null,null,null,"Número",null,null,""]
[null,null,null,null,null,null,null,"No Sabe  "]
[null,null,null,"No  ",null,null,null,null,null,null,null,null,null,null,null,null,null,null,"Desde:",null,"Hasta:"]
[null,null,null,null,null,null,null,null,null,null,null,null,null,null,null,"Vigencia",null,null,"DD/MM/AAAA",null,"DD/MM/AAAA"]
[]
[null,null,null,"¿Por qué?",null,null,"Marque con una “X”, una opción"]
[null,null,null,"ITEMS",null,null,null,null,null,"Marcar con X",null,null,null,"507. ESTE SERVICIO/NIVEL EDUCATIVO, ¿CUENTA CON ALGUNA EXPERIENCIA EXITOSA O"]
[null,null,null,"No se tuvo emergencia en territorio",null,null,null,null,null,null,null,null,null,null,"BUENA PRÁCTICA DOCENTE Y/O GESTIÓN ESCOLAR ENMARCADAS EN ALGUNA DE LAS"]
[null,null,null,"No se cuenta con los instrumentos y/o herramientas",null,null,null,null,null,null,null,null,null,null,"LÍNEAS ESTRATÉGICAS?"]
[null,null,null,"No se conoce el procedimiento"]
[null,null,null,"Otro",null,null,null,null,null,null,null,null,null,null,"Sí  ",null,null,null,"No  "]
[]
[]
[null,null,"505. EN EL PRESENTE AÑO, ESTE SERVICIO/NIVEL EDUCATIVO, ¿HA PARTICIPADO EN CAMPAÑAS",null,null,null,null,null,null,null,null,null,null,null,"Complete la tabla"]
[null,null,null,"COMUNICACIONALES DE GESTIÓN DE RIESGO DE DESASTRES?",null,null,null,null,null,null,null,null,null,"Seleccione “Sí” o “No” para cada línea estratégica e ingrese los años según corresponda"]
[null,null,null,null,null,null,null,null,null,null,null,null,null,"Línea estratégica",null,null,null,"Experiencia exitosa",null,null,"Buena práctica docente y/o Gestión escolar"]
[null,null,null,"Sí  ",null,null,null,"No  ",null,null,null,null,null,null,null,null,null,"¿Cuenta con experiencia exitosa?","Año de la experiencia exitosa","Se socializó con otras entidades","¿Cuenta con buena práctica docente y Gestión escolar?","Año de la buena práctica docente y/o Gestión escolar","Se socializó con otras entidades"]
[]
[]
[null,null,null,null,null,"Indique, ¿En qué acciones participó o recibió?",null,null,null,null,null,null,null,null,null,null,null,"SI / NO",null,"SI / NO","SI / NO",null,"SI / NO"]
[null,null,null,null,null,null,null,null,null,null,null,null,"01","Seguridad y Defensa Nacional"]
[null,null,null,null,null,"ITEMS",null,null,null,"Marcar con X",null,null,"02","Gestión del Riesgo de Desastre"]
[null,null,null,null,null,"Pasacalle",null,null,null,null,null,null,"03","Adaptación al cambio climático"]
[null,null,null,null,null,"Feria",null,null,null,null,null,null,"04","Otro"]
[null,null,null,null,null,"Activaciones motivadoras",null,null,null,null,null,null,null,null,null,null,null,{"$f":"COUNTIF(R79:R82,\"SI\")+COUNTIF(R79:R82,\"NO\")","v":0},null,null,{"$f":"COUNTIF(U79:U82,\"SI\")+COUNTIF(U79:U82,\"NO\")","v":0},"",""]
[null,null,null,null,null,"Conferencias",null,null,null,null,null,null,null,"508. ESTE SERVICIO/NIVEL EDUCATIVO, ¿PARTICIPÓ EN LOS SIMULACROS CONVOCADOS POR"]
[null,null,null,null,null,"Recepción de afiches",null,null,null,null,null,null,null,null,"MINEDU Y/O INDECI?"]
[null,null,null,null,null,"Recepción murales de GRD"]
[null,null,null,null,null,"Post en redes sociales",null,null,null,null,null,null,null,null,"Sí  ",null,null,null,"No  "]
[null,null,null,null,null,"Post radiales"]
[]
[null,null,null,null,null,null,null,null,null,null,null,null,null,null,null,null,"Complete la tabla"]
[]
[null,null,null,null,null,null,null,null,null,null,null,null,null,null,null,null,null,"ITEMS",null,null,"Marcar con X"]
[null,null,null,null,null,null,null,null,null,null,null,null,null,null,null,null,"Primer Simulacro"]
[null,null,null,null,null,null,null,null,null,null,null,null,null,null,null,null,"Segundo Simulacro"]
[null,null,null,null,null,null,null,null,null,null,null,null,null,null,null,null,"Tercer Simulacro"]
[]
[]
[null,"DATOS DEL DIRECTOR/RESPONSABLE DEL LLENADO DE LA CÉDULA"]
[]
[null,null,null,"NOMBRES Y APELLIDOS",null,null,null,null,"CARGO",null,null,"CORREO ELECTRÓNICO",null,null,null,null,null,null,null,"TELÉFONO"]
[]
[]
[]
[]
[]
[]
[]
[]
[]
["DIRECTOR(A)"]
["SUB DIRECTOR(A)"]
["DOCENTE"]
["COORDINADOR(A)"]
["ASESOR"]
["ADMINISTRATIVO"]
["ASISTENTE"]
["AUXILIAR"]
["SECRETARIA(O)"]
["ESTADÍSTICO"]
["ESPECIALISTA"]
["BIBLIOTECARIO"]
["CARE"]
["COMANDANTE PNP"]
["CONTADOR"]
["DAIP"]
["DIGITADOR(A)"]
["GERENTE"]
["JEFE ACADÉMICO"]
["JEFE ADMINISTRATIVO"]
["JEFE DE ÁREA"]
["JEFE DE LABORATORIO"]
["JEFE DE PERSONAL"]
["JEFE DE SEDE"]
["JEFE DE UNIDAD"]
["OFICINISTA"]
["OPERADOR DE SISTEMAS"]
["PERSONAL DE SERVICIO"]
["PROGRAMADOR"]
["PROMOTOR(A)"]
["PSICOLOGO"]
["REGISTRADOR(A)"]
["REPRESENTANTE LEGAL"]
["SOPORTE TECNOLOGICO"]
["TÉCNICO ADMINISTRATIVO"]
["TESORERO(A)"]
["TRABAJADOR SOCIAL"]
["TUTOR"]
["OTROS"]

{"sheet":"Enviar","index":6,"n_rows":9,"n_cols":4,"rows_kept":9,"cut":false,"hidden":false,"merged":[[0,1,0,4],[1,1,1,4]]}
[null,"CENSO EDUCATIVO 2024"]
[null,"MATRÍCULA, DOCENTES Y RECURSOS"]
[]
[]
[null,null,"Paso 1:","Realice el ENVÍO con su clave EOL."]
[]
[null,null,"Paso 2:","Una vez realizado el ENVÍO,  Revise su constancia de envio."]
[]
[null,null,"  ADVERTENCIA","ASEGÚRESE DE REGISTRAR TODA LA INFORMACIÓN DEL NIVEL INFORMANTE"]

{"sheet":"Carreras","index":7,"n_rows":910,"n_cols":9,"rows_kept":910,"cut":false,"hidden":false,"merged":[]}
[null,"PROFESIONAL TÉCNICO  (3 AÑOS DE ESTUDIO)",null,null,"TÉCNICO  (2 AÑOS DE ESTUDIO)",null,null,"PROFESIONAL (4 AÑOS DE ESTUDIO)"]
[null,"CÓDIGO","CARRERA",null,"CÓDIGO","CARRERA",null,"CÓDIGO","CARRERA"]
[null,"SPT4181094","ABASTECIMIENTO",null,"STE6111395","ADMINISTRACIÓN DE BASE DE DATOS",null,"SPF24X0417","ADMINISTRACIÓN DE CIBERSEGURIDAD"]
[null,"SPT2151064","ACTUACIÓN",null,"STE6126167","ADMINISTRACIÓN DE DATOS",null,"SPF24X0418","ADMINISTRACIÓN DE COMPUTACIÓN EN LA NUBE"]
[null,"SPT8311319","ACUICULTURA",null,"STE0121375","ADMINISTRACIÓN DE HOSTELERÍA",null,"SPF4130008","ADMINISTRACIÓN DE EMPRESAS"]
[null,"SPT24X0445","ACUICULTURA Y PROCESAMIENTO PESQUERO",null,"STE0121376","ADMINISTRACIÓN DE HOTELES",null,"SPF0140011","ADMINISTRACIÓN DE EMPRESAS TURÍSTICAS Y HOTELERAS"]
[null,"SPT4121097","ADMINISTRACIÓN BANCARIA POR COMPETENCIAS",null,"STE7321441","ADMINISTRACIÓN DE LA CONSTRUCCIÓN",null,"SPF4130009","ADMINISTRACIÓN DE EMPRESAS Y CONTABILIDAD"]
[null,"SPT4121096","ADMINISTRACIÓN BANCARIA",null,"STE4130068","ADMINISTRACIÓN DE PEQUEÑOS NEGOCIOS",null,"SPF0120012","ADMINISTRACIÓN DE HOTELES, RESTAURANTES Y AFINES"]
[null,"SPT4121098","ADMINISTRACIÓN BANCARIA Y FINANCIERA",null,"STE6121396","ADMINISTRACIÓN DE REDES",null,"SPF0140211","ADMINISTRACIÓN DE INDUSTRIAS TURÍSTICAS Y HOTELERAS"]
[null,"SPT6120312","ADMINISTRACIÓN CON TECNOLOGÍAS DE LA INFORMACIÓN",null,"STE0121377","ADMINISTRACIÓN DE RESTAURANTES",null,"SPF24X0419","ADMINISTRACIÓN DE NEGOCIOS INTERNACIONALES Y GESTIÓN ADUANERA"]
[null,"SPT4131099","ADMINISTRACIÓN DE AEROPUERTOS",null,"STE4130077","ADMINISTRACIÓN DE SERVICIOS",null,"SPF24X0420","ADMINISTRACIÓN DE NEGOCIOS INTERNACIONALES Y LOGÍSTICA INTEGRAL"]
[null,"SPT4131100","ADMINISTRACIÓN DE AGENCIA DE VIAJES",null,"STE0121378","ADMINISTRACIÓN TURÍSTICA",null,"SPF4130010","ADMINISTRACIÓN DE NEGOCIOS"]
[null,"SPT4121101","ADMINISTRACIÓN DE BANCA Y FINANZAS",null,"STE4136624","ALMACENAMIENTO E INVENTARIOS",null,"SPF24X0448","ADMINISTRACIÓN ESTRATÉGICA Y DIRECCIÓN EMPRESARIAL"]
[null,"SPT0120015","ADMINISTRACIÓN DE BAR",null,"STE8111455","ALTO RIESGO",null,"SPF4136141","ADMINISTRACIÓN Y DIRECCIÓN DE NEGOCIOS"]
[null,"SPT6121185","ADMINISTRACIÓN DE CENTRO DE CÓMPUTO",null,"STE5426615","ANÁLISIS DE DATOS EMPRESARIALES",null,"SPF24X0412","ADMINISTRACIÓN Y NEGOCIOS DIGITALES"]
[null,"SPT6116178","ADMINISTRACIÓN DE CENTROS DE CÓMPUTO CON MENCIÓN EN IMPLEMENTACIÓN, CONFIGURACIÓN Y REPARACIÓN DE COMPUTADORAS",null,"STE4146625","ANÁLISIS DE MERCADOS",null,"SPF2116628","ANIMACIÓN DIGITAL"]
[null,"SPT24X0407","ADMINISTRACIÓN DE CENTROS DE COMPUTO",null,"STE4126616","ASESORAMIENTO OPERATIVO Y COMERCIAL DE PRODUCTOS BANCARIOS Y FINANCIEROS",null,"SPF7310023","ARQUITECTURA DE INTERIORES"]
[null,"SPT6126106","ADMINISTRACIÓN DE CENTROS DE CÓMPUTO",null,"STE4181379","AVIACIÓN COMERCIAL",null,"SPF24X0414","ARQUITECTURA DE SISTEMAS DE INFORMACIÓN"]
[null,"SPT9999002","ADMINISTRACION DE EMPRESAS",null,"STE8111451","AVICULTURA Y CRIANZA DE ANIMALES MENORES",null,"SPF2136130","ARTES PLÁSTICAS Y VISUALES"]
[null,"SPT4136597","ADMINISTRACIÓN DE EMPRESAS CON MENCIÓN EN AGRONEGOCIOS",null,"STE0126617","BAR Y COCTELERÍA",null,"SPF24X0431","ARTES VISUALES"]
[null,"SPT4136137","ADMINISTRACIÓN DE EMPRESAS CON MENCIÓN EN EMPRESAS INDUSTRIALES",null,"STE0326175","CIENCIAS ADMINISTRATIVAS Y POLICIALES",null,"SPF3220007","COMUNICACIÓN AUDIOVISUAL MULTIMEDIA"]
[null,"SPT4136145","ADMINISTRACIÓN DE EMPRESAS CON MENCIÓN EN FINANZAS",null,"STE0121381","COCINA",null,"SPF3226143","COMUNICACIÓN ESTRATÉGICA"]
[null,"SPT4136136","ADMINISTRACIÓN DE EMPRESAS CON MENCIÓN EN GESTIÓN EMPRESARIAL",null,"STE0120121","COCINA Y RESTAURANTES",null,"SPF24X0447","CONSERVACIÓN Y RESTAURACIÓN DE BIENES CULTURALES MATERIALES"]
[null,"SPT4131103","ADMINISTRACIÓN DE EMPRESAS DE TRANSPORTES",null,"STE4161388","COMERCIO INTERNACIONAL",null,"SPF24X0421","CONTABILIDAD FINANCIERA Y TRIBUTARIA"]
[null,"SPT0120206","ADMINISTRACIÓN DE EMPRESAS HOTELERAS",null,"STE4181392","COMERCIO",null,"SPF4116162","CONTABILIDAD Y FINANZAS"]
[null,"SPT4131102","ADMINISTRACIÓN DE EMPRESAS",null,"STE4131389","COMERCIO Y PRODUCCIÓN",null,"SPF24X0444","CREACIÓN MUSICAL"]
[null,"SPT0141121","ADMINISTRACIÓN DE EMPRESAS TURÍSTICAS",null,"STE6116505","COMPUTACIÓN E INFORMÁTICA",null,"SPF24X0440","CREACIÓN Y DIRECCIÓN AUDIOVISUAL"]
[null,"SPT0141122","ADMINISTRACIÓN DE EMPRESAS TURÍSTICAS Y HOTELERAS",null,"STE24X0404","COMPUTACIÓN",null,"SPF24X0422","DESARROLLO DE APLICATIVOS MOVILES"]
[null,"SPT4130105","ADMINISTRACIÓN DE EMPRESAS Y CONTABILIDAD",null,"STE7241424","CONCENTRACIÓN DE MINERALES POR SEPARACIÓN FÍSICA",null,"SPF24X0423","DESARROLLO DE SISTEMAS FRONT-END Y BACK-END"]
[null,"SPT24X0439","ADMINISTRACIÓN DE EMPRESAS Y FINANZAS",null,"STE7211401","CONFITERÍA INDUSTRIAL",null,"SPF2110003","DIRECCIÓN DE ARTES GRÁFICAS Y PUBLICITARIAS"]
[null,"SPT4136542","ADMINISTRACIÓN DE EMPRESAS Y GESTIÓN DE EQUIPOS",null,"STE3130029","CONSEJERÍA DE ORIENTACIÓN PSICOANALÍTICA",null,"SPF24X0415","DIRECCIÓN DE EMPRESAS"]
[null,"SPT4136543","ADMINISTRACIÓN DE EMPRESAS Y GESTIÓN DE MARKETING",null,"STE8111454","CONSERVACIÓN Y APROVECHAMIENTO RACIONAL DE RECURSOS FORESTALES",null,"SPF24X0401","DIRECCIÓN DE INNOVACIÓN Y TRANSFORMACIÓN EMPRESARIAL"]
[null,"SPT4136544","ADMINISTRACIÓN DE EMPRESAS Y GESTIÓN DE RECURSOS HUMANOS",null,"STE4110069","CONTABILIDAD OPERATIVA",null,"SPF24X0416","DIRECCIÓN DE MARKETING Y GESTIÓN COMERCIAL"]
[null,"SPT4136545","ADMINISTRACIÓN DE EMPRESAS Y GESTIÓN FINANCIERA",null,"STE4111394","CONTABILIDAD",null,"SPF24X0402","DIRECCIÓN DE NEGOCIOS DIGITALES E INNOVACIÓN"]
[null,"SPT24X0417","ADMINISTRACIÓN DE EMPRESAS Y TRANSFORMACIÓN DIGITAL",null,"STE0131363","DEPORTES",null,"SPF24X0407","DIRECCIÓN DE NEGOCIOS GLOBALES"]
[null,"SPT0121123","ADMINISTRACIÓN DE HOSTELERÍA",null,"STE6120152","DESARROLLO DE REDES",null,"SPF2116138","DIRECCIÓN DE PROYECTOS VISUALES Y FOTOGRAFÍA"]
[null,"SPT0121124","ADMINISTRACIÓN DE HOTELES Y RESTAURANTES",null,"STE6120150","DESARROLLO DE SOFTWARE",null,"SPF24X0408","DIRECCIÓN DE TECNOLOGÍAS DE LA INFORMACIÓN"]
[null,"SPT0121125","ADMINISTRACIÓN DE HOTELES, RESTAURANTES Y AFINES",null,"STE7316089","DIBUJO DE ARQUITECTURA Y OBRAS CIVILES",null,"SPF24X0409","DIRECCIÓN HOTELERA"]
[null,"SPT0140035","ADMINISTRACIÓN DE INDUSTRIAS TURÍSTICAS Y HOTELERAS",null,"STE7320030","DIBUJO DE CONSTRUCCIÓN CIVIL",null,"SPF24X0410","DIRECCIÓN PUBLICITARIA"]
[null,"SPT9999001","ADMINISTRACIÓN DE NEGOCIOS AGROPECUARIOS",null,"STE3220193","DIRECCIÓN DE RADIO Y TELEVISIÓN",null,"SPF24X0403","DIRECCIÓN Y DISEÑO GRAFICO"]
[null,"SPT4131301","ADMINISTRACIÓN DE NEGOCIOS AGROPECUARIOS",null,"STE0130199","DIRECCIÓN TÉCNICA EN FÚTBOL",null,"SPF2110004","DIRECCIÓN Y DISEÑO GRÁFICO"]
[null,"SPT4120222","ADMINISTRACIÓN DE NEGOCIOS BANCARIOS Y FINANCIEROS",null,"STE7111410","ELECTRICIDAD INDUSTRIAL",null,"SPF2110005","DIRECCIÓN Y DISEÑO PUBLICITARIO"]
[null,"SPT4126546","ADMINISTRACIÓN DE NEGOCIOS BANCARIOS Y MICROFINANZAS",null,"STE7121417","ELECTROMECÁNICA",null,"SPF2120110","DIRECCIÓN Y GESTIÓN DE LA MODA"]
[null,"SPT4126547","ADMINISTRACIÓN DE NEGOCIOS BANCARIOS, FINANCIEROS Y BANCA DIGITAL",null,"STE7121413","ELECTRÓNICA DE CONSUMO",null,"SPF24X0404","DIRECCIÓN Y GESTIÓN DE PROYECTOS ANIMADOS"]
[null,"SPT4126548","ADMINISTRACIÓN DE NEGOCIOS BANCARIOS, FINANCIEROS Y GESTIÓN DE EQUIPOS",null,"STE24X0407","ELECTRÓNICA",null,"SPF24X0405","DIRECCIÓN Y GESTIÓN DE PROYECTOS DE VIDEOJUEGOS"]
[null,"SPT4130413","ADMINISTRACIÓN DE NEGOCIOS CON MENCIÓN EN COMERCIALIZACIÓN",null,"STE7241425","EXPLOTACIÓN DE MINAS",null,"SPF24X0424","DISEÑO DE INTERIORES E INNOVACIÓN DE ESPACIOS"]
[null,"SPT24X0405","ADMINISTRACIÓN DE NEGOCIOS DIGITALES",null,"STE7211403","EXTRACCIÓN DE ACEITES, GRASAS Y AZÚCAR",null,"SPF24X0432","DISEÑO DE INTERIORES Y GESTIÓN DE PROYECTOS"]
[null,"SPT0141127","ADMINISTRACIÓN DE NEGOCIOS INTERNACIONALES DE TURISMO",null,"STE7236503","FABRICACIÓN DE PRENDAS DE VESTIR",null,"SPF2136117","DISEÑO DE PRODUCTO E INNOVACIÓN TECNOLÓGICA"]
[null,"SPT4161146","ADMINISTRACIÓN DE NEGOCIOS INTERNACIONALES",null,"STE9171456","FARMACIA",null,"SPF2116629","DISEÑO DE VIDEOJUEGOS Y ENTRETENIMIENTO DIGITAL"]
[null,"SPT4166549","ADMINISTRACIÓN DE NEGOCIOS INTERNACIONALES Y GESTIÓN DE FINANZAS INTERNACIONALES",null,"STE8110031","FRUTICULTURA",null,"SPF24X0411","DISEÑO ESTRATÉGICO E INNOVACIÓN"]
[null,"SPT4160514","ADMINISTRACIÓN DE NEGOCIOS INTERNACIONALES Y MARKETING INTERNACIONAL",null,"STE5326096","GEOLOGÍA Y EXPLORACIÓN",null,"SPF2116076","DISEÑO GRÁFICO"]
[null,"SPT4131104","ADMINISTRACIÓN DE NEGOCIOS",null,"STE4130171","GESTIÓN DE LOGÍSTICA Y DE ALMACENES",null,"SPF24X0425","DISEÑO GRÁFICO PUBLICITARIO"]
[null,"SPT0140166","ADMINISTRACIÓN DE NEGOCIOS TURÍSTICOS",null,"STE4130179","GESTIÓN EMPRESARIAL",null,"SPF24X0426","DISEÑO GRÁFICO Y ANIMACIÓN"]
[null,"SPT4130115","ADMINISTRACIÓN DE NEGOCIOS Y DIRECCIÓN DE VENTAS",null,"STE4130170","GESTIÓN Y ADMINISTRACIÓN DE PEQUEÑOS NEGOCIOS",null,"SPF24X0427","DISEÑO GRÁFICO Y EXPERIENCIA DE USUARIO"]
[null,"SPT4130083","ADMINISTRACIÓN DE NEGOCIOS Y GESTIÓN DEL EMPRENDIMIENTO",null,"STE0141457","GUÍA DE TURISTAS",null,"SPF24X0433","DISEÑO GRÁFICO Y GESTIÓN DE PROYECTOS"]
[null,"SPT4131105","ADMINISTRACIÓN DE NEGOCIOS Y VENTAS",null,"STE8120032","HORTICULTURA",null,"SPF2116630","DISEÑO Y COMUNICACIÓN VISUAL"]
[null,"SPT4126146","ADMINISTRACIÓN DE OPERACIONES BANCARIAS Y FINANCIERAS",null,"STE0121383","HOSTELERÍA",null,"SPF2120072","DISEÑO Y GESTIÓN DE LA MODA"]
[null,"SPT0146084","ADMINISTRACIÓN DE OPERACIONES TURÍSTICAS",null,"STE7231435","INDUSTRIA DEL VESTIDO",null,"SPF2136631","DISEÑO Y GESTIÓN DE MARCAS"]
[null,"SPT7240130","ADMINISTRACIÓN DE OPERACIONES Y MINERÍA",null,"STE7116510","INSTALACIONES ELÉCTRICAS",null,"SPF2110211","FOTOGRAFÍA"]
[null,"SPT6116180","ADMINISTRACION DE PLATAFORMAS",null,"STE7110099","INSTRUMENTACIÓN INDUSTRIAL",null,"SPF2116573","FOTOGRAFÍA E IMAGEN DIGITAL"]
[null,"SPT6116105","ADMINISTRACIÓN DE PLATAFORMAS Y SERVICIOS WEB",null,"STE0320138","INVESTIGACIÓN PRIVADA",null,"SPF24X0406","FOTOGRAFÍA Y DIRECCIÓN DE LA IMAGEN"]
[null,"SPT8210162","ADMINISTRACIÓN DE RECURSOS AGROPECUARIOS Y FORESTALES",null,"STE8111453","JARDINERÍA Y FLORICULTURA",null,"SPF4126632","GESTIÓN BANCARIA Y FINANCIERA"]
[null,"SPT8211316","ADMINISTRACIÓN DE RECURSOS FORESTALES",null,"STE24X0406","JOYERÍA",null,"SPF24X0428","GESTIÓN COMERCIAL DE BANCA"]
[null,"SPT4181158","ADMINISTRACIÓN DE RECURSOS HUMANOS",null,"STE2211365","LITERATURA BÍBLICA",null,"SPF24X0442","GESTIÓN COMERCIAL DE PRODUCTOS Y SERVICIOS BANCARIOS Y FINANCIEROS"]
[null,"SPT6116165","ADMINISTRACIÓN DE REDES Y COMUNICACIÓN",null,"STE3211371","LOCUCIÓN Y COMUNICACIÓN DE RADIO Y TELEVISIÓN",null,"SPF4116633","GESTIÓN CONTABLE, FINANCIERA Y TRIBUTARIA"]
[null,"SPT6126591","ADMINISTRACIÓN DE REDES Y COMUNICACIONES CON MENCIÓN EN VIRTUALIZACIÓN Y SEGURIDAD INFORMÁTICA",null,"STE4136168","LOGÍSTICA DIGITAL INTEGRADA",null,"SPF24X0437","GESTIÓN DE CONSERVACIÓN Y RECUPERACIÓN DE ECOSISTEMAS ACUÁTICOS"]
[null,"SPT6120215","ADMINISTRACIÓN DE REDES Y COMUNICACIONES",null,"STE9999001","MANTENIMIENTO DE EQUIPO PESADO",null,"SPF4136634","GESTIÓN DE LA CADENA DE SUMINISTROS"]
[null,"SPT4121106","ADMINISTRACIÓN DE SEGUROS",null,"STE24X0402","MANTENIMIENTO DE EQUIPO PESADO",null,"SPF24X0445","GESTIÓN DE LA INDUSTRIA MUSICAL"]
[null,"SPT0121126","ADMINISTRACIÓN DE SERVICIOS DE HOSTELERÍA",null,"STE7136618","MANTENIMIENTO DE MAQUINARIAS Y REDES ELÉCTRICAS",null,"SPF24X0441","GESTIÓN DE LA PRODUCCIÓN AUDIOVISUAL"]
[null,"SPT0126601","ADMINISTRACIÓN DE SERVICIOS DE HOSTELERÍA Y RESTAURANTES CON MENCIÓN EN GERENCIA DE LA HOSPITALIDAD INTERNACIONAL",null,"STE7110204","MANTENIMIENTO DE MÁQUINAS Y REDES ELÉCTRICAS",null,"SPF24X0443","GESTIÓN DE PROYECTOS CULTURALES Y ATÍSTICOS"]
[null,"SPT0120615","ADMINISTRACIÓN DE SERVICIOS DE HOSTELERÍA Y RESTAURANTES CON MENCIÓN EN SERVICIOS",null,"STE7136095","MANTENIMIENTO DE PLANTAS INDUSTRIALES",null,"SPF6126635","GESTIÓN DE SISTEMAS DE INFORMACIÓN"]
[null,"SPT0126102","ADMINISTRACIÓN DE SERVICIOS DE HOSTELERÍA Y RESTAURANTES",null,"STE7116619","MANTENIMIENTO DE SISTEMAS ELÉCTRICOS",null,"SPF4146636","GESTIÓN ESTRATÉGICA DE MARKETING"]
[null,"SPT4131159","ADMINISTRACIÓN DE SERVICIOS DE POSTALES",null,"STE24X0401","MANTENIMIENTO DE SISTEMAS ELECTRÓNICOS",null,"SPF4166637","GESTIÓN ESTRATÉGICA DE NEGOCIOS INTERNACIONALES"]
[null,"SPT0126071","ADMINISTRACIÓN DE SERVICIOS EN HOSTELERÍA",null,"STE7116097","MANTENIMIENTO ELÉCTRICO E INSTRUMENTACIÓN",null,"SPF24X0429","GESTIÓN ESTRATÉGICA DEL FACTOR HUMANO"]
[null,"SPT0120122","ADMINISTRACIÓN DE SERVICIOS TURÍSTICOS",null,"STE7116620","MANTENIMIENTO ELECTRÓNICO INDUSTRIAL",null,"SPF24X0438","GESTIÓN Y FORMULACIÓN DE ALIMENTOS Y BEBIDAS"]
[null,"SPT0140177","ADMINISTRACIÓN DE SERVICIOS TURÍSTICOS Y HOTELES",null,"STE7131419","MATRICERÍA",null,"SPF6116163","INGENIERÍA DE SISTEMAS DE INFORMACIÓN"]
[null,"SPT6126551","ADMINISTRACIÓN DE SISTEMAS PARA LA TRANSFORMACIÓN DIGITAL",null,"STE7131420","MECÁNICA AUTOMOTRIZ",null,"SPF6130015","INGENIERÍA DE TELECOMUNICACIONES"]
[null,"SPT6126552","ADMINISTRACIÓN DE SISTEMAS Y PRUEBAS DE SOLUCIONES MULTIPLATAFORMA PARA LA TRANSFORMACIÓN DIGITAL",null,"STE7131421","MECÁNICA DE EQUIPOS PESADOS",null,"SPF6130016","INGENIERÍA DE TELEMÁTICA"]
[null,"SPT6126553","ADMINISTRACIÓN DE SISTEMAS Y SOLUCIONES DE INTELIGENCIA DE NEGOCIOS PARA LA TRANSFORMACIÓN DIGITAL",null,"STE7131422","MECÁNICA DE PLANTA",null,"SPF24X0439","INSPECCIÓN Y MANTENIMIENTO AERONÁUTICO"]
[null,"SPT24X0415","ADMINISTRACIÓN E INNOVACIÓN PARA LOS NEGOCIOS",null,"STE7131423","MECÁNICA DE PRODUCCIÓN",null,"SPF24X0446","INTERPRETACIÓN MUSICAL"]
[null,"SPT4131107","ADMINISTRACIÓN EJECUTIVA",null,"STE7130210","MECÁNICA INDUSTRIAL",null,"SPF2210001","LITERATURA BÍBLICA"]
[null,"SPT4130154","ADMINISTRACIÓN EMPRESARIAL",null,"STE24X0405","MECATRÓNICA AUTOMOTRIZ",null,"SPF4146142","MARKETING E INNOVACIÓN"]
[null,"SPT4110133","ADMINISTRACIÓN FINANCIERA Y CONTABLE",null,"STE5216100","MEDIO AMBIENTE",null,"SPF4146118","MARKETING ESTRATÉGICO E INNOVACIÓN"]
[null,"SPT0120039","ADMINISTRACIÓN HOSTELERA",null,"STE2116169","MODELADO Y ANIMACIÓN DIGITAL",null,"SPF24X0430","MARKETING ESTRATÉGICO Y GESTIÓN COMERCIAL"]
[null,"SPT0121128","ADMINISTRACIÓN HOTELERA",null,"STE7211405","MOLINERÍA Y PROCESAMIENTO DE GRANOS Y TUBÉRCULOS",null,"SPF4140013","MARKETING INTEGRAL"]
[null,"SPT4131108","ADMINISTRACIÓN INDUSTRIAL",null,"STE8311450","NAVEGACIÓN Y PESCA",null,"SPF24X0434","MARKETING Y PUBLICIDAD"]
[null,"SPT6121186","ADMINISTRACIÓN INFORMÁTICA DE EMPRESAS",null,"STE4161390","NEGOCIOS - COMERCIO INTERNACIONAL",null,"SPFAG99999","OTROS"]
[null,"SPT4131109","ADMINISTRACIÓN LOGÍSTICA",null,"STE4131391","NEGOCIOS - COMERCIO Y PRODUCCIÓN",null,"SPF4136638","PLANIFICACIÓN DE PROCESOS ESTRATÉGICOS DE RECURSOS HUMANOS"]
[null,"SPT0310093","ADMINISTRACIÓN MILITAR",null,"STE3211372","OPERACIÓN DE EQUIPOS DE GRABACIÓN Y MEZCLA",null,"SPF2116639","PUBLICIDAD Y COMUNICACIÓN COMERCIAL"]
[null,"SPT4171110","ADMINISTRACIÓN MUNICIPAL",null,"STE3211373","OPERACIÓN DE EQUIPOS DE RADIO Y TELEVISIÓN",null,"SPF4140196","PUBLICIDAD Y MARKETING DIGITAL"]
[null,"SPT0310100","ADMINISTRACIÓN NAVAL",null,"STE7130090","OPERACIÓN DE MAQUINARIA PESADA",null,"SPF6120014","SISTEMAS INFORMÁTICOS PARA LA PRODUCTIVIDAD"]
[null,"SPT4131095","ADMINISTRACIÓN",null,"STE3211374","OPERACIÓN DE SISTEMAS DE DIFUSIÓN SONORA",null,"SPF6130079","TÉCNICAS DE INGENIERÍA DE TELECOMUNICACIONES"]
[null,"SPT4170045","ADMINISTRACIÓN PÚBLICA",null,"STE4166626","OPERACIONES DE COMERCIO EXTERIOR",null,"SPF6130080","TÉCNICAS DE INGENIERÍA DE TELEMÁTICA"]
[null,"SPT4131302","ADMINISTRACIÓN RURAL",null,"STE7241426","OPERACIONES DE PERFORACIÓN",null,"SPF7110018","TÉCNICAS DE INGENIERÍA ELÉCTRICA"]
[null,"SPT0120026","ADMINISTRACIÓN TURÍSTICA",null,"STE2116621","ORGANIZACIÓN DE EVENTOS Y ESPECTÁCULOS",null,"SPF7120019","TÉCNICAS DE INGENIERÍA ELECTRÓNICA"]
[null,"SPT0120046","ADMINISTRACIÓN TURÍSTICA Y HOTELERA",null,"STE4170997","OTRO PROGRAMA EN ADMINISTRACIÓN PÚBLICA",null,"SPF7130020","TÉCNICAS DE INGENIERÍA MECÁNICA DE MANTENIMIENTO"]
[null,"SPT0321362","ADMINISTRACIÓN Y CIENCIAS POLICIALES",null,"STE3150997","OTRO PROGRAMA EN ANTROPOLOGÍA",null,"SPF7130021","TÉCNICAS DE INGENIERÍA MECÁNICA DE PRODUCCIÓN"]
[null,"SPT4110155","ADMINISTRACIÓN Y CONTABILIDAD",null,"STE7310997","OTRO PROGRAMA EN ARQUITECTURA Y URBANISMO",null,"SPF7116122","TÉCNICO EN INGENIERÍA ELÉCTRICA"]
[null,"SPT4131113","ADMINISTRACIÓN Y FINANZAS",null,"STE2130997","OTRO PROGRAMA EN ARTE",null,"SPF7126121","TÉCNICO EN INGENIERÍA ELECTRÓNICA"]
[null,"SPT0121129","ADMINISTRACIÓN Y GERENCIA EN HOTELERÍA INTERNACIONAL",null,"STE2140997","OTRO PROGRAMA EN ARTESANÍA Y MANUALIDADES",null,"SPF7136072","TÉCNICO EN INGENIERÍA MECÁNICA"]
[null,"SPT4136554","ADMINISTRACIÓN Y GESTIÓN COMERCIAL CON MENCIÓN EN FINANZAS",null,"STE9210997","OTRO PROGRAMA EN ASISTENCIA A ADULTOS MAYORES Y DISCAPACITADOS",null,"SPF8110024","TECNOLOGÍA AGRÍCOLA"]
[null,"SPT4136555","ADMINISTRACIÓN Y GESTIÓN COMERCIAL CON MENCIÓN EN RECURSOS HUMANOS",null,"STE9220997","OTRO PROGRAMA EN ASISTENCIA A LA INFANCIA Y SERVICIOS PARA JÓVENES",null,"SPF7130017","TECNOLOGÍA DE LA PRODUCCIÓN"]
[null,"SPT4131111","ADMINISTRACIÓN Y GESTIÓN COMERCIAL",null,"STE3230997","OTRO PROGRAMA EN BIBLIOTECOLOGÍA Y ARCHIVO",null,"SPF7130022","TECNOLOGÍA MECÁNICA ELÉCTRICA"]
[null,"SPT4130167","ADMINISTRACIÓN Y GESTIÓN DE EMPRESAS",null,"STE5110997","OTRO PROGRAMA EN BIOLOGÍA",null,"SPF24X0413","TECNOLOGÍAS DE LA INFORMACIÓN"]
[null,"SPT4131112","ADMINISTRACIÓN Y GESTIÓN EMPRESARIAL",null,"STE6110997","OTRO PROGRAMA EN CIENCIAS DE LA COMPUTACIÓN",null,"SPF2210002","TEOLOGÍA - EVANGÉLICA"]
[null,"SPT4131187","ADMINISTRACIÓN Y SISTEMAS",null,"STE3220997","OTRO PROGRAMA EN CIENCIAS DE LA COMUNICACIÓN",null,"SPF24X0435","TEOLOGÍA EVANGÉLICA"]
[null,"SPT4131160","ADMINISTRATIVO",null,"STE5320997","OTRO PROGRAMA EN CIENCIAS DE LA TIERRA",null,"SPF2210175","TEOLOGÍA"]
[null,"SPT7321281","AEROFOTOGRAFÍA",null,"STE3120997","OTRO PROGRAMA EN CIENCIAS POLÍTICAS",null,"SPF3130006","TERAPIA PSICOANALÍTICA"]
[null,"SPT7141240","AERONÁUTICA",null,"STE4180997","OTRO PROGRAMA EN COMPETENCIAS LABORALES",null,"SPF24X0436","TRADUCCIÓN DE IDIOMAS"]
[null,"SPT4181161","AGENCIA DE DESARROLLO INTEGRAL",null,"STE7320997","OTRO PROGRAMA EN CONSTRUCCIÓN E INGENIERÍA CIVIL"]
[null,"SPT8111223","AGROINDUSTRIAS",null,"STE4110997","OTRO PROGRAMA EN CONTABILIDAD E IMPUESTOS"]
[null,"SPT8110104","AGRONOMÍA",null,"STE0130997","OTRO PROGRAMA EN DEPORTE"]
[null,"SPT8111303","AGROPECUARIA",null,"STE4220997","OTRO PROGRAMA EN DERECHO PRIVADO"]
[null,"SPT6121188","ANÁLISIS DE SISTEMAS",null,"STE4210997","OTRO PROGRAMA EN DERECHO PÚBLICO"]
[null,"SPT6121189","ANÁLISIS DE SISTEMAS Y MODELACIÓN DE BASE DE DATOS",null,"STE2120997","OTRO PROGRAMA EN DISEÑO INDUSTRIAL, DE MODAS E INTERIORES"]
[null,"SPT7320025","ANÁLISIS DE SUELOS Y CONCRETO",null,"STE5210997","OTRO PROGRAMA EN ECOLOGÍA Y MEDIO AMBIENTE"]
[null,"SPT6120085","ANÁLISIS E IMPLEMENTACIÓN DE SERVICIOS WEB",null,"STE3110997","OTRO PROGRAMA EN ECONOMÍA"]
[null,"SPT3111167","ANÁLISIS ECONÓMICO",null,"STE1610997","OTRO PROGRAMA EN EDUCACIÓN ARTÍSTICA"]
[null,"SPT3121178","ANÁLISIS POLÍTICO",null,"STE1410997","OTRO PROGRAMA EN EDUCACIÓN ESPECIAL"]
[null,"SPT5311182","ANÁLISIS QUÍMICO",null,"STE1510997","OTRO PROGRAMA EN EDUCACIÓN FÍSICA"]
[null,"SPT4110622","ANALISTA BANCARIO",null,"STE1110997","OTRO PROGRAMA EN EDUCACIÓN INICIAL"]
[null,"SPT4114019","ANALISTA COMERCIAL",null,"STE0310997","OTRO PROGRAMA EN EDUCACIÓN MILITAR Y DE DEFENSA"]
[null,"SPT4111818","ANALISTA DE RIESGOS",null,"STE1120997","OTRO PROGRAMA EN EDUCACIÓN PRIMARIA"]
[null,"SPT3110188","ANALISTA ECONÓMICO",null,"STE1210997","OTRO PROGRAMA EN EDUCACIÓN SECUNDARIA"]
[null,"SPT4111515","ANALISTA EN MERCADOTÉCNIA",null,"STE1310997","OTRO PROGRAMA EN EDUCACIÓN SUPERIOR Y TECNOLÓGICA"]
[null,"SPT5421479","ANALISTA ESTADÍSTICO",null,"STE7110997","OTRO PROGRAMA EN ELECTRICIDAD Y ENERGÍA"]
[null,"SPT7324248","ANALISTA INMOBILIARIO",null,"STE7120997","OTRO PROGRAMA EN ELECTRÓNICA Y AUTOMATIZACIÓN"]
[null,"SPT3120189","ANALISTA POLÍTICO",null,"STE9130997","OTRO PROGRAMA EN ENFERMERÍA"]
[null,"SPT6121190","ANALISTA",null,"STE5420997","OTRO PROGRAMA EN ESTADÍSTICA"]
[null,"SPT6121191","ANALISTA PROGRAMADOR",null,"STE9170997","OTRO PROGRAMA EN FARMACIA"]
[null,"SPT5426592","ANALÍTICA",null,"STE2230997","OTRO PROGRAMA EN FILOSOFÍA Y ETICA"]
[null,"SPT9120113","ANESTESIA",null,"STE5330997","OTRO PROGRAMA EN FÍSICA"]
[null,"SPT9121320","ANESTESIOLOGÍA",null,"STE4120997","OTRO PROGRAMA EN GESTIÓN FINANCIERA, ADMINISTRACIÓN BANCARIA Y SEGUROS"]
[null,"SPT2116066","ANIMACIÓN 3D Y EFECTOS ESPECIALES",null,"STE4130997","OTRO PROGRAMA EN GESTIÓN Y ADMINISTRACIÓN"]
[null,"SPT6116144","ANIMACIÓN 3D Y EFECTOS VISUALES",null,"STE1910997","OTRO PROGRAMA EN GESTIÓN Y CALIDAD EDUCATIVA"]
[null,"SPT2111035","ANIMACIÓN DIGITAL",null,"STE2220997","OTRO PROGRAMA EN HISTORIA Y ARQUEOLOGÍA"]
[null,"SPT6116556","ANIMACIÓN DIGITAL Y DISEÑO 3D",null,"STE8120997","OTRO PROGRAMA EN HORTICULTURA"]
[null,"SPT3231027","ARCHIVOS",null,"STE0120997","OTRO PROGRAMA EN HOTELERÍA, RESTAURANTES Y GASTRONOMÍA"]
[null,"SPT0311350","ARMAS SUBMARINAS",null,"STE2310997","OTRO PROGRAMA EN IDIOMAS"]
[null,"SPT6116557","ARQUITECTURA DE DATOS EMPRESARIALES CON MENCIÓN EN BIG DATA DEVELOPER",null,"STE7220997","OTRO PROGRAMA EN INDUSTRIA Y PRODUCTOS TRANSFORMADOS (EXCEPTO ALIMENTOS, TEXTIL, AGRO, MINAS Y PETRÓLEO)"]
[null,"SPT7311291","ARQUITECTURA DE INTERIORES",null,"STE7210997","OTRO PROGRAMA EN INDUSTRIAS ALIMENTARIAS"]
[null,"SPT6116107","ARQUITECTURA DE PLATAFORMA Y SERVICIOS DE TECNOLOGÍAS DE LA INFORMACIÓN",null,"STE7330997","OTRO PROGRAMA EN INGENIERÍA SANITARIA"]
[null,"SPT6116149","ARQUITECTURA DE PLATAFORMAS Y SERVICIOS DE TECNOLOGÍA DE LA INFORMACION CON MENCIÓN EN PROGRAMACIÓN",null,"STE5430997","OTRO PROGRAMA EN INVESTIGACIÓN OPERATIVA"]
[null,"SPT6116558","ARQUITECTURA DE PLATAFORMAS Y SERVICIOS DE TECNOLOGÍAS DE LA INFORMACIÓN CON MENCIÓN EN PROGRAMAS MULTIMEDIA",null,"STE2320997","OTRO PROGRAMA EN LINGÜÍSTICA Y LITERATURA"]
[null,"SPT6116176","ARQUITECTURA DE PLATAFORMAS Y SERVICIOS DE TECNOLOGÍAS DE LA INFORMACIÓN",null,"STE4140997","OTRO PROGRAMA EN MARKETING Y PUBLICIDAD"]
[null,"SPT6120125","ARQUITECTURA DE SISTEMAS DE INFORMACIÓN",null,"STE5410997","OTRO PROGRAMA EN MATEMÁTICA"]
[null,"SPT0120159","ARTE CULINARIO",null,"STE7130997","OTRO PROGRAMA EN MECÁNICA Y METALÚRGICA"]
[null,"SPT2151065","ARTE DRAMÁTICO",null,"STE9120997","OTRO PROGRAMA EN MEDICINA"]
[null,"SPT2111036","ARTES GRÁFICAS",null,"STE7240997","OTRO PROGRAMA EN MINERÍA Y EXTRACCIÓN"]
[null,"SPT2111037","ARTES GRÁFICAS Y PUBLICITARIAS",null,"STE2150997","OTRO PROGRAMA EN MÚSICA Y ARTES ESCÉNICAS"]
[null,"SPT2131032","ARTES PLÁSTICAS Y VISUALES",null,"STE4160997","OTRO PROGRAMA EN NEGOCIOS INTERNACIONALES"]
[null,"SPT2130064","ARTES VISUALES",null,"STE9180997","OTRO PROGRAMA EN NUTRICIÓN"]
[null,"SPT2111038","ARTES Y CIENCIAS PUBLICITARIAS",null,"STE9140997","OTRO PROGRAMA EN OBSTETRICIA"]
[null,"SPT2130120","ARTESANÍA",null,"STE9110997","OTRO PROGRAMA EN ODONTOLOGÍA"]
[null,"SPT0311351","ARTILLERÍA",null,"STE0110997","OTRO PROGRAMA EN PELUQUERÍA Y TRATAMIENTOS DE BELLEZA"]
[null,"SPT8310025","ASEGURAMIENTO DE LA CALIDAD DE PRODUCTOS HIDROBIOLÓGICOS",null,"STE3210997","OTRO PROGRAMA EN PERIODISMO Y LOCUCIÓN"]
[null,"SPT4136161","ASISTENCIA ADMINISTRATIVA",null,"STE8310997","OTRO PROGRAMA EN PESCA"]
[null,"SPT4156123","ASISTENCIA DE DIRECCIÓN Y GERENCIA",null,"STE8110997","OTRO PROGRAMA EN PRODUCCIÓN AGRÍCOLA Y GANADERA"]
[null,"SPT4156127","ASISTENTE EJECUTIVA DE GERENCIA",null,"STE7230997","OTRO PROGRAMA EN PRODUCCIÓN TEXTIL Y CONFECCIONES"]
[null,"SPT4151152","ASISTENTE EJECUTIVO",null,"STE0320997","OTRO PROGRAMA EN PROTECCIÓN DE LAS PERSONAS Y DE PROPIEDAD"]
[null,"SPT2111091","AUDIOVISUAL MULTIMEDIA",null,"STE3130997","OTRO PROGRAMA EN PSICOLOGÍA"]
[null,"SPT7141241","AUTOTRÓNICA",null,"STE5310997","OTRO PROGRAMA EN QUÍMICA"]
[null,"SPT9131325","AUXILIAR DE ENFERMERÍA",null,"STE5220997","OTRO PROGRAMA EN RECURSOS HÍDRICOS"]
[null,"SPT7141242","AVIÓNICA",null,"STE2210997","OTRO PROGRAMA EN RELIGIÓN Y TEOLOGÍA"]
[null,"SPT7146559","AVIÓNICA Y MECÁNICA AERONAÚTICA",null,"STE0220997","OTRO PROGRAMA EN SALUD Y PROTECCIÓN LABORAL"]
[null,"SPT4111170","BANCA Y FINANZAS",null,"STE0210997","OTRO PROGRAMA EN SANEAMIENTO DE LA COMUNIDAD"]
[null,"SPT6116166","BIG DATA Y CIENCIA DE DATOS",null,"STE4150997","OTRO PROGRAMA EN SECRETARIADO Y TRABAJO DE OFICINA"]
[null,"SPT2111092","CÁMARA Y EDICIÓN CREATIVA",null,"STE0410997","OTRO PROGRAMA EN SERVICIOS DE TRANSPORTE"]
[null,"SPT0311352","CAPITANÍA Y GUARDACOSTAS",null,"STE8210997","OTRO PROGRAMA EN SILVICULTURA"]
[null,"SPT0316160","CAPITANÍAS Y GUARDACOSTAS",null,"STE6120997","OTRO PROGRAMA EN SISTEMAS Y CÓMPUTO"]
[null,"SPT24X0406","CIENCIA DE DATOS E INTELIGENCIA ARTIFICIAL",null,"STE3140997","OTRO PROGRAMA EN SOCIOLOGÍA Y ESTUDIOS CULTURALES"]
[null,"SPT0326087","CIENCIAS ADMINISTRATIVAS Y POLICIALES CON MENCIÓN EN INVESTIGACIÓN CRIMINAL",null,"STE2110997","OTRO PROGRAMA EN TÉCNICAS AUDIOVISUALES Y DE PRODUCCIÓN PARA MEDIOS DE COMUNICACIÓN"]
[null,"SPT0326088","CIENCIAS ADMINISTRATIVAS Y POLICIALES CON MENCIÓN EN ORDEN Y SEGURIDAD",null,"STE9150997","OTRO PROGRAMA EN TECNOLOGÍA DE DIAGNÓSTICO Y TRATAMIENTO MÉDICO"]
[null,"SPT0320226","CIENCIAS ADMINISTRATIVAS Y POLICIALES",null,"STE6130997","OTRO PROGRAMA EN TELECOMUNICACIONES"]
[null,"SPT8110716","CIENCIAS AGROPECUARIAS",null,"STE9160997","OTRO PROGRAMA EN TERAPIA Y REHABILITACIÓN"]
[null,"SPT24X0429","CIENCIAS AGROPECUARIAS",null,"STE9230997","OTRO PROGRAMA EN TRABAJO SOCIAL"]
[null,"SPT3221072","CIENCIAS DE LA COMUNICACIÓN",null,"STE7140997","OTRO PROGRAMA EN VEHÍCULOS, BARCOS Y AERONAVES MOTORIZADAS"]
[null,"SPT2111039","CIENCIAS PUBLICITARIAS",null,"STE8410997","OTRO PROGRAMA EN VETERINARIA"]
[null,"SPT2156560","CINEMATOGRAFIA",null,"STE0140997","OTRO PROGRAMA EN VIAJES, TURISMO Y ACTIVIDADES RECREATIVAS"]
[null,"SPT2110105","CINEMATOGRAFÍA",null,"STEAG99999","OTROS"]
[null,"SPT0121130","COCINA",null,"STE4190997","OTROS PROGRAMAS EN ADMINISTRACIÓN Y COMERCIO"]
[null,"SPT4161148","COMERCIO EXTERIOR ÁREA ARTESANÍA DEL VESTIR",null,"STE1990997","OTROS PROGRAMAS EN EDUCACIÓN"]
[null,"SPT4161149","COMERCIO EXTERIOR ÁREA FINANZAS",null,"STE0126502","OTROS PROGRAMAS EN HOSTELERÍA , RESTAURANTES Y GASTRONOMÍA"]
[null,"SPT4161150","COMERCIO EXTERIOR ÁREA MARKETING",null,"STE9190997","OTROS PROGRAMAS EN SALUD"]
[null,"SPT4161147","COMERCIO EXTERIOR",null,"STE7211406","PANADERÍA Y PASTELERÍA INDUSTRIAL"]
[null,"SPT4181162","COMERCIO",null,"STE7211407","PANIFICACIÓN"]
[null,"SPT2151057","COMPOSICIÓN",null,"STE0121384","PASTELERÍA"]
[null,"SPT24X0426","COMPUTACIÓN E INFORMÁTICA DOCENTE",null,"STE7211386","PASTELERÍA Y TURISMO"]
[null,"SPT6111193","COMPUTACIÓN E INFORMÁTICA",null,"STE7320184","PLANEAMIENTO Y CONTROL DE PROYECTOS DE CONSTRUCCIÓN"]
[null,"SPT6111192","COMPUTACIÓN",null,"STE6116171","PLATAFORMAS Y SERVICIOS DE TECNOLOGÍAS DE LA INFORMACIÓN"]
[null,"SPT6121194","COMPUTACIÓN Y ADMINISTRACIÓN DE SISTEMAS",null,"STE0220141","PREVENCIÓN DE LA SEGURIDAD Y SALUD EN EL TRABAJO"]
[null,"SPT6121195","COMPUTACIÓN Y SISTEMAS",null,"STE0226098","PREVENCIÓN DE RIESGO, SEGURIDAD Y SALUD OCUPACIONAL"]
[null,"SPT6110051","COMPUTACIÓN Y SOLUCIONES INFORMÁTICAS",null,"STE7241427","PROCESAMIENTO DE MINERALES"]
[null,"SPT24X0421","CÓMPUTO E INFORMÁTICA",null,"STE7136099","PROCESOS METALÚRGICOS YQUÍMICOS"]
[null,"SPT3220817","COMUNICACIÓN",null,"STE8116511","PRODUCCIÓN AGROPECUARIA"]
[null,"SPT3221074","COMUNICACIÓN AUDIOVISUAL MULTIMEDIA",null,"STE2136627","PRODUCCIÓN GRÁFICA"]
[null,"SPT3221073","COMUNICACIÓN AUDIOVISUAL",null,"STE7211408","PRODUCCIÓN INDUSTRIAL DE VINOS, PISCOS YOTROS PRODUCTOS AFINES"]
[null,"SPT24X0402","COMUNICACIÓN CORPORATIVA Y RELACIONES PUBLICAS",null,"STE3221370","PRODUCCIÓN RADIAL Y TELEVISIVA"]
[null,"SPT3221075","COMUNICACIÓN ESCÉNICA",null,"STE6126623","PROGRAMACIÓN DE SISTEMAS DE INFORMACIÓN"]
[null,"SPT3220918","COMUNICACIÓN ESTRATÉGICA",null,"STE3131369","PSICOTERAPIA PSICOANALÍTICA"]
[null,"SPT3221076","COMUNICACIÓN INTEGRAL",null,"STE4141367","PUBLICIDAD Y MEDIOS DIGITALES"]
[null,"SPT3226134","COMUNICACIÓN PERIODÍSTICA",null,"STE7121415","REFRIGERACIÓN Y AIRE ACONDICIONADO"]
[null,"SPT3221077","COMUNICACIÓN SOCIAL",null,"STE7331429","SEGURIDAD MINERA E INDUSTRIAL"]
[null,"SPT3226113","COMUNICACIÓN Y ARTE DIGITAL",null,"STE0220203","SEGURIDAD Y SALUD EN EL TRABAJO"]
[null,"SPT3226561","COMUNICACIÓN Y MARKETING DE LA MODA",null,"STE7130205","SERVICIO DE MANTENIMIENTO DE EQUIPO PESADO"]
[null,"SPT7241264","CONCENTRACIÓN DE MINERALES",null,"STE0121387","SERVICIO DE RESTAURANTE Y BAR"]
[null,"SPT8311295","CONDUCCIÓN DE EMBARCACIONES DE PESCA",null,"STE0120048","SERVICIOS HOTELEROS Y COCINA"]
[null,"SPT0141338","CONDUCCIÓN EN TURISMO",null,"STE6130142","SISTEMAS DE TELECOMUNICACIONES DE VOZ Y DATOS"]
[null,"SPT2221292","CONSERVACIÓN DE BIENES ARQUEOLÓGICOS",null,"STE2310106","TÉCNICO TRILINGÜE EN GESTIÓN EMPRESARIAL"]
[null,"SPT2131293","CONSERVACIÓN Y RESTAURACIÓN",null,"STE2211366","TEOLOGÍA PASTORAL"]
[null,"SPT7320041","CONSTRUCCIÓN ARTÍSTICA EN MADERA",null,"STE7321445","TOPOGRAFÍA CIVIL Y MINERA"]
[null,"SPT9999003","CONSTRUCCION CIVIL",null,"STE7321444","TOPOGRAFÍA"]
[null,"SPT7321282","CONSTRUCCIÓN CIVIL",null,"STE0411460","TRANSPORTES TERRESTRES YOPERACIÓN DE EQUIPOS PESADOS"]
[null,"SPT2131033","CONSTRUCCIÓN DE ARTE EN MADERA",null,"STE8110033","VITICULTURA Y ENOLOGÍA"]
[null,"SPT7320213","CONSTRUCCIÓN Y TOPOGRAFÍA"]
[null,"SPT2140028","CONSTRUCCIONES ARTÍSTICAS EN MADERA"]
[null,"SPT7130200","CONSTRUCCIONES METÁLICAS"]
[null,"SPT9999004","CONTABILIDAD"]
[null,"SPT4111172","CONTABILIDAD COMPUTARIZADA"]
[null,"SPT4116124","CONTABILIDAD CON MENCIÓN EN FINANZAS"]
[null,"SPT4116150","CONTABILIDAD CON MENCIÓN EN PROCESOS DE TRIBUTACIÓN"]
[null,"SPT4116598","CONTABILIDAD CON MENCIÓN EN TRIBUTACIÓN"]
[null,"SPT4111171","CONTABILIDAD"]
[null,"SPT4116562","CONTABILIDAD Y AUDITORÍA"]
[null,"SPT4116563","CONTABILIDAD Y FINANZAS CORPORATIVAS"]
[null,"SPT4111173","CONTABILIDAD Y FINANZAS"]
[null,"SPT4116564","CONTABILIDAD Y TRIBUTACIÓN"]
[null,"SPT4110056","CONTABILIDAD, FINANZAS Y AUDITORÍA"]
[null,"SPT24X0446","CONTROL DE CALIDAD Y ACABADOS EN HILADOS"]
[null,"SPT0316156","CONTROL DE TIRO"]
[null,"SPT6131210","CONTROL DE TRÁNSITO AÉREO"]
[null,"SPT7120015","CONTROLISTA DE MÁQUINAS Y PROCESOS INDUSTRIALES"]
[null,"SPT0111349","COSMÉTICA DERMATOLÓGICA"]
[null,"SPT0110025","COSMETOLOGÍA"]
[null,"SPT0116109","COSMIATRÍA"]
[null,"SPT4111174","CRÉDITO SECTORIAL"]
[null,"SPT4111175","CRÉDITOS"]
[null,"SPT9131326","CUIDADOS AUXILIARES DE ENFERMERÍA"]
[null,"SPT2151055","DANZA"]
[null,"SPT0311353","DEFENSA AÉREA"]
[null,"SPT6110153","DESARROLLO DE REDES Y GESTIÓN DE SERVICIOS"]
[null,"SPT6121019","DESARROLLO DE SISTEMAS DE INFORMACIÓN CON MENCIÓN AUDITOR DE SISTEMAS DE INFORMACIÓN"]
[null,"SPT24X0420","DESARROLLO DE SISTEMAS DE INFORMACIÓN CON MENCIÓN AUDITOR DE SISTEMAS DE INFORMACIÓN"]
[null,"SPT7126588","DESARROLLO DE SISTEMAS DE INFORMACIÓN CON MENCIÓN EN APLICATIVOS MÓVILES"]
[null,"SPT7126587","DESARROLLO DE SISTEMAS DE INFORMACIÓN CON MENCIÓN EN INTELIGENCIA DE NEGOCIOS"]
[null,"SPT7126148","DESARROLLO DE SISTEMAS DE INFORMACIÓN CON MENCIÓN EN PROCESOS DE AUTOMATIZACIÓN"]
[null,"SPT6110220","DESARROLLO DE SISTEMAS DE INFORMACIÓN MENCIÓN EN SEGURIDAD INFORMÁTICA"]
[null,"SPT6110221","DESARROLLO DE SISTEMAS DE INFORMACIÓN MENCIÓN EN SOFTWARE EMPRESARIAL"]
[null,"SPT6116085","DESARROLLO DE SISTEMAS DE INFORMACIÓN"]
[null,"SPT6121120","DESARROLLO DE SISTEMAS DE LA INFORMACIÓN"]
[null,"SPT6116164","DESARROLLO DE SISTEMAS DE LA INFORMACIÓN"]
[null,"SPT6110182","DESARROLLO DE SOFTWARE E INTELIGENCIA DE NEGOCIOS"]
[null,"SPT6110151","DESARROLLO DE SOFTWARE E INTELIGENCIA DE NEGOCIOS"]
[null,"SPT6120165","DESARROLLO DE SOFTWARE"]
[null,"SPT6110156","DESARROLLO DE SOFTWARE Y APLICATIVOS MÓVILES"]
[null,"SPT8311221","DESARROLLO PESQUERO Y ACUÍCOLA"]
[null,"SPT24X0410","DESARROLLO PESQUERO Y ACUICOLA"]
[null,"SPT24X0409","DESARROLLO PESQUERO Y ACUÍCOLA"]
[null,"SPT7320071","DIBUJO DE ARQUITECTURA Y OBRAS CIVILES"]
[null,"SPT7326172","DIBUJO DE LA ARQUITECTURA Y OBRAS CIVILES"]
[null,"SPT7321283","DIBUJO EN CONSTRUCCIÓN CIVIL"]
[null,"SPT24X0460","DIRECCIÓN DE AGRUPACIONES MUSICALES"]
[null,"SPT6116115","DIRECCIÓN DE ANIMACIÓN 3D Y VFX"]
[null,"SPT2110145","DIRECCIÓN DE ARTES GRÁFICAS Y PUBLICITARIAS"]
[null,"SPT4181114","DIRECCIÓN DE EMPRESAS"]
[null,"SPT4181115","DIRECCIÓN DE EMPRESAS Y FINANZAS"]
[null,"SPT2111322","DIRECCIÓN DE PROYECTOS VISUALES Y FOTOGRAFÍA"]
[null,"SPT2151058","DIRECCIÓN MUSICAL"]
[null,"SPT0130194","DIRECCIÓN TÉCNICA EN FÚTBOL"]
[null,"SPT2111041","DIRECCIÓN Y DISEÑO GRÁFICO"]
[null,"SPT2111042","DIRECCIÓN Y DISEÑO PUBLICITARIO"]
[null,"SPT3221078","DIRECCIÓN Y GUIONIZACIÓN"]
[null,"SPT3221079","DIRECCIÓN Y PRODUCCIÓN EN RADIO"]
[null,"SPT3220164","DIRECCIÓN Y REALIZACIÓN DE CINE Y TELEVISIÓN"]
[null,"SPT3221080","DIRECCIÓN, REALIZACIÓN DE CINE Y TV"]
[null,"SPT2120191","DISEÑO DE AMBIENTES"]
[null,"SPT7130015","DISEÑO DE ESTRUCTURAS METÁLICAS Y DE CONSTRUCCIÓN"]
[null,"SPT2121043","DISEÑO DE INTERIORES"]
[null,"SPT2116565","DISEÑO DE MEDIOS INTERACTIVOS"]
[null,"SPT2121271","DISEÑO DE MODAS"]
[null,"SPT2121272","DISEÑO DE MODAS Y MODISTERÍA INDUSTRIAL"]
[null,"SPT2126103","DISEÑO DE PRENDAS DE VESTIR"]
[null,"SPT2121423","DISEÑO DE PRODUCCIÓN E INNOVACIÓN TECNOLÓGICA"]
[null,"SPT2121044","DISEÑO DE PRODUCTO"]
[null,"SPT2130060","DISEÑO DE PRODUCTO Y ANIMACIÓN DIGITAL"]
[null,"SPT2120075","DISEÑO DE PRODUCTOS DE MADERA"]
[null,"SPT6110214","DISEÑO DE SOFTWARE E INTEGRACIÓN DE SISTEMAS"]
[null,"SPT2110217","DISEÑO DE VIDEO JUEGOS Y ENTRETENIMIENTO DIGITAL"]
[null,"SPT2110078","DISEÑO DE VIDEO JUEGOS"]
[null,"SPT24X0416","DISEÑO DE VIDEOJUEGOS Y ENTRETENIMIENTO DIGITAL"]
[null,"SPT2130059","DISEÑO E INNOVACIÓN INDUSTRIAL"]
[null,"SPT2121045","DISEÑO ESCENOGRÁFICO"]
[null,"SPT4146566","DISEÑO ESTRATÉGICO PARA LOS NEGOCIOS"]
[null,"SPT2110225","DISEÑO GRÁFICO DIGITAL"]
[null,"SPT2111046","DISEÑO GRAFICO"]
[null,"SPT2136567","DISEÑO GRÁFICO PUBLICITARIO"]
[null,"SPT24X0418","DISEÑO GRÁFICO VISUAL"]
[null,"SPT2130085","DISEÑO GRÁFICO Y MULTIMEDIA"]
[null,"SPT2111047","DISEÑO GRÁFICO Y PUBLICIDAD DIGITAL"]
[null,"SPT2111048","DISEÑO GRÁFICO Y PUBLICITARIO"]
[null,"SPT2121049","DISEÑO INDUSTRIAL"]
[null,"SPT2111050","DISEÑO PUBLICITARIO"]
[null,"SPT2111051","DISEÑO TÉCNICO"]
[null,"SPT7231273","DISEÑO TEXTIL"]
[null,"SPT2111524","DISEÑO WEB & MULTIMEDIA"]
[null,"SPT2111052","DISEÑO WEB Y MULTIMEDIA"]
[null,"SPT2130086","DISEÑO Y DECORACIÓN DE INTERIORES"]
[null,"SPT2116600","DISEÑO Y DESARROLLO DE SIMULADORES Y VIDEOJUEGOS"]
[null,"SPT6126541","DISEÑO Y DESARROLLO DE SOFTWARE"]
[null,"SPT6126568","DISEÑO Y DESARROLLO DE SOFTWARE Y PRUEBAS DE SOLUCIONES MULTIPLATAFORMA"]
[null,"SPT6126569","DISEÑO Y DESARROLLO DE SOFTWARE Y SOLUCIONES DE INTELIGENCIA DE NEGOCIOS"]
[null,"SPT6126570","DISEÑO Y DESARROLLO DE SOFTWARE Y SOLUCIONES MÓVILES"]
[null,"SPT6126571","DISEÑO Y DESARROLLO DE SOFTWARE Y SOLUCIONES WEB"]
[null,"SPT6126572","DISEÑO Y DESARROLLO DE SOFTWARE Y TÉCNICAS DE HACKING ÉTICO"]
[null,"SPT2110143","DISEÑO Y DESARROLLO DE VIDEO JUEGOS"]
[null,"SPT2110216","DISEÑO Y DESARROLLO PARA MEDIOS DIGITALES"]
[null,"SPT6120185","DISEÑO Y DESARROLLO WEB"]
[null,"SPT2121625","DISEÑO Y FABRICACIÓN DE CALZADO"]
[null,"SPT24X0425","DISEÑO Y FABRICACIÓN DE CALZADO"]
[null,"SPT24X0447","DISEÑO Y FABRICACIÓN DE PRODUCTOS DE CUERO"]
[null,"SPT2120180","DISEÑO Y GESTIÓN DE LA MODA"]
[null,"SPT7231274","DISEÑO Y PRODUCCIÓN DE TEXTILES"]
[null,"SPT7230084","DISEÑO Y PRODUCCIÓN TEXTIL"]
[null,"SPT6116079","DISEÑO Y PROGRAMACIÓN WEB"]
[null,"SPT1310116","EBANISTERÍA"]
[null,"SPT0141339","ECOLOGÍA TURÍSTICA"]
[null,"SPT3111168","ECONOMÍA EMPRESARIAL"]
[null,"SPT0141131","ECOTURISMO Y GESTIÓN AMBIENTAL"]
[null,"SPT7321284","EDIFICACIONES"]
[null,"SPT9999005","EDIFICACIONES Y OBRAS CIVILES"]
[null,"SPT1611017","EDUCACIÓN ARTÍSTICA"]
[null,"SPT1991022","EDUCACIÓN BÁSICA ALTERNATIVA"]
[null,"SPT1611018","EDUCACIÓN DANZA"]
[null,"SPT1211005","EDUCACIÓN EN COMPUTACIÓN E INFORMÁTICA"]
[null,"SPT1611019","EDUCACIÓN EN DANZA CLÁSICA"]
[null,"SPT1211006","EDUCACIÓN EN IDIOMAS - INGLÉS"]
[null,"SPT1411015","EDUCACIÓN ESPECIAL AUDICIÓN"]
[null,"SPT1411016","EDUCACIÓN ESPECIAL RETARDO"]
[null,"SPT1511014","EDUCACIÓN FÍSICA"]
[null,"SPT1111002","EDUCACIÓN INICIAL (INTERCULTURAL Y BILINGÜE)"]
[null,"SPT1111001","EDUCACIÓN INICIAL"]
[null,"SPT1611020","EDUCACIÓN MUSICAL"]
[null,"SPT1211007","EDUCACIÓN PARA EL TRABAJO"]
[null,"SPT1121004","EDUCACIÓN PRIMARIA (INTERCULTURAL Y BILINGÜE)"]
[null,"SPT1121003","EDUCACIÓN PRIMARIA"]
[null,"SPT1211008","EDUCACIÓN RELIGIOSA"]
[null,"SPT1211009","EDUCACIÓN SECUNDARIA - CIENCIA, TECNOLOGÍA Y AMBIENTE"]
[null,"SPT1211010","EDUCACIÓN SECUNDARIA - CIENCIAS SOCIALES"]
[null,"SPT1211011","EDUCACIÓN SECUNDARIA - COMUNICACIÓN"]
[null,"SPT1211012","EDUCACIÓN SECUNDARIA - MATEMÁTICA"]
[null,"SPT1211013","EDUCACIÓN SECUNDARIA TÉCNICA"]
[null,"SPT3111169","ELABORACIÓN Y EVALUACIÓN DE PROYECTOS"]
[null,"SPT7116083","ELECTRICIDAD INDUSTRIAL CON MENCIÓN EN SERVICIO NAVAL"]
[null,"SPT7116589","ELECTRICIDAD INDUSTRIAL CON MENCIÓN EN SISTEMAS ELÉCTRICOS DE POTENCIA"]
[null,"SPT7111227","ELECTRICIDAD INDUSTRIAL"]
[null,"SPT7111226","ELECTRICIDAD"]
[null,"SPT7110025","ELECTRICISTA INDUSTRIAL"]
[null,"SPT7121231","ELECTRÓNICA AERONÁUTICA"]
[null,"SPT7126170","ELECTRÓNICA CON MENCIÓN EN SERVICIO NAVAL"]
[null,"SPT7121232","ELECTRÓNICA DE MICROCOMPUTADORAS"]
[null,"SPT7121237","ELECTRÓNICA DE SISTEMAS COMPUTARIZADOS"]
[null,"SPT7121233","ELECTRÓNICA DE SISTEMAS INDUSTRIALES"]
[null,"SPT7121234","ELECTRÓNICA DIGITAL"]
[null,"SPT7126125","ELECTRÓNICA INDUSTRIAL CON MENCIÓN EN AUTOMATIZACIÓN Y CONTROL INDUSTRIAL"]
[null,"SPT7121235","ELECTRÓNICA INDUSTRIAL"]
[null,"SPT7121230","ELECTRÓNICA"]
[null,"SPT7121236","ELECTRÓNICA Y AUTOMATIZACIÓN INDUSTRIAL"]
[null,"SPT7120145","ELECTRÓNICO INDUSTRIAL"]
[null,"SPT7126126","ELECTROTÉCNIA INDUSTRIAL CON MENCIÓN EN ENERGIA RENOVABLES EN EFICIENCIA ENERGÉTICA"]
[null,"SPT7126586","ELECTROTECNIA INDUSTRIAL CON MENCIÓN EN ENERGÍA RENOVABLES Y EFICIENCIA ENERGÉTICA"]
[null,"SPT7121228","ELECTROTECNIA INDUSTRIAL"]
[null,"SPT7120109","ELECTROTECNIA"]
[null,"SPT9999006","ENFERMERIA"]
[null,"SPT9130161","ENFERMERÍA PEDIÁTRICA"]
[null,"SPT9130036","ENFERMERÍA"]
[null,"SPT9130044","ENFERMERÍA TÉCNICA INTERCULTURAL BILINGÜE AMAZÓNICA"]
[null,"SPT9131327","ENFERMERIA TÉCNICA"]
[null,"SPT24X0428","ENFERMERÍA TÉCNICA Y SALUD INTERCULTURAL AMAZÓNICA"]
[null,"SPT0136128","ENTRENAMIENTO DEPORTIVO"]
[null,"SPT0116078","ESTÉTICA, IMAGEN Y ESTILO"]
[null,"SPT24X0419","ESTETICISMO"]
[null,"SPT7246179","EXPLORACIÓN Y EXPLOTACIÓN MINERA"]
[null,"SPT7240027","EXPLOTACIÓN DE MINAS"]
[null,"SPT7241265","EXPLOTACIÓN MINERA"]
[null,"SPT9171336","FARMACIA"]
[null,"SPT9999007","FARMACIA TÉCNICA -DUAL"]
[null,"SPT9170148","FARMACIA TÉCNICA"]
[null,"SPT4111176","FINANZAS"]
[null,"SPT9160195","FISIOTERAPIA Y REHABILITACIÓN FÍSICA"]
[null,"SPT9161329","FISIOTERAPIA Y REHABILITACIÓN"]
[null,"SPT8211318","FORESTAL (PARA ZONA DE SELVA)"]
[null,"SPT8211317","FORESTAL"]
[null,"SPT8210163","FORESTALES"]
[null,"SPT4110136","FORMACIÓN BANCARIA"]
[null,"SPT2110197","FOTOGRAFÍA E IMAGEN DIGITAL"]
[null,"SPT2111093","FOTOGRAFÍA"]
[null,"SPT2116574","FOTOGRAFÍA Y PRODUCCIÓN DE IMAGEN"]
[null,"SPT8111304","FRUTICULTURA"]
[null,"SPT8111305","FRUTICULTURA Y OLIVICULTURA"]
[null,"SPT0311354","FUERZAS ESPECIALES"]
[null,"SPT7211220","GASTRONOMÍA INDUSTRIAL"]
[null,"SPT0120076","GASTRONOMÍA"]
[null,"SPT0121132","GASTRONOMÍA Y ARTE CULINARIO"]
[null,"SPT9999008","GEODESIA Y TOPOGRAFIA"]
[null,"SPT5321266","GEOLOGÍA DE MINAS"]
[null,"SPT7321285","GEOMÁTICA"]
[null,"SPT4181116","GERENCIA"]
[null,"SPT4136184","GESTIÓN ADMINISTRATIVA CON MENCIÓN EN ADMINISTRACIÓN DE NEGOCIOS AGROPECUARIOS"]
[null,"SPT4136082","GESTIÓN ADMINISTRATIVA CON MENCIÓN EN SERVICIO NAVAL"]
[null,"SPT4136177","GESTIÓN ADMINISTRATIVA"]
[null,"SPT5210047","GESTIÓN AMBIENTAL"]
[null,"SPT5210123","GESTIÓN AMBIENTAL Y DESARROLLO SOSTENIBLE"]
[null,"SPT5210132","GESTIÓN AMBIENTAL Y RESPONSABILIDAD SOCIAL"]
[null,"SPT4136575","GESTIÓN COMERCIAL CON MENCIÓN EN ESPACIOS DE PUNTO DE VENTA"]
[null,"SPT4120085","GESTIÓN COMERCIAL DE PRODUCTOS Y SERVICIOS BANCARIOS Y FINANCIEROS"]
[null,"SPT4131117","GESTIÓN COMERCIAL"]
[null,"SPT24X0456","GESTIÓN DE CENTROS DE CONTROL"]
[null,"SPT9170223","GESTIÓN DE FARMACIAS"]
[null,"SPT7210025","GESTIÓN DE INDUSTRIAS ALIMENTARIAS"]
[null,"SPT7320074","GESTIÓN DE LA CONSTRUCCIÓN CIVIL"]
[null,"SPT7320146","GESTIÓN DE LA CONSTRUCCIÓN"]
[null,"SPT7230192","GESTIÓN DE LA EMPRESA DE MODA Y PRODUCCIONES"]
[null,"SPT7230145","GESTIÓN DE LA INDUSTRIA TEXTIL"]
[null,"SPT7236068","GESTIÓN DE LA MODA Y CONFECCIONES"]
[null,"SPT7236094","GESTIÓN DE LA PRODUCCIÓN DE PRENDAS DE VESTIR"]
[null,"SPT7321286","GESTIÓN DE LA PRODUCCIÓN EN LA INDUSTRIA DE LA CONSTRUCCIÓN"]
[null,"SPT7231276","GESTIÓN DE LA PRODUCCIÓN EN LA INDUSTRIA DE LAS CONFECCIONES"]
[null,"SPT4136596","GESTIÓN DE LOGÍSTICA CON MENCIÓN EN COMERCIO INTERNACIONAL"]
[null,"SPT4136595","GESTIÓN DE LOGÍSTICA CON MENCIÓN EN LA CADENA DE ABASTECIMIENTO"]
[null,"SPT4136038","GESTIÓN DE LOGÍSTICA"]
[null,"SPT4140052","GESTIÓN DE MARKETING Y VENTAS"]
[null,"SPT7231275","GESTIÓN DE MODAS Y CONFECCIONES"]
[null,"SPT24X0457","GESTIÓN DE PLATAFORMAS Y ESPACIOS DE ARTES VISUALES"]
[null,"SPT4136576","GESTIÓN DE PRODUCCIÓN DE PRENDAS DE VESTIR"]
[null,"SPT4136594","GESTIÓN DE PRODUCCIÓN INDUSTRIAL"]
[null,"SPT4133977","GESTIÓN DE PROYECTOS"]
[null,"SPT8111306","GESTIÓN DE RECURSOS HÍDRICOS"]
[null,"SPT4180128","GESTIÓN DE RECURSOS HUMANOS"]
[null,"SPT9999009","GESTION DE REDES DE AGUA POTABLE Y AGUA RESIDUAL"]
[null,"SPT9196577","GESTIÓN DE SALUD Y SEGURIDAD EN EL TRABAJO"]
[null,"SPT24X0408","GESTIÓN DE SEGURIDAD Y SALUD EN EL TRABAJO"]
[null,"SPT6120205","GESTIÓN DE SISTEMAS DE INFORMACIÓN"]
[null,"SPT6130149","GESTIÓN DE TELECOMUNICACIONES Y TRÁNSITO AÉREO"]
[null,"SPT4136110","GESTIÓN DE TRANSPORTE Y DISTRIBUCIÓN"]
[null,"SPT4181118","GESTIÓN DEL EMPRENDIMIENTO"]
[null,"SPT0131726","GESTIÓN DEPORTIVA"]
[null,"SPT24X0463","GESTION DEPORTIVA"]
[null,"SPT4130295","GESTIÓN LOGÍSTICA"]
[null,"SPT4130124","GESTIÓN LOGÍSTICA Y TRANSPORTE"]
[null,"SPT4170172","GESTIÓN PÚBLICA"]
[null,"SPT24X0437","GESTIÓN PÚBLICA Y JURÍDICA"]
[null,"SPT7231277","GESTIÓN TEXTIL"]
[null,"SPT4131119","GESTIÓN Y ADMINISTRACIÓN DE NEGOCIOS"]
[null,"SPT7136585","GESTIÓN Y MANTENIMIENTO DE MAQUINARIA INDUSTRIAL"]
[null,"SPT7136540","GESTIÓN Y MANTENIMIENTO DE MAQUINARIA PESADA"]
[null,"SPT24X0435","GOBIERNO ELECTRÓNICO"]
[null,"SPT24X0453","GUÍA INTÉRPRETE PARA PERSONAS CON SORDOCEGUERA"]
[null,"SPT0141340","GUÍA OFICIAL DE CAMINATA"]
[null,"SPT0141341","GUÍA OFICIAL DE MONTAÑA"]
[null,"SPT0141342","GUÍA OFICIAL DE TURISMO"]
[null,"SPT5226159","HIDROGRAFÍA"]
[null,"SPT8311180","HIDROGRAFÍA Y NAVEGACIÓN"]
[null,"SPT8121307","HORTICULTURA"]
[null,"SPT0121133","HOSTELERÍA"]
[null,"SPT0120160","HOTELERÍA Y TURISMO"]
[null,"SPT0121134","HOTELES Y RESTAURANTES"]
[null,"SPT7231278","INDUSTRIA DEL CUERO"]
[null,"SPT7231279","INDUSTRIA DEL VESTIDO"]
[null,"SPT7220208","INDUSTRIAL Y SISTEMAS"]
[null,"SPT9999010","INDUSTRIAS ALIMENTARIAS"]
[null,"SPT7211222","INDUSTRIAS ALIMENTARIAS LÁCTEAS"]
[null,"SPT7211221","INDUSTRIAS ALIMENTARIAS"]
[null,"SPT7211827","INDUSTRIAS DE ALIMENTOS Y BEBIDAS"]
[null,"SPT24X0401","INDUSTRIAS DE ALIMENTOS Y BEBIDAS"]
[null,"SPT0311355","INFANTERÍA DE MARINA"]
[null,"SPT0141343","INFORMACIÓN TURÍSTICA"]
[null,"SPT6126181","INFORMÁTICA EMPRESARIAL"]
[null,"SPT6121196","INFORMÁTICA"]
[null,"SPT6116073","INGENIERÍA DE DESARROLLO DE JUEGOS"]
[null,"SPT6136067","INGENIERÍA DE REDES Y COMUNICACIONES"]
[null,"SPT6116065","INGENIERÍA DE SISTEMAS DE INFORMACIÓN"]
[null,"SPT6116064","INGENIERÍA DE SOFTWARE"]
[null,"SPT6131928","INGENIERÍA DE SONIDO"]
[null,"SPT6130025","INGENIERÍA DE TELECOMUNICACIONES"]
[null,"SPT6130183","INGENIERÍA DE TELEMÁTICA"]
[null,"SPT7140055","INSPECCIÓN Y MANTENIMIENTO AERONÁUTICO"]
[null,"SPT0311356","INTELIGENCIA"]
[null,"SPT2311024","INTERPRETACIÓN DE IDIOMAS"]
[null,"SPT2151059","INTERPRETACIÓN MUSICAL"]
[null,"SPT2310112","INTERPRETACIÓN"]
[null,"SPT2151056","INTERPRETE EN DANZA CLÁSICA"]
[null,"SPT24X0452","INTÉRPRETE EN LENGUA DE SEÑAS PERUANA"]
[null,"SPT0320139","INVESTIGACIÓN PRIVADA Y SEGURIDAD CIUDADANA"]
[null,"SPT9131328","INYECTABLES Y PRIMEROS AUXILIOS"]
[null,"SPT8121308","JARDINERÍA Y PAISAJISMO"]
[null,"SPT24X0404","JURÍDICO"]
[null,"SPT9151330","LABORATORIO CLÍNICO"]
[null,"SPT9156091","LABORATORIO CLÍNICO Y ANATOMÍA PATOLÓGICA"]
[null,"SPT7321287","LABORATORIO DE SUELOS, CONCRETO Y ASFALTO"]
[null,"SPT24X0433","LABORATORIO"]
[null,"SPT5311267","LABORATORIO QUÍMICO Y METALÚRGICO"]
[null,"SPT2210015","LITERATURA BÍBLICA"]
[null,"SPT24X0430","LOCUCIÓN COMUNICACIÓN RADIAL Y TELEVISIVA"]
[null,"SPT3220186","LOCUCIÓN Y COMUNICACIÓN RADIAL Y TELEVISIVA"]
[null,"SPT4161151","LOGÍSTICA DEL COMERCIO INTERNACIONAL"]
[null,"SPT4130137","LOGÍSTICA INTEGRAL Y GESTIÓN COMERCIAL"]
[null,"SPT4130082","LOGÍSTICA INTEGRAL Y GESTIÓN DE OPERACIONES"]
[null,"SPT24X0449","LUTERÍA"]
[null,"SPT5221298","MANEJO DE CUENCAS Y GESTIÓN AMBIENTAL"]
[null,"SPT8216116","MANEJO FORESTAL"]
[null,"SPT0311357","MANIOBRAS"]
[null,"SPT7146108","MANTENIMIENTO AERONÁUTICO"]
[null,"SPT7141243","MANTENIMIENTO DE AERONAVES"]
[null,"SPT0310097","MANTENIMIENTO DE AERONAVES Y SUS SISTEMAS"]
[null,"SPT7130045","MANTENIMIENTO DE EQUIPO PESADO"]
[null,"SPT9191331","MANTENIMIENTO DE ESTABLECIMIENTOS DE SALUD"]
[null,"SPT0310096","MANTENIMIENTO DE ESTRUCTURAS DE AERONAVES"]
[null,"SPT7131244","MANTENIMIENTO DE ESTRUCTURAS"]
[null,"SPT7131246","MANTENIMIENTO DE MAQUINARIA DE PLANTA"]
[null,"SPT7132029","MANTENIMIENTO DE MAQUINARIA PESADA MINERA"]
[null,"SPT7130095","MANTENIMIENTO DE MAQUINARIA PESADA PARA CONSTRUCCIÓN"]
[null,"SPT7131247","MANTENIMIENTO DE MAQUINARIA PESADA"]
[null,"SPT7131245","MANTENIMIENTO DE MAQUINARIA"]
[null,"SPT0310094","MANTENIMIENTO DE MOTORES DE AERONAVES"]
[null,"SPT7141248","MANTENIMIENTO DE MOTORES, HÉLICES Y UNIDAD DE POTENCIA AUXILIAR"]
[null,"SPT8116643","MANTENIMIENTO DE PLANTAS AGROINDUSTRIALES"]
[null,"SPT7141249","MANTENIMIENTO DE VEHÍCULOS MOTORIZADOS Y EQUIPOS CONTRA INCENDIO"]
[null,"SPT0310095","MANTENIMIENTO ELECTRÓNICO DE AERONAVES"]
[null,"SPT7136140","MANTENIMIENTO INDUSTRIAL"]
[null,"SPT7130147","MANTENIMIENTO Y GESTIÓN DE EQUIPO PESADO"]
[null,"SPT7131250","MANTENIMIENTO Y OPERACIÓN DE ARMAMENTO Y EQUIPOS AUXILIARES"]
[null,"SPT7130157","MANTENIMIENTO Y OPERACIÓN DE MAQUINARIA PESADA"]
[null,"SPT7130158","MANTENIMIENTO Y REPARACIÓN DE MAQUINARIA PESADA"]
[null,"SPT7141251","MÁQUINAS NAVALES"]
[null,"SPT4146593","MARKETING CON MENCIÓN EN COMERCIALIZACIÓN INTERNACIONAL"]
[null,"SPT4146147","MARKETING CON MENCIÓN EN ENTORNOS DIGITALES"]
[null,"SPT4146151","MARKETING CON MENCIÓN EN MEDIOS DIGITALES"]
[null,"SPT4140054","MARKETING DIGITAL"]
[null,"SPT4141139","MARKETING EMPRESARIAL"]
[null,"SPT4142130","MARKETING ESTRATÉGICO E INNOVACIÓN"]
[null,"SPT4141140","MARKETING INTEGRAL"]
[null,"SPT4140165","MARKETING INTERNACIONAL"]
[null,"SPT4141138","MARKETING"]
[null,"SPT4141141","MARKETING VISUAL"]
[null,"SPT3220034","MARKETING Y COMUNICACIÓN DE LA MODA"]
[null,"SPT4140131","MARKETING Y GESTIÓN COMERCIAL"]
[null,"SPT4146580","MARKETING Y GESTIÓN DE EQUIPOS"]
[null,"SPT4146581","MARKETING Y GESTIÓN DE MEDIOS DIGITALES"]
[null,"SPT4146582","MARKETING Y GESTIÓN DE MODA"]
[null,"SPT4140207","MARKETING Y GESTIÓN DE VENTAS"]
[null,"SPT4146133","MARKETING Y NUEVAS TECNOLOGÍAS"]
[null,"SPT4141142","MARKETING Y PUBLICIDAD"]
[null,"SPT4141143","MARKETING Y VENTAS"]
[null,"SPT7130125","MATRICERÍA"]
[null,"SPT7141252","MECÁNICA AERONÁUTICA"]
[null,"SPT7141253","MECÁNICA AERONAVAL"]
[null,"SPT7131254","MECÁNICA AGRÍCOLA"]
[null,"SPT7131255","MECÁNICA AUTOMOTRIZ"]
[null,"SPT7130070","MECÁNICA AUTOMOTRIZ Y AUTOTRÓNICA"]
[null,"SPT7146153","MECÁNICA DE AVIACIÓN"]
[null,"SPT7131483","MECÁNICA DE EQUIPO PESADO"]
[null,"SPT7131256","MECÁNICA DE MANTENIMIENTO"]
[null,"SPT7130202","MECÁNICA DE MAQUINARIA PESADA"]
[null,"SPT7136092","MECÁNICA DE PRODUCCIÓN INDUSTRIAL"]
[null,"SPT7131257","MECÁNICA DE PRODUCCIÓN"]
[null,"SPT7131258","MECÁNICA HIDRÁULICA"]
[null,"SPT7132231","MECÁNICA INDUSTRIAL"]
[null,"SPT24X0424","MECÁNICA INDUSTRIAL"]
[null,"SPT7136152","MECÁNICA NAVAL"]
[null,"SPT7130190","MECÁNICA"]
[null,"SPT7130201","MECÁNICA Y ELECTRÓNICA DE EQUIPOS PESADOS"]
[null,"SPT7136112","MECÁNICA Y ELECTRÓNICA DE VEHÍCULOS PESADOS"]
[null,"SPT7130145","MECÁNICO AUTOMOTRIZ"]
[null,"SPT7130195","MECÁNICO DE AUTOMOTORES DIESEL"]
[null,"SPT7136644","MECÁNICO DE BUSES Y CAMIONES"]
[null,"SPT7130215","MECÁNICO DE CONSTRUCCIONES METÁLICAS"]
[null,"SPT7130225","MECÁNICO DE MANTENIMIENTO DE MAQUINARIA PESADA"]
[null,"SPT7130155","MECÁNICO DE MANTENIMIENTO"]
[null,"SPT7130235","MECÁNICO DE MAQUINARIA AGRÍCOLA"]
[null,"SPT7130245","MECÁNICO DE MAQUINARIA PESADA"]
[null,"SPT7130255","MECÁNICO DE MÁQUINAS HERRAMIENTAS"]
[null,"SPT7130265","MECÁNICO ELECTRICISTA DE MANTENIMIENTO"]
[null,"SPT7130053","MECATRÓNICA AUTOMOTRIZ"]
[null,"SPT7130285","MECATRÓNICA DE BUSES Y CAMIONES"]
[null,"SPT7130295","MECATRÓNICA DIGITAL"]
[null,"SPT7130212","MECATRÓNICA INDUSTRIAL"]
[null,"SPT7136069","MECATRÓNICA"]
[null,"SPT7130315","MECATRÓNICO TEXTIL"]
[null,"SPT5211299","MEDIO AMBIENTE"]
[null,"SPT5211300","MEDIO AMBIENTE Y RECURSOS NATURALES"]
[null,"SPT2136173","MEDIOS DIGITALES Y PUBLICIDAD"]
[null,"SPT4141144","MERCADOTECNIA"]
[null,"SPT7130117","METALMECÁNICA"]
[null,"SPT7131268","METALURGIA"]
[null,"SPT5211181","METEOROLOGÍA"]
[null,"SPT6121197","MICROCOMPUTACIÓN E INFORMÁTICA"]
[null,"SPT7240119","MINERÍA"]
[null,"SPT7131269","MODELERÍA Y FUNDICIÓN"]
[null,"SPT4181163","MONEDA EXTRANJERA"]
[null,"SPT7146155","MOTORES DE AVIACIÓN"]
[null,"SPT0310101","MOTORES NAVALES"]
[null,"SPT7131259","MOTORES"]
[null,"SPT2151060","MÚSICA"]
[null,"SPT2151061","MÚSICA Y TECNOLOGÍA DE SONIDO"]
[null,"SPT2151062","MUSICOLOGÍA"]
[null,"SPT4160035","NEGOCIOS INTERNACIONALES"]
[null,"SPT24X0427","NEGOCIOS TURÍSTICOS E INTERNACIONALES"]
[null,"SPT9181322","NUTRICIÓN Y DIETÉTICA"]
[null,"SPT9181323","NUTRICIÓN Y TECNOLOGÍA DE LOS ALIMENTOS"]
[null,"SPT9141337","OBSTETRICIA"]
[null,"SPT8111224","OLIVICULTURA Y ELAIOTECNIA"]
[null,"SPT7131260","OPERACIÓN DE MÁQUINAS, HERRAMIENTAS Y CONTROL NUMÉRICO"]
[null,"SPT7240058","OPERACIÓN DE PLANTAS DE PROCESAMIENTO DE MINERALES"]
[null,"SPT7246583","OPERACIÓN DE PLANTAS Y PROCESAMIENTO DE MINERALES"]
[null,"SPT4111177","OPERACIONES BANCARIAS Y FINANCIERAS"]
[null,"SPT3211085","OPERACIONES DE COMUNICACIONES"]
[null,"SPT0141344","OPERACIONES DE VIAJES"]
[null,"SPT0311358","OPERACIONES ESPECIALES"]
[null,"SPT0141345","OPERACIONES HOTELERAS"]
[null,"SPT7240126","OPERACIONES MINERAS"]
[null,"SPT7136074","OPERACIONES QUÍMICAS Y METALÚRGICAS"]
[null,"SPT3222332","OPERADOR DE SISTEMAS DE COMUNICACIÓN"]
[null,"SPT9191332","ÓPTICA"]
[null,"SPT9151333","OPTOMETRÍA"]
[null,"SPT4181120","ORGANIZACIÓN Y ADMINISTRACIÓN DE EMPRESAS"]
[null,"SPT9161334","ORTOPEDIA"]
[null,"SPT1991023","OTRAS CARRERAS DE EDUCACIÓN"]
[null,"SPTAG99999","OTROS"]
[null,"SPT4170996","OTROS PROGRAMAS EN ADMINISTRACIÓN PÚBLICA"]
[null,"SPT4190996","OTROS PROGRAMAS EN ADMINISTRACIÓN Y COMERCIO"]
[null,"SPT3150996","OTROS PROGRAMAS EN ANTROPOLOGÍA"]
[null,"SPT7310996","OTROS PROGRAMAS EN ARQUITECTURA Y URBANISMO"]
[null,"SPT2130996","OTROS PROGRAMAS EN ARTE"]
[null,"SPT2140996","OTROS PROGRAMAS EN ARTESANÍA Y MANUALIDADES"]
[null,"SPT9210996","OTROS PROGRAMAS EN ASISTENCIA A ADULTOS MAYORES Y DISCAPACITADOS"]
[null,"SPT9220996","OTROS PROGRAMAS EN ASISTENCIA A LA INFANCIA Y SERVICIOS PARA JÓVENES"]
[null,"SPT3230996","OTROS PROGRAMAS EN BIBLIOTECOLOGÍA Y ARCHIVO"]
[null,"SPT5110996","OTROS PROGRAMAS EN BIOLOGÍA"]
[null,"SPT6110996","OTROS PROGRAMAS EN CIENCIAS DE LA COMPUTACIÓN"]
[null,"SPT3220996","OTROS PROGRAMAS EN CIENCIAS DE LA COMUNICACIÓN"]
[null,"SPT5320996","OTROS PROGRAMAS EN CIENCIAS DE LA TIERRA"]
[null,"SPT3120996","OTROS PROGRAMAS EN CIENCIAS POLÍTICAS"]
[null,"SPT4180996","OTROS PROGRAMAS EN COMPETENCIAS LABORALES"]
[null,"SPT7320996","OTROS PROGRAMAS EN CONSTRUCCIÓN E INGENIERÍA CIVIL"]
[null,"SPT4110996","OTROS PROGRAMAS EN CONTABILIDAD E IMPUESTOS"]
[null,"SPT0130996","OTROS PROGRAMAS EN DEPORTE"]
[null,"SPT4220996","OTROS PROGRAMAS EN DERECHO PRIVADO"]
[null,"SPT4210996","OTROS PROGRAMAS EN DERECHO PÚBLICO"]
[null,"SPT2120996","OTROS PROGRAMAS EN DISEÑO INDUSTRIAL, DE MODAS E INTERIORES"]
[null,"SPT5210996","OTROS PROGRAMAS EN ECOLOGÍA Y MEDIO AMBIENTE"]
[null,"SPT3110996","OTROS PROGRAMAS EN ECONOMÍA"]
[null,"SPT1610996","OTROS PROGRAMAS EN EDUCACIÓN ARTÍSTICA"]
[null,"SPT1410996","OTROS PROGRAMAS EN EDUCACIÓN ESPECIAL"]
[null,"SPT1510996","OTROS PROGRAMAS EN EDUCACIÓN FÍSICA"]
[null,"SPT1110996","OTROS PROGRAMAS EN EDUCACIÓN INICIAL"]
[null,"SPT0310996","OTROS PROGRAMAS EN EDUCACIÓN MILITAR Y DE DEFENSA"]
[null,"SPT1120996","OTROS PROGRAMAS EN EDUCACIÓN PRIMARIA"]
[null,"SPT1990996","OTROS PROGRAMAS EN EDUCACIÓN"]
[null,"SPT1210996","OTROS PROGRAMAS EN EDUCACIÓN SECUNDARIA"]
[null,"SPT1310996","OTROS PROGRAMAS EN EDUCACIÓN SUPERIOR Y TECNOLÓGICA"]
[null,"SPT7110996","OTROS PROGRAMAS EN ELECTRICIDAD Y ENERGÍA"]
[null,"SPT7120996","OTROS PROGRAMAS EN ELECTRÓNICA Y AUTOMATIZACIÓN"]
[null,"SPT9130996","OTROS PROGRAMAS EN ENFERMERÍA"]
[null,"SPT5420996","OTROS PROGRAMAS EN ESTADÍSTICA"]
[null,"SPT9170996","OTROS PROGRAMAS EN FARMACIA"]
[null,"SPT2230996","OTROS PROGRAMAS EN FILOSOFÍA Y ETICA"]
[null,"SPT5330996","OTROS PROGRAMAS EN FÍSICA"]
[null,"SPT4120996","OTROS PROGRAMAS EN GESTIÓN FINANCIERA, ADMINISTRACIÓN BANCARIA Y SEGUROS"]
[null,"SPT4130996","OTROS PROGRAMAS EN GESTIÓN Y ADMINISTRACIÓN"]
[null,"SPT1910996","OTROS PROGRAMAS EN GESTIÓN Y CALIDAD EDUCATIVA"]
[null,"SPT2220996","OTROS PROGRAMAS EN HISTORIA Y ARQUEOLOGÍA"]
[null,"SPT8120996","OTROS PROGRAMAS EN HORTICULTURA"]
[null,"SPT0120996","OTROS PROGRAMAS EN HOTELERÍA, RESTAURANTES Y GASTRONOMÍA"]
[null,"SPT2310996","OTROS PROGRAMAS EN IDIOMAS"]
[null,"SPT7220996","OTROS PROGRAMAS EN INDUSTRIA Y PRODUCTOS TRANSFORMADOS (EXCEPTO ALIMENTOS, TEXTIL, AGRO, MINAS Y PETRÓLEO)"]
[null,"SPT7210996","OTROS PROGRAMAS EN INDUSTRIAS ALIMENTARIAS"]
[null,"SPT7330996","OTROS PROGRAMAS EN INGENIERÍA SANITARIA"]
[null,"SPT5430996","OTROS PROGRAMAS EN INVESTIGACIÓN OPERATIVA"]
[null,"SPT2320996","OTROS PROGRAMAS EN LINGÜÍSTICA Y LITERATURA"]
[null,"SPT4140996","OTROS PROGRAMAS EN MARKETING Y PUBLICIDAD"]
[null,"SPT5410996","OTROS PROGRAMAS EN MATEMÁTICA"]
[null,"SPT7130996","OTROS PROGRAMAS EN MECÁNICA Y METALÚRGICA"]
[null,"SPT9120996","OTROS PROGRAMAS EN MEDICINA"]
[null,"SPT7240996","OTROS PROGRAMAS EN MINERÍA Y EXTRACCIÓN"]
[null,"SPT2150996","OTROS PROGRAMAS EN MÚSICA Y ARTES ESCÉNICAS"]
[null,"SPT4160996","OTROS PROGRAMAS EN NEGOCIOS INTERNACIONALES"]
[null,"SPT9180996","OTROS PROGRAMAS EN NUTRICIÓN"]
[null,"SPT9140996","OTROS PROGRAMAS EN OBSTETRICIA"]
[null,"SPT9110996","OTROS PROGRAMAS EN ODONTOLOGÍA"]
[null,"SPT0110996","OTROS PROGRAMAS EN PELUQUERÍA Y TRATAMIENTOS DE BELLEZA"]
[null,"SPT3210996","OTROS PROGRAMAS EN PERIODISMO Y LOCUCIÓN"]
[null,"SPT8310996","OTROS PROGRAMAS EN PESCA"]
[null,"SPT8110996","OTROS PROGRAMAS EN PRODUCCIÓN AGRÍCOLA Y GANADERA"]
[null,"SPT7230996","OTROS PROGRAMAS EN PRODUCCIÓN TEXTIL Y CONFECCIONES"]
[null,"SPT0320995","OTROS PROGRAMAS EN PROTECCIÓN DE LAS PERSONAS Y DE LA PROPIEDAD"]
[null,"SPT3130996","OTROS PROGRAMAS EN PSICOLOGÍA"]
[null,"SPT5310996","OTROS PROGRAMAS EN QUÍMICA"]
[null,"SPT5220996","OTROS PROGRAMAS EN RECURSOS HÍDRICOS"]
[null,"SPT2210996","OTROS PROGRAMAS EN RELIGIÓN Y TEOLOGÍA"]
[null,"SPT9190996","OTROS PROGRAMAS EN SALUD"]
[null,"SPT0220996","OTROS PROGRAMAS EN SALUD Y PROTECCIÓN LABORAL"]
[null,"SPT0210996","OTROS PROGRAMAS EN SANEAMIENTO DE LA COMUNIDAD"]
[null,"SPT4150996","OTROS PROGRAMAS EN SECRETARIADO Y TRABAJO DE OFICINA"]
[null,"SPT0410996","OTROS PROGRAMAS EN SERVICIOS DE TRANSPORTE"]
[null,"SPT8210996","OTROS PROGRAMAS EN SILVICULTURA"]
[null,"SPT6120996","OTROS PROGRAMAS EN SISTEMAS Y CÓMPUTO"]
[null,"SPT3140996","OTROS PROGRAMAS EN SOCIOLOGÍA Y ESTUDIOS CULTURALES"]
[null,"SPT2110996","OTROS PROGRAMAS EN TÉCNICAS AUDIOVISUALES Y DE PRODUCCIÓN PARA MEDIOS DE COMUNICACIÓN"]
[null,"SPT9150996","OTROS PROGRAMAS EN TECNOLOGÍA DE DIAGNÓSTICO Y TRATAMIENTO MÉDICO"]
[null,"SPT6130996","OTROS PROGRAMAS EN TELECOMUNICACIONES"]
[null,"SPT9160996","OTROS PROGRAMAS EN TERAPIA Y REHABILITACIÓN"]
[null,"SPT9230996","OTROS PROGRAMAS EN TRABAJO SOCIAL"]
[null,"SPT7140996","OTROS PROGRAMAS EN VEHÍCULOS, BARCOS Y AERONAVES MOTORIZADAS"]
[null,"SPT8410996","OTROS PROGRAMAS EN VETERINARIA"]
[null,"SPT0140996","OTROS PROGRAMAS EN VIAJES, TURISMO Y ACTIVIDADES RECREATIVAS"]
[null,"SPT9121321","PARAMÉDICO"]
[null,"SPT0121135","PASTELERÍA"]
[null,"SPT1611021","PEDAGOGÍA DE LA INTERPRETACIÓN MUSICAL"]
[null,"SPT3211087","PERIODISMO AUDIOVISUAL"]
[null,"SPT3211088","PERIODISMO DEPORTIVO"]
[null,"SPT3211086","PERIODISMO"]
[null,"SPT3211089","PERIODISMO RADIAL Y TELEVISIVO"]
[null,"SPT3210198","PERIODISMO Y MEDIOS DIGITALES"]
[null,"SPT3216599","PERIODISMO Y NUEVOS MEDIOS"]
[null,"SPT8310061","PESCA Y NAVEGACIÓN"]
[null,"SPT24X0444","PESCA Y PROCESAMIENTO PESQUERO"]
[null,"SPT4181164","PLANIFICACIÓN EMPRESARIAL"]
[null,"SPT4181165","PLANIFICACIÓN Y GESTIÓN DE DESARROLLO"]
[null,"SPT0311359","POLICÍA NAVAL"]
[null,"SPT24X0413","POST PRODUCCIÓN Y ANIMACIÓN"]
[null,"SPT0310102","PRACTICAJE FLUVIAL"]
[null,"SPT1510224","PREPARACIÓN FISICA DE ALTO RENDIMIENTO"]
[null,"SPT0226111","PREVENCIÓN, SEGURIDAD Y SALUD EN EL TRABAJO"]
[null,"SPT7210055","PROCESADOR INDUSTRIAL DE ALIMENTOS"]
[null,"SPT7210065","PROCESADOR INDUSTRIAL DE ALIMENTOS Y BEBIDAS"]
[null,"SPT6121198","PROCESAMIENTO DE DATOS"]
[null,"SPT24X0461","PROCESOS DE CONSERVACIÓN Y RESTAURACIÓN DE BIENES CULTURALES MATERIALES"]
[null,"SPT7212433","PROCESOS DE LA INDUSTRIA ALIMENTARIA Y PRODUCTOS HIDROBIOLÓGICOS"]
[null,"SPT7220025","PROCESOS DE PRODUCCIÓN INDUSTRIAL"]
[null,"SPT7230095","PROCESOS DE PRODUCCIÓN TEXTIL"]
[null,"SPT24X0455","PROCESOS EN SEGURIDAD, SALUD EN EL TRABAJO Y MEDIO AMBIENTE"]
[null,"SPT7221217","PROCESOS INDUSTRIALES Y DE SISTEMAS"]
[null,"SPT7130168","PROCESOS QUÍMICOS METALÚRGICOS"]
[null,"SPT5310035","PROCESOS QUÍMICOS"]
[null,"SPT7131270","PROCESOS QUÍMICOS Y METALÚRGICOS"]
[null,"SPT8111309","PRODUCCIÓN AGRARIA"]
[null,"SPT8111310","PRODUCCIÓN AGRÍCOLA"]
[null,"SPT8111311","PRODUCCIÓN AGROPECUARIA"]
[null,"SPT24X0458","PRODUCCIÓN DE ARTES VISUALES"]
[null,"SPT7230025","PRODUCCIÓN DE CONFECCIONES"]
[null,"SPT24X0448","PRODUCCIÓN DE CUERO"]
[null,"SPT3221081","PRODUCCIÓN DE ESPECTÁCULOS"]
[null,"SPT2111053","PRODUCCIÓN DE IMPRESOS"]
[null,"SPT3221082","PRODUCCIÓN DE PROGRAMAS DE TELEVISIÓN"]
[null,"SPT3221083","PRODUCCIÓN DE RADIO Y TELEVISIÓN"]
[null,"SPT8311296","PRODUCCIÓN EN PESQUERÍA"]
[null,"SPT24X0454","PRODUCCIÓN FOTOGRÁFICA"]
[null,"SPT2110375","PRODUCCIÓN GRÁFICA"]
[null,"SPT24X0450","PRODUCCIÓN INDUSTRIAL"]
[null,"SPT2151063","PRODUCCIÓN MUSICAL"]
[null,"SPT8111312","PRODUCCIÓN PECUARIA"]
[null,"SPT7231280","PRODUCCIÓN TEXTIL"]
[null,"SPT7210140","PRODUCCIÓN Y GESTIÓN INDUSTRIAL"]
[null,"SPT8111313","PRODUCCIÓN Y GESTIÓN PECUARIA"]
[null,"SPT24X0414","PRODUCCIÓN Y REALIZACIÓN AUDIOVISUAL"]
[null,"SPT3226119","PRODUCCIÓN Y REALIZACIÓN DE TELEVISIÓN, RADIO Y MEDIOS DIGITALES"]
[null,"SPT6121199","PROGRAMACIÓN"]
[null,"SPT0211067","PROMOCIÓN COMUNAL"]
[null,"SPT24X0462","PROMOCIÓN DE BIENES CULTURALES MATERIALES"]
[null,"SPT0141346","PROMOCIÓN DE TURISMO 1/ INCLUYE LA CARRERA DE PROMOCIÓN TURÍSTICA"]
[null,"SPT0140155","PROMOCIÓN DE TURISMO"]
[null,"SPT0140165","PROMOCIÓN TURÍSTICA"]
[null,"SPT9111324","PRÓTESIS DENTAL"]
[null,"SPT4141054","PUBLICIDAD"]
[null,"SPT4146114","PUBLICIDAD Y BRANDING"]
[null,"SPT4142534","PUBLICIDAD Y MARKETING DIGITAL"]
[null,"SPT4140227","PUBLICIDAD Y MEDIOS DIGITALES"]
[null,"SPT5311183","QUÍMICA INDUSTRIAL"]
[null,"SPT5310055","QUÍMICA TEXTIL"]
[null,"SPT9151335","RADIOLOGÍA"]
[null,"SPT8110065","RECURSOS HÍDRICOS"]
[null,"SPT6120255","REDES DE COMPUTADORAS Y COMUNICACIÓN DE DATOS"]
[null,"SPT6121200","REDES Y COMUNICACIÓN DE DATOS"]
[null,"SPT6110176","REDES Y COMUNICACIONES DE DATOS"]
[null,"SPT6121201","REDES Y COMUNICACIONES"]
[null,"SPT6121202","REDES Y SEGURIDAD INFORMÁTICA"]
[null,"SPT4141068","RELACIONES INSTITUCIONALES"]
[null,"SPT3141069","RELACIONES PÚBLICAS"]
[null,"SPT24X0423","RELACIONES PÚBLICAS Y MARKETING"]
[null,"SPT2211028","RELIGIÓN Y EDUCACIÓN PARA EL TRABAJO"]
[null,"SPT6121203","REPARACIÓN DE COMPUTADORAS"]
[null,"SPT6121204","REPARACIÓN DE COMPUTADORAS Y REDES"]
[null,"SPT3211090","REPORTERISMO"]
[null,"SPT7311294","RESTAURACIÓN DE MONUMENTOS HISTÓRICOS Y BIENES INMUEBLES"]
[null,"SPT2131034","RESTAURACIÓN Y CONSERVACIÓN DE OBRAS DE ARTE"]
[null,"SPT8111314","RIEGO DRENAJE"]
[null,"SPT8110066","RIEGO Y DRENAJE"]
[null,"SPT0210025","SALUD PÚBLICA"]
[null,"SPT0221218","SALUD Y SEGURIDAD OCUPACIONAL"]
[null,"SPT24X0440","SECRETARIADO EJECUTIVO BILINGUE"]
[null,"SPT4151154","SECRETARIADO EJECUTIVO BILINGÜE"]
[null,"SPT4151155","SECRETARIADO EJECUTIVO COMPUTARIZADO"]
[null,"SPT4151153","SECRETARIADO EJECUTIVO"]
[null,"SPT4150063","SECRETARIADO EJECUTIVO Y GERENCIA"]
[null,"SPT4151156","SECRETARIADO EJECUTIVO Y GERENCIAL"]
[null,"SPT4151157","SECRETARIADO INTERNACIONAL EJECUTIVO"]
[null,"SPT6126590","SEGURIDAD DE LA INFORMACIÓN"]
[null,"SPT0311360","SEGURIDAD E INSTRUCCIÓN MILITAR"]
[null,"SPT0220045","SEGURIDAD INDUSTRIAL Y PREVENCIÓN DE RIESGOS"]
[null,"SPT6121205","SEGURIDAD INFORMÁTICA"]
[null,"SPT0226174","SEGURIDAD INTEGRAL"]
[null,"SPT0226086","SEGURIDAD Y PREVENCIÓN DE RIESGOS"]
[null,"SPT7240127","SEGURIDAD Y PREVENCIÓN EN LA INDUSTRIA Y MINERÍA"]
[null,"SPT0220075","SEGURIDAD, SALUD OCUPACIONAL Y MEDIO AMBIENTE"]
[null,"SPT0316158","SENSORES DE AVIACIÓN"]
[null,"SPT0311361","SENSORES"]
[null,"SPT0316154","SEÑALES"]
[null,"SPT24X0451","SEÑALIZACIÓN Y SEMAFORIZACIÓN"]
[null,"SPT0121136","SERVICIOS HOTELEROS Y COCINA"]
[null,"SPT0310103","SERVICIOS"]
[null,"SPT6136640","SISTEMA DE TELECOMUNICACIONES"]
[null,"SPT7121238","SISTEMAS AUTOMÁTICOS PROGRAMABLES"]
[null,"SPT6121206","SISTEMAS DE INFORMACIÓN"]
[null,"SPT6131211","SISTEMAS DE TELECOMUNICACIONES"]
[null,"SPT6121207","SISTEMAS INFORMÁTICOS PARA LA PRODUCTIVIDAD"]
[null,"SPT4130129","SISTEMAS INTEGRADOS DE GESTIÓN"]
[null,"SPT6116081","SISTEMAS Y ADMINISTRACIÓN DE REDES CON MENCIÓN EN SERVICIO NAVAL"]
[null,"SPT6110118","SISTEMAS Y COMPUTACIÓN"]
[null,"SPT6121208","SOFTWARE Y SISTEMAS"]
[null,"SPT7130375","SOLDADOR UNIVERSAL"]
[null,"SPT7130050","SOLDADURA INDUSTRIAL"]
[null,"SPT0316157","SONAR"]
[null,"SPT6121209","SOPORTE DE SISTEMAS Y REDES"]
[null,"SPT6120375","SOPORTE Y MANTENIMIENTO DE EQUIPOS DE COMPUTACIÓN"]
[null,"SPT7321288","SUELOS, CONCRETO Y ASFALTO"]
[null,"SPT7246139","SUPERVISIÓN DE EQUIPOS EN MINERÍA SUBTERRÁNEA"]
[null,"SPT4181166","SUPERVISIÓN DE OPERACIONES"]
[null,"SPT2151066","TEATRO Y TELEVISIÓN"]
[null,"SPT24X0438","TÉCNICA DE FARMACIA"]
[null,"SPT9170040","TÉCNICA EN FARMACIA"]
[null,"SPT9160049","TÉCNICA EN FISIOTERAPIA Y REHABILITACIÓN"]
[null,"SPT6131212","TÉCNICA EN INGENIERÍA DE SONIDOS"]
[null,"SPT6131213","TÉCNICA EN INGENIERÍA DE TELECOMUNICACIONES"]
[null,"SPT6131214","TÉCNICA EN INGENIERÍA DE TELEMÁTICA"]
[null,"SPT7131261","TÉCNICA EN INGENIERÍA MECÁNICA DE MANTENIMIENTO"]
[null,"SPT7131262","TÉCNICA EN INGENIERÍA MECÁNICA DE PRODUCCIÓN"]
[null,"SPT9150043","TÉCNICA EN LABORATORIO CLÍNICO"]
[null,"SPT4140178","TÉCNICA EN MERCADOTECNIA"]
[null,"SPT9140144","TÉCNICA EN OBSTETRICIA"]
[null,"SPT9152635","TÉCNICA EN OPTOMETRÍA"]
[null,"SPT9110087","TÉCNICA EN PRÓTESIS DENTAL"]
[null,"SPT9176101","TÉCNICAS DE FARMACIA"]
[null,"SPT6110081","TÉCNICAS DE INGENIERÍA DE SOFTWARE"]
[null,"SPT6136075","TÉCNICAS DE INGENIERÍA DE TELECOMUNICACIONES"]
[null,"SPT7111229","TÉCNICAS DE INGENIERÍA ELÉCTRICA"]
[null,"SPT7121239","TÉCNICAS DE INGENIERÍA ELECTRÓNICA"]
[null,"SPT7130395","TÉCNICAS DE INGENIERÍA MECÁNICA DE PRODUCCIÓN"]
[null,"SPT7240108","TÉCNICAS EN EXPLOTACIÓN MINERA"]
[null,"SPT6136063","TÉCNICAS EN INGENIERÍA DE SONIDO"]
[null,"SPT7120185","TÉCNICAS EN INGENIERÍA ELECTRÓNICA"]
[null,"SPT7130405","TÉCNICAS EN INGENIERÍA MECÁNICA DE MANTENIMIENTO"]
[null,"SPT6110228","TÉCNICO EN INGENIERÍA DE REDES Y COMUNICACIÓN"]
[null,"SPT4160187","TÉCNICO EN MERCADOTECNIA"]
[null,"SPT8111315","TECNOLOGÍA AGRÍCOLA"]
[null,"SPT7212736","TECNOLOGÍA ASEGURAMIENTO DE CALIDAD DE PRODUCTOS HIDROBIOLÓGICOS"]
[null,"SPT5311184","TECNOLOGÍA DE ANÁLISIS QUÍMICO"]
[null,"SPT7221219","TECNOLOGÍA DE LA PRODUCCIÓN"]
[null,"SPT7230115","TECNOLOGÍA DE PROCESOS DE PRODUCCIÓN DE PRENDAS DE VESTIR"]
[null,"SPT7230125","TECNOLOGÍA DEL DISEÑO Y DESARROLLO DE PRENDAS DE VESTIR"]
[null,"SPT7240125","TECNOLOGÍA EN PETRÓLEO Y REFINACIÓN"]
[null,"SPT24X0431","TECNOLOGÍA EN PETRÓLEO, GAS Y REFINACIÓN"]
[null,"SPT7131263","TECNOLOGÍA MECÁNICA ELÉCTRICA"]
[null,"SPT3141070","TECNOLOGÍA PENITENCIARIA"]
[null,"SPT8311297","TECNOLOGÍA PESQUERA"]
[null,"SPT8316104","TECNOLOGÍA PESQUERA Y ACUÍCOLA"]
[null,"SPT5210045","TECNOLOGÍAS AMBIENTALES"]
[null,"SPT24X0459","TECNOLOGÍAS APLICADAS AL SONIDO"]
[null,"SPT6120385","TECNOLOGÍAS DE LA INFORMACIÓN Y COMUNICACIÓN"]
[null,"SPT24X0436","TECNOLOGÍAS DE LA INFORMACIÓN Y LA COMUNICACIÓN"]
[null,"SPT6110073","TELECOMUNICACIONES E INFORMÁTICA"]
[null,"SPT0310092","TELECOMUNICACIONES MILITARES"]
[null,"SPT6131215","TELECOMUNICACIONES"]
[null,"SPT6136080","TELEMÁTICA CON MENCIÓN EN SERVICIO NAVAL"]
[null,"SPT6131216","TELEMÁTICA"]
[null,"SPT2211029","TEOLOGÍA - CATÓLICA"]
[null,"SPT2211031","TEOLOGÍA - FORMACIÓN RELIGIOSA"]
[null,"SPT2211030","TEOLOGÍA EVANGÉLICA"]
[null,"SPT2210173","TEOLOGÍA INVESTIGACIÓN SOCIO RELIGIOSA"]
[null,"SPT2210035","TEOLOGÍA"]
[null,"SPT9166120","TERAPIA FÍSICA"]
[null,"SPT24X0412","TERAPIA FÍSICA Y REHABILITACIÓN"]
[null,"SPT3131071","TERAPIA PSICOANALÍTICA"]
[null,"SPT7321289","TOPOGRAFÍA"]
[null,"SPT7240181","TOPOGRAFÍA SUPERFICIAL MINERA"]
[null,"SPT7321290","TOPOGRAFÍA SUPERFICIAL Y MINERA"]
[null,"SPT2311025","TRADUCCIÓN DE IDIOMAS"]
[null,"SPT2316584","TRADUCCIÓN E INTERPRETACIÓN DE IDIOMAS"]
[null,"SPT2310107","TRADUCCIÓN E INTERPRETACIÓN DE IDIOMAS(INGLÉS,FRANCÉS Y CASTELLANO)"]
[null,"SPT2310185","TRADUCCIÓN E INTERPRETACIÓN DE INGLÉS"]
[null,"SPT2311026","TRADUCCIÓN E INTERPRETACIÓN"]
[null,"SPT2310111","TRADUCCIÓN"]
[null,"SPT5220025","TRATAMIENTO DE AGUA"]
[null,"SPT0141347","TURISMO"]
[null,"SPT0141137","TURISMO Y HOTELERÍA"]
[null,"SPT4141145","VENTAS"]
[null,"SPT0141348","VIAJES Y TURISMO"]
[null,"SPT8111225","VITICULTURA Y ENOLOGÍA"]
[null,"SPT8111179","ZOOTECNIA"]
[null,"SPT24X0443","ZOOTECNIA Y SANIDAD PECUARIA"]
[null,"SPT8110114","ZOOTECNISTA"]

{"sheet":"Ubigeo","index":8,"n_rows":1893,"n_cols":5,"rows_kept":1893,"cut":false,"hidden":false,"merged":[]}
[]
[null,"CÓDIGO","DEPARTAMENTO","PROVINCIA","DISTRITO"]
[null,"010101","AMAZONAS","CHACHAPOYAS","CHACHAPOYAS"]
[null,"010102","AMAZONAS","CHACHAPOYAS","ASUNCION"]
[null,"010103","AMAZONAS","CHACHAPOYAS","BALSAS"]
[null,"010104","AMAZONAS","CHACHAPOYAS","CHETO"]
[null,"010105","AMAZONAS","CHACHAPOYAS","CHILIQUIN"]
[null,"010106","AMAZONAS","CHACHAPOYAS","CHUQUIBAMBA"]
[null,"010107","AMAZONAS","CHACHAPOYAS","GRANADA"]
[null,"010108","AMAZONAS","CHACHAPOYAS","HUANCAS"]
[null,"010109","AMAZONAS","CHACHAPOYAS","LA JALCA"]
[null,"010110","AMAZONAS","CHACHAPOYAS","LEIMEBAMBA"]
[null,"010111","AMAZONAS","CHACHAPOYAS","LEVANTO"]
[null,"010112","AMAZONAS","CHACHAPOYAS","MAGDALENA"]
[null,"010113","AMAZONAS","CHACHAPOYAS","MARISCAL CASTILLA"]
[null,"010114","AMAZONAS","CHACHAPOYAS","MOLINOPAMPA"]
[null,"010115","AMAZONAS","CHACHAPOYAS","MONTEVIDEO"]
[null,"010116","AMAZONAS","CHACHAPOYAS","OLLEROS"]
[null,"010117","AMAZONAS","CHACHAPOYAS","QUINJALCA"]
[null,"010118","AMAZONAS","CHACHAPOYAS","SAN FRANCISCO DE DAGUAS"]
[null,"010119","AMAZONAS","CHACHAPOYAS","SAN ISIDRO DE MAINO"]
[null,"010120","AMAZONAS","CHACHAPOYAS","SOLOCO"]
[null,"010121","AMAZONAS","CHACHAPOYAS","SONCHE"]
[null,"010201","AMAZONAS","BAGUA","BAGUA"]
[null,"010202","AMAZONAS","BAGUA","ARAMANGO"]
[null,"010203","AMAZONAS","BAGUA","COPALLIN"]
[null,"010204","AMAZONAS","BAGUA","EL PARCO"]
[null,"010205","AMAZONAS","BAGUA","IMAZA"]
[null,"010206","AMAZONAS","BAGUA","LA PECA"]
[null,"010301","AMAZONAS","BONGARA","JUMBILLA"]
[null,"010302","AMAZONAS","BONGARA","CHISQUILLA"]
[null,"010303","AMAZONAS","BONGARA","CHURUJA"]
[null,"010304","AMAZONAS","BONGARA","COROSHA"]
[null,"010305","AMAZONAS","BONGARA","CUISPES"]
[null,"010306","AMAZONAS","BONGARA","FLORIDA"]
[null,"010307","AMAZONAS","BONGARA","JAZAN"]
[null,"010308","AMAZONAS","BONGARA","RECTA"]
[null,"010309","AMAZONAS","BONGARA","SAN CARLOS"]
[null,"010310","AMAZONAS","BONGARA","SHIPASBAMBA"]
[null,"010311","AMAZONAS","BONGARA","VALERA"]
[null,"010312","AMAZONAS","BONGARA","YAMBRASBAMBA"]
[null,"010401","AMAZONAS","CONDORCANQUI","NIEVA"]
[null,"010402","AMAZONAS","CONDORCANQUI","EL CENEPA"]
[null,"010403","AMAZONAS","CONDORCANQUI","RIO SANTIAGO"]
[null,"010501","AMAZONAS","LUYA","LAMUD"]
[null,"010502","AMAZONAS","LUYA","CAMPORREDONDO"]
[null,"010503","AMAZONAS","LUYA","COCABAMBA"]
[null,"010504","AMAZONAS","LUYA","COLCAMAR"]
[null,"010505","AMAZONAS","LUYA","CONILA"]
[null,"010506","AMAZONAS","LUYA","INGUILPATA"]
[null,"010507","AMAZONAS","LUYA","LONGUITA"]
[null,"010508","AMAZONAS","LUYA","LONYA CHICO"]
[null,"010509","AMAZONAS","LUYA","LUYA"]
[null,"010510","AMAZONAS","LUYA","LUYA VIEJO"]
[null,"010511","AMAZONAS","LUYA","MARIA"]
[null,"010512","AMAZONAS","LUYA","OCALLI"]
[null,"010513","AMAZONAS","LUYA","OCUMAL"]
[null,"010514","AMAZONAS","LUYA","PISUQUIA"]
[null,"010515","AMAZONAS","LUYA","PROVIDENCIA"]
[null,"010516","AMAZONAS","LUYA","SAN CRISTOBAL"]
[null,"010517","AMAZONAS","LUYA","SAN FRANCISCO DEL YESO"]
[null,"010518","AMAZONAS","LUYA","SAN JERONIMO"]
[null,"010519","AMAZONAS","LUYA","SAN JUAN DE LOPECANCHA"]
[null,"010520","AMAZONAS","LUYA","SANTA CATALINA"]
[null,"010521","AMAZONAS","LUYA","SANTO TOMAS"]
[null,"010522","AMAZONAS","LUYA","TINGO"]
[null,"010523","AMAZONAS","LUYA","TRITA"]
[null,"010601","AMAZONAS","RODRIGUEZ DE MENDOZA","SAN NICOLAS"]
[null,"010602","AMAZONAS","RODRIGUEZ DE MENDOZA","CHIRIMOTO"]
[null,"010603","AMAZONAS","RODRIGUEZ DE MENDOZA","COCHAMAL"]
[null,"010604","AMAZONAS","RODRIGUEZ DE MENDOZA","HUAMBO"]
[null,"010605","AMAZONAS","RODRIGUEZ DE MENDOZA","LIMABAMBA"]
[null,"010606","AMAZONAS","RODRIGUEZ DE MENDOZA","LONGAR"]
[null,"010607","AMAZONAS","RODRIGUEZ DE MENDOZA","MARISCAL BENAVIDES"]
[null,"010608","AMAZONAS","RODRIGUEZ DE MENDOZA","MILPUC"]
[null,"010609","AMAZONAS","RODRIGUEZ DE MENDOZA","OMIA"]
[null,"010610","AMAZONAS","RODRIGUEZ DE MENDOZA","SANTA ROSA"]
[null,"010611","AMAZONAS","RODRIGUEZ DE MENDOZA","TOTORA"]
[null,"010612","AMAZONAS","RODRIGUEZ DE MENDOZA","VISTA ALEGRE"]
[null,"010701","AMAZONAS","UTCUBAMBA","BAGUA GRANDE"]
[null,"010702","AMAZONAS","UTCUBAMBA","CAJARURO"]
[null,"010703","AMAZONAS","UTCUBAMBA","CUMBA"]
[null,"010704","AMAZONAS","UTCUBAMBA","EL MILAGRO"]
[null,"010705","AMAZONAS","UTCUBAMBA","JAMALCA"]
[null,"010706","AMAZONAS","UTCUBAMBA","LONYA GRANDE"]
[null,"010707","AMAZONAS","UTCUBAMBA","YAMON"]
[null,"020101","ANCASH","HUARAZ","HUARAZ"]
[null,"020102","ANCASH","HUARAZ","COCHABAMBA"]
[null,"020103","ANCASH","HUARAZ","COLCABAMBA"]
[null,"020104","ANCASH","HUARAZ","HUANCHAY"]
[null,"020105","ANCASH","HUARAZ","INDEPENDENCIA"]
[null,"020106","ANCASH","HUARAZ","JANGAS"]
[null,"020107","ANCASH","HUARAZ","LA LIBERTAD"]
[null,"020108","ANCASH","HUARAZ","OLLEROS"]
[null,"020109","ANCASH","HUARAZ","PAMPAS GRANDE"]
[null,"020110","ANCASH","HUARAZ","PARIACOTO"]
[null,"020111","ANCASH","HUARAZ","PIRA"]
[null,"020112","ANCASH","HUARAZ","TARICA"]
[null,"020201","ANCASH","AIJA","AIJA"]
[null,"020202","ANCASH","AIJA","CORIS"]
[null,"020203","ANCASH","AIJA","HUACLLAN"]
[null,"020204","ANCASH","AIJA","LA MERCED"]
[null,"020205","ANCASH","AIJA","SUCCHA"]
[null,"020301","ANCASH","ANTONIO RAYMONDI","LLAMELLIN"]
[null,"020302","ANCASH","ANTONIO RAYMONDI","ACZO"]
[null,"020303","ANCASH","ANTONIO RAYMONDI","CHACCHO"]
[null,"020304","ANCASH","ANTONIO RAYMONDI","CHINGAS"]
[null,"020305","ANCASH","ANTONIO RAYMONDI","MIRGAS"]
[null,"020306","ANCASH","ANTONIO RAYMONDI","SAN JUAN DE RONTOY"]
[null,"020401","ANCASH","ASUNCION","CHACAS"]
[null,"020402","ANCASH","ASUNCION","ACOCHACA"]
[null,"020501","ANCASH","BOLOGNESI","CHIQUIAN"]
[null,"020502","ANCASH","BOLOGNESI","ABELARDO PARDO LEZAMETA"]
[null,"020503","ANCASH","BOLOGNESI","ANTONIO RAYMONDI"]
[null,"020504","ANCASH","BOLOGNESI","AQUIA"]
[null,"020505","ANCASH","BOLOGNESI","CAJACAY"]
[null,"020506","ANCASH","BOLOGNESI","CANIS"]
[null,"020507","ANCASH","BOLOGNESI","COLQUIOC"]
[null,"020508","ANCASH","BOLOGNESI","HUALLANCA"]
[null,"020509","ANCASH","BOLOGNESI","HUASTA"]
[null,"020510","ANCASH","BOLOGNESI","HUAYLLACAYAN"]
[null,"020511","ANCASH","BOLOGNESI","LA PRIMAVERA"]
[null,"020512","ANCASH","BOLOGNESI","MANGAS"]
[null,"020513","ANCASH","BOLOGNESI","PACLLON"]
[null,"020514","ANCASH","BOLOGNESI","SAN MIGUEL DE CORPANQUI"]
[null,"020515","ANCASH","BOLOGNESI","TICLLOS"]
[null,"020601","ANCASH","CARHUAZ","CARHUAZ"]
[null,"020602","ANCASH","CARHUAZ","ACOPAMPA"]
[null,"020603","ANCASH","CARHUAZ","AMASHCA"]
[null,"020604","ANCASH","CARHUAZ","ANTA"]
[null,"020605","ANCASH","CARHUAZ","ATAQUERO"]
[null,"020606","ANCASH","CARHUAZ","MARCARA"]
[null,"020607","ANCASH","CARHUAZ","PARIAHUANCA"]
[null,"020608","ANCASH","CARHUAZ","SAN MIGUEL DE ACO"]
[null,"020609","ANCASH","CARHUAZ","SHILLA"]
[null,"020610","ANCASH","CARHUAZ","TINCO"]
[null,"020611","ANCASH","CARHUAZ","YUNGAR"]
[null,"020701","ANCASH","CARLOS FERMIN FITZCARRALD","SAN LUIS"]
[null,"020702","ANCASH","CARLOS FERMIN FITZCARRALD","SAN NICOLAS"]
[null,"020703","ANCASH","CARLOS FERMIN FITZCARRALD","YAUYA"]
[null,"020801","ANCASH","CASMA","CASMA"]
[null,"020802","ANCASH","CASMA","BUENA VISTA ALTA"]
[null,"020803","ANCASH","CASMA","COMANDANTE NOEL"]
[null,"020804","ANCASH","CASMA","YAUTAN"]
[null,"020901","ANCASH","CORONGO","CORONGO"]
[null,"020902","ANCASH","CORONGO","ACO"]
[null,"020903","ANCASH","CORONGO","BAMBAS"]
[null,"020904","ANCASH","CORONGO","CUSCA"]
[null,"020905","ANCASH","CORONGO","LA PAMPA"]
[null,"020906","ANCASH","CORONGO","YANAC"]
[null,"020907","ANCASH","CORONGO","YUPAN"]
[null,"021001","ANCASH","HUARI","HUARI"]
[null,"021002","ANCASH","HUARI","ANRA"]
[null,"021003","ANCASH","HUARI","CAJAY"]
[null,"021004","ANCASH","HUARI","CHAVIN DE HUANTAR"]
[null,"021005","ANCASH","HUARI","HUACACHI"]
[null,"021006","ANCASH","HUARI","HUACCHIS"]
[null,"021007","ANCASH","HUARI","HUACHIS"]
[null,"021008","ANCASH","HUARI","HUANTAR"]
[null,"021009","ANCASH","HUARI","MASIN"]
[null,"021010","ANCASH","HUARI","PAUCAS"]
[null,"021011","ANCASH","HUARI","PONTO"]
[null,"021012","ANCASH","HUARI","RAHUAPAMPA"]
[null,"021013","ANCASH","HUARI","RAPAYAN"]
[null,"021014","ANCASH","HUARI","SAN MARCOS"]
[null,"021015","ANCASH","HUARI","SAN PEDRO DE CHANA"]
[null,"021016","ANCASH","HUARI","UCO"]
[null,"021101","ANCASH","HUARMEY","HUARMEY"]
[null,"021102","ANCASH","HUARMEY","COCHAPETI"]
[null,"021103","ANCASH","HUARMEY","CULEBRAS"]
[null,"021104","ANCASH","HUARMEY","HUAYAN"]
[null,"021105","ANCASH","HUARMEY","MALVAS"]
[null,"021201","ANCASH","HUAYLAS","CARAZ"]
[null,"021202","ANCASH","HUAYLAS","HUALLANCA"]
[null,"021203","ANCASH","HUAYLAS","HUATA"]
[null,"021204","ANCASH","HUAYLAS","HUAYLAS"]
[null,"021205","ANCASH","HUAYLAS","MATO"]
[null,"021206","ANCASH","HUAYLAS","PAMPAROMAS"]
[null,"021207","ANCASH","HUAYLAS","PUEBLO LIBRE"]
[null,"021208","ANCASH","HUAYLAS","SANTA CRUZ"]
[null,"021209","ANCASH","HUAYLAS","SANTO TORIBIO"]
[null,"021210","ANCASH","HUAYLAS","YURACMARCA"]
[null,"021301","ANCASH","MARISCAL LUZURIAGA","PISCOBAMBA"]
[null,"021302","ANCASH","MARISCAL LUZURIAGA","CASCA"]
[null,"021303","ANCASH","MARISCAL LUZURIAGA","ELEAZAR GUZMAN BARRON"]
[null,"021304","ANCASH","MARISCAL LUZURIAGA","FIDEL OLIVAS ESCUDERO"]
[null,"021305","ANCASH","MARISCAL LUZURIAGA","LLAMA"]
[null,"021306","ANCASH","MARISCAL LUZURIAGA","LLUMPA"]
[null,"021307","ANCASH","MARISCAL LUZURIAGA","LUCMA"]
[null,"021308","ANCASH","MARISCAL LUZURIAGA","MUSGA"]
[null,"021401","ANCASH","OCROS","OCROS"]
[null,"021402","ANCASH","OCROS","ACAS"]
[null,"021403","ANCASH","OCROS","CAJAMARQUILLA"]
[null,"021404","ANCASH","OCROS","CARHUAPAMPA"]
[null,"021405","ANCASH","OCROS","COCHAS"]
[null,"021406","ANCASH","OCROS","CONGAS"]
[null,"021407","ANCASH","OCROS","LLIPA"]
[null,"021408","ANCASH","OCROS","SAN CRISTOBAL DE RAJAN"]
[null,"021409","ANCASH","OCROS","SAN PEDRO"]
[null,"021410","ANCASH","OCROS","SANTIAGO DE CHILCAS"]
[null,"021501","ANCASH","PALLASCA","CABANA"]
[null,"021502","ANCASH","PALLASCA","BOLOGNESI"]
[null,"021503","ANCASH","PALLASCA","CONCHUCOS"]
[null,"021504","ANCASH","PALLASCA","HUACASCHUQUE"]
[null,"021505","ANCASH","PALLASCA","HUANDOVAL"]
[null,"021506","ANCASH","PALLASCA","LACABAMBA"]
[null,"021507","ANCASH","PALLASCA","LLAPO"]
[null,"021508","ANCASH","PALLASCA","PALLASCA"]
[null,"021509","ANCASH","PALLASCA","PAMPAS"]
[null,"021510","ANCASH","PALLASCA","SANTA ROSA"]
[null,"021511","ANCASH","PALLASCA","TAUCA"]
[null,"021601","ANCASH","POMABAMBA","POMABAMBA"]
[null,"021602","ANCASH","POMABAMBA","HUAYLLAN"]
[null,"021603","ANCASH","POMABAMBA","PAROBAMBA"]
[null,"021604","ANCASH","POMABAMBA","QUINUABAMBA"]
[null,"021701","ANCASH","RECUAY","RECUAY"]
[null,"021702","ANCASH","RECUAY","CATAC"]
[null,"021703","ANCASH","RECUAY","COTAPARACO"]
[null,"021704","ANCASH","RECUAY","HUAYLLAPAMPA"]
[null,"021705","ANCASH","RECUAY","LLACLLIN"]
[null,"021706","ANCASH","RECUAY","MARCA"]
[null,"021707","ANCASH","RECUAY","PAMPAS CHICO"]
[null,"021708","ANCASH","RECUAY","PARARIN"]
[null,"021709","ANCASH","RECUAY","TAPACOCHA"]
[null,"021710","ANCASH","RECUAY","TICAPAMPA"]
[null,"021801","ANCASH","SANTA","CHIMBOTE"]
[null,"021802","ANCASH","SANTA","CACERES DEL PERU"]
[null,"021803","ANCASH","SANTA","COISHCO"]
[null,"021804","ANCASH","SANTA","MACATE"]
[null,"021805","ANCASH","SANTA","MORO"]
[null,"021806","ANCASH","SANTA","NEPEÑA"]
[null,"021807","ANCASH","SANTA","SAMANCO"]
[null,"021808","ANCASH","SANTA","SANTA"]
[null,"021809","ANCASH","SANTA","NUEVO CHIMBOTE"]
[null,"021901","ANCASH","SIHUAS","SIHUAS"]
[null,"021902","ANCASH","SIHUAS","ACOBAMBA"]
[null,"021903","ANCASH","SIHUAS","ALFONSO UGARTE"]
[null,"021904","ANCASH","SIHUAS","CASHAPAMPA"]
[null,"021905","ANCASH","SIHUAS","CHINGALPO"]
[null,"021906","ANCASH","SIHUAS","HUAYLLABAMBA"]
[null,"021907","ANCASH","SIHUAS","QUICHES"]
[null,"021908","ANCASH","SIHUAS","RAGASH"]
[null,"021909","ANCASH","SIHUAS","SAN JUAN"]
[null,"021910","ANCASH","SIHUAS","SICSIBAMBA"]
[null,"022001","ANCASH","YUNGAY","YUNGAY"]
[null,"022002","ANCASH","YUNGAY","CASCAPARA"]
[null,"022003","ANCASH","YUNGAY","MANCOS"]
[null,"022004","ANCASH","YUNGAY","MATACOTO"]
[null,"022005","ANCASH","YUNGAY","QUILLO"]
[null,"022006","ANCASH","YUNGAY","RANRAHIRCA"]
[null,"022007","ANCASH","YUNGAY","SHUPLUY"]
[null,"022008","ANCASH","YUNGAY","YANAMA"]
[null,"030101","APURIMAC","ABANCAY","ABANCAY"]
[null,"030102","APURIMAC","ABANCAY","CHACOCHE"]
[null,"030103","APURIMAC","ABANCAY","CIRCA"]
[null,"030104","APURIMAC","ABANCAY","CURAHUASI"]
[null,"030105","APURIMAC","ABANCAY","HUANIPACA"]
[null,"030106","APURIMAC","ABANCAY","LAMBRAMA"]
[null,"030107","APURIMAC","ABANCAY","PICHIRHUA"]
[null,"030108","APURIMAC","ABANCAY","SAN PEDRO DE CACHORA"]
[null,"030109","APURIMAC","ABANCAY","TAMBURCO"]
[null,"030201","APURIMAC","ANDAHUAYLAS","ANDAHUAYLAS"]
[null,"030202","APURIMAC","ANDAHUAYLAS","ANDARAPA"]
[null,"030203","APURIMAC","ANDAHUAYLAS","CHIARA"]
[null,"030204","APURIMAC","ANDAHUAYLAS","HUANCARAMA"]
[null,"030205","APURIMAC","ANDAHUAYLAS","HUANCARAY"]
[null,"030206","APURIMAC","ANDAHUAYLAS","HUAYANA"]
[null,"030207","APURIMAC","ANDAHUAYLAS","KISHUARA"]
[null,"030208","APURIMAC","ANDAHUAYLAS","PACOBAMBA"]
[null,"030209","APURIMAC","ANDAHUAYLAS","PACUCHA"]
[null,"030210","APURIMAC","ANDAHUAYLAS","PAMPACHIRI"]
[null,"030211","APURIMAC","ANDAHUAYLAS","POMACOCHA"]
[null,"030212","APURIMAC","ANDAHUAYLAS","SAN ANTONIO DE CACHI"]
[null,"030213","APURIMAC","ANDAHUAYLAS","SAN JERONIMO"]
[null,"030214","APURIMAC","ANDAHUAYLAS","SAN MIGUEL DE CHACCRAMPA"]
[null,"030215","APURIMAC","ANDAHUAYLAS","SANTA MARIA DE CHICMO"]
[null,"030216","APURIMAC","ANDAHUAYLAS","TALAVERA"]
[null,"030217","APURIMAC","ANDAHUAYLAS","TUMAY HUARACA"]
[null,"030218","APURIMAC","ANDAHUAYLAS","TURPO"]
[null,"030219","APURIMAC","ANDAHUAYLAS","KAQUIABAMBA"]
[null,"030220","APURIMAC","ANDAHUAYLAS","JOSE MARIA ARGUEDAS"]
[null,"030301","APURIMAC","ANTABAMBA","ANTABAMBA"]
[null,"030302","APURIMAC","ANTABAMBA","EL ORO"]
[null,"030303","APURIMAC","ANTABAMBA","HUAQUIRCA"]
[null,"030304","APURIMAC","ANTABAMBA","JUAN ESPINOZA MEDRANO"]
[null,"030305","APURIMAC","ANTABAMBA","OROPESA"]
[null,"030306","APURIMAC","ANTABAMBA","PACHACONAS"]
[null,"030307","APURIMAC","ANTABAMBA","SABAINO"]
[null,"030401","APURIMAC","AYMARAES","CHALHUANCA"]
[null,"030402","APURIMAC","AYMARAES","CAPAYA"]
[null,"030403","APURIMAC","AYMARAES","CARAYBAMBA"]
[null,"030404","APURIMAC","AYMARAES","CHAPIMARCA"]
[null,"030405","APURIMAC","AYMARAES","COLCABAMBA"]
[null,"030406","APURIMAC","AYMARAES","COTARUSE"]
[null,"030407","APURIMAC","AYMARAES","IHUAYLLO"]
[null,"030408","APURIMAC","AYMARAES","JUSTO APU SAHUARAURA"]
[null,"030409","APURIMAC","AYMARAES","LUCRE"]
[null,"030410","APURIMAC","AYMARAES","POCOHUANCA"]
[null,"030411","APURIMAC","AYMARAES","SAN JUAN DE CHACÑA"]
[null,"030412","APURIMAC","AYMARAES","SAÑAYCA"]
[null,"030413","APURIMAC","AYMARAES","SORAYA"]
[null,"030414","APURIMAC","AYMARAES","TAPAIRIHUA"]
[null,"030415","APURIMAC","AYMARAES","TINTAY"]
[null,"030416","APURIMAC","AYMARAES","TORAYA"]
[null,"030417","APURIMAC","AYMARAES","YANACA"]
[null,"030501","APURIMAC","COTABAMBAS","TAMBOBAMBA"]
[null,"030502","APURIMAC","COTABAMBAS","COTABAMBAS"]
[null,"030503","APURIMAC","COTABAMBAS","COYLLURQUI"]
[null,"030504","APURIMAC","COTABAMBAS","HAQUIRA"]
[null,"030505","APURIMAC","COTABAMBAS","MARA"]
[null,"030506","APURIMAC","COTABAMBAS","CHALLHUAHUACHO"]
[null,"030601","APURIMAC","CHINCHEROS","CHINCHEROS"]
[null,"030602","APURIMAC","CHINCHEROS","ANCO_HUALLO"]
[null,"030603","APURIMAC","CHINCHEROS","COCHARCAS"]
[null,"030604","APURIMAC","CHINCHEROS","HUACCANA"]
[null,"030605","APURIMAC","CHINCHEROS","OCOBAMBA"]
[null,"030606","APURIMAC","CHINCHEROS","ONGOY"]
[null,"030607","APURIMAC","CHINCHEROS","URANMARCA"]
[null,"030608","APURIMAC","CHINCHEROS","RANRACANCHA"]
[null,"030609","APURIMAC","CHINCHEROS","ROCCHACC"]
[null,"030610","APURIMAC","CHINCHEROS","EL PORVENIR"]
[null,"030611","APURIMAC","CHINCHEROS","LOS CHANKAS"]
[null,"030612","APURIMAC","CHINCHEROS","AHUAYRO"]
[null,"030701","APURIMAC","GRAU","CHUQUIBAMBILLA"]
[null,"030702","APURIMAC","GRAU","CURPAHUASI"]
[null,"030703","APURIMAC","GRAU","GAMARRA"]
[null,"030704","APURIMAC","GRAU","HUAYLLATI"]
[null,"030705","APURIMAC","GRAU","MAMARA"]
[null,"030706","APURIMAC","GRAU","MICAELA BASTIDAS"]
[null,"030707","APURIMAC","GRAU","PATAYPAMPA"]
[null,"030708","APURIMAC","GRAU","PROGRESO"]
[null,"030709","APURIMAC","GRAU","SAN ANTONIO"]
[null,"030710","APURIMAC","GRAU","SANTA ROSA"]
[null,"030711","APURIMAC","GRAU","TURPAY"]
[null,"030712","APURIMAC","GRAU","VILCABAMBA"]
[null,"030713","APURIMAC","GRAU","VIRUNDO"]
[null,"030714","APURIMAC","GRAU","CURASCO"]
[null,"040101","AREQUIPA","AREQUIPA","AREQUIPA"]
[null,"040102","AREQUIPA","AREQUIPA","ALTO SELVA ALEGRE"]
[null,"040103","AREQUIPA","AREQUIPA","CAYMA"]
[null,"040104","AREQUIPA","AREQUIPA","CERRO COLORADO"]
[null,"040105","AREQUIPA","AREQUIPA","CHARACATO"]
[null,"040106","AREQUIPA","AREQUIPA","CHIGUATA"]
[null,"040107","AREQUIPA","AREQUIPA","JACOBO HUNTER"]
[null,"040108","AREQUIPA","AREQUIPA","LA JOYA"]
[null,"040109","AREQUIPA","AREQUIPA","MARIANO MELGAR"]
[null,"040110","AREQUIPA","AREQUIPA","MIRAFLORES"]
[null,"040111","AREQUIPA","AREQUIPA","MOLLEBAYA"]
[null,"040112","AREQUIPA","AREQUIPA","PAUCARPATA"]
[null,"040113","AREQUIPA","AREQUIPA","POCSI"]
[null,"040114","AREQUIPA","AREQUIPA","POLOBAYA"]
[null,"040115","AREQUIPA","AREQUIPA","QUEQUEÑA"]
[null,"040116","AREQUIPA","AREQUIPA","SABANDIA"]
[null,"040117","AREQUIPA","AREQUIPA","SACHACA"]
[null,"040118","AREQUIPA","AREQUIPA","SAN JUAN DE SIGUAS"]
[null,"040119","AREQUIPA","AREQUIPA","SAN JUAN DE TARUCANI"]
[null,"040120","AREQUIPA","AREQUIPA","SANTA ISABEL DE SIGUAS"]
[null,"040121","AREQUIPA","AREQUIPA","SANTA RITA DE SIGUAS"]
[null,"040122","AREQUIPA","AREQUIPA","SOCABAYA"]
[null,"040123","AREQUIPA","AREQUIPA","TIABAYA"]
[null,"040124","AREQUIPA","AREQUIPA","UCHUMAYO"]
[null,"040125","AREQUIPA","AREQUIPA","VITOR"]
[null,"040126","AREQUIPA","AREQUIPA","YANAHUARA"]
[null,"040127","AREQUIPA","AREQUIPA","YARABAMBA"]
[null,"040128","AREQUIPA","AREQUIPA","YURA"]
[null,"040129","AREQUIPA","AREQUIPA","JOSE LUIS BUSTAMANTE Y RIVERO"]
[null,"040201","AREQUIPA","CAMANA","CAMANA"]
[null,"040202","AREQUIPA","CAMANA","JOSE MARIA QUIMPER"]
[null,"040203","AREQUIPA","CAMANA","MARIANO NICOLAS VALCARCEL"]
[null,"040204","AREQUIPA","CAMANA","MARISCAL CACERES"]
[null,"040205","AREQUIPA","CAMANA","NICOLAS DE PIEROLA"]
[null,"040206","AREQUIPA","CAMANA","OCOÑA"]
[null,"040207","AREQUIPA","CAMANA","QUILCA"]
[null,"040208","AREQUIPA","CAMANA","SAMUEL PASTOR"]
[null,"040301","AREQUIPA","CARAVELI","CARAVELI"]
[null,"040302","AREQUIPA","CARAVELI","ACARI"]
[null,"040303","AREQUIPA","CARAVELI","ATICO"]
[null,"040304","AREQUIPA","CARAVELI","ATIQUIPA"]
[null,"040305","AREQUIPA","CARAVELI","BELLA UNION"]
[null,"040306","AREQUIPA","CARAVELI","CAHUACHO"]
[null,"040307","AREQUIPA","CARAVELI","CHALA"]
[null,"040308","AREQUIPA","CARAVELI","CHAPARRA"]
[null,"040309","AREQUIPA","CARAVELI","HUANUHUANU"]
[null,"040310","AREQUIPA","CARAVELI","JAQUI"]
[null,"040311","AREQUIPA","CARAVELI","LOMAS"]
[null,"040312","AREQUIPA","CARAVELI","QUICACHA"]
[null,"040313","AREQUIPA","CARAVELI","YAUCA"]
[null,"040401","AREQUIPA","CASTILLA","APLAO"]
[null,"040402","AREQUIPA","CASTILLA","ANDAGUA"]
[null,"040403","AREQUIPA","CASTILLA","AYO"]
[null,"040404","AREQUIPA","CASTILLA","CHACHAS"]
[null,"040405","AREQUIPA","CASTILLA","CHILCAYMARCA"]
[null,"040406","AREQUIPA","CASTILLA","CHOCO"]
[null,"040407","AREQUIPA","CASTILLA","HUANCARQUI"]
[null,"040408","AREQUIPA","CASTILLA","MACHAGUAY"]
[null,"040409","AREQUIPA","CASTILLA","ORCOPAMPA"]
[null,"040410","AREQUIPA","CASTILLA","PAMPACOLCA"]
[null,"040411","AREQUIPA","CASTILLA","TIPAN"]
[null,"040412","AREQUIPA","CASTILLA","UÑON"]
[null,"040413","AREQUIPA","CASTILLA","URACA"]
[null,"040414","AREQUIPA","CASTILLA","VIRACO"]
[null,"040501","AREQUIPA","CAYLLOMA","CHIVAY"]
[null,"040502","AREQUIPA","CAYLLOMA","ACHOMA"]
[null,"040503","AREQUIPA","CAYLLOMA","CABANACONDE"]
[null,"040504","AREQUIPA","CAYLLOMA","CALLALLI"]
[null,"040505","AREQUIPA","CAYLLOMA","CAYLLOMA"]
[null,"040506","AREQUIPA","CAYLLOMA","COPORAQUE"]
[null,"040507","AREQUIPA","CAYLLOMA","HUAMBO"]
[null,"040508","AREQUIPA","CAYLLOMA","HUANCA"]
[null,"040509","AREQUIPA","CAYLLOMA","ICHUPAMPA"]
[null,"040510","AREQUIPA","CAYLLOMA","LARI"]
[null,"040511","AREQUIPA","CAYLLOMA","LLUTA"]
[null,"040512","AREQUIPA","CAYLLOMA","MACA"]
[null,"040513","AREQUIPA","CAYLLOMA","MADRIGAL"]
[null,"040514","AREQUIPA","CAYLLOMA","SAN ANTONIO DE CHUCA"]
[null,"040515","AREQUIPA","CAYLLOMA","SIBAYO"]
[null,"040516","AREQUIPA","CAYLLOMA","TAPAY"]
[null,"040517","AREQUIPA","CAYLLOMA","TISCO"]
[null,"040518","AREQUIPA","CAYLLOMA","TUTI"]
[null,"040519","AREQUIPA","CAYLLOMA","YANQUE"]
[null,"040520","AREQUIPA","CAYLLOMA","MAJES"]
[null,"040601","AREQUIPA","CONDESUYOS","CHUQUIBAMBA"]
[null,"040602","AREQUIPA","CONDESUYOS","ANDARAY"]
[null,"040603","AREQUIPA","CONDESUYOS","CAYARANI"]
[null,"040604","AREQUIPA","CONDESUYOS","CHICHAS"]
[null,"040605","AREQUIPA","CONDESUYOS","IRAY"]
[null,"040606","AREQUIPA","CONDESUYOS","RIO GRANDE"]
[null,"040607","AREQUIPA","CONDESUYOS","SALAMANCA"]
[null,"040608","AREQUIPA","CONDESUYOS","YANAQUIHUA"]
[null,"040701","AREQUIPA","ISLAY","MOLLENDO"]
[null,"040702","AREQUIPA","ISLAY","COCACHACRA"]
[null,"040703","AREQUIPA","ISLAY","DEAN VALDIVIA"]
[null,"040704","AREQUIPA","ISLAY","ISLAY"]
[null,"040705","AREQUIPA","ISLAY","MEJIA"]
[null,"040706","AREQUIPA","ISLAY","PUNTA DE BOMBON"]
[null,"040801","AREQUIPA","LA UNION","COTAHUASI"]
[null,"040802","AREQUIPA","LA UNION","ALCA"]
[null,"040803","AREQUIPA","LA UNION","CHARCANA"]
[null,"040804","AREQUIPA","LA UNION","HUAYNACOTAS"]
[null,"040805","AREQUIPA","LA UNION","PAMPAMARCA"]
[null,"040806","AREQUIPA","LA UNION","PUYCA"]
[null,"040807","AREQUIPA","LA UNION","QUECHUALLA"]
[null,"040808","AREQUIPA","LA UNION","SAYLA"]
[null,"040809","AREQUIPA","LA UNION","TAURIA"]
[null,"040810","AREQUIPA","LA UNION","TOMEPAMPA"]
[null,"040811","AREQUIPA","LA UNION","TORO"]
[null,"050101","AYACUCHO","HUAMANGA","AYACUCHO"]
[null,"050102","AYACUCHO","HUAMANGA","ACOCRO"]
[null,"050103","AYACUCHO","HUAMANGA","ACOS VINCHOS"]
[null,"050104","AYACUCHO","HUAMANGA","CARMEN ALTO"]
[null,"050105","AYACUCHO","HUAMANGA","CHIARA"]
[null,"050106","AYACUCHO","HUAMANGA","OCROS"]
[null,"050107","AYACUCHO","HUAMANGA","PACAYCASA"]
[null,"050108","AYACUCHO","HUAMANGA","QUINUA"]
[null,"050109","AYACUCHO","HUAMANGA","SAN JOSE DE TICLLAS"]
[null,"050110","AYACUCHO","HUAMANGA","SAN JUAN BAUTISTA"]
[null,"050111","AYACUCHO","HUAMANGA","SANTIAGO DE PISCHA"]
[null,"050112","AYACUCHO","HUAMANGA","SOCOS"]
[null,"050113","AYACUCHO","HUAMANGA","TAMBILLO"]
[null,"050114","AYACUCHO","HUAMANGA","VINCHOS"]
[null,"050115","AYACUCHO","HUAMANGA","JESUS NAZARENO"]
[null,"050116","AYACUCHO","HUAMANGA","ANDRES AVELINO CACERES DORREGARAY"]
[null,"050201","AYACUCHO","CANGALLO","CANGALLO"]
[null,"050202","AYACUCHO","CANGALLO","CHUSCHI"]
[null,"050203","AYACUCHO","CANGALLO","LOS MOROCHUCOS"]
[null,"050204","AYACUCHO","CANGALLO","MARIA PARADO DE BELLIDO"]
[null,"050205","AYACUCHO","CANGALLO","PARAS"]
[null,"050206","AYACUCHO","CANGALLO","TOTOS"]
[null,"050301","AYACUCHO","HUANCA SANCOS","SANCOS"]
[null,"050302","AYACUCHO","HUANCA SANCOS","CARAPO"]
[null,"050303","AYACUCHO","HUANCA SANCOS","SACSAMARCA"]
[null,"050304","AYACUCHO","HUANCA SANCOS","SANTIAGO DE LUCANAMARCA"]
[null,"050401","AYACUCHO","HUANTA","HUANTA"]
[null,"050402","AYACUCHO","HUANTA","AYAHUANCO"]
[null,"050403","AYACUCHO","HUANTA","HUAMANGUILLA"]
[null,"050404","AYACUCHO","HUANTA","IGUAIN"]
[null,"050405","AYACUCHO","HUANTA","LURICOCHA"]
[null,"050406","AYACUCHO","HUANTA","SANTILLANA"]
[null,"050407","AYACUCHO","HUANTA","SIVIA"]
[null,"050408","AYACUCHO","HUANTA","LLOCHEGUA"]
[null,"050409","AYACUCHO","HUANTA","CANAYRE"]
[null,"050410","AYACUCHO","HUANTA","UCHURACCAY"]
[null,"050411","AYACUCHO","HUANTA","PUCACOLPA"]
[null,"050412","AYACUCHO","HUANTA","CHACA"]
[null,"050413","AYACUCHO","HUANTA","PUTIS"]
[null,"050501","AYACUCHO","LA MAR","SAN MIGUEL"]
[null,"050502","AYACUCHO","LA MAR","ANCO"]
[null,"050503","AYACUCHO","LA MAR","AYNA"]
[null,"050504","AYACUCHO","LA MAR","CHILCAS"]
[null,"050505","AYACUCHO","LA MAR","CHUNGUI"]
[null,"050506","AYACUCHO","LA MAR","LUIS CARRANZA"]
[null,"050507","AYACUCHO","LA MAR","SANTA ROSA"]
[null,"050508","AYACUCHO","LA MAR","TAMBO"]
[null,"050509","AYACUCHO","LA MAR","SAMUGARI"]
[null,"050510","AYACUCHO","LA MAR","ANCHIHUAY"]
[null,"050511","AYACUCHO","LA MAR","ORONCCOY"]
[null,"050512","AYACUCHO","LA MAR","UNION PROGRESO"]
[null,"050513","AYACUCHO","LA MAR","RIO MAGDALENA"]
[null,"050514","AYACUCHO","LA MAR","NINABAMBA"]
[null,"050515","AYACUCHO","LA MAR","PATIBAMBA"]
[null,"050601","AYACUCHO","LUCANAS","PUQUIO"]
[null,"050602","AYACUCHO","LUCANAS","AUCARA"]
[null,"050603","AYACUCHO","LUCANAS","CABANA"]
[null,"050604","AYACUCHO","LUCANAS","CARMEN SALCEDO"]
[null,"050605","AYACUCHO","LUCANAS","CHAVIÑA"]
[null,"050606","AYACUCHO","LUCANAS","CHIPAO"]
[null,"050607","AYACUCHO","LUCANAS","HUAC-HUAS"]
[null,"050608","AYACUCHO","LUCANAS","LARAMATE"]
[null,"050609","AYACUCHO","LUCANAS","LEONCIO PRADO"]
[null,"050610","AYACUCHO","LUCANAS","LLAUTA"]
[null,"050611","AYACUCHO","LUCANAS","LUCANAS"]
[null,"050612","AYACUCHO","LUCANAS","OCAÑA"]
[null,"050613","AYACUCHO","LUCANAS","OTOCA"]
[null,"050614","AYACUCHO","LUCANAS","SAISA"]
[null,"050615","AYACUCHO","LUCANAS","SAN CRISTOBAL"]
[null,"050616","AYACUCHO","LUCANAS","SAN JUAN"]
[null,"050617","AYACUCHO","LUCANAS","SAN PEDRO"]
[null,"050618","AYACUCHO","LUCANAS","SAN PEDRO DE PALCO"]
[null,"050619","AYACUCHO","LUCANAS","SANCOS"]
[null,"050620","AYACUCHO","LUCANAS","SANTA ANA DE HUAYCAHUACHO"]
[null,"050621","AYACUCHO","LUCANAS","SANTA LUCIA"]
[null,"050701","AYACUCHO","PARINACOCHAS","CORACORA"]
[null,"050702","AYACUCHO","PARINACOCHAS","CHUMPI"]
[null,"050703","AYACUCHO","PARINACOCHAS","CORONEL CASTAÑEDA"]
[null,"050704","AYACUCHO","PARINACOCHAS","PACAPAUSA"]
[null,"050705","AYACUCHO","PARINACOCHAS","PULLO"]
[null,"050706","AYACUCHO","PARINACOCHAS","PUYUSCA"]
[null,"050707","AYACUCHO","PARINACOCHAS","SAN FRANCISCO DE RAVACAYCO"]
[null,"050708","AYACUCHO","PARINACOCHAS","UPAHUACHO"]
[null,"050801","AYACUCHO","PAUCAR DEL SARA SARA","PAUSA"]
[null,"050802","AYACUCHO","PAUCAR DEL SARA SARA","COLTA"]
[null,"050803","AYACUCHO","PAUCAR DEL SARA SARA","CORCULLA"]
[null,"050804","AYACUCHO","PAUCAR DEL SARA SARA","LAMPA"]
[null,"050805","AYACUCHO","PAUCAR DEL SARA SARA","MARCABAMBA"]
[null,"050806","AYACUCHO","PAUCAR DEL SARA SARA","OYOLO"]
[null,"050807","AYACUCHO","PAUCAR DEL SARA SARA","PARARCA"]
[null,"050808","AYACUCHO","PAUCAR DEL SARA SARA","SAN JAVIER DE ALPABAMBA"]
[null,"050809","AYACUCHO","PAUCAR DEL SARA SARA","SAN JOSE DE USHUA"]
[null,"050810","AYACUCHO","PAUCAR DEL SARA SARA","SARA SARA"]
[null,"050901","AYACUCHO","SUCRE","QUEROBAMBA"]
[null,"050902","AYACUCHO","SUCRE","BELEN"]
[null,"050903","AYACUCHO","SUCRE","CHALCOS"]
[null,"050904","AYACUCHO","SUCRE","CHILCAYOC"]
[null,"050905","AYACUCHO","SUCRE","HUACAÑA"]
[null,"050906","AYACUCHO","SUCRE","MORCOLLA"]
[null,"050907","AYACUCHO","SUCRE","PAICO"]
[null,"050908","AYACUCHO","SUCRE","SAN PEDRO DE LARCAY"]
[null,"050909","AYACUCHO","SUCRE","SAN SALVADOR DE QUIJE"]
[null,"050910","AYACUCHO","SUCRE","SANTIAGO DE PAUCARAY"]
[null,"050911","AYACUCHO","SUCRE","SORAS"]
[null,"051001","AYACUCHO","VICTOR FAJARDO","HUANCAPI"]
[null,"051002","AYACUCHO","VICTOR FAJARDO","ALCAMENCA"]
[null,"051003","AYACUCHO","VICTOR FAJARDO","APONGO"]
[null,"051004","AYACUCHO","VICTOR FAJARDO","ASQUIPATA"]
[null,"051005","AYACUCHO","VICTOR FAJARDO","CANARIA"]
[null,"051006","AYACUCHO","VICTOR FAJARDO","CAYARA"]
[null,"051007","AYACUCHO","VICTOR FAJARDO","COLCA"]
[null,"051008","AYACUCHO","VICTOR FAJARDO","HUAMANQUIQUIA"]
[null,"051009","AYACUCHO","VICTOR FAJARDO","HUANCARAYLLA"]
[null,"051010","AYACUCHO","VICTOR FAJARDO","HUALLA"]
[null,"051011","AYACUCHO","VICTOR FAJARDO","SARHUA"]
[null,"051012","AYACUCHO","VICTOR FAJARDO","VILCANCHOS"]
[null,"051101","AYACUCHO","VILCAS HUAMAN","VILCAS HUAMAN"]
[null,"051102","AYACUCHO","VILCAS HUAMAN","ACCOMARCA"]
[null,"051103","AYACUCHO","VILCAS HUAMAN","CARHUANCA"]
[null,"051104","AYACUCHO","VILCAS HUAMAN","CONCEPCION"]
[null,"051105","AYACUCHO","VILCAS HUAMAN","HUAMBALPA"]
[null,"051106","AYACUCHO","VILCAS HUAMAN","INDEPENDENCIA"]
[null,"051107","AYACUCHO","VILCAS HUAMAN","SAURAMA"]
[null,"051108","AYACUCHO","VILCAS HUAMAN","VISCHONGO"]
[null,"060101","CAJAMARCA","CAJAMARCA","CAJAMARCA"]
[null,"060102","CAJAMARCA","CAJAMARCA","ASUNCION"]
[null,"060103","CAJAMARCA","CAJAMARCA","CHETILLA"]
[null,"060104","CAJAMARCA","CAJAMARCA","COSPAN"]
[null,"060105","CAJAMARCA","CAJAMARCA","ENCAÑADA"]
[null,"060106","CAJAMARCA","CAJAMARCA","JESUS"]
[null,"060107","CAJAMARCA","CAJAMARCA","LLACANORA"]
[null,"060108","CAJAMARCA","CAJAMARCA","LOS BAÑOS DEL INCA"]
[null,"060109","CAJAMARCA","CAJAMARCA","MAGDALENA"]
[null,"060110","CAJAMARCA","CAJAMARCA","MATARA"]
[null,"060111","CAJAMARCA","CAJAMARCA","NAMORA"]
[null,"060112","CAJAMARCA","CAJAMARCA","SAN JUAN"]
[null,"060201","CAJAMARCA","CAJABAMBA","CAJABAMBA"]
[null,"060202","CAJAMARCA","CAJABAMBA","CACHACHI"]
[null,"060203","CAJAMARCA","CAJABAMBA","CONDEBAMBA"]
[null,"060204","CAJAMARCA","CAJABAMBA","SITACOCHA"]
[null,"060301","CAJAMARCA","CELENDIN","CELENDIN"]
[null,"060302","CAJAMARCA","CELENDIN","CHUMUCH"]
[null,"060303","CAJAMARCA","CELENDIN","CORTEGANA"]
[null,"060304","CAJAMARCA","CELENDIN","HUASMIN"]
[null,"060305","CAJAMARCA","CELENDIN","JORGE CHAVEZ"]
[null,"060306","CAJAMARCA","CELENDIN","JOSE GALVEZ"]
[null,"060307","CAJAMARCA","CELENDIN","MIGUEL IGLESIAS"]
[null,"060308","CAJAMARCA","CELENDIN","OXAMARCA"]
[null,"060309","CAJAMARCA","CELENDIN","SOROCHUCO"]
[null,"060310","CAJAMARCA","CELENDIN","SUCRE"]
[null,"060311","CAJAMARCA","CELENDIN","UTCO"]
[null,"060312","CAJAMARCA","CELENDIN","LA LIBERTAD DE PALLAN"]
[null,"060401","CAJAMARCA","CHOTA","CHOTA"]
[null,"060402","CAJAMARCA","CHOTA","ANGUIA"]
[null,"060403","CAJAMARCA","CHOTA","CHADIN"]
[null,"060404","CAJAMARCA","CHOTA","CHIGUIRIP"]
[null,"060405","CAJAMARCA","CHOTA","CHIMBAN"]
[null,"060406","CAJAMARCA","CHOTA","CHOROPAMPA"]
[null,"060407","CAJAMARCA","CHOTA","COCHABAMBA"]
[null,"060408","CAJAMARCA","CHOTA","CONCHAN"]
[null,"060409","CAJAMARCA","CHOTA","HUAMBOS"]
[null,"060410","CAJAMARCA","CHOTA","LAJAS"]
[null,"060411","CAJAMARCA","CHOTA","LLAMA"]
[null,"060412","CAJAMARCA","CHOTA","MIRACOSTA"]
[null,"060413","CAJAMARCA","CHOTA","PACCHA"]
[null,"060414","CAJAMARCA","CHOTA","PION"]
[null,"060415","CAJAMARCA","CHOTA","QUEROCOTO"]
[null,"060416","CAJAMARCA","CHOTA","SAN JUAN DE LICUPIS"]
[null,"060417","CAJAMARCA","CHOTA","TACABAMBA"]
[null,"060418","CAJAMARCA","CHOTA","TOCMOCHE"]
[null,"060419","CAJAMARCA","CHOTA","CHALAMARCA"]
[null,"060501","CAJAMARCA","CONTUMAZA","CONTUMAZA"]
[null,"060502","CAJAMARCA","CONTUMAZA","CHILETE"]
[null,"060503","CAJAMARCA","CONTUMAZA","CUPISNIQUE"]
[null,"060504","CAJAMARCA","CONTUMAZA","GUZMANGO"]
[null,"060505","CAJAMARCA","CONTUMAZA","SAN BENITO"]
[null,"060506","CAJAMARCA","CONTUMAZA","SANTA CRUZ DE TOLEDO"]
[null,"060507","CAJAMARCA","CONTUMAZA","TANTARICA"]
[null,"060508","CAJAMARCA","CONTUMAZA","YONAN"]
[null,"060601","CAJAMARCA","CUTERVO","CUTERVO"]
[null,"060602","CAJAMARCA","CUTERVO","CALLAYUC"]
[null,"060603","CAJAMARCA","CUTERVO","CHOROS"]
[null,"060604","CAJAMARCA","CUTERVO","CUJILLO"]
[null,"060605","CAJAMARCA","CUTERVO","LA RAMADA"]
[null,"060606","CAJAMARCA","CUTERVO","PIMPINGOS"]
[null,"060607","CAJAMARCA","CUTERVO","QUEROCOTILLO"]
[null,"060608","CAJAMARCA","CUTERVO","SAN ANDRES DE CUTERVO"]
[null,"060609","CAJAMARCA","CUTERVO","SAN JUAN DE CUTERVO"]
[null,"060610","CAJAMARCA","CUTERVO","SAN LUIS DE LUCMA"]
[null,"060611","CAJAMARCA","CUTERVO","SANTA CRUZ"]
[null,"060612","CAJAMARCA","CUTERVO","SANTO DOMINGO DE LA CAPILLA"]
[null,"060613","CAJAMARCA","CUTERVO","SANTO TOMAS"]
[null,"060614","CAJAMARCA","CUTERVO","SOCOTA"]
[null,"060615","CAJAMARCA","CUTERVO","TORIBIO CASANOVA"]
[null,"060701","CAJAMARCA","HUALGAYOC","BAMBAMARCA"]
[null,"060702","CAJAMARCA","HUALGAYOC","CHUGUR"]
[null,"060703","CAJAMARCA","HUALGAYOC","HUALGAYOC"]
[null,"060801","CAJAMARCA","JAEN","JAEN"]
[null,"060802","CAJAMARCA","JAEN","BELLAVISTA"]
[null,"060803","CAJAMARCA","JAEN","CHONTALI"]
[null,"060804","CAJAMARCA","JAEN","COLASAY"]
[null,"060805","CAJAMARCA","JAEN","HUABAL"]
[null,"060806","CAJAMARCA","JAEN","LAS PIRIAS"]
[null,"060807","CAJAMARCA","JAEN","POMAHUACA"]
[null,"060808","CAJAMARCA","JAEN","PUCARA"]
[null,"060809","CAJAMARCA","JAEN","SALLIQUE"]
[null,"060810","CAJAMARCA","JAEN","SAN FELIPE"]
[null,"060811","CAJAMARCA","JAEN","SAN JOSE DEL ALTO"]
[null,"060812","CAJAMARCA","JAEN","SANTA ROSA"]
[null,"060901","CAJAMARCA","SAN IGNACIO","SAN IGNACIO"]
[null,"060902","CAJAMARCA","SAN IGNACIO","CHIRINOS"]
[null,"060903","CAJAMARCA","SAN IGNACIO","HUARANGO"]
[null,"060904","CAJAMARCA","SAN IGNACIO","LA COIPA"]
[null,"060905","CAJAMARCA","SAN IGNACIO","NAMBALLE"]
[null,"060906","CAJAMARCA","SAN IGNACIO","SAN JOSE DE LOURDES"]
[null,"060907","CAJAMARCA","SAN IGNACIO","TABACONAS"]
[null,"061001","CAJAMARCA","SAN MARCOS","PEDRO GALVEZ"]
[null,"061002","CAJAMARCA","SAN MARCOS","CHANCAY"]
[null,"061003","CAJAMARCA","SAN MARCOS","EDUARDO VILLANUEVA"]
[null,"061004","CAJAMARCA","SAN MARCOS","GREGORIO PITA"]
[null,"061005","CAJAMARCA","SAN MARCOS","ICHOCAN"]
[null,"061006","CAJAMARCA","SAN MARCOS","JOSE MANUEL QUIROZ"]
[null,"061007","CAJAMARCA","SAN MARCOS","JOSE SABOGAL"]
[null,"061101","CAJAMARCA","SAN MIGUEL","SAN MIGUEL"]
[null,"061102","CAJAMARCA","SAN MIGUEL","BOLIVAR"]
[null,"061103","CAJAMARCA","SAN MIGUEL","CALQUIS"]
[null,"061104","CAJAMARCA","SAN MIGUEL","CATILLUC"]
[null,"061105","CAJAMARCA","SAN MIGUEL","EL PRADO"]
[null,"061106","CAJAMARCA","SAN MIGUEL","LA FLORIDA"]
[null,"061107","CAJAMARCA","SAN MIGUEL","LLAPA"]
[null,"061108","CAJAMARCA","SAN MIGUEL","NANCHOC"]
[null,"061109","CAJAMARCA","SAN MIGUEL","NIEPOS"]
[null,"061110","CAJAMARCA","SAN MIGUEL","SAN GREGORIO"]
[null,"061111","CAJAMARCA","SAN MIGUEL","SAN SILVESTRE DE COCHAN"]
[null,"061112","CAJAMARCA","SAN MIGUEL","TONGOD"]
[null,"061113","CAJAMARCA","SAN MIGUEL","UNION AGUA BLANCA"]
[null,"061201","CAJAMARCA","SAN PABLO","SAN PABLO"]
[null,"061202","CAJAMARCA","SAN PABLO","SAN BERNARDINO"]
[null,"061203","CAJAMARCA","SAN PABLO","SAN LUIS"]
[null,"061204","CAJAMARCA","SAN PABLO","TUMBADEN"]
[null,"061301","CAJAMARCA","SANTA CRUZ","SANTA CRUZ"]
[null,"061302","CAJAMARCA","SANTA CRUZ","ANDABAMBA"]
[null,"061303","CAJAMARCA","SANTA CRUZ","CATACHE"]
[null,"061304","CAJAMARCA","SANTA CRUZ","CHANCAYBAÑOS"]
[null,"061305","CAJAMARCA","SANTA CRUZ","LA ESPERANZA"]
[null,"061306","CAJAMARCA","SANTA CRUZ","NINABAMBA"]
[null,"061307","CAJAMARCA","SANTA CRUZ","PULAN"]
[null,"061308","CAJAMARCA","SANTA CRUZ","SAUCEPAMPA"]
[null,"061309","CAJAMARCA","SANTA CRUZ","SEXI"]
[null,"061310","CAJAMARCA","SANTA CRUZ","UTICYACU"]
[null,"061311","CAJAMARCA","SANTA CRUZ","YAUYUCAN"]
[null,"070101","CALLAO","CALLAO","CALLAO"]
[null,"070102","CALLAO","CALLAO","BELLAVISTA"]
[null,"070103","CALLAO","CALLAO","CARMEN DE LA LEGUA REYNOSO"]
[null,"070104","CALLAO","CALLAO","LA PERLA"]
[null,"070105","CALLAO","CALLAO","LA PUNTA"]
[null,"070106","CALLAO","CALLAO","VENTANILLA"]
[null,"070107","CALLAO","CALLAO","MI PERU"]
[null,"080101","CUSCO","CUSCO","CUSCO"]
[null,"080102","CUSCO","CUSCO","CCORCA"]
[null,"080103","CUSCO","CUSCO","POROY"]
[null,"080104","CUSCO","CUSCO","SAN JERONIMO"]
[null,"080105","CUSCO","CUSCO","SAN SEBASTIAN"]
[null,"080106","CUSCO","CUSCO","SANTIAGO"]
[null,"080107","CUSCO","CUSCO","SAYLLA"]
[null,"080108","CUSCO","CUSCO","WANCHAQ"]
[null,"080201","CUSCO","ACOMAYO","ACOMAYO"]
[null,"080202","CUSCO","ACOMAYO","ACOPIA"]
[null,"080203","CUSCO","ACOMAYO","ACOS"]
[null,"080204","CUSCO","ACOMAYO","MOSOC LLACTA"]
[null,"080205","CUSCO","ACOMAYO","POMACANCHI"]
[null,"080206","CUSCO","ACOMAYO","RONDOCAN"]
[null,"080207","CUSCO","ACOMAYO","SANGARARA"]
[null,"080301","CUSCO","ANTA","ANTA"]
[null,"080302","CUSCO","ANTA","ANCAHUASI"]
[null,"080303","CUSCO","ANTA","CACHIMAYO"]
[null,"080304","CUSCO","ANTA","CHINCHAYPUJIO"]
[null,"080305","CUSCO","ANTA","HUAROCONDO"]
[null,"080306","CUSCO","ANTA","LIMATAMBO"]
[null,"080307","CUSCO","ANTA","MOLLEPATA"]
[null,"080308","CUSCO","ANTA","PUCYURA"]
[null,"080309","CUSCO","ANTA","ZURITE"]
[null,"080401","CUSCO","CALCA","CALCA"]
[null,"080402","CUSCO","CALCA","COYA"]
[null,"080403","CUSCO","CALCA","LAMAY"]
[null,"080404","CUSCO","CALCA","LARES"]
[null,"080405","CUSCO","CALCA","PISAC"]
[null,"080406","CUSCO","CALCA","SAN SALVADOR"]
[null,"080407","CUSCO","CALCA","TARAY"]
[null,"080408","CUSCO","CALCA","YANATILE"]
[null,"080501","CUSCO","CANAS","YANAOCA"]
[null,"080502","CUSCO","CANAS","CHECCA"]
[null,"080503","CUSCO","CANAS","KUNTURKANKI"]
[null,"080504","CUSCO","CANAS","LANGUI"]
[null,"080505","CUSCO","CANAS","LAYO"]
[null,"080506","CUSCO","CANAS","PAMPAMARCA"]
[null,"080507","CUSCO","CANAS","QUEHUE"]
[null,"080508","CUSCO","CANAS","TUPAC AMARU"]
[null,"080601","CUSCO","CANCHIS","SICUANI"]
[null,"080602","CUSCO","CANCHIS","CHECACUPE"]
[null,"080603","CUSCO","CANCHIS","COMBAPATA"]
[null,"080604","CUSCO","CANCHIS","MARANGANI"]
[null,"080605","CUSCO","CANCHIS","PITUMARCA"]
[null,"080606","CUSCO","CANCHIS","SAN PABLO"]
[null,"080607","CUSCO","CANCHIS","SAN PEDRO"]
[null,"080608","CUSCO","CANCHIS","TINTA"]
[null,"080701","CUSCO","CHUMBIVILCAS","SANTO TOMAS"]
[null,"080702","CUSCO","CHUMBIVILCAS","CAPACMARCA"]
[null,"080703","CUSCO","CHUMBIVILCAS","CHAMACA"]
[null,"080704","CUSCO","CHUMBIVILCAS","COLQUEMARCA"]
[null,"080705","CUSCO","CHUMBIVILCAS","LIVITACA"]
[null,"080706","CUSCO","CHUMBIVILCAS","LLUSCO"]
[null,"080707","CUSCO","CHUMBIVILCAS","QUIÑOTA"]
[null,"080708","CUSCO","CHUMBIVILCAS","VELILLE"]
[null,"080801","CUSCO","ESPINAR","ESPINAR"]
[null,"080802","CUSCO","ESPINAR","CONDOROMA"]
[null,"080803","CUSCO","ESPINAR","COPORAQUE"]
[null,"080804","CUSCO","ESPINAR","OCORURO"]
[null,"080805","CUSCO","ESPINAR","PALLPATA"]
[null,"080806","CUSCO","ESPINAR","PICHIGUA"]
[null,"080807","CUSCO","ESPINAR","SUYCKUTAMBO"]
[null,"080808","CUSCO","ESPINAR","ALTO PICHIGUA"]
[null,"080901","CUSCO","LA CONVENCION","SANTA ANA"]
[null,"080902","CUSCO","LA CONVENCION","ECHARATE"]
[null,"080903","CUSCO","LA CONVENCION","HUAYOPATA"]
[null,"080904","CUSCO","LA CONVENCION","MARANURA"]
[null,"080905","CUSCO","LA CONVENCION","OCOBAMBA"]
[null,"080906","CUSCO","LA CONVENCION","QUELLOUNO"]
[null,"080907","CUSCO","LA CONVENCION","KIMBIRI"]
[null,"080908","CUSCO","LA CONVENCION","SANTA TERESA"]
[null,"080909","CUSCO","LA CONVENCION","VILCABAMBA"]
[null,"080910","CUSCO","LA CONVENCION","PICHARI"]
[null,"080911","CUSCO","LA CONVENCION","INKAWASI"]
[null,"080912","CUSCO","LA CONVENCION","VILLA VIRGEN"]
[null,"080913","CUSCO","LA CONVENCION","VILLA KINTIARINA"]
[null,"080914","CUSCO","LA CONVENCION","MEGANTONI"]
[null,"080915","CUSCO","LA CONVENCION","KUMPIRUSHIATO"]
[null,"080916","CUSCO","LA CONVENCION","CIELO PUNCO"]
[null,"080917","CUSCO","LA CONVENCION","MANITEA"]
[null,"080918","CUSCO","LA CONVENCION","UNION ASHANINKA"]
[null,"081001","CUSCO","PARURO","PARURO"]
[null,"081002","CUSCO","PARURO","ACCHA"]
[null,"081003","CUSCO","PARURO","CCAPI"]
[null,"081004","CUSCO","PARURO","COLCHA"]
[null,"081005","CUSCO","PARURO","HUANOQUITE"]
[null,"081006","CUSCO","PARURO","OMACHA"]
[null,"081007","CUSCO","PARURO","PACCARITAMBO"]
[null,"081008","CUSCO","PARURO","PILLPINTO"]
[null,"081009","CUSCO","PARURO","YAURISQUE"]
[null,"081101","CUSCO","PAUCARTAMBO","PAUCARTAMBO"]
[null,"081102","CUSCO","PAUCARTAMBO","CAICAY"]
[null,"081103","CUSCO","PAUCARTAMBO","CHALLABAMBA"]
[null,"081104","CUSCO","PAUCARTAMBO","COLQUEPATA"]
[null,"081105","CUSCO","PAUCARTAMBO","HUANCARANI"]
[null,"081106","CUSCO","PAUCARTAMBO","KOSÑIPATA"]
[null,"081201","CUSCO","QUISPICANCHI","URCOS"]
[null,"081202","CUSCO","QUISPICANCHI","ANDAHUAYLILLAS"]
[null,"081203","CUSCO","QUISPICANCHI","CAMANTI"]
[null,"081204","CUSCO","QUISPICANCHI","CCARHUAYO"]
[null,"081205","CUSCO","QUISPICANCHI","CCATCA"]
[null,"081206","CUSCO","QUISPICANCHI","CUSIPATA"]
[null,"081207","CUSCO","QUISPICANCHI","HUARO"]
[null,"081208","CUSCO","QUISPICANCHI","LUCRE"]
[null,"081209","CUSCO","QUISPICANCHI","MARCAPATA"]
[null,"081210","CUSCO","QUISPICANCHI","OCONGATE"]
[null,"081211","CUSCO","QUISPICANCHI","OROPESA"]
[null,"081212","CUSCO","QUISPICANCHI","QUIQUIJANA"]
[null,"081301","CUSCO","URUBAMBA","URUBAMBA"]
[null,"081302","CUSCO","URUBAMBA","CHINCHERO"]
[null,"081303","CUSCO","URUBAMBA","HUAYLLABAMBA"]
[null,"081304","CUSCO","URUBAMBA","MACHUPICCHU"]
[null,"081305","CUSCO","URUBAMBA","MARAS"]
[null,"081306","CUSCO","URUBAMBA","OLLANTAYTAMBO"]
[null,"081307","CUSCO","URUBAMBA","YUCAY"]
[null,"090101","HUANCAVELICA","HUANCAVELICA","HUANCAVELICA"]
[null,"090102","HUANCAVELICA","HUANCAVELICA","ACOBAMBILLA"]
[null,"090103","HUANCAVELICA","HUANCAVELICA","ACORIA"]
[null,"090104","HUANCAVELICA","HUANCAVELICA","CONAYCA"]
[null,"090105","HUANCAVELICA","HUANCAVELICA","CUENCA"]
[null,"090106","HUANCAVELICA","HUANCAVELICA","HUACHOCOLPA"]
[null,"090107","HUANCAVELICA","HUANCAVELICA","HUAYLLAHUARA"]
[null,"090108","HUANCAVELICA","HUANCAVELICA","IZCUCHACA"]
[null,"090109","HUANCAVELICA","HUANCAVELICA","LARIA"]
[null,"090110","HUANCAVELICA","HUANCAVELICA","MANTA"]
[null,"090111","HUANCAVELICA","HUANCAVELICA","MARISCAL CACERES"]
[null,"090112","HUANCAVELICA","HUANCAVELICA","MOYA"]
[null,"090113","HUANCAVELICA","HUANCAVELICA","NUEVO OCCORO"]
[null,"090114","HUANCAVELICA","HUANCAVELICA","PALCA"]
[null,"090115","HUANCAVELICA","HUANCAVELICA","PILCHACA"]
[null,"090116","HUANCAVELICA","HUANCAVELICA","VILCA"]
[null,"090117","HUANCAVELICA","HUANCAVELICA","YAULI"]
[null,"090118","HUANCAVELICA","HUANCAVELICA","ASCENSION"]
[null,"090119","HUANCAVELICA","HUANCAVELICA","HUANDO"]
[null,"090201","HUANCAVELICA","ACOBAMBA","ACOBAMBA"]
[null,"090202","HUANCAVELICA","ACOBAMBA","ANDABAMBA"]
[null,"090203","HUANCAVELICA","ACOBAMBA","ANTA"]
[null,"090204","HUANCAVELICA","ACOBAMBA","CAJA"]
[null,"090205","HUANCAVELICA","ACOBAMBA","MARCAS"]
[null,"090206","HUANCAVELICA","ACOBAMBA","PAUCARA"]
[null,"090207","HUANCAVELICA","ACOBAMBA","POMACOCHA"]
[null,"090208","HUANCAVELICA","ACOBAMBA","ROSARIO"]
[null,"090301","HUANCAVELICA","ANGARAES","LIRCAY"]
[null,"090302","HUANCAVELICA","ANGARAES","ANCHONGA"]
[null,"090303","HUANCAVELICA","ANGARAES","CALLANMARCA"]
[null,"090304","HUANCAVELICA","ANGARAES","CCOCHACCASA"]
[null,"090305","HUANCAVELICA","ANGARAES","CHINCHO"]
[null,"090306","HUANCAVELICA","ANGARAES","CONGALLA"]
[null,"090307","HUANCAVELICA","ANGARAES","HUANCA-HUANCA"]
[null,"090308","HUANCAVELICA","ANGARAES","HUAYLLAY GRANDE"]
[null,"090309","HUANCAVELICA","ANGARAES","JULCAMARCA"]
[null,"090310","HUANCAVELICA","ANGARAES","SAN ANTONIO DE ANTAPARCO"]
[null,"090311","HUANCAVELICA","ANGARAES","SANTO TOMAS DE PATA"]
[null,"090312","HUANCAVELICA","ANGARAES","SECCLLA"]
[null,"090401","HUANCAVELICA","CASTROVIRREYNA","CASTROVIRREYNA"]
[null,"090402","HUANCAVELICA","CASTROVIRREYNA","ARMA"]
[null,"090403","HUANCAVELICA","CASTROVIRREYNA","AURAHUA"]
[null,"090404","HUANCAVELICA","CASTROVIRREYNA","CAPILLAS"]
[null,"090405","HUANCAVELICA","CASTROVIRREYNA","CHUPAMARCA"]
[null,"090406","HUANCAVELICA","CASTROVIRREYNA","COCAS"]
[null,"090407","HUANCAVELICA","CASTROVIRREYNA","HUACHOS"]
[null,"090408","HUANCAVELICA","CASTROVIRREYNA","HUAMATAMBO"]
[null,"090409","HUANCAVELICA","CASTROVIRREYNA","MOLLEPAMPA"]
[null,"090410","HUANCAVELICA","CASTROVIRREYNA","SAN JUAN"]
[null,"090411","HUANCAVELICA","CASTROVIRREYNA","SANTA ANA"]
[null,"090412","HUANCAVELICA","CASTROVIRREYNA","TANTARA"]
[null,"090413","HUANCAVELICA","CASTROVIRREYNA","TICRAPO"]
[null,"090501","HUANCAVELICA","CHURCAMPA","CHURCAMPA"]
[null,"090502","HUANCAVELICA","CHURCAMPA","ANCO"]
[null,"090503","HUANCAVELICA","CHURCAMPA","CHINCHIHUASI"]
[null,"090504","HUANCAVELICA","CHURCAMPA","EL CARMEN"]
[null,"090505","HUANCAVELICA","CHURCAMPA","LA MERCED"]
[null,"090506","HUANCAVELICA","CHURCAMPA","LOCROJA"]
[null,"090507","HUANCAVELICA","CHURCAMPA","PAUCARBAMBA"]
[null,"090508","HUANCAVELICA","CHURCAMPA","SAN MIGUEL DE MAYOCC"]
[null,"090509","HUANCAVELICA","CHURCAMPA","SAN PEDRO DE CORIS"]
[null,"090510","HUANCAVELICA","CHURCAMPA","PACHAMARCA"]
[null,"090511","HUANCAVELICA","CHURCAMPA","COSME"]
[null,"090601","HUANCAVELICA","HUAYTARA","HUAYTARA"]
[null,"090602","HUANCAVELICA","HUAYTARA","AYAVI"]
[null,"090603","HUANCAVELICA","HUAYTARA","CORDOVA"]
[null,"090604","HUANCAVELICA","HUAYTARA","HUAYACUNDO ARMA"]
[null,"090605","HUANCAVELICA","HUAYTARA","LARAMARCA"]
[null,"090606","HUANCAVELICA","HUAYTARA","OCOYO"]
[null,"090607","HUANCAVELICA","HUAYTARA","PILPICHACA"]
[null,"090608","HUANCAVELICA","HUAYTARA","QUERCO"]
[null,"090609","HUANCAVELICA","HUAYTARA","QUITO-ARMA"]
[null,"090610","HUANCAVELICA","HUAYTARA","SAN ANTONIO DE CUSICANCHA"]
[null,"090611","HUANCAVELICA","HUAYTARA","SAN FRANCISCO DE SANGAYAICO"]
[null,"090612","HUANCAVELICA","HUAYTARA","SAN ISIDRO"]
[null,"090613","HUANCAVELICA","HUAYTARA","SANTIAGO DE CHOCORVOS"]
[null,"090614","HUANCAVELICA","HUAYTARA","SANTIAGO DE QUIRAHUARA"]
[null,"090615","HUANCAVELICA","HUAYTARA","SANTO DOMINGO DE CAPILLAS"]
[null,"090616","HUANCAVELICA","HUAYTARA","TAMBO"]
[null,"090701","HUANCAVELICA","TAYACAJA","PAMPAS"]
[null,"090702","HUANCAVELICA","TAYACAJA","ACOSTAMBO"]
[null,"090703","HUANCAVELICA","TAYACAJA","ACRAQUIA"]
[null,"090704","HUANCAVELICA","TAYACAJA","AHUAYCHA"]
[null,"090705","HUANCAVELICA","TAYACAJA","COLCABAMBA"]
[null,"090706","HUANCAVELICA","TAYACAJA","DANIEL HERNANDEZ"]
[null,"090707","HUANCAVELICA","TAYACAJA","HUACHOCOLPA"]
[null,"090709","HUANCAVELICA","TAYACAJA","HUARIBAMBA"]
[null,"090710","HUANCAVELICA","TAYACAJA","ÑAHUIMPUQUIO"]
[null,"090711","HUANCAVELICA","TAYACAJA","PAZOS"]
[null,"090713","HUANCAVELICA","TAYACAJA","QUISHUAR"]
[null,"090714","HUANCAVELICA","TAYACAJA","SALCABAMBA"]
[null,"090715","HUANCAVELICA","TAYACAJA","SALCAHUASI"]
[null,"090716","HUANCAVELICA","TAYACAJA","SAN MARCOS DE ROCCHAC"]
[null,"090717","HUANCAVELICA","TAYACAJA","SURCUBAMBA"]
[null,"090718","HUANCAVELICA","TAYACAJA","TINTAY PUNCU"]
[null,"090719","HUANCAVELICA","TAYACAJA","QUICHUAS"]
[null,"090720","HUANCAVELICA","TAYACAJA","ANDAYMARCA"]
[null,"090721","HUANCAVELICA","TAYACAJA","ROBLE"]
[null,"090722","HUANCAVELICA","TAYACAJA","PICHOS"]
[null,"090723","HUANCAVELICA","TAYACAJA","SANTIAGO DE TUCUMA"]
[null,"090724","HUANCAVELICA","TAYACAJA","LAMBRAS"]
[null,"090725","HUANCAVELICA","TAYACAJA","COCHABAMBA"]
[null,"100101","HUANUCO","HUANUCO","HUANUCO"]
[null,"100102","HUANUCO","HUANUCO","AMARILIS"]
[null,"100103","HUANUCO","HUANUCO","CHINCHAO"]
[null,"100104","HUANUCO","HUANUCO","CHURUBAMBA"]
[null,"100105","HUANUCO","HUANUCO","MARGOS"]
[null,"100106","HUANUCO","HUANUCO","QUISQUI (KICHKI)"]
[null,"100107","HUANUCO","HUANUCO","SAN FRANCISCO DE CAYRAN"]
[null,"100108","HUANUCO","HUANUCO","SAN PEDRO DE CHAULAN"]
[null,"100109","HUANUCO","HUANUCO","SANTA MARIA DEL VALLE"]
[null,"100110","HUANUCO","HUANUCO","YARUMAYO"]
[null,"100111","HUANUCO","HUANUCO","PILLCO MARCA"]
[null,"100112","HUANUCO","HUANUCO","YACUS"]
[null,"100113","HUANUCO","HUANUCO","SAN PABLO DE PILLAO"]
[null,"100201","HUANUCO","AMBO","AMBO"]
[null,"100202","HUANUCO","AMBO","CAYNA"]
[null,"100203","HUANUCO","AMBO","COLPAS"]
[null,"100204","HUANUCO","AMBO","CONCHAMARCA"]
[null,"100205","HUANUCO","AMBO","HUACAR"]
[null,"100206","HUANUCO","AMBO","SAN FRANCISCO"]
[null,"100207","HUANUCO","AMBO","SAN RAFAEL"]
[null,"100208","HUANUCO","AMBO","TOMAY KICHWA"]
[null,"100301","HUANUCO","DOS DE MAYO","LA UNION"]
[null,"100307","HUANUCO","DOS DE MAYO","CHUQUIS"]
[null,"100311","HUANUCO","DOS DE MAYO","MARIAS"]
[null,"100313","HUANUCO","DOS DE MAYO","PACHAS"]
[null,"100316","HUANUCO","DOS DE MAYO","QUIVILLA"]
[null,"100317","HUANUCO","DOS DE MAYO","RIPAN"]
[null,"100321","HUANUCO","DOS DE MAYO","SHUNQUI"]
[null,"100322","HUANUCO","DOS DE MAYO","SILLAPATA"]
[null,"100323","HUANUCO","DOS DE MAYO","YANAS"]
[null,"100401","HUANUCO","HUACAYBAMBA","HUACAYBAMBA"]
[null,"100402","HUANUCO","HUACAYBAMBA","CANCHABAMBA"]
[null,"100403","HUANUCO","HUACAYBAMBA","COCHABAMBA"]
[null,"100404","HUANUCO","HUACAYBAMBA","PINRA"]
[null,"100501","HUANUCO","HUAMALIES","LLATA"]
[null,"100502","HUANUCO","HUAMALIES","ARANCAY"]
[null,"100503","HUANUCO","HUAMALIES","CHAVIN DE PARIARCA"]
[null,"100504","HUANUCO","HUAMALIES","JACAS GRANDE"]
[null,"100505","HUANUCO","HUAMALIES","JIRCAN"]
[null,"100506","HUANUCO","HUAMALIES","MIRAFLORES"]
[null,"100507","HUANUCO","HUAMALIES","MONZON"]
[null,"100508","HUANUCO","HUAMALIES","PUNCHAO"]
[null,"100509","HUANUCO","HUAMALIES","PUÑOS"]
[null,"100510","HUANUCO","HUAMALIES","SINGA"]
[null,"100511","HUANUCO","HUAMALIES","TANTAMAYO"]
[null,"100601","HUANUCO","LEONCIO PRADO","RUPA-RUPA"]
[null,"100602","HUANUCO","LEONCIO PRADO","DANIEL ALOMIA ROBLES"]
[null,"100603","HUANUCO","LEONCIO PRADO","HERMILIO VALDIZAN"]
[null,"100604","HUANUCO","LEONCIO PRADO","JOSE CRESPO Y CASTILLO"]
[null,"100605","HUANUCO","LEONCIO PRADO","LUYANDO"]
[null,"100606","HUANUCO","LEONCIO PRADO","MARIANO DAMASO BERAUN"]
[null,"100607","HUANUCO","LEONCIO PRADO","PUCAYACU"]
[null,"100608","HUANUCO","LEONCIO PRADO","CASTILLO GRANDE"]
[null,"100609","HUANUCO","LEONCIO PRADO","PUEBLO NUEVO"]
[null,"100610","HUANUCO","LEONCIO PRADO","SANTO DOMINGO DE ANDA"]
[null,"100701","HUANUCO","MARAÑON","HUACRACHUCO"]
[null,"100702","HUANUCO","MARAÑON","CHOLON"]
[null,"100703","HUANUCO","MARAÑON","SAN BUENAVENTURA"]
[null,"100704","HUANUCO","MARAÑON","LA MORADA"]
[null,"100705","HUANUCO","MARAÑON","SANTA ROSA DE ALTO YANAJANCA"]
[null,"100801","HUANUCO","PACHITEA","PANAO"]
[null,"100802","HUANUCO","PACHITEA","CHAGLLA"]
[null,"100803","HUANUCO","PACHITEA","MOLINO"]
[null,"100804","HUANUCO","PACHITEA","UMARI"]
[null,"100901","HUANUCO","PUERTO INCA","PUERTO INCA"]
[null,"100902","HUANUCO","PUERTO INCA","CODO DEL POZUZO"]
[null,"100903","HUANUCO","PUERTO INCA","HONORIA"]
[null,"100904","HUANUCO","PUERTO INCA","TOURNAVISTA"]
[null,"100905","HUANUCO","PUERTO INCA","YUYAPICHIS"]
[null,"101001","HUANUCO","LAURICOCHA","JESUS"]
[null,"101002","HUANUCO","LAURICOCHA","BAÑOS"]
[null,"101003","HUANUCO","LAURICOCHA","JIVIA"]
[null,"101004","HUANUCO","LAURICOCHA","QUEROPALCA"]
[null,"101005","HUANUCO","LAURICOCHA","RONDOS"]
[null,"101006","HUANUCO","LAURICOCHA","SAN FRANCISCO DE ASIS"]
[null,"101007","HUANUCO","LAURICOCHA","SAN MIGUEL DE CAURI"]
[null,"101101","HUANUCO","YAROWILCA","CHAVINILLO"]
[null,"101102","HUANUCO","YAROWILCA","CAHUAC"]
[null,"101103","HUANUCO","YAROWILCA","CHACABAMBA"]
[null,"101104","HUANUCO","YAROWILCA","APARICIO POMARES"]
[null,"101105","HUANUCO","YAROWILCA","JACAS CHICO"]
[null,"101106","HUANUCO","YAROWILCA","OBAS"]
[null,"101107","HUANUCO","YAROWILCA","PAMPAMARCA"]
[null,"101108","HUANUCO","YAROWILCA","CHORAS"]
[null,"110101","ICA","ICA","ICA"]
[null,"110102","ICA","ICA","LA TINGUIÑA"]
[null,"110103","ICA","ICA","LOS AQUIJES"]
[null,"110104","ICA","ICA","OCUCAJE"]
[null,"110105","ICA","ICA","PACHACUTEC"]
[null,"110106","ICA","ICA","PARCONA"]
[null,"110107","ICA","ICA","PUEBLO NUEVO"]
[null,"110108","ICA","ICA","SALAS"]
[null,"110109","ICA","ICA","SAN JOSE DE LOS MOLINOS"]
[null,"110110","ICA","ICA","SAN JUAN BAUTISTA"]
[null,"110111","ICA","ICA","SANTIAGO"]
[null,"110112","ICA","ICA","SUBTANJALLA"]
[null,"110113","ICA","ICA","TATE"]
[null,"110114","ICA","ICA","YAUCA DEL ROSARIO"]
[null,"110201","ICA","CHINCHA","CHINCHA ALTA"]
[null,"110202","ICA","CHINCHA","ALTO LARAN"]
[null,"110203","ICA","CHINCHA","CHAVIN"]
[null,"110204","ICA","CHINCHA","CHINCHA BAJA"]
[null,"110205","ICA","CHINCHA","EL CARMEN"]
[null,"110206","ICA","CHINCHA","GROCIO PRADO"]
[null,"110207","ICA","CHINCHA","PUEBLO NUEVO"]
[null,"110208","ICA","CHINCHA","SAN JUAN DE YANAC"]
[null,"110209","ICA","CHINCHA","SAN PEDRO DE HUACARPANA"]
[null,"110210","ICA","CHINCHA","SUNAMPE"]
[null,"110211","ICA","CHINCHA","TAMBO DE MORA"]
[null,"110301","ICA","NASCA","NASCA"]
[null,"110302","ICA","NASCA","CHANGUILLO"]
[null,"110303","ICA","NASCA","EL INGENIO"]
[null,"110304","ICA","NASCA","MARCONA"]
[null,"110305","ICA","NASCA","VISTA ALEGRE"]
[null,"110401","ICA","PALPA","PALPA"]
[null,"110402","ICA","PALPA","LLIPATA"]
[null,"110403","ICA","PALPA","RIO GRANDE"]
[null,"110404","ICA","PALPA","SANTA CRUZ"]
[null,"110405","ICA","PALPA","TIBILLO"]
[null,"110501","ICA","PISCO","PISCO"]
[null,"110502","ICA","PISCO","HUANCANO"]
[null,"110503","ICA","PISCO","HUMAY"]
[null,"110504","ICA","PISCO","INDEPENDENCIA"]
[null,"110505","ICA","PISCO","PARACAS"]
[null,"110506","ICA","PISCO","SAN ANDRES"]
[null,"110507","ICA","PISCO","SAN CLEMENTE"]
[null,"110508","ICA","PISCO","TUPAC AMARU INCA"]
[null,"120101","JUNIN","HUANCAYO","HUANCAYO"]
[null,"120104","JUNIN","HUANCAYO","CARHUACALLANGA"]
[null,"120105","JUNIN","HUANCAYO","CHACAPAMPA"]
[null,"120106","JUNIN","HUANCAYO","CHICCHE"]
[null,"120107","JUNIN","HUANCAYO","CHILCA"]
[null,"120108","JUNIN","HUANCAYO","CHONGOS ALTO"]
[null,"120111","JUNIN","HUANCAYO","CHUPURO"]
[null,"120112","JUNIN","HUANCAYO","COLCA"]
[null,"120113","JUNIN","HUANCAYO","CULLHUAS"]
[null,"120114","JUNIN","HUANCAYO","EL TAMBO"]
[null,"120116","JUNIN","HUANCAYO","HUACRAPUQUIO"]
[null,"120117","JUNIN","HUANCAYO","HUALHUAS"]
[null,"120119","JUNIN","HUANCAYO","HUANCAN"]
[null,"120120","JUNIN","HUANCAYO","HUASICANCHA"]
[null,"120121","JUNIN","HUANCAYO","HUAYUCACHI"]
[null,"120122","JUNIN","HUANCAYO","INGENIO"]
[null,"120124","JUNIN","HUANCAYO","PARIAHUANCA"]
[null,"120125","JUNIN","HUANCAYO","PILCOMAYO"]
[null,"120126","JUNIN","HUANCAYO","PUCARA"]
[null,"120127","JUNIN","HUANCAYO","QUICHUAY"]
[null,"120128","JUNIN","HUANCAYO","QUILCAS"]
[null,"120129","JUNIN","HUANCAYO","SAN AGUSTIN"]
[null,"120130","JUNIN","HUANCAYO","SAN JERONIMO DE TUNAN"]
[null,"120132","JUNIN","HUANCAYO","SAÑO"]
[null,"120133","JUNIN","HUANCAYO","SAPALLANGA"]
[null,"120134","JUNIN","HUANCAYO","SICAYA"]
[null,"120135","JUNIN","HUANCAYO","SANTO DOMINGO DE ACOBAMBA"]
[null,"120136","JUNIN","HUANCAYO","VIQUES"]
[null,"120201","JUNIN","CONCEPCION","CONCEPCION"]
[null,"120202","JUNIN","CONCEPCION","ACO"]
[null,"120203","JUNIN","CONCEPCION","ANDAMARCA"]
[null,"120204","JUNIN","CONCEPCION","CHAMBARA"]
[null,"120205","JUNIN","CONCEPCION","COCHAS"]
[null,"120206","JUNIN","CONCEPCION","COMAS"]
[null,"120207","JUNIN","CONCEPCION","HEROINAS TOLEDO"]
[null,"120208","JUNIN","CONCEPCION","MANZANARES"]
[null,"120209","JUNIN","CONCEPCION","MARISCAL CASTILLA"]
[null,"120210","JUNIN","CONCEPCION","MATAHUASI"]
[null,"120211","JUNIN","CONCEPCION","MITO"]
[null,"120212","JUNIN","CONCEPCION","NUEVE DE JULIO"]
[null,"120213","JUNIN","CONCEPCION","ORCOTUNA"]
[null,"120214","JUNIN","CONCEPCION","SAN JOSE DE QUERO"]
[null,"120215","JUNIN","CONCEPCION","SANTA ROSA DE OCOPA"]
[null,"120301","JUNIN","CHANCHAMAYO","CHANCHAMAYO"]
[null,"120302","JUNIN","CHANCHAMAYO","PERENE"]
[null,"120303","JUNIN","CHANCHAMAYO","PICHANAQUI"]
[null,"120304","JUNIN","CHANCHAMAYO","SAN LUIS DE SHUARO"]
[null,"120305","JUNIN","CHANCHAMAYO","SAN RAMON"]
[null,"120306","JUNIN","CHANCHAMAYO","VITOC"]
[null,"120401","JUNIN","JAUJA","JAUJA"]
[null,"120402","JUNIN","JAUJA","ACOLLA"]
[null,"120403","JUNIN","JAUJA","APATA"]
[null,"120404","JUNIN","JAUJA","ATAURA"]
[null,"120405","JUNIN","JAUJA","CANCHAYLLO"]
[null,"120406","JUNIN","JAUJA","CURICACA"]
[null,"120407","JUNIN","JAUJA","EL MANTARO"]
[null,"120408","JUNIN","JAUJA","HUAMALI"]
[null,"120409","JUNIN","JAUJA","HUARIPAMPA"]
[null,"120410","JUNIN","JAUJA","HUERTAS"]
[null,"120411","JUNIN","JAUJA","JANJAILLO"]
[null,"120412","JUNIN","JAUJA","JULCAN"]
[null,"120413","JUNIN","JAUJA","LEONOR ORDOÑEZ"]
[null,"120414","JUNIN","JAUJA","LLOCLLAPAMPA"]
[null,"120415","JUNIN","JAUJA","MARCO"]
[null,"120416","JUNIN","JAUJA","MASMA"]
[null,"120417","JUNIN","JAUJA","MASMA CHICCHE"]
[null,"120418","JUNIN","JAUJA","MOLINOS"]
[null,"120419","JUNIN","JAUJA","MONOBAMBA"]
[null,"120420","JUNIN","JAUJA","MUQUI"]
[null,"120421","JUNIN","JAUJA","MUQUIYAUYO"]
[null,"120422","JUNIN","JAUJA","PACA"]
[null,"120423","JUNIN","JAUJA","PACCHA"]
[null,"120424","JUNIN","JAUJA","PANCAN"]
[null,"120425","JUNIN","JAUJA","PARCO"]
[null,"120426","JUNIN","JAUJA","POMACANCHA"]
[null,"120427","JUNIN","JAUJA","RICRAN"]
[null,"120428","JUNIN","JAUJA","SAN LORENZO"]
[null,"120429","JUNIN","JAUJA","SAN PEDRO DE CHUNAN"]
[null,"120430","JUNIN","JAUJA","SAUSA"]
[null,"120431","JUNIN","JAUJA","SINCOS"]
[null,"120432","JUNIN","JAUJA","TUNAN MARCA"]
[null,"120433","JUNIN","JAUJA","YAULI"]
[null,"120434","JUNIN","JAUJA","YAUYOS"]
[null,"120501","JUNIN","JUNIN","JUNIN"]
[null,"120502","JUNIN","JUNIN","CARHUAMAYO"]
[null,"120503","JUNIN","JUNIN","ONDORES"]
[null,"120504","JUNIN","JUNIN","ULCUMAYO"]
[null,"120601","JUNIN","SATIPO","SATIPO"]
[null,"120602","JUNIN","SATIPO","COVIRIALI"]
[null,"120603","JUNIN","SATIPO","LLAYLLA"]
[null,"120604","JUNIN","SATIPO","MAZAMARI"]
[null,"120605","JUNIN","SATIPO","PAMPA HERMOSA"]
[null,"120606","JUNIN","SATIPO","PANGOA"]
[null,"120607","JUNIN","SATIPO","RIO NEGRO"]
[null,"120608","JUNIN","SATIPO","RIO TAMBO"]
[null,"120609","JUNIN","SATIPO","VIZCATAN DEL ENE"]
[null,"120701","JUNIN","TARMA","TARMA"]
[null,"120702","JUNIN","TARMA","ACOBAMBA"]
[null,"120703","JUNIN","TARMA","HUARICOLCA"]
[null,"120704","JUNIN","TARMA","HUASAHUASI"]
[null,"120705","JUNIN","TARMA","LA UNION"]
[null,"120706","JUNIN","TARMA","PALCA"]
[null,"120707","JUNIN","TARMA","PALCAMAYO"]
[null,"120708","JUNIN","TARMA","SAN PEDRO DE CAJAS"]
[null,"120709","JUNIN","TARMA","TAPO"]
[null,"120801","JUNIN","YAULI","LA OROYA"]
[null,"120802","JUNIN","YAULI","CHACAPALPA"]
[null,"120803","JUNIN","YAULI","HUAY-HUAY"]
[null,"120804","JUNIN","YAULI","MARCAPOMACOCHA"]
[null,"120805","JUNIN","YAULI","MOROCOCHA"]
[null,"120806","JUNIN","YAULI","PACCHA"]
[null,"120807","JUNIN","YAULI","SANTA BARBARA DE CARHUACAYAN"]
[null,"120808","JUNIN","YAULI","SANTA ROSA DE SACCO"]
[null,"120809","JUNIN","YAULI","SUITUCANCHA"]
[null,"120810","JUNIN","YAULI","YAULI"]
[null,"120901","JUNIN","CHUPACA","CHUPACA"]
[null,"120902","JUNIN","CHUPACA","AHUAC"]
[null,"120903","JUNIN","CHUPACA","CHONGOS BAJO"]
[null,"120904","JUNIN","CHUPACA","HUACHAC"]
[null,"120905","JUNIN","CHUPACA","HUAMANCACA CHICO"]
[null,"120906","JUNIN","CHUPACA","SAN JUAN DE ISCOS"]
[null,"120907","JUNIN","CHUPACA","SAN JUAN DE JARPA"]
[null,"120908","JUNIN","CHUPACA","TRES DE DICIEMBRE"]
[null,"120909","JUNIN","CHUPACA","YANACANCHA"]
[null,"130101","LA LIBERTAD","TRUJILLO","TRUJILLO"]
[null,"130102","LA LIBERTAD","TRUJILLO","EL PORVENIR"]
[null,"130103","LA LIBERTAD","TRUJILLO","FLORENCIA DE MORA"]
[null,"130104","LA LIBERTAD","TRUJILLO","HUANCHACO"]
[null,"130105","LA LIBERTAD","TRUJILLO","LA ESPERANZA"]
[null,"130106","LA LIBERTAD","TRUJILLO","LAREDO"]
[null,"130107","LA LIBERTAD","TRUJILLO","MOCHE"]
[null,"130108","LA LIBERTAD","TRUJILLO","POROTO"]
[null,"130109","LA LIBERTAD","TRUJILLO","SALAVERRY"]
[null,"130110","LA LIBERTAD","TRUJILLO","SIMBAL"]
[null,"130111","LA LIBERTAD","TRUJILLO","VICTOR LARCO HERRERA"]
[null,"130112","LA LIBERTAD","TRUJILLO","ALTO TRUJILLO"]
[null,"130201","LA LIBERTAD","ASCOPE","ASCOPE"]
[null,"130202","LA LIBERTAD","ASCOPE","CHICAMA"]
[null,"130203","LA LIBERTAD","ASCOPE","CHOCOPE"]
[null,"130204","LA LIBERTAD","ASCOPE","MAGDALENA DE CAO"]
[null,"130205","LA LIBERTAD","ASCOPE","PAIJAN"]
[null,"130206","LA LIBERTAD","ASCOPE","RAZURI"]
[null,"130207","LA LIBERTAD","ASCOPE","SANTIAGO DE CAO"]
[null,"130208","LA LIBERTAD","ASCOPE","CASA GRANDE"]
[null,"130301","LA LIBERTAD","BOLIVAR","BOLIVAR"]
[null,"130302","LA LIBERTAD","BOLIVAR","BAMBAMARCA"]
[null,"130303","LA LIBERTAD","BOLIVAR","CONDORMARCA"]
[null,"130304","LA LIBERTAD","BOLIVAR","LONGOTEA"]
[null,"130305","LA LIBERTAD","BOLIVAR","UCHUMARCA"]
[null,"130306","LA LIBERTAD","BOLIVAR","UCUNCHA"]
[null,"130401","LA LIBERTAD","CHEPEN","CHEPEN"]
[null,"130402","LA LIBERTAD","CHEPEN","PACANGA"]
[null,"130403","LA LIBERTAD","CHEPEN","PUEBLO NUEVO"]
[null,"130501","LA LIBERTAD","JULCAN","JULCAN"]
[null,"130502","LA LIBERTAD","JULCAN","CALAMARCA"]
[null,"130503","LA LIBERTAD","JULCAN","CARABAMBA"]
[null,"130504","LA LIBERTAD","JULCAN","HUASO"]
[null,"130601","LA LIBERTAD","OTUZCO","OTUZCO"]
[null,"130602","LA LIBERTAD","OTUZCO","AGALLPAMPA"]
[null,"130604","LA LIBERTAD","OTUZCO","CHARAT"]
[null,"130605","LA LIBERTAD","OTUZCO","HUARANCHAL"]
[null,"130606","LA LIBERTAD","OTUZCO","LA CUESTA"]
[null,"130608","LA LIBERTAD","OTUZCO","MACHE"]
[null,"130610","LA LIBERTAD","OTUZCO","PARANDAY"]
[null,"130611","LA LIBERTAD","OTUZCO","SALPO"]
[null,"130613","LA LIBERTAD","OTUZCO","SINSICAP"]
[null,"130614","LA LIBERTAD","OTUZCO","USQUIL"]
[null,"130701","LA LIBERTAD","PACASMAYO","SAN PEDRO DE LLOC"]
[null,"130702","LA LIBERTAD","PACASMAYO","GUADALUPE"]
[null,"130703","LA LIBERTAD","PACASMAYO","JEQUETEPEQUE"]
[null,"130704","LA LIBERTAD","PACASMAYO","PACASMAYO"]
[null,"130705","LA LIBERTAD","PACASMAYO","SAN JOSE"]
[null,"130801","LA LIBERTAD","PATAZ","TAYABAMBA"]
[null,"130802","LA LIBERTAD","PATAZ","BULDIBUYO"]
[null,"130803","LA LIBERTAD","PATAZ","CHILLIA"]
[null,"130804","LA LIBERTAD","PATAZ","HUANCASPATA"]
[null,"130805","LA LIBERTAD","PATAZ","HUAYLILLAS"]
[null,"130806","LA LIBERTAD","PATAZ","HUAYO"]
[null,"130807","LA LIBERTAD","PATAZ","ONGON"]
[null,"130808","LA LIBERTAD","PATAZ","PARCOY"]
[null,"130809","LA LIBERTAD","PATAZ","PATAZ"]
[null,"130810","LA LIBERTAD","PATAZ","PIAS"]
[null,"130811","LA LIBERTAD","PATAZ","SANTIAGO DE CHALLAS"]
[null,"130812","LA LIBERTAD","PATAZ","TAURIJA"]
[null,"130813","LA LIBERTAD","PATAZ","URPAY"]
[null,"130901","LA LIBERTAD","SANCHEZ CARRION","HUAMACHUCO"]
[null,"130902","LA LIBERTAD","SANCHEZ CARRION","CHUGAY"]
[null,"130903","LA LIBERTAD","SANCHEZ CARRION","COCHORCO"]
[null,"130904","LA LIBERTAD","SANCHEZ CARRION","CURGOS"]
[null,"130905","LA LIBERTAD","SANCHEZ CARRION","MARCABAL"]
[null,"130906","LA LIBERTAD","SANCHEZ CARRION","SANAGORAN"]
[null,"130907","LA LIBERTAD","SANCHEZ CARRION","SARIN"]
[null,"130908","LA LIBERTAD","SANCHEZ CARRION","SARTIMBAMBA"]
[null,"131001","LA LIBERTAD","SANTIAGO DE CHUCO","SANTIAGO DE CHUCO"]
[null,"131002","LA LIBERTAD","SANTIAGO DE CHUCO","ANGASMARCA"]
[null,"131003","LA LIBERTAD","SANTIAGO DE CHUCO","CACHICADAN"]
[null,"131004","LA LIBERTAD","SANTIAGO DE CHUCO","MOLLEBAMBA"]
[null,"131005","LA LIBERTAD","SANTIAGO DE CHUCO","MOLLEPATA"]
[null,"131006","LA LIBERTAD","SANTIAGO DE CHUCO","QUIRUVILCA"]
[null,"131007","LA LIBERTAD","SANTIAGO DE CHUCO","SANTA CRUZ DE CHUCA"]
[null,"131008","LA LIBERTAD","SANTIAGO DE CHUCO","SITABAMBA"]
[null,"131101","LA LIBERTAD","GRAN CHIMU","CASCAS"]
[null,"131102","LA LIBERTAD","GRAN CHIMU","LUCMA"]
[null,"131103","LA LIBERTAD","GRAN CHIMU","MARMOT"]
[null,"131104","LA LIBERTAD","GRAN CHIMU","SAYAPULLO"]
[null,"131201","LA LIBERTAD","VIRU","VIRU"]
[null,"131202","LA LIBERTAD","VIRU","CHAO"]
[null,"131203","LA LIBERTAD","VIRU","GUADALUPITO"]
[null,"140101","LAMBAYEQUE","CHICLAYO","CHICLAYO"]
[null,"140102","LAMBAYEQUE","CHICLAYO","CHONGOYAPE"]
[null,"140103","LAMBAYEQUE","CHICLAYO","ETEN"]
[null,"140104","LAMBAYEQUE","CHICLAYO","ETEN PUERTO"]
[null,"140105","LAMBAYEQUE","CHICLAYO","JOSE LEONARDO ORTIZ"]
[null,"140106","LAMBAYEQUE","CHICLAYO","LA VICTORIA"]
[null,"140107","LAMBAYEQUE","CHICLAYO","LAGUNAS"]
[null,"140108","LAMBAYEQUE","CHICLAYO","MONSEFU"]
[null,"140109","LAMBAYEQUE","CHICLAYO","NUEVA ARICA"]
[null,"140110","LAMBAYEQUE","CHICLAYO","OYOTUN"]
[null,"140111","LAMBAYEQUE","CHICLAYO","PICSI"]
[null,"140112","LAMBAYEQUE","CHICLAYO","PIMENTEL"]
[null,"140113","LAMBAYEQUE","CHICLAYO","REQUE"]
[null,"140114","LAMBAYEQUE","CHICLAYO","SANTA ROSA"]
[null,"140115","LAMBAYEQUE","CHICLAYO","SAÑA"]
[null,"140116","LAMBAYEQUE","CHICLAYO","CAYALTI"]
[null,"140117","LAMBAYEQUE","CHICLAYO","PATAPO"]
[null,"140118","LAMBAYEQUE","CHICLAYO","POMALCA"]
[null,"140119","LAMBAYEQUE","CHICLAYO","PUCALA"]
[null,"140120","LAMBAYEQUE","CHICLAYO","TUMAN"]
[null,"140201","LAMBAYEQUE","FERREÑAFE","FERREÑAFE"]
[null,"140202","LAMBAYEQUE","FERREÑAFE","CAÑARIS"]
[null,"140203","LAMBAYEQUE","FERREÑAFE","INCAHUASI"]
[null,"140204","LAMBAYEQUE","FERREÑAFE","MANUEL ANTONIO MESONES MURO"]
[null,"140205","LAMBAYEQUE","FERREÑAFE","PITIPO"]
[null,"140206","LAMBAYEQUE","FERREÑAFE","PUEBLO NUEVO"]
[null,"140301","LAMBAYEQUE","LAMBAYEQUE","LAMBAYEQUE"]
[null,"140302","LAMBAYEQUE","LAMBAYEQUE","CHOCHOPE"]
[null,"140303","LAMBAYEQUE","LAMBAYEQUE","ILLIMO"]
[null,"140304","LAMBAYEQUE","LAMBAYEQUE","JAYANCA"]
[null,"140305","LAMBAYEQUE","LAMBAYEQUE","MOCHUMI"]
[null,"140306","LAMBAYEQUE","LAMBAYEQUE","MORROPE"]
[null,"140307","LAMBAYEQUE","LAMBAYEQUE","MOTUPE"]
[null,"140308","LAMBAYEQUE","LAMBAYEQUE","OLMOS"]
[null,"140309","LAMBAYEQUE","LAMBAYEQUE","PACORA"]
[null,"140310","LAMBAYEQUE","LAMBAYEQUE","SALAS"]
[null,"140311","LAMBAYEQUE","LAMBAYEQUE","SAN JOSE"]
[null,"140312","LAMBAYEQUE","LAMBAYEQUE","TUCUME"]
[null,"150101","LIMA","LIMA","LIMA"]
[null,"150102","LIMA","LIMA","ANCON"]
[null,"150103","LIMA","LIMA","ATE"]
[null,"150104","LIMA","LIMA","BARRANCO"]
[null,"150105","LIMA","LIMA","BREÑA"]
[null,"150106","LIMA","LIMA","CARABAYLLO"]
[null,"150107","LIMA","LIMA","CHACLACAYO"]
[null,"150108","LIMA","LIMA","CHORRILLOS"]
[null,"150109","LIMA","LIMA","CIENEGUILLA"]
[null,"150110","LIMA","LIMA","COMAS"]
[null,"150111","LIMA","LIMA","EL AGUSTINO"]
[null,"150112","LIMA","LIMA","INDEPENDENCIA"]
[null,"150113","LIMA","LIMA","JESUS MARIA"]
[null,"150114","LIMA","LIMA","LA MOLINA"]
[null,"150115","LIMA","LIMA","LA VICTORIA"]
[null,"150116","LIMA","LIMA","LINCE"]
[null,"150117","LIMA","LIMA","LOS OLIVOS"]
[null,"150118","LIMA","LIMA","LURIGANCHO"]
[null,"150119","LIMA","LIMA","LURIN"]
[null,"150120","LIMA","LIMA","MAGDALENA DEL MAR"]
[null,"150121","LIMA","LIMA","PUEBLO LIBRE"]
[null,"150122","LIMA","LIMA","MIRAFLORES"]
[null,"150123","LIMA","LIMA","PACHACAMAC"]
[null,"150124","LIMA","LIMA","PUCUSANA"]
[null,"150125","LIMA","LIMA","PUENTE PIEDRA"]
[null,"150126","LIMA","LIMA","PUNTA HERMOSA"]
[null,"150127","LIMA","LIMA","PUNTA NEGRA"]
[null,"150128","LIMA","LIMA","RIMAC"]
[null,"150129","LIMA","LIMA","SAN BARTOLO"]
[null,"150130","LIMA","LIMA","SAN BORJA"]
[null,"150131","LIMA","LIMA","SAN ISIDRO"]
[null,"150132","LIMA","LIMA","SAN JUAN DE LURIGANCHO"]
[null,"150133","LIMA","LIMA","SAN JUAN DE MIRAFLORES"]
[null,"150134","LIMA","LIMA","SAN LUIS"]
[null,"150135","LIMA","LIMA","SAN MARTIN DE PORRES"]
[null,"150136","LIMA","LIMA","SAN MIGUEL"]
[null,"150137","LIMA","LIMA","SANTA ANITA"]
[null,"150138","LIMA","LIMA","SANTA MARIA DEL MAR"]
[null,"150139","LIMA","LIMA","SANTA ROSA"]
[null,"150140","LIMA","LIMA","SANTIAGO DE SURCO"]
[null,"150141","LIMA","LIMA","SURQUILLO"]
[null,"150142","LIMA","LIMA","VILLA EL SALVADOR"]
[null,"150143","LIMA","LIMA","VILLA MARIA DEL TRIUNFO"]
[null,"150201","LIMA","BARRANCA","BARRANCA"]
[null,"150202","LIMA","BARRANCA","PARAMONGA"]
[null,"150203","LIMA","BARRANCA","PATIVILCA"]
[null,"150204","LIMA","BARRANCA","SUPE"]
[null,"150205","LIMA","BARRANCA","SUPE PUERTO"]
[null,"150301","LIMA","CAJATAMBO","CAJATAMBO"]
[null,"150302","LIMA","CAJATAMBO","COPA"]
[null,"150303","LIMA","CAJATAMBO","GORGOR"]
[null,"150304","LIMA","CAJATAMBO","HUANCAPON"]
[null,"150305","LIMA","CAJATAMBO","MANAS"]
[null,"150401","LIMA","CANTA","CANTA"]
[null,"150402","LIMA","CANTA","ARAHUAY"]
[null,"150403","LIMA","CANTA","HUAMANTANGA"]
[null,"150404","LIMA","CANTA","HUAROS"]
[null,"150405","LIMA","CANTA","LACHAQUI"]
[null,"150406","LIMA","CANTA","SAN BUENAVENTURA"]
[null,"150407","LIMA","CANTA","SANTA ROSA DE QUIVES"]
[null,"150501","LIMA","CAÑETE","SAN VICENTE DE CAÑETE"]
[null,"150502","LIMA","CAÑETE","ASIA"]
[null,"150503","LIMA","CAÑETE","CALANGO"]
[null,"150504","LIMA","CAÑETE","CERRO AZUL"]
[null,"150505","LIMA","CAÑETE","CHILCA"]
[null,"150506","LIMA","CAÑETE","COAYLLO"]
[null,"150507","LIMA","CAÑETE","IMPERIAL"]
[null,"150508","LIMA","CAÑETE","LUNAHUANA"]
[null,"150509","LIMA","CAÑETE","MALA"]
[null,"150510","LIMA","CAÑETE","NUEVO IMPERIAL"]
[null,"150511","LIMA","CAÑETE","PACARAN"]
[null,"150512","LIMA","CAÑETE","QUILMANA"]
[null,"150513","LIMA","CAÑETE","SAN ANTONIO"]
[null,"150514","LIMA","CAÑETE","SAN LUIS"]
[null,"150515","LIMA","CAÑETE","SANTA CRUZ DE FLORES"]
[null,"150516","LIMA","CAÑETE","ZUÑIGA"]
[null,"150601","LIMA","HUARAL","HUARAL"]
[null,"150602","LIMA","HUARAL","ATAVILLOS ALTO"]
[null,"150603","LIMA","HUARAL","ATAVILLOS BAJO"]
[null,"150604","LIMA","HUARAL","AUCALLAMA"]
[null,"150605","LIMA","HUARAL","CHANCAY"]
[null,"150606","LIMA","HUARAL","IHUARI"]
[null,"150607","LIMA","HUARAL","LAMPIAN"]
[null,"150608","LIMA","HUARAL","PACARAOS"]
[null,"150609","LIMA","HUARAL","SAN MIGUEL DE ACOS"]
[null,"150610","LIMA","HUARAL","SANTA CRUZ DE ANDAMARCA"]
[null,"150611","LIMA","HUARAL","SUMBILCA"]
[null,"150612","LIMA","HUARAL","VEINTISIETE DE NOVIEMBRE"]
[null,"150701","LIMA","HUAROCHIRI","MATUCANA"]
[null,"150702","LIMA","HUAROCHIRI","ANTIOQUIA"]
[null,"150703","LIMA","HUAROCHIRI","CALLAHUANCA"]
[null,"150704","LIMA","HUAROCHIRI","CARAMPOMA"]
[null,"150705","LIMA","HUAROCHIRI","CHICLA"]
[null,"150706","LIMA","HUAROCHIRI","CUENCA"]
[null,"150707","LIMA","HUAROCHIRI","HUACHUPAMPA"]
[null,"150708","LIMA","HUAROCHIRI","HUANZA"]
[null,"150709","LIMA","HUAROCHIRI","HUAROCHIRI"]
[null,"150710","LIMA","HUAROCHIRI","LAHUAYTAMBO"]
[null,"150711","LIMA","HUAROCHIRI","LANGA"]
[null,"150712","LIMA","HUAROCHIRI","SAN PEDRO DE LARAOS"]
[null,"150713","LIMA","HUAROCHIRI","MARIATANA"]
[null,"150714","LIMA","HUAROCHIRI","RICARDO PALMA"]
[null,"150715","LIMA","HUAROCHIRI","SAN ANDRES DE TUPICOCHA"]
[null,"150716","LIMA","HUAROCHIRI","SAN ANTONIO"]
[null,"150717","LIMA","HUAROCHIRI","SAN BARTOLOME"]
[null,"150718","LIMA","HUAROCHIRI","SAN DAMIAN"]
[null,"150719","LIMA","HUAROCHIRI","SAN JUAN DE IRIS"]
[null,"150720","LIMA","HUAROCHIRI","SAN JUAN DE TANTARANCHE"]
[null,"150721","LIMA","HUAROCHIRI","SAN LORENZO DE QUINTI"]
[null,"150722","LIMA","HUAROCHIRI","SAN MATEO"]
[null,"150723","LIMA","HUAROCHIRI","SAN MATEO DE OTAO"]
[null,"150724","LIMA","HUAROCHIRI","SAN PEDRO DE CASTA"]
[null,"150725","LIMA","HUAROCHIRI","SAN PEDRO DE HUANCAYRE"]
[null,"150726","LIMA","HUAROCHIRI","SANGALLAYA"]
[null,"150727","LIMA","HUAROCHIRI","SANTA CRUZ DE COCACHACRA"]
[null,"150728","LIMA","HUAROCHIRI","SANTA EULALIA"]
[null,"150729","LIMA","HUAROCHIRI","SANTIAGO DE ANCHUCAYA"]
[null,"150730","LIMA","HUAROCHIRI","SANTIAGO DE TUNA"]
[null,"150731","LIMA","HUAROCHIRI","SANTO DOMINGO DE LOS OLLEROS"]
[null,"150732","LIMA","HUAROCHIRI","SURCO"]
[null,"150801","LIMA","HUAURA","HUACHO"]
[null,"150802","LIMA","HUAURA","AMBAR"]
[null,"150803","LIMA","HUAURA","CALETA DE CARQUIN"]
[null,"150804","LIMA","HUAURA","CHECRAS"]
[null,"150805","LIMA","HUAURA","HUALMAY"]
[null,"150806","LIMA","HUAURA","HUAURA"]
[null,"150807","LIMA","HUAURA","LEONCIO PRADO"]
[null,"150808","LIMA","HUAURA","PACCHO"]
[null,"150809","LIMA","HUAURA","SANTA LEONOR"]
[null,"150810","LIMA","HUAURA","SANTA MARIA"]
[null,"150811","LIMA","HUAURA","SAYAN"]
[null,"150812","LIMA","HUAURA","VEGUETA"]
[null,"150901","LIMA","OYON","OYON"]
[null,"150902","LIMA","OYON","ANDAJES"]
[null,"150903","LIMA","OYON","CAUJUL"]
[null,"150904","LIMA","OYON","COCHAMARCA"]
[null,"150905","LIMA","OYON","NAVAN"]
[null,"150906","LIMA","OYON","PACHANGARA"]
[null,"151001","LIMA","YAUYOS","YAUYOS"]
[null,"151002","LIMA","YAUYOS","ALIS"]
[null,"151003","LIMA","YAUYOS","ALLAUCA"]
[null,"151004","LIMA","YAUYOS","AYAVIRI"]
[null,"151005","LIMA","YAUYOS","AZANGARO"]
[null,"151006","LIMA","YAUYOS","CACRA"]
[null,"151007","LIMA","YAUYOS","CARANIA"]
[null,"151008","LIMA","YAUYOS","CATAHUASI"]
[null,"151009","LIMA","YAUYOS","CHOCOS"]
[null,"151010","LIMA","YAUYOS","COCHAS"]
[null,"151011","LIMA","YAUYOS","COLONIA"]
[null,"151012","LIMA","YAUYOS","HONGOS"]
[null,"151013","LIMA","YAUYOS","HUAMPARA"]
[null,"151014","LIMA","YAUYOS","HUANCAYA"]
[null,"151015","LIMA","YAUYOS","HUANGASCAR"]
[null,"151016","LIMA","YAUYOS","HUANTAN"]
[null,"151017","LIMA","YAUYOS","HUAÑEC"]
[null,"151018","LIMA","YAUYOS","LARAOS"]
[null,"151019","LIMA","YAUYOS","LINCHA"]
[null,"151020","LIMA","YAUYOS","MADEAN"]
[null,"151021","LIMA","YAUYOS","MIRAFLORES"]
[null,"151022","LIMA","YAUYOS","OMAS"]
[null,"151023","LIMA","YAUYOS","PUTINZA"]
[null,"151024","LIMA","YAUYOS","QUINCHES"]
[null,"151025","LIMA","YAUYOS","QUINOCAY"]
[null,"151026","LIMA","YAUYOS","SAN JOAQUIN"]
[null,"151027","LIMA","YAUYOS","SAN PEDRO DE PILAS"]
[null,"151028","LIMA","YAUYOS","TANTA"]
[null,"151029","LIMA","YAUYOS","TAURIPAMPA"]
[null,"151030","LIMA","YAUYOS","TOMAS"]
[null,"151031","LIMA","YAUYOS","TUPE"]
[null,"151032","LIMA","YAUYOS","VIÑAC"]
[null,"151033","LIMA","YAUYOS","VITIS"]
[null,"160101","LORETO","MAYNAS","IQUITOS"]
[null,"160102","LORETO","MAYNAS","ALTO NANAY"]
[null,"160103","LORETO","MAYNAS","FERNANDO LORES"]
[null,"160104","LORETO","MAYNAS","INDIANA"]
[null,"160105","LORETO","MAYNAS","LAS AMAZONAS"]
[null,"160106","LORETO","MAYNAS","MAZAN"]
[null,"160107","LORETO","MAYNAS","NAPO"]
[null,"160108","LORETO","MAYNAS","PUNCHANA"]
[null,"160110","LORETO","MAYNAS","TORRES CAUSANA"]
[null,"160112","LORETO","MAYNAS","BELEN"]
[null,"160113","LORETO","MAYNAS","SAN JUAN BAUTISTA"]
[null,"160201","LORETO","ALTO AMAZONAS","YURIMAGUAS"]
[null,"160202","LORETO","ALTO AMAZONAS","BALSAPUERTO"]
[null,"160205","LORETO","ALTO AMAZONAS","JEBEROS"]
[null,"160206","LORETO","ALTO AMAZONAS","LAGUNAS"]
[null,"160210","LORETO","ALTO AMAZONAS","SANTA CRUZ"]
[null,"160211","LORETO","ALTO AMAZONAS","TENIENTE CESAR LOPEZ ROJAS"]
[null,"160301","LORETO","LORETO","NAUTA"]
[null,"160302","LORETO","LORETO","PARINARI"]
[null,"160303","LORETO","LORETO","TIGRE"]
[null,"160304","LORETO","LORETO","TROMPETEROS"]
[null,"160305","LORETO","LORETO","URARINAS"]
[null,"160401","LORETO","MARISCAL RAMON CASTILLA","RAMON CASTILLA"]
[null,"160402","LORETO","MARISCAL RAMON CASTILLA","PEBAS"]
[null,"160403","LORETO","MARISCAL RAMON CASTILLA","YAVARI"]
[null,"160404","LORETO","MARISCAL RAMON CASTILLA","SAN PABLO"]
[null,"160501","LORETO","REQUENA","REQUENA"]
[null,"160502","LORETO","REQUENA","ALTO TAPICHE"]
[null,"160503","LORETO","REQUENA","CAPELO"]
[null,"160504","LORETO","REQUENA","EMILIO SAN MARTIN"]
[null,"160505","LORETO","REQUENA","MAQUIA"]
[null,"160506","LORETO","REQUENA","PUINAHUA"]
[null,"160507","LORETO","REQUENA","SAQUENA"]
[null,"160508","LORETO","REQUENA","SOPLIN"]
[null,"160509","LORETO","REQUENA","TAPICHE"]
[null,"160510","LORETO","REQUENA","JENARO HERRERA"]
[null,"160511","LORETO","REQUENA","YAQUERANA"]
[null,"160601","LORETO","UCAYALI","CONTAMANA"]
[null,"160602","LORETO","UCAYALI","INAHUAYA"]
[null,"160603","LORETO","UCAYALI","PADRE MARQUEZ"]
[null,"160604","LORETO","UCAYALI","PAMPA HERMOSA"]
[null,"160605","LORETO","UCAYALI","SARAYACU"]
[null,"160606","LORETO","UCAYALI","VARGAS GUERRA"]
[null,"160701","LORETO","DATEM DEL MARAÑON","BARRANCA"]
[null,"160702","LORETO","DATEM DEL MARAÑON","CAHUAPANAS"]
[null,"160703","LORETO","DATEM DEL MARAÑON","MANSERICHE"]
[null,"160704","LORETO","DATEM DEL MARAÑON","MORONA"]
[null,"160705","LORETO","DATEM DEL MARAÑON","PASTAZA"]
[null,"160706","LORETO","DATEM DEL MARAÑON","ANDOAS"]
[null,"160801","LORETO","PUTUMAYO","PUTUMAYO"]
[null,"160802","LORETO","PUTUMAYO","ROSA PANDURO"]
[null,"160803","LORETO","PUTUMAYO","TENIENTE MANUEL CLAVERO"]
[null,"160804","LORETO","PUTUMAYO","YAGUAS"]
[null,"170101","MADRE DE DIOS","TAMBOPATA","TAMBOPATA"]
[null,"170102","MADRE DE DIOS","TAMBOPATA","INAMBARI"]
[null,"170103","MADRE DE DIOS","TAMBOPATA","LAS PIEDRAS"]
[null,"170104","MADRE DE DIOS","TAMBOPATA","LABERINTO"]
[null,"170201","MADRE DE DIOS","MANU","MANU"]
[null,"170202","MADRE DE DIOS","MANU","FITZCARRALD"]
[null,"170203","MADRE DE DIOS","MANU","MADRE DE DIOS"]
[null,"170204","MADRE DE DIOS","MANU","HUEPETUHE"]
[null,"170301","MADRE DE DIOS","TAHUAMANU","IÑAPARI"]
[null,"170302","MADRE DE DIOS","TAHUAMANU","IBERIA"]
[null,"170303","MADRE DE DIOS","TAHUAMANU","TAHUAMANU"]
[null,"180101","MOQUEGUA","MARISCAL NIETO","MOQUEGUA"]
[null,"180102","MOQUEGUA","MARISCAL NIETO","CARUMAS"]
[null,"180103","MOQUEGUA","MARISCAL NIETO","CUCHUMBAYA"]
[null,"180104","MOQUEGUA","MARISCAL NIETO","SAMEGUA"]
[null,"180105","MOQUEGUA","MARISCAL NIETO","SAN CRISTOBAL"]
[null,"180106","MOQUEGUA","MARISCAL NIETO","TORATA"]
[null,"180107","MOQUEGUA","MARISCAL NIETO","SAN ANTONIO"]
[null,"180201","MOQUEGUA","GENERAL SANCHEZ CERRO","OMATE"]
[null,"180202","MOQUEGUA","GENERAL SANCHEZ CERRO","CHOJATA"]
[null,"180203","MOQUEGUA","GENERAL SANCHEZ CERRO","COALAQUE"]
[null,"180204","MOQUEGUA","GENERAL SANCHEZ CERRO","ICHUÑA"]
[null,"180205","MOQUEGUA","GENERAL SANCHEZ CERRO","LA CAPILLA"]
[null,"180206","MOQUEGUA","GENERAL SANCHEZ CERRO","LLOQUE"]
[null,"180207","MOQUEGUA","GENERAL SANCHEZ CERRO","MATALAQUE"]
[null,"180208","MOQUEGUA","GENERAL SANCHEZ CERRO","PUQUINA"]
[null,"180209","MOQUEGUA","GENERAL SANCHEZ CERRO","QUINISTAQUILLAS"]
[null,"180210","MOQUEGUA","GENERAL SANCHEZ CERRO","UBINAS"]
[null,"180211","MOQUEGUA","GENERAL SANCHEZ CERRO","YUNGA"]
[null,"180301","MOQUEGUA","ILO","ILO"]
[null,"180302","MOQUEGUA","ILO","EL ALGARROBAL"]
[null,"180303","MOQUEGUA","ILO","PACOCHA"]
[null,"190101","PASCO","PASCO","CHAUPIMARCA"]
[null,"190102","PASCO","PASCO","HUACHON"]
[null,"190103","PASCO","PASCO","HUARIACA"]
[null,"190104","PASCO","PASCO","HUAYLLAY"]
[null,"190105","PASCO","PASCO","NINACACA"]
[null,"190106","PASCO","PASCO","PALLANCHACRA"]
[null,"190107","PASCO","PASCO","PAUCARTAMBO"]
[null,"190108","PASCO","PASCO","SAN FRANCISCO DE ASIS DE YARUSYACAN"]
[null,"190109","PASCO","PASCO","SIMON BOLIVAR"]
[null,"190110","PASCO","PASCO","TICLACAYAN"]
[null,"190111","PASCO","PASCO","TINYAHUARCO"]
[null,"190112","PASCO","PASCO","VICCO"]
[null,"190113","PASCO","PASCO","YANACANCHA"]
[null,"190201","PASCO","DANIEL ALCIDES CARRION","YANAHUANCA"]
[null,"190202","PASCO","DANIEL ALCIDES CARRION","CHACAYAN"]
[null,"190203","PASCO","DANIEL ALCIDES CARRION","GOYLLARISQUIZGA"]
[null,"190204","PASCO","DANIEL ALCIDES CARRION","PAUCAR"]
[null,"190205","PASCO","DANIEL ALCIDES CARRION","SAN PEDRO DE PILLAO"]
[null,"190206","PASCO","DANIEL ALCIDES CARRION","SANTA ANA DE TUSI"]
[null,"190207","PASCO","DANIEL ALCIDES CARRION","TAPUC"]
[null,"190208","PASCO","DANIEL ALCIDES CARRION","VILCABAMBA"]
[null,"190301","PASCO","OXAPAMPA","OXAPAMPA"]
[null,"190302","PASCO","OXAPAMPA","CHONTABAMBA"]
[null,"190303","PASCO","OXAPAMPA","HUANCABAMBA"]
[null,"190304","PASCO","OXAPAMPA","PALCAZU"]
[null,"190305","PASCO","OXAPAMPA","POZUZO"]
[null,"190306","PASCO","OXAPAMPA","PUERTO BERMUDEZ"]
[null,"190307","PASCO","OXAPAMPA","VILLA RICA"]
[null,"190308","PASCO","OXAPAMPA","CONSTITUCIÓN"]
[null,"200101","PIURA","PIURA","PIURA"]
[null,"200104","PIURA","PIURA","CASTILLA"]
[null,"200105","PIURA","PIURA","CATACAOS"]
[null,"200107","PIURA","PIURA","CURA MORI"]
[null,"200108","PIURA","PIURA","EL TALLÁN"]
[null,"200109","PIURA","PIURA","LA ARENA"]
[null,"200110","PIURA","PIURA","LA UNION"]
[null,"200111","PIURA","PIURA","LAS LOMAS"]
[null,"200114","PIURA","PIURA","TAMBO GRANDE"]
[null,"200115","PIURA","PIURA","VEINTISEIS DE OCTUBRE"]
[null,"200201","PIURA","AYABACA","AYABACA"]
[null,"200202","PIURA","AYABACA","FRIAS"]
[null,"200203","PIURA","AYABACA","JILILI"]
[null,"200204","PIURA","AYABACA","LAGUNAS"]
[null,"200205","PIURA","AYABACA","MONTERO"]
[null,"200206","PIURA","AYABACA","PACAIPAMPA"]
[null,"200207","PIURA","AYABACA","PAIMAS"]
[null,"200208","PIURA","AYABACA","SAPILLICA"]
[null,"200209","PIURA","AYABACA","SICCHEZ"]
[null,"200210","PIURA","AYABACA","SUYO"]
[null,"200301","PIURA","HUANCABAMBA","HUANCABAMBA"]
[null,"200302","PIURA","HUANCABAMBA","CANCHAQUE"]
[null,"200303","PIURA","HUANCABAMBA","EL CARMEN DE LA FRONTERA"]
[null,"200304","PIURA","HUANCABAMBA","HUARMACA"]
[null,"200305","PIURA","HUANCABAMBA","LALAQUIZ"]
[null,"200306","PIURA","HUANCABAMBA","SAN MIGUEL DE EL FAIQUE"]
[null,"200307","PIURA","HUANCABAMBA","SONDOR"]
[null,"200308","PIURA","HUANCABAMBA","SONDORILLO"]
[null,"200401","PIURA","MORROPON","CHULUCANAS"]
[null,"200402","PIURA","MORROPON","BUENOS AIRES"]
[null,"200403","PIURA","MORROPON","CHALACO"]
[null,"200404","PIURA","MORROPON","LA MATANZA"]
[null,"200405","PIURA","MORROPON","MORROPON"]
[null,"200406","PIURA","MORROPON","SALITRAL"]
[null,"200407","PIURA","MORROPON","SAN JUAN DE BIGOTE"]
[null,"200408","PIURA","MORROPON","SANTA CATALINA DE MOSSA"]
[null,"200409","PIURA","MORROPON","SANTO DOMINGO"]
[null,"200410","PIURA","MORROPON","YAMANGO"]
[null,"200501","PIURA","PAITA","PAITA"]
[null,"200502","PIURA","PAITA","AMOTAPE"]
[null,"200503","PIURA","PAITA","ARENAL"]
[null,"200504","PIURA","PAITA","COLAN"]
[null,"200505","PIURA","PAITA","LA HUACA"]
[null,"200506","PIURA","PAITA","TAMARINDO"]
[null,"200507","PIURA","PAITA","VICHAYAL"]
[null,"200601","PIURA","SULLANA","SULLANA"]
[null,"200602","PIURA","SULLANA","BELLAVISTA"]
[null,"200603","PIURA","SULLANA","IGNACIO ESCUDERO"]
[null,"200604","PIURA","SULLANA","LANCONES"]
[null,"200605","PIURA","SULLANA","MARCAVELICA"]
[null,"200606","PIURA","SULLANA","MIGUEL CHECA"]
[null,"200607","PIURA","SULLANA","QUERECOTILLO"]
[null,"200608","PIURA","SULLANA","SALITRAL"]
[null,"200701","PIURA","TALARA","PARIÑAS"]
[null,"200702","PIURA","TALARA","EL ALTO"]
[null,"200703","PIURA","TALARA","LA BREA"]
[null,"200704","PIURA","TALARA","LOBITOS"]
[null,"200705","PIURA","TALARA","LOS ORGANOS"]
[null,"200706","PIURA","TALARA","MANCORA"]
[null,"200801","PIURA","SECHURA","SECHURA"]
[null,"200802","PIURA","SECHURA","BELLAVISTA DE LA UNION"]
[null,"200803","PIURA","SECHURA","BERNAL"]
[null,"200804","PIURA","SECHURA","CRISTO NOS VALGA"]
[null,"200805","PIURA","SECHURA","VICE"]
[null,"200806","PIURA","SECHURA","RINCONADA LLICUAR"]
[null,"210101","PUNO","PUNO","PUNO"]
[null,"210102","PUNO","PUNO","ACORA"]
[null,"210103","PUNO","PUNO","AMANTANI"]
[null,"210104","PUNO","PUNO","ATUNCOLLA"]
[null,"210105","PUNO","PUNO","CAPACHICA"]
[null,"210106","PUNO","PUNO","CHUCUITO"]
[null,"210107","PUNO","PUNO","COATA"]
[null,"210108","PUNO","PUNO","HUATA"]
[null,"210109","PUNO","PUNO","MAÑAZO"]
[null,"210110","PUNO","PUNO","PAUCARCOLLA"]
[null,"210111","PUNO","PUNO","PICHACANI"]
[null,"210112","PUNO","PUNO","PLATERIA"]
[null,"210113","PUNO","PUNO","SAN ANTONIO"]
[null,"210114","PUNO","PUNO","TIQUILLACA"]
[null,"210115","PUNO","PUNO","VILQUE"]
[null,"210201","PUNO","AZANGARO","AZANGARO"]
[null,"210202","PUNO","AZANGARO","ACHAYA"]
[null,"210203","PUNO","AZANGARO","ARAPA"]
[null,"210204","PUNO","AZANGARO","ASILLO"]
[null,"210205","PUNO","AZANGARO","CAMINACA"]
[null,"210206","PUNO","AZANGARO","CHUPA"]
[null,"210207","PUNO","AZANGARO","JOSE DOMINGO CHOQUEHUANCA"]
[null,"210208","PUNO","AZANGARO","MUÑANI"]
[null,"210209","PUNO","AZANGARO","POTONI"]
[null,"210210","PUNO","AZANGARO","SAMAN"]
[null,"210211","PUNO","AZANGARO","SAN ANTON"]
[null,"210212","PUNO","AZANGARO","SAN JOSE"]
[null,"210213","PUNO","AZANGARO","SAN JUAN DE SALINAS"]
[null,"210214","PUNO","AZANGARO","SANTIAGO DE PUPUJA"]
[null,"210215","PUNO","AZANGARO","TIRAPATA"]
[null,"210301","PUNO","CARABAYA","MACUSANI"]
[null,"210302","PUNO","CARABAYA","AJOYANI"]
[null,"210303","PUNO","CARABAYA","AYAPATA"]
[null,"210304","PUNO","CARABAYA","COASA"]
[null,"210305","PUNO","CARABAYA","CORANI"]
[null,"210306","PUNO","CARABAYA","CRUCERO"]
[null,"210307","PUNO","CARABAYA","ITUATA"]
[null,"210308","PUNO","CARABAYA","OLLACHEA"]
[null,"210309","PUNO","CARABAYA","SAN GABAN"]
[null,"210310","PUNO","CARABAYA","USICAYOS"]
[null,"210401","PUNO","CHUCUITO","JULI"]
[null,"210402","PUNO","CHUCUITO","DESAGUADERO"]
[null,"210403","PUNO","CHUCUITO","HUACULLANI"]
[null,"210404","PUNO","CHUCUITO","KELLUYO"]
[null,"210405","PUNO","CHUCUITO","PISACOMA"]
[null,"210406","PUNO","CHUCUITO","POMATA"]
[null,"210407","PUNO","CHUCUITO","ZEPITA"]
[null,"210501","PUNO","EL COLLAO","ILAVE"]
[null,"210502","PUNO","EL COLLAO","CAPAZO"]
[null,"210503","PUNO","EL COLLAO","PILCUYO"]
[null,"210504","PUNO","EL COLLAO","SANTA ROSA"]
[null,"210505","PUNO","EL COLLAO","CONDURIRI"]
[null,"210601","PUNO","HUANCANE","HUANCANE"]
[null,"210602","PUNO","HUANCANE","COJATA"]
[null,"210603","PUNO","HUANCANE","HUATASANI"]
[null,"210604","PUNO","HUANCANE","INCHUPALLA"]
[null,"210605","PUNO","HUANCANE","PUSI"]
[null,"210606","PUNO","HUANCANE","ROSASPATA"]
[null,"210607","PUNO","HUANCANE","TARACO"]
[null,"210608","PUNO","HUANCANE","VILQUE CHICO"]
[null,"210701","PUNO","LAMPA","LAMPA"]
[null,"210702","PUNO","LAMPA","CABANILLA"]
[null,"210703","PUNO","LAMPA","CALAPUJA"]
[null,"210704","PUNO","LAMPA","NICASIO"]
[null,"210705","PUNO","LAMPA","OCUVIRI"]
[null,"210706","PUNO","LAMPA","PALCA"]
[null,"210707","PUNO","LAMPA","PARATIA"]
[null,"210708","PUNO","LAMPA","PUCARA"]
[null,"210709","PUNO","LAMPA","SANTA LUCIA"]
[null,"210710","PUNO","LAMPA","VILAVILA"]
[null,"210801","PUNO","MELGAR","AYAVIRI"]
[null,"210802","PUNO","MELGAR","ANTAUTA"]
[null,"210803","PUNO","MELGAR","CUPI"]
[null,"210804","PUNO","MELGAR","LLALLI"]
[null,"210805","PUNO","MELGAR","MACARI"]
[null,"210806","PUNO","MELGAR","NUÑOA"]
[null,"210807","PUNO","MELGAR","ORURILLO"]
[null,"210808","PUNO","MELGAR","SANTA ROSA"]
[null,"210809","PUNO","MELGAR","UMACHIRI"]
[null,"210901","PUNO","MOHO","MOHO"]
[null,"210902","PUNO","MOHO","CONIMA"]
[null,"210903","PUNO","MOHO","HUAYRAPATA"]
[null,"210904","PUNO","MOHO","TILALI"]
[null,"211001","PUNO","SAN ANTONIO DE PUTINA","PUTINA"]
[null,"211002","PUNO","SAN ANTONIO DE PUTINA","ANANEA"]
[null,"211003","PUNO","SAN ANTONIO DE PUTINA","PEDRO VILCA APAZA"]
[null,"211004","PUNO","SAN ANTONIO DE PUTINA","QUILCAPUNCU"]
[null,"211005","PUNO","SAN ANTONIO DE PUTINA","SINA"]
[null,"211101","PUNO","SAN ROMAN","JULIACA"]
[null,"211102","PUNO","SAN ROMAN","CABANA"]
[null,"211103","PUNO","SAN ROMAN","CABANILLAS"]
[null,"211104","PUNO","SAN ROMAN","CARACOTO"]
[null,"211105","PUNO","SAN ROMAN","SAN MIGUEL"]
[null,"211201","PUNO","SANDIA","SANDIA"]
[null,"211202","PUNO","SANDIA","CUYOCUYO"]
[null,"211203","PUNO","SANDIA","LIMBANI"]
[null,"211204","PUNO","SANDIA","PATAMBUCO"]
[null,"211205","PUNO","SANDIA","PHARA"]
[null,"211206","PUNO","SANDIA","QUIACA"]
[null,"211207","PUNO","SANDIA","SAN JUAN DEL ORO"]
[null,"211208","PUNO","SANDIA","YANAHUAYA"]
[null,"211209","PUNO","SANDIA","ALTO INAMBARI"]
[null,"211210","PUNO","SANDIA","SAN PEDRO DE PUTINA PUNCO"]
[null,"211301","PUNO","YUNGUYO","YUNGUYO"]
[null,"211302","PUNO","YUNGUYO","ANAPIA"]
[null,"211303","PUNO","YUNGUYO","COPANI"]
[null,"211304","PUNO","YUNGUYO","CUTURAPI"]
[null,"211305","PUNO","YUNGUYO","OLLARAYA"]
[null,"211306","PUNO","YUNGUYO","TINICACHI"]
[null,"211307","PUNO","YUNGUYO","UNICACHI"]
[null,"220101","SAN MARTIN","MOYOBAMBA","MOYOBAMBA"]
[null,"220102","SAN MARTIN","MOYOBAMBA","CALZADA"]
[null,"220103","SAN MARTIN","MOYOBAMBA","HABANA"]
[null,"220104","SAN MARTIN","MOYOBAMBA","JEPELACIO"]
[null,"220105","SAN MARTIN","MOYOBAMBA","SORITOR"]
[null,"220106","SAN MARTIN","MOYOBAMBA","YANTALO"]
[null,"220201","SAN MARTIN","BELLAVISTA","BELLAVISTA"]
[null,"220202","SAN MARTIN","BELLAVISTA","ALTO BIAVO"]
[null,"220203","SAN MARTIN","BELLAVISTA","BAJO BIAVO"]
[null,"220204","SAN MARTIN","BELLAVISTA","HUALLAGA"]
[null,"220205","SAN MARTIN","BELLAVISTA","SAN PABLO"]
[null,"220206","SAN MARTIN","BELLAVISTA","SAN RAFAEL"]
[null,"220301","SAN MARTIN","EL DORADO","SAN JOSE DE SISA"]
[null,"220302","SAN MARTIN","EL DORADO","AGUA BLANCA"]
[null,"220303","SAN MARTIN","EL DORADO","SAN MARTIN"]
[null,"220304","SAN MARTIN","EL DORADO","SANTA ROSA"]
[null,"220305","SAN MARTIN","EL DORADO","SHATOJA"]
[null,"220401","SAN MARTIN","HUALLAGA","SAPOSOA"]
[null,"220402","SAN MARTIN","HUALLAGA","ALTO SAPOSOA"]
[null,"220403","SAN MARTIN","HUALLAGA","EL ESLABON"]
[null,"220404","SAN MARTIN","HUALLAGA","PISCOYACU"]
[null,"220405","SAN MARTIN","HUALLAGA","SACANCHE"]
[null,"220406","SAN MARTIN","HUALLAGA","TINGO DE SAPOSOA"]
[null,"220501","SAN MARTIN","LAMAS","LAMAS"]
[null,"220502","SAN MARTIN","LAMAS","ALONSO DE ALVARADO"]
[null,"220503","SAN MARTIN","LAMAS","BARRANQUITA"]
[null,"220504","SAN MARTIN","LAMAS","CAYNARACHI"]
[null,"220505","SAN MARTIN","LAMAS","CUÑUMBUQUI"]
[null,"220506","SAN MARTIN","LAMAS","PINTO RECODO"]
[null,"220507","SAN MARTIN","LAMAS","RUMISAPA"]
[null,"220508","SAN MARTIN","LAMAS","SAN ROQUE DE CUMBAZA"]
[null,"220509","SAN MARTIN","LAMAS","SHANAO"]
[null,"220510","SAN MARTIN","LAMAS","TABALOSOS"]
[null,"220511","SAN MARTIN","LAMAS","ZAPATERO"]
[null,"220601","SAN MARTIN","MARISCAL CACERES","JUANJUI"]
[null,"220602","SAN MARTIN","MARISCAL CACERES","CAMPANILLA"]
[null,"220603","SAN MARTIN","MARISCAL CACERES","HUICUNGO"]
[null,"220604","SAN MARTIN","MARISCAL CACERES","PACHIZA"]
[null,"220605","SAN MARTIN","MARISCAL CACERES","PAJARILLO"]
[null,"220701","SAN MARTIN","PICOTA","PICOTA"]
[null,"220702","SAN MARTIN","PICOTA","BUENOS AIRES"]
[null,"220703","SAN MARTIN","PICOTA","CASPISAPA"]
[null,"220704","SAN MARTIN","PICOTA","PILLUANA"]
[null,"220705","SAN MARTIN","PICOTA","PUCACACA"]
[null,"220706","SAN MARTIN","PICOTA","SAN CRISTOBAL"]
[null,"220707","SAN MARTIN","PICOTA","SAN HILARION"]
[null,"220708","SAN MARTIN","PICOTA","SHAMBOYACU"]
[null,"220709","SAN MARTIN","PICOTA","TINGO DE PONASA"]
[null,"220710","SAN MARTIN","PICOTA","TRES UNIDOS"]
[null,"220801","SAN MARTIN","RIOJA","RIOJA"]
[null,"220802","SAN MARTIN","RIOJA","AWAJUN"]
[null,"220803","SAN MARTIN","RIOJA","ELIAS SOPLIN VARGAS"]
[null,"220804","SAN MARTIN","RIOJA","NUEVA CAJAMARCA"]
[null,"220805","SAN MARTIN","RIOJA","PARDO MIGUEL"]
[null,"220806","SAN MARTIN","RIOJA","POSIC"]
[null,"220807","SAN MARTIN","RIOJA","SAN FERNANDO"]
[null,"220808","SAN MARTIN","RIOJA","YORONGOS"]
[null,"220809","SAN MARTIN","RIOJA","YURACYACU"]
[null,"220901","SAN MARTIN","SAN MARTIN","TARAPOTO"]
[null,"220902","SAN MARTIN","SAN MARTIN","ALBERTO LEVEAU"]
[null,"220903","SAN MARTIN","SAN MARTIN","CACATACHI"]
[null,"220904","SAN MARTIN","SAN MARTIN","CHAZUTA"]
[null,"220905","SAN MARTIN","SAN MARTIN","CHIPURANA"]
[null,"220906","SAN MARTIN","SAN MARTIN","EL PORVENIR"]
[null,"220907","SAN MARTIN","SAN MARTIN","HUIMBAYOC"]
[null,"220908","SAN MARTIN","SAN MARTIN","JUAN GUERRA"]
[null,"220909","SAN MARTIN","SAN MARTIN","LA BANDA DE SHILCAYO"]
[null,"220910","SAN MARTIN","SAN MARTIN","MORALES"]
[null,"220911","SAN MARTIN","SAN MARTIN","PAPAPLAYA"]
[null,"220912","SAN MARTIN","SAN MARTIN","SAN ANTONIO"]
[null,"220913","SAN MARTIN","SAN MARTIN","SAUCE"]
[null,"220914","SAN MARTIN","SAN MARTIN","SHAPAJA"]
[null,"221001","SAN MARTIN","TOCACHE","TOCACHE"]
[null,"221002","SAN MARTIN","TOCACHE","NUEVO PROGRESO"]
[null,"221003","SAN MARTIN","TOCACHE","POLVORA"]
[null,"221004","SAN MARTIN","TOCACHE","SHUNTE"]
[null,"221005","SAN MARTIN","TOCACHE","UCHIZA"]
[null,"221006","SAN MARTIN","TOCACHE","SANTA LUCIA"]
[null,"230101","TACNA","TACNA","TACNA"]
[null,"230102","TACNA","TACNA","ALTO DE LA ALIANZA"]
[null,"230103","TACNA","TACNA","CALANA"]
[null,"230104","TACNA","TACNA","CIUDAD NUEVA"]
[null,"230105","TACNA","TACNA","INCLAN"]
[null,"230106","TACNA","TACNA","PACHIA"]
[null,"230107","TACNA","TACNA","PALCA"]
[null,"230108","TACNA","TACNA","POCOLLAY"]
[null,"230109","TACNA","TACNA","SAMA"]
[null,"230110","TACNA","TACNA","CORONEL GREGORIO ALBARRACIN LANCHIPA"]
[null,"230111","TACNA","TACNA","LA YARADA LOS PALOS"]
[null,"230201","TACNA","CANDARAVE","CANDARAVE"]
[null,"230202","TACNA","CANDARAVE","CAIRANI"]
[null,"230203","TACNA","CANDARAVE","CAMILACA"]
[null,"230204","TACNA","CANDARAVE","CURIBAYA"]
[null,"230205","TACNA","CANDARAVE","HUANUARA"]
[null,"230206","TACNA","CANDARAVE","QUILAHUANI"]
[null,"230301","TACNA","JORGE BASADRE","LOCUMBA"]
[null,"230302","TACNA","JORGE BASADRE","ILABAYA"]
[null,"230303","TACNA","JORGE BASADRE","ITE"]
[null,"230401","TACNA","TARATA","TARATA"]
[null,"230402","TACNA","TARATA","HEROES ALBARRACIN"]
[null,"230403","TACNA","TARATA","ESTIQUE"]
[null,"230404","TACNA","TARATA","ESTIQUE-PAMPA"]
[null,"230405","TACNA","TARATA","SITAJARA"]
[null,"230406","TACNA","TARATA","SUSAPAYA"]
[null,"230407","TACNA","TARATA","TARUCACHI"]
[null,"230408","TACNA","TARATA","TICACO"]
[null,"240101","TUMBES","TUMBES","TUMBES"]
[null,"240102","TUMBES","TUMBES","CORRALES"]
[null,"240103","TUMBES","TUMBES","LA CRUZ"]
[null,"240104","TUMBES","TUMBES","PAMPAS DE HOSPITAL"]
[null,"240105","TUMBES","TUMBES","SAN JACINTO"]
[null,"240106","TUMBES","TUMBES","SAN JUAN DE LA VIRGEN"]
[null,"240201","TUMBES","CONTRALMIRANTE VILLAR","ZORRITOS"]
[null,"240202","TUMBES","CONTRALMIRANTE VILLAR","CASITAS"]
[null,"240203","TUMBES","CONTRALMIRANTE VILLAR","CANOAS DE PUNTA SAL"]
[null,"240301","TUMBES","ZARUMILLA","ZARUMILLA"]
[null,"240302","TUMBES","ZARUMILLA","AGUAS VERDES"]
[null,"240303","TUMBES","ZARUMILLA","MATAPALO"]
[null,"240304","TUMBES","ZARUMILLA","PAPAYAL"]
[null,"250101","UCAYALI","CORONEL PORTILLO","CALLERIA"]
[null,"250102","UCAYALI","CORONEL PORTILLO","CAMPOVERDE"]
[null,"250103","UCAYALI","CORONEL PORTILLO","IPARIA"]
[null,"250104","UCAYALI","CORONEL PORTILLO","MASISEA"]
[null,"250105","UCAYALI","CORONEL PORTILLO","YARINACOCHA"]
[null,"250106","UCAYALI","CORONEL PORTILLO","NUEVA REQUENA"]
[null,"250107","UCAYALI","CORONEL PORTILLO","MANANTAY"]
[null,"250201","UCAYALI","ATALAYA","RAYMONDI"]
[null,"250202","UCAYALI","ATALAYA","SEPAHUA"]
[null,"250203","UCAYALI","ATALAYA","TAHUANIA"]
[null,"250204","UCAYALI","ATALAYA","YURUA"]
[null,"250301","UCAYALI","PADRE ABAD","PADRE ABAD"]
[null,"250302","UCAYALI","PADRE ABAD","IRAZOLA"]
[null,"250303","UCAYALI","PADRE ABAD","CURIMANA"]
[null,"250304","UCAYALI","PADRE ABAD","NESHUYA"]
[null,"250305","UCAYALI","PADRE ABAD","ALEXANDER VON HUMBOLDT"]
[null,"250306","UCAYALI","PADRE ABAD","HUIPOCA"]
[null,"250307","UCAYALI","PADRE ABAD","BOQUERON"]
[null,"250401","UCAYALI","PURUS","PURUS"]